Workbook

Sheet 営業リスト
A1: 営業リスト | E1: 架空の例 — orova.vn
A2: クリーム色のA〜J列に入力します。灰色のK〜N列は数式です（法人番号の件数が2以上の行は赤、除外リストにある会社は「除外」と表示）。使い方シートも参照してください。
A3: 会社名 | B3: 法人番号 | C3: 所在地 | D3: 業種 | E3: 従業員規模 | F3: 公式サイト | G3: 問い合わせ窓口 | H3: 出典URL | I3: 最終確認日 | J3: メモ | K3: 会社名（表記統一） | L3: URL（正規化） | M3: 法人番号の件数 | N3: 除外リスト照合
A4: 株式会社サンプル精工 | B4: 1234567890123 | C4: 埼玉県さいたま市 | D4: 金属部品製造 | E4: 50〜99人 | F4: https://www.example.co.jp/ | G4: https://example.co.jp/contact/ | H4: https://example.co.jp/recruit/ | I4: 46325 | J4: 採用ページで生産管理職を募集中 | K4: =IF(A4="","",SUBSTITUTE(SUBSTITUTE(SUBSTITUTE(TRIM(A4),"（株）","株式会社"),"(株)","株式会社"),"㈱","株式会社")) -> 株式会社サンプル精工 | L4: =IF(F4="","",IF(RIGHT(SUBSTITUTE(SUBSTITUTE(SUBSTITUTE(LOWER(ASC(TRIM(F4))),"https://",""),"http://",""),"www.",""),1)="/",LEFT(SUBSTITUTE(SUBSTITUTE(SUBSTITUTE(LOWER(ASC(TRIM(F4))),"https://",""),"http://",""),"www.",""),LEN(SUBSTITUTE(SUBSTITUTE(SUBSTITUTE(LOWER(ASC(TRIM(F4))),"https://",""),"http://",""),"www.",""))-1),SUBSTITUTE(SUBSTITUTE(SUBSTITUTE(LOWER(ASC(TRIM(F4))),"https://",""),"http://",""),"www.",""))) -> example.co.jp | M4: =IF(B4="","",COUNTIF($B$4:$B$203,B4)) -> 2 | N4: =IF(B4="","",IF(COUNTIF(除外リスト!$B$4:$B$503,B4)>0,"除外",""))
A5: 株式会社テスト工業 | B5: 9876543210987 | C5: 群馬県高崎市 | D5: 樹脂成形 | E5: 100〜299人 | F5: https://example.com/ | G5: https://example.com/inquiry/ | H5: https://example.com/about/ | I5: 46323 | J5: 問い合わせページに営業お断りの記載あり | K5: =IF(A5="","",SUBSTITUTE(SUBSTITUTE(SUBSTITUTE(TRIM(A5),"（株）","株式会社"),"(株)","株式会社"),"㈱","株式会社")) -> 株式会社テスト工業 | L5: =IF(F5="","",IF(RIGHT(SUBSTITUTE(SUBSTITUTE(SUBSTITUTE(LOWER(ASC(TRIM(F5))),"https://",""),"http://",""),"www.",""),1)="/",LEFT(SUBSTITUTE(SUBSTITUTE(SUBSTITUTE(LOWER(ASC(TRIM(F5))),"https://",""),"http://",""),"www.",""),LEN(SUBSTITUTE(SUBSTITUTE(SUBSTITUTE(LOWER(ASC(TRIM(F5))),"https://",""),"http://",""),"www.",""))-1),SUBSTITUTE(SUBSTITUTE(SUBSTITUTE(LOWER(ASC(TRIM(F5))),"https://",""),"http://",""),"www.",""))) -> example.com | M5: =IF(B5="","",COUNTIF($B$4:$B$203,B5)) -> 1 | N5: =IF(B5="","",IF(COUNTIF(除外リスト!$B$4:$B$503,B5)>0,"除外","")) -> 除外
A6: （株）サンプル精工 | B6: 1234567890123 | C6: 埼玉県さいたま市 | D6: 金属部品製造 | E6: 50〜99人 | F6: https://ｅｘａｍｐｌｅ.co.jp | G6: https://example.co.jp/contact/ | H6: https://example.co.jp/company/ | I6: 46324 | J6: 別の担当者が追加した行（表記ゆれの例） | K6: =IF(A6="","",SUBSTITUTE(SUBSTITUTE(SUBSTITUTE(TRIM(A6),"（株）","株式会社"),"(株)","株式会社"),"㈱","株式会社")) -> 株式会社サンプル精工 | L6: =IF(F6="","",IF(RIGHT(SUBSTITUTE(SUBSTITUTE(SUBSTITUTE(LOWER(ASC(TRIM(F6))),"https://",""),"http://",""),"www.",""),1)="/",LEFT(SUBSTITUTE(SUBSTITUTE(SUBSTITUTE(LOWER(ASC(TRIM(F6))),"https://",""),"http://",""),"www.",""),LEN(SUBSTITUTE(SUBSTITUTE(SUBSTITUTE(LOWER(ASC(TRIM(F6))),"https://",""),"http://",""),"www.",""))-1),SUBSTITUTE(SUBSTITUTE(SUBSTITUTE(LOWER(ASC(TRIM(F6))),"https://",""),"http://",""),"www.",""))) -> example.co.jp | M6: =IF(B6="","",COUNTIF($B$4:$B$203,B6)) -> 2 | N6: =IF(B6="","",IF(COUNTIF(除外リスト!$B$4:$B$503,B6)>0,"除外",""))
K7: =IF(A7="","",SUBSTITUTE(SUBSTITUTE(SUBSTITUTE(TRIM(A7),"（株）","株式会社"),"(株)","株式会社"),"㈱","株式会社")) | L7: =IF(F7="","",IF(RIGHT(SUBSTITUTE(SUBSTITUTE(SUBSTITUTE(LOWER(ASC(TRIM(F7))),"https://",""),"http://",""),"www.",""),1)="/",LEFT(SUBSTITUTE(SUBSTITUTE(SUBSTITUTE(LOWER(ASC(TRIM(F7))),"https://",""),"http://",""),"www.",""),LEN(SUBSTITUTE(SUBSTITUTE(SUBSTITUTE(LOWER(ASC(TRIM(F7))),"https://",""),"http://",""),"www.",""))-1),SUBSTITUTE(SUBSTITUTE(SUBSTITUTE(LOWER(ASC(TRIM(F7))),"https://",""),"http://",""),"www.",""))) | M7: =IF(B7="","",COUNTIF($B$4:$B$203,B7)) | N7: =IF(B7="","",IF(COUNTIF(除外リスト!$B$4:$B$503,B7)>0,"除外",""))
K8: =IF(A8="","",SUBSTITUTE(SUBSTITUTE(SUBSTITUTE(TRIM(A8),"（株）","株式会社"),"(株)","株式会社"),"㈱","株式会社")) | L8: =IF(F8="","",IF(RIGHT(SUBSTITUTE(SUBSTITUTE(SUBSTITUTE(LOWER(ASC(TRIM(F8))),"https://",""),"http://",""),"www.",""),1)="/",LEFT(SUBSTITUTE(SUBSTITUTE(SUBSTITUTE(LOWER(ASC(TRIM(F8))),"https://",""),"http://",""),"www.",""),LEN(SUBSTITUTE(SUBSTITUTE(SUBSTITUTE(LOWER(ASC(TRIM(F8))),"https://",""),"http://",""),"www.",""))-1),SUBSTITUTE(SUBSTITUTE(SUBSTITUTE(LOWER(ASC(TRIM(F8))),"https://",""),"http://",""),"www.",""))) | M8: =IF(B8="","",COUNTIF($B$4:$B$203,B8)) | N8: =IF(B8="","",IF(COUNTIF(除外リスト!$B$4:$B$503,B8)>0,"除外",""))
K9: =IF(A9="","",SUBSTITUTE(SUBSTITUTE(SUBSTITUTE(TRIM(A9),"（株）","株式会社"),"(株)","株式会社"),"㈱","株式会社")) | L9: =IF(F9="","",IF(RIGHT(SUBSTITUTE(SUBSTITUTE(SUBSTITUTE(LOWER(ASC(TRIM(F9))),"https://",""),"http://",""),"www.",""),1)="/",LEFT(SUBSTITUTE(SUBSTITUTE(SUBSTITUTE(LOWER(ASC(TRIM(F9))),"https://",""),"http://",""),"www.",""),LEN(SUBSTITUTE(SUBSTITUTE(SUBSTITUTE(LOWER(ASC(TRIM(F9))),"https://",""),"http://",""),"www.",""))-1),SUBSTITUTE(SUBSTITUTE(SUBSTITUTE(LOWER(ASC(TRIM(F9))),"https://",""),"http://",""),"www.",""))) | M9: =IF(B9="","",COUNTIF($B$4:$B$203,B9)) | N9: =IF(B9="","",IF(COUNTIF(除外リスト!$B$4:$B$503,B9)>0,"除外",""))
K10: =IF(A10="","",SUBSTITUTE(SUBSTITUTE(SUBSTITUTE(TRIM(A10),"（株）","株式会社"),"(株)","株式会社"),"㈱","株式会社")) | L10: =IF(F10="","",IF(RIGHT(SUBSTITUTE(SUBSTITUTE(SUBSTITUTE(LOWER(ASC(TRIM(F10))),"https://",""),"http://",""),"www.",""),1)="/",LEFT(SUBSTITUTE(SUBSTITUTE(SUBSTITUTE(LOWER(ASC(TRIM(F10))),"https://",""),"http://",""),"www.",""),LEN(SUBSTITUTE(SUBSTITUTE(SUBSTITUTE(LOWER(ASC(TRIM(F10))),"https://",""),"http://",""),"www.",""))-1),SUBSTITUTE(SUBSTITUTE(SUBSTITUTE(LOWER(ASC(TRIM(F10))),"https://",""),"http://",""),"www.",""))) | M10: =IF(B10="","",COUNTIF($B$4:$B$203,B10)) | N10: =IF(B10="","",IF(COUNTIF(除外リスト!$B$4:$B$503,B10)>0,"除外",""))
K11: =IF(A11="","",SUBSTITUTE(SUBSTITUTE(SUBSTITUTE(TRIM(A11),"（株）","株式会社"),"(株)","株式会社"),"㈱","株式会社")) | L11: =IF(F11="","",IF(RIGHT(SUBSTITUTE(SUBSTITUTE(SUBSTITUTE(LOWER(ASC(TRIM(F11))),"https://",""),"http://",""),"www.",""),1)="/",LEFT(SUBSTITUTE(SUBSTITUTE(SUBSTITUTE(LOWER(ASC(TRIM(F11))),"https://",""),"http://",""),"www.",""),LEN(SUBSTITUTE(SUBSTITUTE(SUBSTITUTE(LOWER(ASC(TRIM(F11))),"https://",""),"http://",""),"www.",""))-1),SUBSTITUTE(SUBSTITUTE(SUBSTITUTE(LOWER(ASC(TRIM(F11))),"https://",""),"http://",""),"www.",""))) | M11: =IF(B11="","",COUNTIF($B$4:$B$203,B11)) | N11: =IF(B11="","",IF(COUNTIF(除外リスト!$B$4:$B$503,B11)>0,"除外",""))
K12: =IF(A12="","",SUBSTITUTE(SUBSTITUTE(SUBSTITUTE(TRIM(A12),"（株）","株式会社"),"(株)","株式会社"),"㈱","株式会社")) | L12: =IF(F12="","",IF(RIGHT(SUBSTITUTE(SUBSTITUTE(SUBSTITUTE(LOWER(ASC(TRIM(F12))),"https://",""),"http://",""),"www.",""),1)="/",LEFT(SUBSTITUTE(SUBSTITUTE(SUBSTITUTE(LOWER(ASC(TRIM(F12))),"https://",""),"http://",""),"www.",""),LEN(SUBSTITUTE(SUBSTITUTE(SUBSTITUTE(LOWER(ASC(TRIM(F12))),"https://",""),"http://",""),"www.",""))-1),SUBSTITUTE(SUBSTITUTE(SUBSTITUTE(LOWER(ASC(TRIM(F12))),"https://",""),"http://",""),"www.",""))) | M12: =IF(B12="","",COUNTIF($B$4:$B$203,B12)) | N12: =IF(B12="","",IF(COUNTIF(除外リスト!$B$4:$B$503,B12)>0,"除外",""))
K13: =IF(A13="","",SUBSTITUTE(SUBSTITUTE(SUBSTITUTE(TRIM(A13),"（株）","株式会社"),"(株)","株式会社"),"㈱","株式会社")) | L13: =IF(F13="","",IF(RIGHT(SUBSTITUTE(SUBSTITUTE(SUBSTITUTE(LOWER(ASC(TRIM(F13))),"https://",""),"http://",""),"www.",""),1)="/",LEFT(SUBSTITUTE(SUBSTITUTE(SUBSTITUTE(LOWER(ASC(TRIM(F13))),"https://",""),"http://",""),"www.",""),LEN(SUBSTITUTE(SUBSTITUTE(SUBSTITUTE(LOWER(ASC(TRIM(F13))),"https://",""),"http://",""),"www.",""))-1),SUBSTITUTE(SUBSTITUTE(SUBSTITUTE(LOWER(ASC(TRIM(F13))),"https://",""),"http://",""),"www.",""))) | M13: =IF(B13="","",COUNTIF($B$4:$B$203,B13)) | N13: =IF(B13="","",IF(COUNTIF(除外リスト!$B$4:$B$503,B13)>0,"除外",""))
K14: =IF(A14="","",SUBSTITUTE(SUBSTITUTE(SUBSTITUTE(TRIM(A14),"（株）","株式会社"),"(株)","株式会社"),"㈱","株式会社")) | L14: =IF(F14="","",IF(RIGHT(SUBSTITUTE(SUBSTITUTE(SUBSTITUTE(LOWER(ASC(TRIM(F14))),"https://",""),"http://",""),"www.",""),1)="/",LEFT(SUBSTITUTE(SUBSTITUTE(SUBSTITUTE(LOWER(ASC(TRIM(F14))),"https://",""),"http://",""),"www.",""),LEN(SUBSTITUTE(SUBSTITUTE(SUBSTITUTE(LOWER(ASC(TRIM(F14))),"https://",""),"http://",""),"www.",""))-1),SUBSTITUTE(SUBSTITUTE(SUBSTITUTE(LOWER(ASC(TRIM(F14))),"https://",""),"http://",""),"www.",""))) | M14: =IF(B14="","",COUNTIF($B$4:$B$203,B14)) | N14: =IF(B14="","",IF(COUNTIF(除外リスト!$B$4:$B$503,B14)>0,"除外",""))
K15: =IF(A15="","",SUBSTITUTE(SUBSTITUTE(SUBSTITUTE(TRIM(A15),"（株）","株式会社"),"(株)","株式会社"),"㈱","株式会社")) | L15: =IF(F15="","",IF(RIGHT(SUBSTITUTE(SUBSTITUTE(SUBSTITUTE(LOWER(ASC(TRIM(F15))),"https://",""),"http://",""),"www.",""),1)="/",LEFT(SUBSTITUTE(SUBSTITUTE(SUBSTITUTE(LOWER(ASC(TRIM(F15))),"https://",""),"http://",""),"www.",""),LEN(SUBSTITUTE(SUBSTITUTE(SUBSTITUTE(LOWER(ASC(TRIM(F15))),"https://",""),"http://",""),"www.",""))-1),SUBSTITUTE(SUBSTITUTE(SUBSTITUTE(LOWER(ASC(TRIM(F15))),"https://",""),"http://",""),"www.",""))) | M15: =IF(B15="","",COUNTIF($B$4:$B$203,B15)) | N15: =IF(B15="","",IF(COUNTIF(除外リスト!$B$4:$B$503,B15)>0,"除外",""))
K16: =IF(A16="","",SUBSTITUTE(SUBSTITUTE(SUBSTITUTE(TRIM(A16),"（株）","株式会社"),"(株)","株式会社"),"㈱","株式会社")) | L16: =IF(F16="","",IF(RIGHT(SUBSTITUTE(SUBSTITUTE(SUBSTITUTE(LOWER(ASC(TRIM(F16))),"https://",""),"http://",""),"www.",""),1)="/",LEFT(SUBSTITUTE(SUBSTITUTE(SUBSTITUTE(LOWER(ASC(TRIM(F16))),"https://",""),"http://",""),"www.",""),LEN(SUBSTITUTE(SUBSTITUTE(SUBSTITUTE(LOWER(ASC(TRIM(F16))),"https://",""),"http://",""),"www.",""))-1),SUBSTITUTE(SUBSTITUTE(SUBSTITUTE(LOWER(ASC(TRIM(F16))),"https://",""),"http://",""),"www.",""))) | M16: =IF(B16="","",COUNTIF($B$4:$B$203,B16)) | N16: =IF(B16="","",IF(COUNTIF(除外リスト!$B$4:$B$503,B16)>0,"除外",""))
K17: =IF(A17="","",SUBSTITUTE(SUBSTITUTE(SUBSTITUTE(TRIM(A17),"（株）","株式会社"),"(株)","株式会社"),"㈱","株式会社")) | L17: =IF(F17="","",IF(RIGHT(SUBSTITUTE(SUBSTITUTE(SUBSTITUTE(LOWER(ASC(TRIM(F17))),"https://",""),"http://",""),"www.",""),1)="/",LEFT(SUBSTITUTE(SUBSTITUTE(SUBSTITUTE(LOWER(ASC(TRIM(F17))),"https://",""),"http://",""),"www.",""),LEN(SUBSTITUTE(SUBSTITUTE(SUBSTITUTE(LOWER(ASC(TRIM(F17))),"https://",""),"http://",""),"www.",""))-1),SUBSTITUTE(SUBSTITUTE(SUBSTITUTE(LOWER(ASC(TRIM(F17))),"https://",""),"http://",""),"www.",""))) | M17: =IF(B17="","",COUNTIF($B$4:$B$203,B17)) | N17: =IF(B17="","",IF(COUNTIF(除外リスト!$B$4:$B$503,B17)>0,"除外",""))
K18: =IF(A18="","",SUBSTITUTE(SUBSTITUTE(SUBSTITUTE(TRIM(A18),"（株）","株式会社"),"(株)","株式会社"),"㈱","株式会社")) | L18: =IF(F18="","",IF(RIGHT(SUBSTITUTE(SUBSTITUTE(SUBSTITUTE(LOWER(ASC(TRIM(F18))),"https://",""),"http://",""),"www.",""),1)="/",LEFT(SUBSTITUTE(SUBSTITUTE(SUBSTITUTE(LOWER(ASC(TRIM(F18))),"https://",""),"http://",""),"www.",""),LEN(SUBSTITUTE(SUBSTITUTE(SUBSTITUTE(LOWER(ASC(TRIM(F18))),"https://",""),"http://",""),"www.",""))-1),SUBSTITUTE(SUBSTITUTE(SUBSTITUTE(LOWER(ASC(TRIM(F18))),"https://",""),"http://",""),"www.",""))) | M18: =IF(B18="","",COUNTIF($B$4:$B$203,B18)) | N18: =IF(B18="","",IF(COUNTIF(除外リスト!$B$4:$B$503,B18)>0,"除外",""))
... K203: =IF(A203="","",SUBSTITUTE(SUBSTITUTE(SUBSTITUTE(TRIM(A203),"（株）","株式会社"),"(株)","株式会社"),"㈱","株式会社")) | L203: =IF(F203="","",IF(RIGHT(SUBSTITUTE(SUBSTITUTE(SUBSTITUTE(LOWER(ASC(TRIM(F203))),"https://",""),"http://",""),"www.",""),1)="/",LEFT(SUBSTITUTE(SUBSTITUTE(SUBSTITUTE(LOWER(ASC(TRIM(F203))),"https://",""),"http://",""),"www.",""),LEN(SUBSTITUTE(SUBSTITUTE(SUBSTITUTE(LOWER(ASC(TRIM(F203))),"https://",""),"http://",""),"www.",""))-1),SUBSTITUTE(SUBSTITUTE(SUBSTITUTE(LOWER(ASC(TRIM(F203))),"https://",""),"http://",""),"www.",""))) | M203: =IF(B203="","",COUNTIF($B$4:$B$203,B203)) | N203: =IF(B203="","",IF(COUNTIF(除外リスト!$B$4:$B$503,B203)>0,"除外",""))

Sheet 除外リスト
A1: 除外リスト（連絡しない会社）
A2: 既存顧客・商談中・連絡を断られた会社・営業お断りの記載がある会社をチームで1枚にまとめます。営業リストのN列が法人番号で照合します。
A3: 会社名 | B3: 法人番号 | C3: ドメイン | D3: 除外の理由 | E3: 登録日 | F3: メモ
A4: 株式会社テスト工業 | B4: 9876543210987 | C4: example.com | D4: 営業お断り | E4: 46323 | F4: 問い合わせページに記載

Sheet 使い方
A1: 使い方（営業リストの作り方 ステップ3〜5）
A3: 手順 | B3: 内容
A4: 1 | B4: A〜J列に1社1行で入力します。法人番号は国税庁法人番号公表サイトで確認し、出典URLと最終確認日は必ず埋めます。
A5: 2 | B5: K列が会社名の「（株）」「(株)」「㈱」を「株式会社」にそろえます。
A6: 3 | B6: L列が公式サイトのURLを正規化します（全角を半角に、英字を小文字に、https://・http://・www.と末尾のスラッシュを除去）。
A7: 4 | B7: M列が同じ法人番号の行数を数えます。2以上（赤）の行は同じ会社なので、1行にまとめます。
A8: 5 | B8: N列が除外リストシートと法人番号で照合し、該当すれば「除外」と表示します。その行には連絡しません。
A9: 6 | B9: 連絡の直前と定期見直しのとき、公式サイトと窓口を確認してI列（最終確認日）を更新します。
A11: 使っている数式（4行目の例）
A12: 列 | B12: 数式
A13: 会社名（表記統一）K列 | B13: =IF(A4="","",SUBSTITUTE(SUBSTITUTE(SUBSTITUTE(TRIM(A4),"（株）","株式会社"),"(株)","株式会社"),"㈱","株式会社"))
A14: 全角→半角 | B14: =ASC(F4) ※ASCはカタカナも半角にするため、会社名ではなくURL・電話番号の列に使います
A15: URL（正規化）L列 | B15: =IF(F4="","",IF(RIGHT(X,1)="/",LEFT(X,LEN(X)-1),X)) X＝SUBSTITUTE(SUBSTITUTE(SUBSTITUTE(LOWER(ASC(TRIM(F4))),"https://",""),"http://",""),"www.","")
A16: 法人番号の件数 M列 | B16: =IF(B4="","",COUNTIF($B$4:$B$203,B4))
A17: 除外リスト照合 N列 | B17: =IF(B4="","",IF(COUNTIF(除外リスト!$B$4:$B$503,B4)>0,"除外",""))
A19: 試してみる（B列を書き換えるとC列が変わります）
A20: 項目 | B20: 入力 | C20: 結果（数式）
A21: 全角まじりのURL | B21: HTTPS://ＷＷＷ.ｅｘａｍｐｌｅ.co.jp/ | C21: =IF(RIGHT(SUBSTITUTE(SUBSTITUTE(SUBSTITUTE(LOWER(ASC(TRIM(B21))),"https://",""),"http://",""),"www.",""),1)="/",LEFT(SUBSTITUTE(SUBSTITUTE(SUBSTITUTE(LOWER(ASC(TRIM(B21))),"https://",""),"http://",""),"www.",""),LEN(SUBSTITUTE(SUBSTITUTE(SUBSTITUTE(LOWER(ASC(TRIM(B21))),"https://",""),"http://",""),"www.",""))-1),SUBSTITUTE(SUBSTITUTE(SUBSTITUTE(LOWER(ASC(TRIM(B21))),"https://",""),"http://",""),"www.","")) -> example.co.jp
A22: 会社名の表記ゆれ | B22: ㈱サンプル精工 | C22: =SUBSTITUTE(SUBSTITUTE(SUBSTITUTE(TRIM(B22),"（株）","株式会社"),"(株)","株式会社"),"㈱","株式会社") -> 株式会社サンプル精工
A23: 法人番号の重複数 | B23: 1234567890123 | C23: =COUNTIF(営業リスト!$B$4:$B$203,B23) -> 2
A25: 注意：
A26: 掲載している会社名・法人番号・URLはすべて架空の例です（法人番号は実在しない番号です）。
A27: 会社として公開している情報だけを入力します。社員個人の連絡先、ログインや有料会員の内側の情報、購入した名簿は使いません。
A28: 広告・宣伝のメールを送る場合は特定電子メール法の同意（オプトイン）を確認してください。迷う場合は社内の法務担当に相談します。
