Workbook

Sheet Duomenys
A1: Data | B1: Mėnuo | C1: Padalinys | D1: Metai | E1: Kategorija | F1: Pardavimų suma | G1: Užsakymai | I1: Iliustracinis pavyzdys — orova.vn
A2: 45292 | B2: =MONTH(tbl_Pardavimai[[#This Row],[Data]]) | C2: Vilnius | D2: =YEAR(tbl_Pardavimai[[#This Row],[Data]]) | E2: Šviestuvai | F2: 767.68 | G2: 9 | I2: Oficiali „Excel“ lentelė tbl_Pardavimai (1 žingsnis). Sumos eurais (EUR), datos formatu yyyy-mm-dd, laikotarpis 2024-01-01–2025-12-31. Stulpeliai „Mėnuo“ ir „Metai“ skaičiuojami formulėmis iš datos. Naujas eilutes įklijuokite iškart po paskutine: lentelė išsiplės pati, o lapų „Skaičiavimai“ ir „Valdymo skydas“ formulės jas įtrauks iš karto.
A3: 45293 | B3: =MONTH(tbl_Pardavimai[[#This Row],[Data]]) | C3: Vilnius | D3: =YEAR(tbl_Pardavimai[[#This Row],[Data]]) | E3: Aksesuarai | F3: 103.03 | G3: 2
A4: 45293 | B4: =MONTH(tbl_Pardavimai[[#This Row],[Data]]) | C4: Vilnius | D4: =YEAR(tbl_Pardavimai[[#This Row],[Data]]) | E4: Elektronika | F4: 1782.36 | G4: 9
A5: 45294 | B5: =MONTH(tbl_Pardavimai[[#This Row],[Data]]) | C5: Vilnius | D5: =YEAR(tbl_Pardavimai[[#This Row],[Data]]) | E5: Šviestuvai | F5: 284.37 | G5: 3
A6: 45294 | B6: =MONTH(tbl_Pardavimai[[#This Row],[Data]]) | C6: Klaipėda | D6: =YEAR(tbl_Pardavimai[[#This Row],[Data]]) | E6: Buitinė technika | F6: 1121.93 | G6: 7
A7: 45295 | B7: =MONTH(tbl_Pardavimai[[#This Row],[Data]]) | C7: Kaunas | D7: =YEAR(tbl_Pardavimai[[#This Row],[Data]]) | E7: Buitinė technika | F7: 1286.92 | G7: 8
A8: 45295 | B8: =MONTH(tbl_Pardavimai[[#This Row],[Data]]) | C8: Klaipėda | D8: =YEAR(tbl_Pardavimai[[#This Row],[Data]]) | E8: Šviestuvai | F8: 699.38 | G8: 7
A9: 45296 | B9: =MONTH(tbl_Pardavimai[[#This Row],[Data]]) | C9: Klaipėda | D9: =YEAR(tbl_Pardavimai[[#This Row],[Data]]) | E9: Buitinė technika | F9: 811.38 | G9: 5
A10: 45297 | B10: =MONTH(tbl_Pardavimai[[#This Row],[Data]]) | C10: Vilnius | D10: =YEAR(tbl_Pardavimai[[#This Row],[Data]]) | E10: Buitinė technika | F10: 1480.98 | G10: 10
A11: 45297 | B11: =MONTH(tbl_Pardavimai[[#This Row],[Data]]) | C11: Klaipėda | D11: =YEAR(tbl_Pardavimai[[#This Row],[Data]]) | E11: Aksesuarai | F11: 429.21 | G11: 10
A12: 45298 | B12: =MONTH(tbl_Pardavimai[[#This Row],[Data]]) | C12: Kaunas | D12: =YEAR(tbl_Pardavimai[[#This Row],[Data]]) | E12: Aksesuarai | F12: 295.21 | G12: 7
A13: 45298 | B13: =MONTH(tbl_Pardavimai[[#This Row],[Data]]) | C13: Kaunas | D13: =YEAR(tbl_Pardavimai[[#This Row],[Data]]) | E13: Elektronika | F13: 1000.09 | G13: 5
A14: 45299 | B14: =MONTH(tbl_Pardavimai[[#This Row],[Data]]) | C14: Kaunas | D14: =YEAR(tbl_Pardavimai[[#This Row],[Data]]) | E14: Elektronika | F14: 433.28 | G14: 2
... A1567: 46022 | B1567: =MONTH(tbl_Pardavimai[[#This Row],[Data]]) | C1567: Vilnius | D1567: =YEAR(tbl_Pardavimai[[#This Row],[Data]]) | E1567: Aksesuarai | F1567: 215.9 | G1567: 5

Sheet Skaičiavimai
A1: Skaičiavimai — KPI ir suvestinės su SUMIFS (vietoj „PivotTable“) | H1: Iliustracinis pavyzdys — orova.vn
A2: KPI zona kortelėms (3 žingsnis) | H2: Suvestinė pagal mėnesius | L2: Suvestinė pagal kategoriją | O2: Mėnesio planai (galima keisti) | W2: Sąrašai išskleidžiamiesiems laukams
A3: Laikotarpis | B3: Mėnuo | C3: Pardavimai | D3: Užsakymai | E3: Vid. krepšelis | F3: Planas | H3: Mėnuo | I3: Pardavimų suma | J3: Užsakymai | L3: Kategorija | M3: Pardavimų suma | O3: Įrašykite savo planus geltonuose langeliuose | T3: Filtras (iš lapo „Valdymo skydas“) | U3: Reikšmė | W3: Mėnuo | X3: Metai | Y3: Padalinys
A4: Ankstesnis mėnuo | B4: =IF($U$10<DATE(2024,1,1),"nėra duomenų",YEAR($U$10)&" "&INDEX($W$4:$W$15,MONTH($U$10))) | C4: =SUMIFS(tbl_Pardavimai[Pardavimų suma],tbl_Pardavimai[Data],">="&$U$10,tbl_Pardavimai[Data],"<"&$U$9,tbl_Pardavimai[Padalinys],$U$7) | D4: =SUMIFS(tbl_Pardavimai[Užsakymai],tbl_Pardavimai[Data],">="&$U$10,tbl_Pardavimai[Data],"<"&$U$9,tbl_Pardavimai[Padalinys],$U$7) | E4: =IFERROR(C4/D4,0) | F4: =SUMIFS($R$5:$R$76,$O$5:$O$76,YEAR($U$10),$P$5:$P$76,MONTH($U$10),$Q$5:$Q$76,$U$7) | H4: sausis | I4: =SUMIFS(tbl_Pardavimai[Pardavimų suma],tbl_Pardavimai[Metai],$U$4,tbl_Pardavimai[Mėnuo],1,tbl_Pardavimai[Padalinys],$U$7) | J4: =SUMIFS(tbl_Pardavimai[Užsakymai],tbl_Pardavimai[Metai],$U$4,tbl_Pardavimai[Mėnuo],1,tbl_Pardavimai[Padalinys],$U$7) | L4: Elektronika | M4: =SUMIFS(tbl_Pardavimai[Pardavimų suma],tbl_Pardavimai[Kategorija],L4,tbl_Pardavimai[Metai],$U$4,tbl_Pardavimai[Padalinys],$U$7) | O4: Metai | P4: Mėnuo | Q4: Padalinys | R4: Planas | T4: Metai (Valdymo skydas!C3) | U4: ='Valdymo skydas'!$C$3 | W4: sausis | X4: 2024 | Y4: Visi padaliniai
A5: Einamasis mėnuo | B5: =IF($U$9<DATE(2024,1,1),"nėra duomenų",YEAR($U$9)&" "&INDEX($W$4:$W$15,MONTH($U$9))) | C5: =SUMIFS(tbl_Pardavimai[Pardavimų suma],tbl_Pardavimai[Data],">="&$U$9,tbl_Pardavimai[Data],"<"&$U$11,tbl_Pardavimai[Padalinys],$U$7) | D5: =SUMIFS(tbl_Pardavimai[Užsakymai],tbl_Pardavimai[Data],">="&$U$9,tbl_Pardavimai[Data],"<"&$U$11,tbl_Pardavimai[Padalinys],$U$7) | E5: =IFERROR(C5/D5,0) | F5: =SUMIFS($R$5:$R$76,$O$5:$O$76,$U$4,$P$5:$P$76,$U$8,$Q$5:$Q$76,$U$7) | H5: vasaris | I5: =SUMIFS(tbl_Pardavimai[Pardavimų suma],tbl_Pardavimai[Metai],$U$4,tbl_Pardavimai[Mėnuo],2,tbl_Pardavimai[Padalinys],$U$7) | J5: =SUMIFS(tbl_Pardavimai[Užsakymai],tbl_Pardavimai[Metai],$U$4,tbl_Pardavimai[Mėnuo],2,tbl_Pardavimai[Padalinys],$U$7) | L5: Buitinė technika | M5: =SUMIFS(tbl_Pardavimai[Pardavimų suma],tbl_Pardavimai[Kategorija],L5,tbl_Pardavimai[Metai],$U$4,tbl_Pardavimai[Padalinys],$U$7) | O5: 2024 | P5: 1 | Q5: Vilnius | R5: 16000 | T5: Padalinys (Valdymo skydas!G3) | U5: ='Valdymo skydas'!$G$3 | W5: vasaris | X5: 2025 | Y5: Vilnius
H6: kovas | I6: =SUMIFS(tbl_Pardavimai[Pardavimų suma],tbl_Pardavimai[Metai],$U$4,tbl_Pardavimai[Mėnuo],3,tbl_Pardavimai[Padalinys],$U$7) | J6: =SUMIFS(tbl_Pardavimai[Užsakymai],tbl_Pardavimai[Metai],$U$4,tbl_Pardavimai[Mėnuo],3,tbl_Pardavimai[Padalinys],$U$7) | L6: Šviestuvai | M6: =SUMIFS(tbl_Pardavimai[Pardavimų suma],tbl_Pardavimai[Kategorija],L6,tbl_Pardavimai[Metai],$U$4,tbl_Pardavimai[Padalinys],$U$7) | O6: 2024 | P6: 1 | Q6: Kaunas | R6: 11100 | T6: Mėnuo (Valdymo skydas!K3) | U6: ='Valdymo skydas'!$K$3 | W6: kovas | Y6: Kaunas
A7: Rodiklis | B7: Reikšmė | C7: Kaip skaičiuojama | H7: balandis | I7: =SUMIFS(tbl_Pardavimai[Pardavimų suma],tbl_Pardavimai[Metai],$U$4,tbl_Pardavimai[Mėnuo],4,tbl_Pardavimai[Padalinys],$U$7) | J7: =SUMIFS(tbl_Pardavimai[Užsakymai],tbl_Pardavimai[Metai],$U$4,tbl_Pardavimai[Mėnuo],4,tbl_Pardavimai[Padalinys],$U$7) | L7: Aksesuarai | M7: =SUMIFS(tbl_Pardavimai[Pardavimų suma],tbl_Pardavimai[Kategorija],L7,tbl_Pardavimai[Metai],$U$4,tbl_Pardavimai[Padalinys],$U$7) | O7: 2024 | P7: 1 | Q7: Klaipėda | R7: 9100 | T7: Padalinio kriterijus | U7: =IF(U5="Visi padaliniai","*",U5) | W7: balandis | Y7: Klaipėda
A8: Einamojo mėnesio pajamos | B8: =C5 | C8: Formulė: =C5 (Excel: GETPIVOTDATA) | H8: gegužė | I8: =SUMIFS(tbl_Pardavimai[Pardavimų suma],tbl_Pardavimai[Metai],$U$4,tbl_Pardavimai[Mėnuo],5,tbl_Pardavimai[Padalinys],$U$7) | J8: =SUMIFS(tbl_Pardavimai[Užsakymai],tbl_Pardavimai[Metai],$U$4,tbl_Pardavimai[Mėnuo],5,tbl_Pardavimai[Padalinys],$U$7) | L8: Iš viso | M8: =SUM(M4:M7) | O8: 2024 | P8: 2 | Q8: Vilnius | R8: 13000 | T8: Mėnesio nr. | U8: =MATCH(U6,$W$4:$W$15,0) | W8: gegužė
A9: Mėnesio pokytis (MoM %) | B9: =IFERROR((C5-C4)/C4,0) | C9: Formulė: =IFERROR((C5-C4)/C4;0) | H9: birželis | I9: =SUMIFS(tbl_Pardavimai[Pardavimų suma],tbl_Pardavimai[Metai],$U$4,tbl_Pardavimai[Mėnuo],6,tbl_Pardavimai[Padalinys],$U$7) | J9: =SUMIFS(tbl_Pardavimai[Užsakymai],tbl_Pardavimai[Metai],$U$4,tbl_Pardavimai[Mėnuo],6,tbl_Pardavimai[Padalinys],$U$7) | O9: 2024 | P9: 2 | Q9: Kaunas | R9: 10000 | T9: Einamojo mėnesio pradžia | U9: =DATE(U4,U8,1) | W9: birželis
A10: Vidutinis užsakymo krepšelis | B10: =IFERROR(I16/J16,0) | C10: Pardavimai ÷ Užsakymai (visi metai) | H10: liepa | I10: =SUMIFS(tbl_Pardavimai[Pardavimų suma],tbl_Pardavimai[Metai],$U$4,tbl_Pardavimai[Mėnuo],7,tbl_Pardavimai[Padalinys],$U$7) | J10: =SUMIFS(tbl_Pardavimai[Užsakymai],tbl_Pardavimai[Metai],$U$4,tbl_Pardavimai[Mėnuo],7,tbl_Pardavimai[Padalinys],$U$7) | O10: 2024 | P10: 2 | Q10: Klaipėda | R10: 9900 | T10: Ankstesnio mėnesio pradžia | U10: =EDATE(U9,-1) | W10: liepa
A11: Plano vykdymo santykis | B11: =IFERROR(C5/F5,0) | C11: Formulė: =C5/F5 (F5 – mėnesio planas) | H11: rugpjūtis | I11: =SUMIFS(tbl_Pardavimai[Pardavimų suma],tbl_Pardavimai[Metai],$U$4,tbl_Pardavimai[Mėnuo],8,tbl_Pardavimai[Padalinys],$U$7) | J11: =SUMIFS(tbl_Pardavimai[Užsakymai],tbl_Pardavimai[Metai],$U$4,tbl_Pardavimai[Mėnuo],8,tbl_Pardavimai[Padalinys],$U$7) | O11: 2024 | P11: 3 | Q11: Vilnius | R11: 21000 | T11: Kito mėnesio pradžia | U11: =EDATE(U9,1) | W11: rugpjūtis
H12: rugsėjis | I12: =SUMIFS(tbl_Pardavimai[Pardavimų suma],tbl_Pardavimai[Metai],$U$4,tbl_Pardavimai[Mėnuo],9,tbl_Pardavimai[Padalinys],$U$7) | J12: =SUMIFS(tbl_Pardavimai[Užsakymai],tbl_Pardavimai[Metai],$U$4,tbl_Pardavimai[Mėnuo],9,tbl_Pardavimai[Padalinys],$U$7) | O12: 2024 | P12: 3 | Q12: Kaunas | R12: 18100 | W12: rugsėjis
A13: Šis failas skaičiuoja su SUMIFS, nes „PivotTable“ ir GETPIVOTDATA veikia tik su tikra suvestine lentele. „Excel“ programoje tuos pačius blokus galite pakeisti suvestinėmis lentelėmis (2 žingsnis), o B8 įrašyti =GETPIVOTDATA("Pardavimų suma";A3;"Mėnuo";10), kaip aprašyta 3 žingsnyje. Pirmajam mėnesiui be ankstesnio mėnesio duomenų IFERROR grąžina 0. Ikonų rinkinys B9: žalia rodyklė, kai pokytis > 0, raudona – kai < 0. | H13: spalis | I13: =SUMIFS(tbl_Pardavimai[Pardavimų suma],tbl_Pardavimai[Metai],$U$4,tbl_Pardavimai[Mėnuo],10,tbl_Pardavimai[Padalinys],$U$7) | J13: =SUMIFS(tbl_Pardavimai[Užsakymai],tbl_Pardavimai[Metai],$U$4,tbl_Pardavimai[Mėnuo],10,tbl_Pardavimai[Padalinys],$U$7) | O13: 2024 | P13: 3 | Q13: Klaipėda | R13: 8000 | W13: spalis
H14: lapkritis | I14: =SUMIFS(tbl_Pardavimai[Pardavimų suma],tbl_Pardavimai[Metai],$U$4,tbl_Pardavimai[Mėnuo],11,tbl_Pardavimai[Padalinys],$U$7) | J14: =SUMIFS(tbl_Pardavimai[Užsakymai],tbl_Pardavimai[Metai],$U$4,tbl_Pardavimai[Mėnuo],11,tbl_Pardavimai[Padalinys],$U$7) | O14: 2024 | P14: 4 | Q14: Vilnius | R14: 19800 | W14: lapkritis
H15: gruodis | I15: =SUMIFS(tbl_Pardavimai[Pardavimų suma],tbl_Pardavimai[Metai],$U$4,tbl_Pardavimai[Mėnuo],12,tbl_Pardavimai[Padalinys],$U$7) | J15: =SUMIFS(tbl_Pardavimai[Užsakymai],tbl_Pardavimai[Metai],$U$4,tbl_Pardavimai[Mėnuo],12,tbl_Pardavimai[Padalinys],$U$7) | O15: 2024 | P15: 4 | Q15: Kaunas | R15: 11900 | W15: gruodis
H16: Iš viso | I16: =SUM(I4:I15) | J16: =SUM(J4:J15) | O16: 2024 | P16: 4 | Q16: Klaipėda | R16: 14400
O17: 2024 | P17: 5 | Q17: Vilnius | R17: 31900
O18: 2024 | P18: 5 | Q18: Kaunas | R18: 21300
O19: 2024 | P19: 5 | Q19: Klaipėda | R19: 3400
O20: 2024 | P20: 6 | Q20: Vilnius | R20: 20900
O21: 2024 | P21: 6 | Q21: Kaunas | R21: 14000
O22: 2024 | P22: 6 | Q22: Klaipėda | R22: 11900
O23: 2024 | P23: 7 | Q23: Vilnius | R23: 25500
O24: 2024 | P24: 7 | Q24: Kaunas | R24: 9700
O25: 2024 | P25: 7 | Q25: Klaipėda | R25: 9900
O26: 2024 | P26: 8 | Q26: Vilnius | R26: 20300
O27: 2024 | P27: 8 | Q27: Kaunas | R27: 17100
O28: 2024 | P28: 8 | Q28: Klaipėda | R28: 5800
... O76: 2025 | P76: 12 | Q76: Klaipėda | R76: 11600

Sheet Valdymo skydas
B2: Pardavimų valdymo skydas | L2: Iliustracinis pavyzdys — orova.vn
B3: Metai | C3: 2025 | F3: Padalinys | G3: Visi padaliniai | J3: Mėnuo | K3: spalis | N3: ← sąrašai vietoj pjūviklių
B5: EINAMOJO MĖNESIO PAJAMOS | F5: MĖNESIO POKYTIS (MoM) | J5: VIDUTINIS KREPŠELIS | N5: PLANO VYKDYMAS
B6: ='Skaičiavimai'!$B$8 | F6: ='Skaičiavimai'!$B$9 | J6: ='Skaičiavimai'!$B$10 | N6: ='Skaičiavimai'!$B$11
B7: ='Skaičiavimai'!$B$5 | F7: =IF('Skaičiavimai'!$C$4=0,"nėra ankstesnio mėnesio duomenų",'Skaičiavimai'!$C$4) | J7: ='Skaičiavimai'!$J$16 | N7: ='Skaičiavimai'!$F$5
B8: ="Padalinys: "&'Skaičiavimai'!$U$5 | F8: Žalia – augimas, raudona – kritimas | J8: ="Metai: "&'Skaičiavimai'!$U$4 | N8: Žalia – 100 % ir daugiau
B27: Kaip veikia šis failas
B28: Išskleidžiamieji sąrašai Metai (C3) ir Padalinys (G3) atlieka pjūviklių vaidmenį iš 5 žingsnio, o Mėnuo (K3) parenka einamąjį mėnesį KPI kortelėms. Kortelės ir diagramos skaičiuojamos SUMIFS formulėmis lape „Skaičiavimai“ ir pasikeičia iš karto, be mygtuko Atnaujinti viską. Mėnesio pokytis lygina pasirinktą mėnesį su ankstesniu (=IFERROR((C5-C4)/C4;0)), plano vykdymas – =C5/F5. „Excel“ programoje tą patį skydą galite surinkti iš suvestinių lentelių, suvestinių diagramų ir pjūviklių, kaip aprašyta vadove. Lapai „Valdymo skydas“ ir „Skaičiavimai“ apsaugoti be slaptažodžio (Peržiūra > Atšaukti lapo apsaugą); atrakinti tik C3, G3, K3 ir geltoni plano langeliai.
B33: Iliustracinis pavyzdys — orova.vn
