Workbook

Sheet Data_Kilde
A1: Dato | B1: Kanal | C1: Region | D1: Omsetning | E1: Kostnad | F1: ROAS | H1: Hypotetisk eksempel — orova.vn
A2: 46027 | B2: Organisk søk | C2: Øst | D2: 12500 | E2: 2500 | F2: =Tbl_Salg[[#This Row],[Omsetning]]/Tbl_Salg[[#This Row],[Kostnad]] | H2: Excel-tabell Tbl_Salg. ROAS er en beregnet kolonne: =[@Omsetning]/[@Kostnad]. Lim inn nye rader rett under tabellen, så utvider tabellen seg og alle formler i Kalkyle_Pivoter og Dashboard tar dem med.
A3: 46028 | B3: Betalte annonser | C3: Vest | D3: 18200 | E3: 9100 | F3: =Tbl_Salg[[#This Row],[Omsetning]]/Tbl_Salg[[#This Row],[Kostnad]]
A4: 46029 | B4: E-post | C4: Midt | D4: 8400 | E4: 1200 | F4: =Tbl_Salg[[#This Row],[Omsetning]]/Tbl_Salg[[#This Row],[Kostnad]]
A5: 46030 | B5: Sosiale medier | C5: Nord | D5: 5600 | E5: 4000 | F5: =Tbl_Salg[[#This Row],[Omsetning]]/Tbl_Salg[[#This Row],[Kostnad]]
A6: 46031 | B6: Direkte trafikk | C6: Øst | D6: 14000 | E6: 1000 | F6: =Tbl_Salg[[#This Row],[Omsetning]]/Tbl_Salg[[#This Row],[Kostnad]]
A7: 46032 | B7: Organisk søk | C7: Øst | D7: 11200 | E7: 1900 | F7: =Tbl_Salg[[#This Row],[Omsetning]]/Tbl_Salg[[#This Row],[Kostnad]]
A8: 46032 | B8: E-post | C8: Vest | D8: 7900 | E8: 1400 | F8: =Tbl_Salg[[#This Row],[Omsetning]]/Tbl_Salg[[#This Row],[Kostnad]]
A9: 46032 | B9: Direkte trafikk | C9: Midt | D9: 13200 | E9: 1300 | F9: =Tbl_Salg[[#This Row],[Omsetning]]/Tbl_Salg[[#This Row],[Kostnad]]
A10: 46032 | B10: Direkte trafikk | C10: Nord | D10: 10100 | E10: 1000 | F10: =Tbl_Salg[[#This Row],[Omsetning]]/Tbl_Salg[[#This Row],[Kostnad]]
A11: 46033 | B11: Organisk søk | C11: Vest | D11: 13200 | E11: 2600 | F11: =Tbl_Salg[[#This Row],[Omsetning]]/Tbl_Salg[[#This Row],[Kostnad]]
A12: 46033 | B12: Betalte annonser | C12: Øst | D12: 16700 | E12: 8800 | F12: =Tbl_Salg[[#This Row],[Omsetning]]/Tbl_Salg[[#This Row],[Kostnad]]
A13: 46033 | B13: Betalte annonser | C13: Midt | D13: 18300 | E13: 9600 | F13: =Tbl_Salg[[#This Row],[Omsetning]]/Tbl_Salg[[#This Row],[Kostnad]]
A14: 46033 | B14: Betalte annonser | C14: Nord | D14: 12000 | E14: 7200 | F14: =Tbl_Salg[[#This Row],[Omsetning]]/Tbl_Salg[[#This Row],[Kostnad]]
... A246: 46201 | B246: Betalte annonser | C246: Midt | D246: 16700 | E246: 8600 | F246: =Tbl_Salg[[#This Row],[Omsetning]]/Tbl_Salg[[#This Row],[Kostnad]]

Sheet Kalkyle_Pivoter
A1: Kalkyle_Pivoter — hjelpeark med SUMMER.HVIS.SETT (SUMIFS) i stedet for pivottabeller | K1: Hypotetisk eksempel — orova.vn
A2: Alle tall er formler som leser Tbl_Salg og følger valgene på Dashboard (C3, F3, I3). I Excel kan du bytte ut tabellene med pivottabeller, utsnitt og tidslinje som i trinn 3 og 5 i veiledningen. | Q2: Lister til nedtrekkslistene
A3: Filter fra Dashboard | B3: Verdi | D3: Nøkkeltall (valgt filter) | E3: Valgt periode | F3: Forrige måned | G3: % differanse fra forrige | Q3: Kanal | R3: Region | S3: Måned
A4: Kanal (Dashboard!C3) | B4: =Dashboard!$C$3 | D4: Antall rader | E4: =COUNTIFS(Tbl_Salg[Dato],">="&$B$10,Tbl_Salg[Dato],"<"&$B$11,Tbl_Salg[Kanal],$B$7,Tbl_Salg[Region],$B$8) | F4: =IF($B$9<2,"",COUNTIFS(Tbl_Salg[Dato],">="&DATE(2026,$B$9-1,1),Tbl_Salg[Dato],"<"&$B$10,Tbl_Salg[Kanal],$B$7,Tbl_Salg[Region],$B$8)) | G4: =IF(OR(F4="",F4=0),"",(E4-F4)/F4) | Q4: Alle | R4: Alle | S4: Alle
A5: Region (Dashboard!F3) | B5: =Dashboard!$F$3 | D5: Omsetning | E5: =SUMIFS(Tbl_Salg[Omsetning],Tbl_Salg[Dato],">="&$B$10,Tbl_Salg[Dato],"<"&$B$11,Tbl_Salg[Kanal],$B$7,Tbl_Salg[Region],$B$8) | F5: =IF($B$9<2,"",SUMIFS(Tbl_Salg[Omsetning],Tbl_Salg[Dato],">="&DATE(2026,$B$9-1,1),Tbl_Salg[Dato],"<"&$B$10,Tbl_Salg[Kanal],$B$7,Tbl_Salg[Region],$B$8)) | G5: =IF(OR(F5="",F5=0),"",(E5-F5)/F5) | Q5: Organisk søk | R5: Øst | S5: Januar
A6: Måned (Dashboard!I3) | B6: =Dashboard!$I$3 | D6: Kostnad | E6: =SUMIFS(Tbl_Salg[Kostnad],Tbl_Salg[Dato],">="&$B$10,Tbl_Salg[Dato],"<"&$B$11,Tbl_Salg[Kanal],$B$7,Tbl_Salg[Region],$B$8) | F6: =IF($B$9<2,"",SUMIFS(Tbl_Salg[Kostnad],Tbl_Salg[Dato],">="&DATE(2026,$B$9-1,1),Tbl_Salg[Dato],"<"&$B$10,Tbl_Salg[Kanal],$B$7,Tbl_Salg[Region],$B$8)) | G6: =IF(OR(F6="",F6=0),"",(E6-F6)/F6) | Q6: Betalte annonser | R6: Vest | S6: Februar
A7: Kriterium kanal | B7: =IF(B4="Alle","*",B4) | D7: Bruttofortjeneste | E7: =E5-E6 | F7: =IF($B$9<2,"",F5-F6) | G7: =IF(OR(F7="",F7=0),"",(E7-F7)/F7) | Q7: E-post | R7: Midt | S7: Mars
A8: Kriterium region | B8: =IF(B5="Alle","*",B5) | D8: ROAS | E8: =IF(E6=0,"",E5/E6) | F8: =IF(OR($B$9<2,F6=0),"",F5/F6) | G8: =IF(OR(F8="",F8=0),"",(E8-F8)/F8) | Q8: Sosiale medier | R8: Nord | S8: April
A9: Månedsnr. (0 = alle) | B9: =MATCH(B6,$S$4:$S$10,0)-1 | D9: E5 er totalsummen KPI-kortet Omsetning peker på (=Kalkyle_Pivoter!E5). | Q9: Direkte trafikk | S9: Mai
A10: Periode fra | B10: =IF(B9=0,DATE(2026,1,1),DATE(2026,B9,1)) | S10: Juni
A11: Periode til (ikke med) | B11: =IF(B9=0,DATE(2027,1,1),DATE(2026,B9+1,1))
A12: Omsetning per måned og kanal (valgt region) — tilsvarer pivottabellen i trinn 3
A13: Måned | B13: Organisk søk | C13: Betalte annonser | D13: E-post | E13: Sosiale medier | F13: Direkte trafikk | G13: Omsetning (valgt kanal) | H13: % differanse fra forrige | I13: Kostnad (valgt kanal) | J13: Bruttofortjeneste | K13: ROAS
A14: jan. 2026 | B14: =SUMIFS(Tbl_Salg[Omsetning],Tbl_Salg[Dato],">="&DATE(2026,1,1),Tbl_Salg[Dato],"<"&DATE(2026,2,1),Tbl_Salg[Kanal],"Organisk søk",Tbl_Salg[Region],$B$8) | C14: =SUMIFS(Tbl_Salg[Omsetning],Tbl_Salg[Dato],">="&DATE(2026,1,1),Tbl_Salg[Dato],"<"&DATE(2026,2,1),Tbl_Salg[Kanal],"Betalte annonser",Tbl_Salg[Region],$B$8) | D14: =SUMIFS(Tbl_Salg[Omsetning],Tbl_Salg[Dato],">="&DATE(2026,1,1),Tbl_Salg[Dato],"<"&DATE(2026,2,1),Tbl_Salg[Kanal],"E-post",Tbl_Salg[Region],$B$8) | E14: =SUMIFS(Tbl_Salg[Omsetning],Tbl_Salg[Dato],">="&DATE(2026,1,1),Tbl_Salg[Dato],"<"&DATE(2026,2,1),Tbl_Salg[Kanal],"Sosiale medier",Tbl_Salg[Region],$B$8) | F14: =SUMIFS(Tbl_Salg[Omsetning],Tbl_Salg[Dato],">="&DATE(2026,1,1),Tbl_Salg[Dato],"<"&DATE(2026,2,1),Tbl_Salg[Kanal],"Direkte trafikk",Tbl_Salg[Region],$B$8) | G14: =SUMIFS(Tbl_Salg[Omsetning],Tbl_Salg[Dato],">="&DATE(2026,1,1),Tbl_Salg[Dato],"<"&DATE(2026,2,1),Tbl_Salg[Kanal],$B$7,Tbl_Salg[Region],$B$8) | I14: =SUMIFS(Tbl_Salg[Kostnad],Tbl_Salg[Dato],">="&DATE(2026,1,1),Tbl_Salg[Dato],"<"&DATE(2026,2,1),Tbl_Salg[Kanal],$B$7,Tbl_Salg[Region],$B$8) | J14: =G14-I14 | K14: =IF(I14=0,"",G14/I14)
A15: feb. 2026 | B15: =SUMIFS(Tbl_Salg[Omsetning],Tbl_Salg[Dato],">="&DATE(2026,2,1),Tbl_Salg[Dato],"<"&DATE(2026,3,1),Tbl_Salg[Kanal],"Organisk søk",Tbl_Salg[Region],$B$8) | C15: =SUMIFS(Tbl_Salg[Omsetning],Tbl_Salg[Dato],">="&DATE(2026,2,1),Tbl_Salg[Dato],"<"&DATE(2026,3,1),Tbl_Salg[Kanal],"Betalte annonser",Tbl_Salg[Region],$B$8) | D15: =SUMIFS(Tbl_Salg[Omsetning],Tbl_Salg[Dato],">="&DATE(2026,2,1),Tbl_Salg[Dato],"<"&DATE(2026,3,1),Tbl_Salg[Kanal],"E-post",Tbl_Salg[Region],$B$8) | E15: =SUMIFS(Tbl_Salg[Omsetning],Tbl_Salg[Dato],">="&DATE(2026,2,1),Tbl_Salg[Dato],"<"&DATE(2026,3,1),Tbl_Salg[Kanal],"Sosiale medier",Tbl_Salg[Region],$B$8) | F15: =SUMIFS(Tbl_Salg[Omsetning],Tbl_Salg[Dato],">="&DATE(2026,2,1),Tbl_Salg[Dato],"<"&DATE(2026,3,1),Tbl_Salg[Kanal],"Direkte trafikk",Tbl_Salg[Region],$B$8) | G15: =SUMIFS(Tbl_Salg[Omsetning],Tbl_Salg[Dato],">="&DATE(2026,2,1),Tbl_Salg[Dato],"<"&DATE(2026,3,1),Tbl_Salg[Kanal],$B$7,Tbl_Salg[Region],$B$8) | H15: =IF(OR(G14="",G14=0),"",(G15-G14)/G14) | I15: =SUMIFS(Tbl_Salg[Kostnad],Tbl_Salg[Dato],">="&DATE(2026,2,1),Tbl_Salg[Dato],"<"&DATE(2026,3,1),Tbl_Salg[Kanal],$B$7,Tbl_Salg[Region],$B$8) | J15: =G15-I15 | K15: =IF(I15=0,"",G15/I15)
A16: mar. 2026 | B16: =SUMIFS(Tbl_Salg[Omsetning],Tbl_Salg[Dato],">="&DATE(2026,3,1),Tbl_Salg[Dato],"<"&DATE(2026,4,1),Tbl_Salg[Kanal],"Organisk søk",Tbl_Salg[Region],$B$8) | C16: =SUMIFS(Tbl_Salg[Omsetning],Tbl_Salg[Dato],">="&DATE(2026,3,1),Tbl_Salg[Dato],"<"&DATE(2026,4,1),Tbl_Salg[Kanal],"Betalte annonser",Tbl_Salg[Region],$B$8) | D16: =SUMIFS(Tbl_Salg[Omsetning],Tbl_Salg[Dato],">="&DATE(2026,3,1),Tbl_Salg[Dato],"<"&DATE(2026,4,1),Tbl_Salg[Kanal],"E-post",Tbl_Salg[Region],$B$8) | E16: =SUMIFS(Tbl_Salg[Omsetning],Tbl_Salg[Dato],">="&DATE(2026,3,1),Tbl_Salg[Dato],"<"&DATE(2026,4,1),Tbl_Salg[Kanal],"Sosiale medier",Tbl_Salg[Region],$B$8) | F16: =SUMIFS(Tbl_Salg[Omsetning],Tbl_Salg[Dato],">="&DATE(2026,3,1),Tbl_Salg[Dato],"<"&DATE(2026,4,1),Tbl_Salg[Kanal],"Direkte trafikk",Tbl_Salg[Region],$B$8) | G16: =SUMIFS(Tbl_Salg[Omsetning],Tbl_Salg[Dato],">="&DATE(2026,3,1),Tbl_Salg[Dato],"<"&DATE(2026,4,1),Tbl_Salg[Kanal],$B$7,Tbl_Salg[Region],$B$8) | H16: =IF(OR(G15="",G15=0),"",(G16-G15)/G15) | I16: =SUMIFS(Tbl_Salg[Kostnad],Tbl_Salg[Dato],">="&DATE(2026,3,1),Tbl_Salg[Dato],"<"&DATE(2026,4,1),Tbl_Salg[Kanal],$B$7,Tbl_Salg[Region],$B$8) | J16: =G16-I16 | K16: =IF(I16=0,"",G16/I16)
A17: apr. 2026 | B17: =SUMIFS(Tbl_Salg[Omsetning],Tbl_Salg[Dato],">="&DATE(2026,4,1),Tbl_Salg[Dato],"<"&DATE(2026,5,1),Tbl_Salg[Kanal],"Organisk søk",Tbl_Salg[Region],$B$8) | C17: =SUMIFS(Tbl_Salg[Omsetning],Tbl_Salg[Dato],">="&DATE(2026,4,1),Tbl_Salg[Dato],"<"&DATE(2026,5,1),Tbl_Salg[Kanal],"Betalte annonser",Tbl_Salg[Region],$B$8) | D17: =SUMIFS(Tbl_Salg[Omsetning],Tbl_Salg[Dato],">="&DATE(2026,4,1),Tbl_Salg[Dato],"<"&DATE(2026,5,1),Tbl_Salg[Kanal],"E-post",Tbl_Salg[Region],$B$8) | E17: =SUMIFS(Tbl_Salg[Omsetning],Tbl_Salg[Dato],">="&DATE(2026,4,1),Tbl_Salg[Dato],"<"&DATE(2026,5,1),Tbl_Salg[Kanal],"Sosiale medier",Tbl_Salg[Region],$B$8) | F17: =SUMIFS(Tbl_Salg[Omsetning],Tbl_Salg[Dato],">="&DATE(2026,4,1),Tbl_Salg[Dato],"<"&DATE(2026,5,1),Tbl_Salg[Kanal],"Direkte trafikk",Tbl_Salg[Region],$B$8) | G17: =SUMIFS(Tbl_Salg[Omsetning],Tbl_Salg[Dato],">="&DATE(2026,4,1),Tbl_Salg[Dato],"<"&DATE(2026,5,1),Tbl_Salg[Kanal],$B$7,Tbl_Salg[Region],$B$8) | H17: =IF(OR(G16="",G16=0),"",(G17-G16)/G16) | I17: =SUMIFS(Tbl_Salg[Kostnad],Tbl_Salg[Dato],">="&DATE(2026,4,1),Tbl_Salg[Dato],"<"&DATE(2026,5,1),Tbl_Salg[Kanal],$B$7,Tbl_Salg[Region],$B$8) | J17: =G17-I17 | K17: =IF(I17=0,"",G17/I17)
A18: mai 2026 | B18: =SUMIFS(Tbl_Salg[Omsetning],Tbl_Salg[Dato],">="&DATE(2026,5,1),Tbl_Salg[Dato],"<"&DATE(2026,6,1),Tbl_Salg[Kanal],"Organisk søk",Tbl_Salg[Region],$B$8) | C18: =SUMIFS(Tbl_Salg[Omsetning],Tbl_Salg[Dato],">="&DATE(2026,5,1),Tbl_Salg[Dato],"<"&DATE(2026,6,1),Tbl_Salg[Kanal],"Betalte annonser",Tbl_Salg[Region],$B$8) | D18: =SUMIFS(Tbl_Salg[Omsetning],Tbl_Salg[Dato],">="&DATE(2026,5,1),Tbl_Salg[Dato],"<"&DATE(2026,6,1),Tbl_Salg[Kanal],"E-post",Tbl_Salg[Region],$B$8) | E18: =SUMIFS(Tbl_Salg[Omsetning],Tbl_Salg[Dato],">="&DATE(2026,5,1),Tbl_Salg[Dato],"<"&DATE(2026,6,1),Tbl_Salg[Kanal],"Sosiale medier",Tbl_Salg[Region],$B$8) | F18: =SUMIFS(Tbl_Salg[Omsetning],Tbl_Salg[Dato],">="&DATE(2026,5,1),Tbl_Salg[Dato],"<"&DATE(2026,6,1),Tbl_Salg[Kanal],"Direkte trafikk",Tbl_Salg[Region],$B$8) | G18: =SUMIFS(Tbl_Salg[Omsetning],Tbl_Salg[Dato],">="&DATE(2026,5,1),Tbl_Salg[Dato],"<"&DATE(2026,6,1),Tbl_Salg[Kanal],$B$7,Tbl_Salg[Region],$B$8) | H18: =IF(OR(G17="",G17=0),"",(G18-G17)/G17) | I18: =SUMIFS(Tbl_Salg[Kostnad],Tbl_Salg[Dato],">="&DATE(2026,5,1),Tbl_Salg[Dato],"<"&DATE(2026,6,1),Tbl_Salg[Kanal],$B$7,Tbl_Salg[Region],$B$8) | J18: =G18-I18 | K18: =IF(I18=0,"",G18/I18)
A19: jun. 2026 | B19: =SUMIFS(Tbl_Salg[Omsetning],Tbl_Salg[Dato],">="&DATE(2026,6,1),Tbl_Salg[Dato],"<"&DATE(2026,7,1),Tbl_Salg[Kanal],"Organisk søk",Tbl_Salg[Region],$B$8) | C19: =SUMIFS(Tbl_Salg[Omsetning],Tbl_Salg[Dato],">="&DATE(2026,6,1),Tbl_Salg[Dato],"<"&DATE(2026,7,1),Tbl_Salg[Kanal],"Betalte annonser",Tbl_Salg[Region],$B$8) | D19: =SUMIFS(Tbl_Salg[Omsetning],Tbl_Salg[Dato],">="&DATE(2026,6,1),Tbl_Salg[Dato],"<"&DATE(2026,7,1),Tbl_Salg[Kanal],"E-post",Tbl_Salg[Region],$B$8) | E19: =SUMIFS(Tbl_Salg[Omsetning],Tbl_Salg[Dato],">="&DATE(2026,6,1),Tbl_Salg[Dato],"<"&DATE(2026,7,1),Tbl_Salg[Kanal],"Sosiale medier",Tbl_Salg[Region],$B$8) | F19: =SUMIFS(Tbl_Salg[Omsetning],Tbl_Salg[Dato],">="&DATE(2026,6,1),Tbl_Salg[Dato],"<"&DATE(2026,7,1),Tbl_Salg[Kanal],"Direkte trafikk",Tbl_Salg[Region],$B$8) | G19: =SUMIFS(Tbl_Salg[Omsetning],Tbl_Salg[Dato],">="&DATE(2026,6,1),Tbl_Salg[Dato],"<"&DATE(2026,7,1),Tbl_Salg[Kanal],$B$7,Tbl_Salg[Region],$B$8) | H19: =IF(OR(G18="",G18=0),"",(G19-G18)/G18) | I19: =SUMIFS(Tbl_Salg[Kostnad],Tbl_Salg[Dato],">="&DATE(2026,6,1),Tbl_Salg[Dato],"<"&DATE(2026,7,1),Tbl_Salg[Kanal],$B$7,Tbl_Salg[Region],$B$8) | J19: =G19-I19 | K19: =IF(I19=0,"",G19/I19)
A20: Totalt | B20: =SUM(B14:B19) | C20: =SUM(C14:C19) | D20: =SUM(D14:D19) | E20: =SUM(E14:E19) | F20: =SUM(F14:F19) | G20: =SUM(G14:G19) | I20: =SUM(I14:I19) | J20: =SUM(J14:J19) | K20: =IF(I20=0,"",G20/I20)
A22: Per kanal (valgt måned og region)
A23: Kanal | B23: Omsetning | C23: Kostnad | D23: Bruttofortjeneste | E23: ROAS
A24: Organisk søk | B24: =SUMIFS(Tbl_Salg[Omsetning],Tbl_Salg[Dato],">="&$B$10,Tbl_Salg[Dato],"<"&$B$11,Tbl_Salg[Region],$B$8,Tbl_Salg[Kanal],A24) | C24: =SUMIFS(Tbl_Salg[Kostnad],Tbl_Salg[Dato],">="&$B$10,Tbl_Salg[Dato],"<"&$B$11,Tbl_Salg[Region],$B$8,Tbl_Salg[Kanal],A24) | D24: =B24-C24 | E24: =IF(C24=0,"",B24/C24)
A25: Betalte annonser | B25: =SUMIFS(Tbl_Salg[Omsetning],Tbl_Salg[Dato],">="&$B$10,Tbl_Salg[Dato],"<"&$B$11,Tbl_Salg[Region],$B$8,Tbl_Salg[Kanal],A25) | C25: =SUMIFS(Tbl_Salg[Kostnad],Tbl_Salg[Dato],">="&$B$10,Tbl_Salg[Dato],"<"&$B$11,Tbl_Salg[Region],$B$8,Tbl_Salg[Kanal],A25) | D25: =B25-C25 | E25: =IF(C25=0,"",B25/C25)
A26: E-post | B26: =SUMIFS(Tbl_Salg[Omsetning],Tbl_Salg[Dato],">="&$B$10,Tbl_Salg[Dato],"<"&$B$11,Tbl_Salg[Region],$B$8,Tbl_Salg[Kanal],A26) | C26: =SUMIFS(Tbl_Salg[Kostnad],Tbl_Salg[Dato],">="&$B$10,Tbl_Salg[Dato],"<"&$B$11,Tbl_Salg[Region],$B$8,Tbl_Salg[Kanal],A26) | D26: =B26-C26 | E26: =IF(C26=0,"",B26/C26)
A27: Sosiale medier | B27: =SUMIFS(Tbl_Salg[Omsetning],Tbl_Salg[Dato],">="&$B$10,Tbl_Salg[Dato],"<"&$B$11,Tbl_Salg[Region],$B$8,Tbl_Salg[Kanal],A27) | C27: =SUMIFS(Tbl_Salg[Kostnad],Tbl_Salg[Dato],">="&$B$10,Tbl_Salg[Dato],"<"&$B$11,Tbl_Salg[Region],$B$8,Tbl_Salg[Kanal],A27) | D27: =B27-C27 | E27: =IF(C27=0,"",B27/C27)
A28: Direkte trafikk | B28: =SUMIFS(Tbl_Salg[Omsetning],Tbl_Salg[Dato],">="&$B$10,Tbl_Salg[Dato],"<"&$B$11,Tbl_Salg[Region],$B$8,Tbl_Salg[Kanal],A28) | C28: =SUMIFS(Tbl_Salg[Kostnad],Tbl_Salg[Dato],">="&$B$10,Tbl_Salg[Dato],"<"&$B$11,Tbl_Salg[Region],$B$8,Tbl_Salg[Kanal],A28) | D28: =B28-C28 | E28: =IF(C28=0,"",B28/C28)
A30: Per region (valgt måned og kanal)
A31: Region | B31: Omsetning | C31: Kostnad | D31: Bruttofortjeneste | E31: ROAS
A32: Øst | B32: =SUMIFS(Tbl_Salg[Omsetning],Tbl_Salg[Dato],">="&$B$10,Tbl_Salg[Dato],"<"&$B$11,Tbl_Salg[Kanal],$B$7,Tbl_Salg[Region],A32) | C32: =SUMIFS(Tbl_Salg[Kostnad],Tbl_Salg[Dato],">="&$B$10,Tbl_Salg[Dato],"<"&$B$11,Tbl_Salg[Kanal],$B$7,Tbl_Salg[Region],A32) | D32: =B32-C32 | E32: =IF(C32=0,"",B32/C32)
A33: Vest | B33: =SUMIFS(Tbl_Salg[Omsetning],Tbl_Salg[Dato],">="&$B$10,Tbl_Salg[Dato],"<"&$B$11,Tbl_Salg[Kanal],$B$7,Tbl_Salg[Region],A33) | C33: =SUMIFS(Tbl_Salg[Kostnad],Tbl_Salg[Dato],">="&$B$10,Tbl_Salg[Dato],"<"&$B$11,Tbl_Salg[Kanal],$B$7,Tbl_Salg[Region],A33) | D33: =B33-C33 | E33: =IF(C33=0,"",B33/C33)
A34: Midt | B34: =SUMIFS(Tbl_Salg[Omsetning],Tbl_Salg[Dato],">="&$B$10,Tbl_Salg[Dato],"<"&$B$11,Tbl_Salg[Kanal],$B$7,Tbl_Salg[Region],A34) | C34: =SUMIFS(Tbl_Salg[Kostnad],Tbl_Salg[Dato],">="&$B$10,Tbl_Salg[Dato],"<"&$B$11,Tbl_Salg[Kanal],$B$7,Tbl_Salg[Region],A34) | D34: =B34-C34 | E34: =IF(C34=0,"",B34/C34)
A35: Nord | B35: =SUMIFS(Tbl_Salg[Omsetning],Tbl_Salg[Dato],">="&$B$10,Tbl_Salg[Dato],"<"&$B$11,Tbl_Salg[Kanal],$B$7,Tbl_Salg[Region],A35) | C35: =SUMIFS(Tbl_Salg[Kostnad],Tbl_Salg[Dato],">="&$B$10,Tbl_Salg[Dato],"<"&$B$11,Tbl_Salg[Kanal],$B$7,Tbl_Salg[Region],A35) | D35: =B35-C35 | E35: =IF(C35=0,"",B35/C35)

Sheet Dashboard
B2: Salgsdashboard — omsetning, kostnad og ROAS 2026 | M2: Hypotetisk eksempel — orova.vn
B3: Kanal | C3: Alle | E3: Region | F3: Alle | H3: Måned | I3: Alle | K3: ← velg i nedtrekkslistene (Datavalidering)
B5: OMSETNING | F5: KOSTNAD | J5: BRUTTOFORTJENESTE | N5: ROAS
B6: =Kalkyle_Pivoter!$E$5 | F6: =Kalkyle_Pivoter!$E$6 | J6: =Kalkyle_Pivoter!$E$7 | N6: =Kalkyle_Pivoter!$E$8
B7: =IF(Kalkyle_Pivoter!$G$5="","Endring vises når feb.–jun. er valgt",Kalkyle_Pivoter!$G$5) | F7: =IF(Kalkyle_Pivoter!$G$6="","Endring vises når feb.–jun. er valgt",Kalkyle_Pivoter!$G$6) | J7: =IF(Kalkyle_Pivoter!$G$7="","Endring vises når feb.–jun. er valgt",Kalkyle_Pivoter!$G$7) | N7: =IF(Kalkyle_Pivoter!$G$8="","Endring vises når feb.–jun. er valgt",Kalkyle_Pivoter!$G$8)
O9: VALGT FILTER
O10: Kanal
O11: =$C$3
O12: Region
O13: =$F$3
O14: Måned
O15: =$I$3
O17: Nedtrekkslistene i C3, F3 og I3 erstatter utsnitt og tidslinje. Kortene og diagrammene regnes med SUMMER.HVIS.SETT og endres med en gang. Arket er beskyttet uten passord; bare valgcellene er låst opp.
B26: Per region (valgt kanal og måned)
B27: Region | E27: Omsetning | H27: Kostnad | K27: Bruttofortjeneste | N27: ROAS
B28: =Kalkyle_Pivoter!$A$32 | E28: =Kalkyle_Pivoter!$B$32 | H28: =Kalkyle_Pivoter!$C$32 | K28: =Kalkyle_Pivoter!$D$32 | N28: =Kalkyle_Pivoter!$E$32
B29: =Kalkyle_Pivoter!$A$33 | E29: =Kalkyle_Pivoter!$B$33 | H29: =Kalkyle_Pivoter!$C$33 | K29: =Kalkyle_Pivoter!$D$33 | N29: =Kalkyle_Pivoter!$E$33
B30: =Kalkyle_Pivoter!$A$34 | E30: =Kalkyle_Pivoter!$B$34 | H30: =Kalkyle_Pivoter!$C$34 | K30: =Kalkyle_Pivoter!$D$34 | N30: =Kalkyle_Pivoter!$E$34
B31: =Kalkyle_Pivoter!$A$35 | E31: =Kalkyle_Pivoter!$B$35 | H31: =Kalkyle_Pivoter!$C$35 | K31: =Kalkyle_Pivoter!$D$35 | N31: =Kalkyle_Pivoter!$E$35
B33: Merk: filen bruker SUMMER.HVIS.SETT (SUMIFS) og nedtrekkslister i stedet for pivottabeller og utsnitt, slik at den virker i Excel, LibreOffice og Google Sheets. I Excel kan du bygge det samme med pivottabeller og utsnitt som i trinn 3 og 5.
B35: Hypotetisk eksempel — orova.vn
