Workbook

Sheet Data
A1: Datum | B1: Försäljning | C1: Mål | D1: Kostnad | E1: Kategori | G1: Hypotetiskt exempel — orova.vn
A2: 46027 | B2: 45000 | C2: 40000 | D2: 28000 | E2: Programvara | G2: Excel-tabell TabellFörsäljning, belopp i svenska kronor (SEK). Klistra in nya rader direkt under tabellen, så växer tabellen och alla formler på Beräkningar och Dashboard tar med dem.
A3: 46034 | B3: 62000 | C3: 55000 | D3: 35000 | E3: Hårdvara
A4: 46041 | B4: 38000 | C4: 45000 | D4: 26000 | E4: Konsulttjänster
A5: 46055 | B5: 71000 | C5: 60000 | D5: 41000 | E5: Programvara
A6: 46068 | B6: 84000 | C6: 75000 | D6: 49000 | E6: Hårdvara
A7: 46042 | B7: 49000 | C7: 49000 | D7: 30000 | E7: Konsulttjänster
A8: 46043 | B8: 54000 | C8: 49000 | D8: 33000 | E8: Programvara
A9: 46043 | B9: 40000 | C9: 42000 | D9: 24000 | E9: Konsulttjänster
A10: 46044 | B10: 58000 | C10: 56000 | D10: 31000 | E10: Programvara
A11: 46044 | B11: 76000 | C11: 67000 | D11: 48000 | E11: Hårdvara
A12: 46046 | B12: 61000 | C12: 63000 | D12: 35000 | E12: Hårdvara
A13: 46046 | B13: 38000 | C13: 47000 | D13: 24000 | E13: Konsulttjänster
A14: 46050 | B14: 55000 | C14: 58000 | D14: 33000 | E14: Programvara
... A60: 46196 | B60: 54000 | C60: 56000 | D60: 36000 | E60: Konsulttjänster

Sheet Beräkningar
A1: Beräkningar — hjälpblad med SUMMA.OMF (SUMIFS) i stället för pivottabeller | H1: Hypotetiskt exempel — orova.vn
A2: Alla tal är formler som läser TabellFörsäljning och följer valen på Dashboard (C3 och F3). I Excel kan du bygga samma sak med pivottabeller och utsnitt som i steg 2 och 5 i guiden. | P2: Listor till listrutorna
A3: Nyckeltal (valt urval) | B3: Försäljning | C3: Mål | D3: Måluppfyllelse | E3: Kostnad | F3: Bruttomarginal | H3: Filter från Dashboard | I3: Värde | P3: Kategori | Q3: Månad
A4: Totalt | B4: =SUMIFS(TabellFörsäljning[Försäljning],TabellFörsäljning[Kategori],IF(Dashboard!C3="Alla","*",Dashboard!C3),TabellFörsäljning[Datum],">="&$I$8,TabellFörsäljning[Datum],"<"&$I$9) | C4: =SUMIFS(TabellFörsäljning[Mål],TabellFörsäljning[Kategori],IF(Dashboard!C3="Alla","*",Dashboard!C3),TabellFörsäljning[Datum],">="&$I$8,TabellFörsäljning[Datum],"<"&$I$9) | D4: =IF(C4=0,"",B4/C4) | E4: =SUMIFS(TabellFörsäljning[Kostnad],TabellFörsäljning[Kategori],IF(Dashboard!C3="Alla","*",Dashboard!C3),TabellFörsäljning[Datum],">="&$I$8,TabellFörsäljning[Datum],"<"&$I$9) | F4: =B4-E4 | H4: Kategori (Dashboard!C3) | I4: =Dashboard!$C$3 | P4: Alla | Q4: Alla
A5: B4 = total försäljning (KPI-kortet =Beräkningar!B4), C4 = mål, D4 = hjälpcellen =B4/C4 för måluppfyllelse. | H5: Månad (Dashboard!F3) | I5: =Dashboard!$F$3 | P5: Programvara | Q5: Januari
H6: Kriterium kategori | I6: =IF(I4="Alla","*",I4) | P6: Hårdvara | Q6: Februari
A7: Per kategori (vald månad) — motsvarar pivottabellen Kategori i steg 2 | H7: Månadsnr (0 = alla) | I7: =MATCH(I5,$Q$4:$Q$10,0)-1 | P7: Konsulttjänster | Q7: Mars
A8: Kategori | B8: Försäljning | C8: Mål | D8: Måluppfyllelse | E8: Kostnad | F8: Bruttomarginal | H8: Period från | I8: =IF(I7=0,DATE(2026,1,1),DATE(2026,I7,1)) | Q8: April
A9: Programvara | B9: =SUMIFS(TabellFörsäljning[Försäljning],TabellFörsäljning[Kategori],A9,TabellFörsäljning[Datum],">="&$I$8,TabellFörsäljning[Datum],"<"&$I$9) | C9: =SUMIFS(TabellFörsäljning[Mål],TabellFörsäljning[Kategori],A9,TabellFörsäljning[Datum],">="&$I$8,TabellFörsäljning[Datum],"<"&$I$9) | D9: =IF(C9=0,"",B9/C9) | E9: =SUMIFS(TabellFörsäljning[Kostnad],TabellFörsäljning[Kategori],A9,TabellFörsäljning[Datum],">="&$I$8,TabellFörsäljning[Datum],"<"&$I$9) | F9: =B9-E9 | H9: Period till (ej med) | I9: =IF(I7=0,DATE(2027,1,1),DATE(2026,I7+1,1)) | Q9: Maj
A10: Hårdvara | B10: =SUMIFS(TabellFörsäljning[Försäljning],TabellFörsäljning[Kategori],A10,TabellFörsäljning[Datum],">="&$I$8,TabellFörsäljning[Datum],"<"&$I$9) | C10: =SUMIFS(TabellFörsäljning[Mål],TabellFörsäljning[Kategori],A10,TabellFörsäljning[Datum],">="&$I$8,TabellFörsäljning[Datum],"<"&$I$9) | D10: =IF(C10=0,"",B10/C10) | E10: =SUMIFS(TabellFörsäljning[Kostnad],TabellFörsäljning[Kategori],A10,TabellFörsäljning[Datum],">="&$I$8,TabellFörsäljning[Datum],"<"&$I$9) | F10: =B10-E10 | Q10: Juni
A11: Konsulttjänster | B11: =SUMIFS(TabellFörsäljning[Försäljning],TabellFörsäljning[Kategori],A11,TabellFörsäljning[Datum],">="&$I$8,TabellFörsäljning[Datum],"<"&$I$9) | C11: =SUMIFS(TabellFörsäljning[Mål],TabellFörsäljning[Kategori],A11,TabellFörsäljning[Datum],">="&$I$8,TabellFörsäljning[Datum],"<"&$I$9) | D11: =IF(C11=0,"",B11/C11) | E11: =SUMIFS(TabellFörsäljning[Kostnad],TabellFörsäljning[Kategori],A11,TabellFörsäljning[Datum],">="&$I$8,TabellFörsäljning[Datum],"<"&$I$9) | F11: =B11-E11
A12: Totalt | B12: =SUM(B9:B11) | C12: =SUM(C9:C11) | D12: =IF(C12=0,"",B12/C12) | E12: =SUM(E9:E11) | F12: =SUM(F9:F11)
A15: Per månad (vald kategori) — motsvarar pivottabellen med Datum i steg 2
A16: Månad | B16: Försäljning | C16: Mål | D16: Måluppfyllelse | E16: Kostnad | F16: Bruttomarginal
A17: jan 2026 | B17: =SUMIFS(TabellFörsäljning[Försäljning],TabellFörsäljning[Kategori],$I$6,TabellFörsäljning[Datum],">="&DATE(2026,1,1),TabellFörsäljning[Datum],"<"&DATE(2026,2,1)) | C17: =SUMIFS(TabellFörsäljning[Mål],TabellFörsäljning[Kategori],$I$6,TabellFörsäljning[Datum],">="&DATE(2026,1,1),TabellFörsäljning[Datum],"<"&DATE(2026,2,1)) | D17: =IF(C17=0,"",B17/C17) | E17: =SUMIFS(TabellFörsäljning[Kostnad],TabellFörsäljning[Kategori],$I$6,TabellFörsäljning[Datum],">="&DATE(2026,1,1),TabellFörsäljning[Datum],"<"&DATE(2026,2,1)) | F17: =B17-E17
A18: feb 2026 | B18: =SUMIFS(TabellFörsäljning[Försäljning],TabellFörsäljning[Kategori],$I$6,TabellFörsäljning[Datum],">="&DATE(2026,2,1),TabellFörsäljning[Datum],"<"&DATE(2026,3,1)) | C18: =SUMIFS(TabellFörsäljning[Mål],TabellFörsäljning[Kategori],$I$6,TabellFörsäljning[Datum],">="&DATE(2026,2,1),TabellFörsäljning[Datum],"<"&DATE(2026,3,1)) | D18: =IF(C18=0,"",B18/C18) | E18: =SUMIFS(TabellFörsäljning[Kostnad],TabellFörsäljning[Kategori],$I$6,TabellFörsäljning[Datum],">="&DATE(2026,2,1),TabellFörsäljning[Datum],"<"&DATE(2026,3,1)) | F18: =B18-E18
A19: mar 2026 | B19: =SUMIFS(TabellFörsäljning[Försäljning],TabellFörsäljning[Kategori],$I$6,TabellFörsäljning[Datum],">="&DATE(2026,3,1),TabellFörsäljning[Datum],"<"&DATE(2026,4,1)) | C19: =SUMIFS(TabellFörsäljning[Mål],TabellFörsäljning[Kategori],$I$6,TabellFörsäljning[Datum],">="&DATE(2026,3,1),TabellFörsäljning[Datum],"<"&DATE(2026,4,1)) | D19: =IF(C19=0,"",B19/C19) | E19: =SUMIFS(TabellFörsäljning[Kostnad],TabellFörsäljning[Kategori],$I$6,TabellFörsäljning[Datum],">="&DATE(2026,3,1),TabellFörsäljning[Datum],"<"&DATE(2026,4,1)) | F19: =B19-E19
A20: apr 2026 | B20: =SUMIFS(TabellFörsäljning[Försäljning],TabellFörsäljning[Kategori],$I$6,TabellFörsäljning[Datum],">="&DATE(2026,4,1),TabellFörsäljning[Datum],"<"&DATE(2026,5,1)) | C20: =SUMIFS(TabellFörsäljning[Mål],TabellFörsäljning[Kategori],$I$6,TabellFörsäljning[Datum],">="&DATE(2026,4,1),TabellFörsäljning[Datum],"<"&DATE(2026,5,1)) | D20: =IF(C20=0,"",B20/C20) | E20: =SUMIFS(TabellFörsäljning[Kostnad],TabellFörsäljning[Kategori],$I$6,TabellFörsäljning[Datum],">="&DATE(2026,4,1),TabellFörsäljning[Datum],"<"&DATE(2026,5,1)) | F20: =B20-E20
A21: maj 2026 | B21: =SUMIFS(TabellFörsäljning[Försäljning],TabellFörsäljning[Kategori],$I$6,TabellFörsäljning[Datum],">="&DATE(2026,5,1),TabellFörsäljning[Datum],"<"&DATE(2026,6,1)) | C21: =SUMIFS(TabellFörsäljning[Mål],TabellFörsäljning[Kategori],$I$6,TabellFörsäljning[Datum],">="&DATE(2026,5,1),TabellFörsäljning[Datum],"<"&DATE(2026,6,1)) | D21: =IF(C21=0,"",B21/C21) | E21: =SUMIFS(TabellFörsäljning[Kostnad],TabellFörsäljning[Kategori],$I$6,TabellFörsäljning[Datum],">="&DATE(2026,5,1),TabellFörsäljning[Datum],"<"&DATE(2026,6,1)) | F21: =B21-E21
A22: jun 2026 | B22: =SUMIFS(TabellFörsäljning[Försäljning],TabellFörsäljning[Kategori],$I$6,TabellFörsäljning[Datum],">="&DATE(2026,6,1),TabellFörsäljning[Datum],"<"&DATE(2026,7,1)) | C22: =SUMIFS(TabellFörsäljning[Mål],TabellFörsäljning[Kategori],$I$6,TabellFörsäljning[Datum],">="&DATE(2026,6,1),TabellFörsäljning[Datum],"<"&DATE(2026,7,1)) | D22: =IF(C22=0,"",B22/C22) | E22: =SUMIFS(TabellFörsäljning[Kostnad],TabellFörsäljning[Kategori],$I$6,TabellFörsäljning[Datum],">="&DATE(2026,6,1),TabellFörsäljning[Datum],"<"&DATE(2026,7,1)) | F22: =B22-E22
A23: Totalt | B23: =SUM(B17:B22) | C23: =SUM(C17:C22) | D23: =IF(C23=0,"",B23/C23) | E23: =SUM(E17:E22) | F23: =SUM(F17:F22)

Sheet Dashboard
B1: Försäljningsdashboard 2026 — försäljning mot mål | M1: Hypotetiskt exempel — orova.vn
B3: Kategori | C3: Alla | E3: Månad | F3: Alla | H3: ← välj i listrutorna (Data > Dataverifiering > Lista)
B5: TOTAL FÖRSÄLJNING | F5: MÅL | J5: MÅLUPPFYLLELSE | N5: BRUTTOMARGINAL
B6: =Beräkningar!B4 | F6: =Beräkningar!C4 | J6: =Beräkningar!D4 | N6: =Beräkningar!F4
B7: =Beräkningar!D4 | F7: Summa av kolumnen Mål | J7: Grön pil = 100 % eller mer, röd pil = under målet | N7: =IF(Beräkningar!B4=0,"",Beräkningar!F4/Beräkningar!B4)
B27: Obs: filen använder SUMMA.OMF (SUMIFS) och listrutor i stället för pivottabeller och utsnitt, så att den fungerar i Excel, LibreOffice och Google Sheets. I Excel kan du bygga samma vy med pivottabeller, utsnitt och rapportanslutningar som i steg 2, 5 och 6. Bladet är skyddat utan lösenord; bara listrutorna C3 och F3 är upplåsta.
B29: Hypotetiskt exempel — orova.vn
