Workbook

Sheet Dashboard
B1: Dashboard Penjualan Toko Pakaian | M1: Oktober 2026
B4: Total Omzet | F4: Total Profit | J4: Jumlah Transaksi | N4: Rata-rata per Transaksi
B5: =Helper!B9 | F5: =Helper!B10 | J5: =Helper!B11 | N5: =Helper!B12
B26: Kartu membaca Helper!B9:B12, diagram membaca Helper!A1:C4 dan Helper!E1:H6. Tempel data baru di tab Data_Mentah (kolom yang sama), semua angka ikut berubah. Di Google Sheets: Data > Tambahkan pemotong untuk filter.
B28: Data contoh fiktif (Oktober 2026) — orova.vn

Sheet Data_Mentah
A1: Tanggal | B1: Kategori | C1: Produk | D1: Omzet | E1: Profit | F1: SKU | G1: Ongkos_Kirim
A2: 46296 | B2: Pakaian Pria | C2: Kemeja Katun | D2: 250000 | E2: 75000 | F2: PRI-01 | G2: 9000
A3: 46296 | B3: Pakaian Wanita | C3: Gamis Rayon | D3: 400000 | E3: 140000 | F3: WAN-01 | G3: 12000
A4: 46297 | B4: Pakaian Pria | C4: Celana Chino | D4: 300000 | E4: 90000 | F4: PRI-02 | G4: 15000
A5: 46298 | B5: Aksesoris | C5: Ikat Pinggang | D5: 150000 | E5: 60000 | F5: AKS-01 | G5: 0
A6: 46298 | B6: Pakaian Wanita | C6: Tunik Batik | D6: 350000 | E6: 105000 | F6: WAN-02 | G6: 12000
A7: 46299 | B7: Aksesoris | C7: Topi Rajut | D7: 85000 | E7: 33000 | F7: AKS-02 | G7: 9000
A8: 46299 | B8: Aksesoris | C8: Ikat Pinggang | D8: 150000 | E8: 57000 | F8: AKS-01 | G8: 12000
A9: 46299 | B9: Pakaian Wanita | C9: Tunik Batik | D9: 700000 | E9: 243000 | F9: WAN-02 | G9: 12000
A10: 46299 | B10: Aksesoris | C10: Ikat Pinggang | D10: 300000 | E10: 114000 | F10: AKS-01 | G10: 15000
A11: 46299 | B11: Aksesoris | C11: Dompet Kulit | D11: 220000 | E11: 83000 | F11: AKS-03 | G11: 15000
A12: 46300 | B12: Pakaian Wanita | C12: Gamis Rayon | D12: 400000 | E12: 139000 | F12: WAN-01 | G12: 0
A13: 46300 | B13: Aksesoris | C13: Dompet Kulit | D13: 220000 | E13: 86000 | F13: AKS-03 | G13: 9000
... A133: 46326 | B133: Pakaian Pria | C133: Celana Chino | D133: 900000 | E133: 261000 | F133: PRI-02 | G133: 12000

Sheet Helper
A1: Kategori | B1: Total Omzet | C1: Total Profit | E1: Minggu | F1: Mulai | G1: Sampai | H1: Total Omzet | I1: Jumlah Transaksi
A2: Aksesoris | B2: =SUMIFS(Data_Mentah!$D$2:$D$2000,Data_Mentah!$B$2:$B$2000,$A2) | C2: =SUMIFS(Data_Mentah!$E$2:$E$2000,Data_Mentah!$B$2:$B$2000,$A2) | E2: Minggu 1 | F2: 46296 | G2: 46302 | H2: =SUMIFS(Data_Mentah!$D$2:$D$2000,Data_Mentah!$A$2:$A$2000,">="&$F2,Data_Mentah!$A$2:$A$2000,"<="&$G2) | I2: =COUNTIFS(Data_Mentah!$A$2:$A$2000,">="&$F2,Data_Mentah!$A$2:$A$2000,"<="&$G2)
A3: Pakaian Pria | B3: =SUMIFS(Data_Mentah!$D$2:$D$2000,Data_Mentah!$B$2:$B$2000,$A3) | C3: =SUMIFS(Data_Mentah!$E$2:$E$2000,Data_Mentah!$B$2:$B$2000,$A3) | E3: Minggu 2 | F3: 46303 | G3: 46309 | H3: =SUMIFS(Data_Mentah!$D$2:$D$2000,Data_Mentah!$A$2:$A$2000,">="&$F3,Data_Mentah!$A$2:$A$2000,"<="&$G3) | I3: =COUNTIFS(Data_Mentah!$A$2:$A$2000,">="&$F3,Data_Mentah!$A$2:$A$2000,"<="&$G3)
A4: Pakaian Wanita | B4: =SUMIFS(Data_Mentah!$D$2:$D$2000,Data_Mentah!$B$2:$B$2000,$A4) | C4: =SUMIFS(Data_Mentah!$E$2:$E$2000,Data_Mentah!$B$2:$B$2000,$A4) | E4: Minggu 3 | F4: 46310 | G4: 46316 | H4: =SUMIFS(Data_Mentah!$D$2:$D$2000,Data_Mentah!$A$2:$A$2000,">="&$F4,Data_Mentah!$A$2:$A$2000,"<="&$G4) | I4: =COUNTIFS(Data_Mentah!$A$2:$A$2000,">="&$F4,Data_Mentah!$A$2:$A$2000,"<="&$G4)
A5: Total | B5: =SUM(B2:B4) | C5: =SUM(C2:C4) | E5: Minggu 4 | F5: 46317 | G5: 46323 | H5: =SUMIFS(Data_Mentah!$D$2:$D$2000,Data_Mentah!$A$2:$A$2000,">="&$F5,Data_Mentah!$A$2:$A$2000,"<="&$G5) | I5: =COUNTIFS(Data_Mentah!$A$2:$A$2000,">="&$F5,Data_Mentah!$A$2:$A$2000,"<="&$G5)
E6: Minggu 5 | F6: 46324 | G6: 46326 | H6: =SUMIFS(Data_Mentah!$D$2:$D$2000,Data_Mentah!$A$2:$A$2000,">="&$F6,Data_Mentah!$A$2:$A$2000,"<="&$G6) | I6: =COUNTIFS(Data_Mentah!$A$2:$A$2000,">="&$F6,Data_Mentah!$A$2:$A$2000,"<="&$G6)
A8: Angka untuk kartu KPI
A9: Total Omzet | B9: =B5
A10: Total Profit | B10: =C5
A11: Jumlah Transaksi | B11: =COUNT(Data_Mentah!$A$2:$A$2000)
A12: Rata-rata Omzet per Transaksi | B12: =IFERROR(B9/B11,0)
A15: Cara memakai QUERY di Google Sheets
A16: File .xlsx tidak bisa menyimpan fungsi QUERY, jadi tabel A1:C5 dan E1:I6 memakai SUMIFS/COUNTIFS. Setelah file dibuka di Google Sheets, Anda bisa mengganti tabel A1:C4 dengan satu rumus QUERY di sel A1 (hapus dulu isi A1:C4). Pemisah argumen ; atau , mengikuti setelan lokal spreadsheet Anda:
A19: =QUERY(Data_Mentah!A1:E; "SELECT B, SUM(D), SUM(E) WHERE B IS NOT NULL GROUP BY B LABEL SUM(D) 'Total Omzet', SUM(E) 'Total Profit'"; 1)
A21: Kartu di tab Dashboard membaca sel B9 sampai B12; diagram membaca A1:C4 dan E1:H6.
A22: Data contoh fiktif (Oktober 2026) — orova.vn
