Workbook

Sheet BD_Ventas
A1: ID_Transaccion | B1: Fecha | C1: Canal_Venta | D1: Vendedor | E1: Producto | F1: Ingreso_Bruto | G1: Descuento | H1: Ingreso_Neto
A2: TR-1001 | B2: 45298 | C2: Venta Directa | D2: Lucía P. | E2: Soporte Premium | F2: 1600 | G2: 160 | H2: =F2-G2
A3: TR-1002 | B3: 45299 | C3: Tienda Online | D3: Marcos S. | E3: Add-on Almacén | F3: 300 | G3: 15 | H3: =F3-G3
A4: TR-1003 | B4: 45303 | C4: Venta Directa | D4: Lucía P. | E4: Soporte Premium | F4: 800 | G4: 120 | H4: =F4-G4
A5: TR-1004 | B5: 45309 | C5: Tienda Online | D5: Carlos M. | E5: Licencia Básica | F5: 450 | G5: 0 | H5: =F5-G5
A6: TR-1005 | B6: 45310 | C6: Venta Directa | D6: Lucía P. | E6: Formación In Company | F6: 1600 | G6: 240 | H6: =F6-G6
A7: TR-1006 | B7: 45311 | C7: Tienda Online | D7: Carlos M. | E7: Licencia Básica | F7: 450 | G7: 0 | H7: =F7-G7
A8: TR-1007 | B8: 45313 | C8: Tienda Online | D8: Elena R. | E8: Soporte Premium | F8: 1600 | G8: 160 | H8: =F8-G8
A9: TR-1008 | B9: 45318 | C9: Distribuidores | D9: Carlos M. | E9: Plan Anual Pro | F9: 2400 | G9: 240 | H9: =F9-G9
A10: TR-1009 | B10: 45319 | C10: Venta Directa | D10: Marcos S. | E10: Consultoría B2B | F10: 2500 | G10: 125 | H10: =F10-G10
A11: TR-1010 | B11: 45320 | C11: Distribuidores | D11: Carlos M. | E11: Consultoría B2B | F11: 2500 | G11: 0 | H11: =F11-G11
A12: TR-1011 | B12: 45331 | C12: Venta Directa | D12: Elena R. | E12: Plan Anual Pro | F12: 1200 | G12: 180 | H12: =F12-G12
A13: TR-1012 | B13: 45333 | C13: Tienda Online | D13: Elena R. | E13: Plan Anual Pro | F13: 2400 | G13: 240 | H13: =F13-G13
... A301: TR-1300 | B301: 46022 | C301: Distribuidores | D301: Elena R. | E301: Plan Anual Pro | F301: 1200 | G301: 180 | H301: =F301-G301

Sheet Calculos_Auxiliares
A1: Calculos_Auxiliares — tablas de resumen (SUMIFS en lugar de QUERY)
A2: Todas las celdas son fórmulas sobre BD_Ventas (filas 2 a 1000) y respetan los filtros de la pestaña Dashboard. A la derecha de cada tabla está la fórmula QUERY o SPARKLINE equivalente para Google Sheets.
I3: Listas para los desplegables
A4: Filtros activos (desde Dashboard) | B4: Valor | I4: Año | J4: Mes | K4: Canal
A5: Año | B5: =VALUE(Dashboard!$C$3) | F5: =SUBTOTAL(109; BD_Ventas!H2:H) | G5: En Google Sheets, el control de filtros (Datos > Añadir un control de filtros) sobre BD_Ventas y SUBTOTAL sustituyen estas celdas de filtro. Este archivo usa celdas con lista desplegable para funcionar también en Excel y LibreOffice. | I5: 2024 | J5: Todos los meses | K5: Todos los canales
A6: Mes | B6: =Dashboard!$F$3 | I6: 2025 | J6: Enero | K6: Venta Directa
A7: Canal | B7: =Dashboard!$I$3 | J7: Febrero | K7: Tienda Online
A8: Nº de mes (0 = todo el año) | B8: =MATCH(B6,$J$5:$J$17,0)-1 | J8: Marzo | K8: Distribuidores
A9: Inicio del periodo | B9: =IF(B8=0,DATE(B5,1,1),DATE(B5,B8,1)) | J9: Abril | K9: Afiliados
A10: Fin del periodo (excluido) | B10: =IF(B8=0,DATE(B5+1,1,1),DATE(B5,B8+1,1)) | J10: Mayo
A11: Criterio de canal | B11: =IF(B7=$K$5,"*",B7) | J11: Junio
J12: Julio
A13: KPI (periodo y canal filtrados) | B13: Valor | J13: Agosto
A14: Ventas Totales (Ingreso_Neto) | B14: =SUMIFS(BD_Ventas!$H$2:$H$1000,BD_Ventas!$B$2:$B$1000,">="&$B$9,BD_Ventas!$B$2:$B$1000,"<"&$B$10,BD_Ventas!$C$2:$C$1000,$B$11) | F14: =SI.ERROR(SUMA(BD_Ventas!H2:H)/CONTARA(BD_Ventas!A2:A); 0) | G14: Fórmulas del artículo sin filtro (Ticket Promedio). Con controles de filtros usa SUBTOTAL(109; BD_Ventas!H2:H) y SUBTOTAL(103; BD_Ventas!A2:A). | J14: Septiembre
A15: Órdenes Cerradas | B15: =COUNTIFS(BD_Ventas!$B$2:$B$1000,">="&$B$9,BD_Ventas!$B$2:$B$1000,"<"&$B$10,BD_Ventas!$C$2:$C$1000,$B$11) | J15: Octubre
A16: Ticket Promedio | B16: =IF(B15=0,0,B14/B15) | J16: Noviembre
A17: Tasa de Descuento | B17: =IF(B18=0,0,SUMIFS(BD_Ventas!$G$2:$G$1000,BD_Ventas!$B$2:$B$1000,">="&$B$9,BD_Ventas!$B$2:$B$1000,"<"&$B$10,BD_Ventas!$C$2:$C$1000,$B$11)/B18) | J17: Diciembre
A18: Ingreso_Bruto (auxiliar) | B18: =SUMIFS(BD_Ventas!$F$2:$F$1000,BD_Ventas!$B$2:$B$1000,">="&$B$9,BD_Ventas!$B$2:$B$1000,"<"&$B$10,BD_Ventas!$C$2:$C$1000,$B$11)
A20: Vendedor | B20: Facturación Neta | C20: Órdenes | F20: =QUERY(BD_Ventas!A1:H; "SELECT D, SUM(H) WHERE D IS NOT NULL GROUP BY D ORDER BY SUM(H) DESC LABEL D 'Vendedor', SUM(H) 'Facturación Neta'"; 1) | G20: En Google Sheets puedes sustituir esta tabla por la fórmula QUERY de la izquierda.
A21: Carlos M. | B21: =SUMIFS(BD_Ventas!$H$2:$H$1000,BD_Ventas!$B$2:$B$1000,">="&$B$9,BD_Ventas!$B$2:$B$1000,"<"&$B$10,BD_Ventas!$C$2:$C$1000,$B$11,BD_Ventas!$D$2:$D$1000,A21) | C21: =COUNTIFS(BD_Ventas!$B$2:$B$1000,">="&$B$9,BD_Ventas!$B$2:$B$1000,"<"&$B$10,BD_Ventas!$C$2:$C$1000,$B$11,BD_Ventas!$D$2:$D$1000,A21)
A22: Elena R. | B22: =SUMIFS(BD_Ventas!$H$2:$H$1000,BD_Ventas!$B$2:$B$1000,">="&$B$9,BD_Ventas!$B$2:$B$1000,"<"&$B$10,BD_Ventas!$C$2:$C$1000,$B$11,BD_Ventas!$D$2:$D$1000,A22) | C22: =COUNTIFS(BD_Ventas!$B$2:$B$1000,">="&$B$9,BD_Ventas!$B$2:$B$1000,"<"&$B$10,BD_Ventas!$C$2:$C$1000,$B$11,BD_Ventas!$D$2:$D$1000,A22)
A23: Marcos S. | B23: =SUMIFS(BD_Ventas!$H$2:$H$1000,BD_Ventas!$B$2:$B$1000,">="&$B$9,BD_Ventas!$B$2:$B$1000,"<"&$B$10,BD_Ventas!$C$2:$C$1000,$B$11,BD_Ventas!$D$2:$D$1000,A23) | C23: =COUNTIFS(BD_Ventas!$B$2:$B$1000,">="&$B$9,BD_Ventas!$B$2:$B$1000,"<"&$B$10,BD_Ventas!$C$2:$C$1000,$B$11,BD_Ventas!$D$2:$D$1000,A23)
A24: Lucía P. | B24: =SUMIFS(BD_Ventas!$H$2:$H$1000,BD_Ventas!$B$2:$B$1000,">="&$B$9,BD_Ventas!$B$2:$B$1000,"<"&$B$10,BD_Ventas!$C$2:$C$1000,$B$11,BD_Ventas!$D$2:$D$1000,A24) | C24: =COUNTIFS(BD_Ventas!$B$2:$B$1000,">="&$B$9,BD_Ventas!$B$2:$B$1000,"<"&$B$10,BD_Ventas!$C$2:$C$1000,$B$11,BD_Ventas!$D$2:$D$1000,A24)
A25: Total | B25: =SUM(B21:B24) | C25: =SUM(C21:C24)
A27: Producto Top | B27: Ingresos | C27: Volumen | F27: =QUERY(BD_Ventas!A1:H; "SELECT E, SUM(H), COUNT(A) WHERE E IS NOT NULL GROUP BY E ORDER BY SUM(H) DESC LIMIT 5 LABEL E 'Producto Top', SUM(H) 'Ingresos', COUNT(A) 'Volumen'"; 1) | G27: En Google Sheets puedes sustituir esta tabla por la fórmula QUERY de la izquierda.
A28: =INDEX($A$35:$A$41,MATCH(LARGE($D$35:$D$41,1),$D$35:$D$41,0)) | B28: =INDEX($B$35:$B$41,MATCH(A28,$A$35:$A$41,0)) | C28: =INDEX($C$35:$C$41,MATCH(A28,$A$35:$A$41,0))
A29: =INDEX($A$35:$A$41,MATCH(LARGE($D$35:$D$41,2),$D$35:$D$41,0)) | B29: =INDEX($B$35:$B$41,MATCH(A29,$A$35:$A$41,0)) | C29: =INDEX($C$35:$C$41,MATCH(A29,$A$35:$A$41,0))
A30: =INDEX($A$35:$A$41,MATCH(LARGE($D$35:$D$41,3),$D$35:$D$41,0)) | B30: =INDEX($B$35:$B$41,MATCH(A30,$A$35:$A$41,0)) | C30: =INDEX($C$35:$C$41,MATCH(A30,$A$35:$A$41,0))
A31: =INDEX($A$35:$A$41,MATCH(LARGE($D$35:$D$41,4),$D$35:$D$41,0)) | B31: =INDEX($B$35:$B$41,MATCH(A31,$A$35:$A$41,0)) | C31: =INDEX($C$35:$C$41,MATCH(A31,$A$35:$A$41,0))
A32: =INDEX($A$35:$A$41,MATCH(LARGE($D$35:$D$41,5),$D$35:$D$41,0)) | B32: =INDEX($B$35:$B$41,MATCH(A32,$A$35:$A$41,0)) | C32: =INDEX($C$35:$C$41,MATCH(A32,$A$35:$A$41,0))
A34: Producto (auxiliar Top 5) | B34: Ingresos | C34: Volumen | D34: Clave orden
A35: Plan Anual Pro | B35: =SUMIFS(BD_Ventas!$H$2:$H$1000,BD_Ventas!$B$2:$B$1000,">="&$B$9,BD_Ventas!$B$2:$B$1000,"<"&$B$10,BD_Ventas!$C$2:$C$1000,$B$11,BD_Ventas!$E$2:$E$1000,A35) | C35: =COUNTIFS(BD_Ventas!$B$2:$B$1000,">="&$B$9,BD_Ventas!$B$2:$B$1000,"<"&$B$10,BD_Ventas!$C$2:$C$1000,$B$11,BD_Ventas!$E$2:$E$1000,A35) | D35: =B35+(100-ROW())/1000
A36: Licencia Básica | B36: =SUMIFS(BD_Ventas!$H$2:$H$1000,BD_Ventas!$B$2:$B$1000,">="&$B$9,BD_Ventas!$B$2:$B$1000,"<"&$B$10,BD_Ventas!$C$2:$C$1000,$B$11,BD_Ventas!$E$2:$E$1000,A36) | C36: =COUNTIFS(BD_Ventas!$B$2:$B$1000,">="&$B$9,BD_Ventas!$B$2:$B$1000,"<"&$B$10,BD_Ventas!$C$2:$C$1000,$B$11,BD_Ventas!$E$2:$E$1000,A36) | D36: =B36+(100-ROW())/1000
A37: Consultoría B2B | B37: =SUMIFS(BD_Ventas!$H$2:$H$1000,BD_Ventas!$B$2:$B$1000,">="&$B$9,BD_Ventas!$B$2:$B$1000,"<"&$B$10,BD_Ventas!$C$2:$C$1000,$B$11,BD_Ventas!$E$2:$E$1000,A37) | C37: =COUNTIFS(BD_Ventas!$B$2:$B$1000,">="&$B$9,BD_Ventas!$B$2:$B$1000,"<"&$B$10,BD_Ventas!$C$2:$C$1000,$B$11,BD_Ventas!$E$2:$E$1000,A37) | D37: =B37+(100-ROW())/1000
A38: Add-on Almacén | B38: =SUMIFS(BD_Ventas!$H$2:$H$1000,BD_Ventas!$B$2:$B$1000,">="&$B$9,BD_Ventas!$B$2:$B$1000,"<"&$B$10,BD_Ventas!$C$2:$C$1000,$B$11,BD_Ventas!$E$2:$E$1000,A38) | C38: =COUNTIFS(BD_Ventas!$B$2:$B$1000,">="&$B$9,BD_Ventas!$B$2:$B$1000,"<"&$B$10,BD_Ventas!$C$2:$C$1000,$B$11,BD_Ventas!$E$2:$E$1000,A38) | D38: =B38+(100-ROW())/1000
A39: Soporte Premium | B39: =SUMIFS(BD_Ventas!$H$2:$H$1000,BD_Ventas!$B$2:$B$1000,">="&$B$9,BD_Ventas!$B$2:$B$1000,"<"&$B$10,BD_Ventas!$C$2:$C$1000,$B$11,BD_Ventas!$E$2:$E$1000,A39) | C39: =COUNTIFS(BD_Ventas!$B$2:$B$1000,">="&$B$9,BD_Ventas!$B$2:$B$1000,"<"&$B$10,BD_Ventas!$C$2:$C$1000,$B$11,BD_Ventas!$E$2:$E$1000,A39) | D39: =B39+(100-ROW())/1000
A40: Formación In Company | B40: =SUMIFS(BD_Ventas!$H$2:$H$1000,BD_Ventas!$B$2:$B$1000,">="&$B$9,BD_Ventas!$B$2:$B$1000,"<"&$B$10,BD_Ventas!$C$2:$C$1000,$B$11,BD_Ventas!$E$2:$E$1000,A40) | C40: =COUNTIFS(BD_Ventas!$B$2:$B$1000,">="&$B$9,BD_Ventas!$B$2:$B$1000,"<"&$B$10,BD_Ventas!$C$2:$C$1000,$B$11,BD_Ventas!$E$2:$E$1000,A40) | D40: =B40+(100-ROW())/1000
A41: Licencia Equipo | B41: =SUMIFS(BD_Ventas!$H$2:$H$1000,BD_Ventas!$B$2:$B$1000,">="&$B$9,BD_Ventas!$B$2:$B$1000,"<"&$B$10,BD_Ventas!$C$2:$C$1000,$B$11,BD_Ventas!$E$2:$E$1000,A41) | C41: =COUNTIFS(BD_Ventas!$B$2:$B$1000,">="&$B$9,BD_Ventas!$B$2:$B$1000,"<"&$B$10,BD_Ventas!$C$2:$C$1000,$B$11,BD_Ventas!$E$2:$E$1000,A41) | D41: =B41+(100-ROW())/1000
A43: Canal_Venta | B43: Ingreso_Neto | C43: Órdenes | F43: =QUERY(BD_Ventas!A1:H; "SELECT C, SUM(H), COUNT(A) WHERE C IS NOT NULL GROUP BY C ORDER BY SUM(H) DESC LABEL C 'Canal_Venta', SUM(H) 'Ingreso_Neto', COUNT(A) 'Órdenes'"; 1) | G43: En Google Sheets puedes sustituir esta tabla por la fórmula QUERY de la izquierda.
A44: Venta Directa | B44: =SUMIFS(BD_Ventas!$H$2:$H$1000,BD_Ventas!$B$2:$B$1000,">="&$B$9,BD_Ventas!$B$2:$B$1000,"<"&$B$10,BD_Ventas!$C$2:$C$1000,A44) | C44: =COUNTIFS(BD_Ventas!$B$2:$B$1000,">="&$B$9,BD_Ventas!$B$2:$B$1000,"<"&$B$10,BD_Ventas!$C$2:$C$1000,A44)
...

Sheet Dashboard
B1: Dashboard de ventas | K1: Datos hipotéticos — orova.vn
B2: Fuente: BD_Ventas → Calculos_Auxiliares → Dashboard. Elige Año, Mes y Canal en la fila 3.
B3: Año | C3: 2025 | E3: Mes | F3: Todos los meses | H3: Canal | I3: Todos los canales | K3: ← sustituye al control de filtros
B4: VENTAS TOTALES | E4: ÓRDENES CERRADAS | H4: TICKET PROMEDIO | K4: TASA DE DESCUENTO
B5: =Calculos_Auxiliares!$B$14 | E5: =Calculos_Auxiliares!$B$15 | H5: =Calculos_Auxiliares!$B$16 | K5: =Calculos_Auxiliares!$B$17
B23: Cumplimiento de cuota por vendedor
B24: Vendedor | D24: Venta real | F24: Cuota | H24: Cumplimiento | I24: Progreso
B25: =Calculos_Auxiliares!$A$64 | D25: =Calculos_Auxiliares!$B$64 | F25: =Calculos_Auxiliares!$C$64 | H25: =Calculos_Auxiliares!$D$64 | I25: =Calculos_Auxiliares!$D$64
B26: =Calculos_Auxiliares!$A$65 | D26: =Calculos_Auxiliares!$B$65 | F26: =Calculos_Auxiliares!$C$65 | H26: =Calculos_Auxiliares!$D$65 | I26: =Calculos_Auxiliares!$D$65
B27: =Calculos_Auxiliares!$A$66 | D27: =Calculos_Auxiliares!$B$66 | F27: =Calculos_Auxiliares!$C$66 | H27: =Calculos_Auxiliares!$D$66 | I27: =Calculos_Auxiliares!$D$66
B28: =Calculos_Auxiliares!$A$67 | D28: =Calculos_Auxiliares!$B$67 | F28: =Calculos_Auxiliares!$C$67 | H28: =Calculos_Auxiliares!$D$67 | I28: =Calculos_Auxiliares!$D$67
B30: En Google Sheets la barra puede ser SPARKLINE: =SPARKLINE(B64; {"charttype"\"bar"; "max"\C64; "color1"\SI(B64>=C64;"#10B981";"#F59E0B")}) (fila 64 de Calculos_Auxiliares). Aquí es formato condicional con barra de datos para que funcione también en Excel y LibreOffice.
B31: Las celdas Año, Mes y Canal (lista desplegable) sustituyen al control de filtros de Google Sheets; las tarjetas usan SUMIFS según esas celdas. Con el control de filtros, el artículo usa SUBTOTAL(109; …) y SUBTOTAL(103; …).
B32: Datos hipotéticos — orova.vn
