Workbook

Sheet Presenze_Mese
A1: Dipendente: | B1: Giulia Bianchi (esempio) | D1: Mese di competenza: | E1: 46296 | G1: Esempio ipotetico — orova.vn
A2: Matricola: | B2: M-0001 | D2: Orario contrattuale: | E2: 8 | G2: Celle gialle e colonne C:E, I:J = da compilare. Pausa in formato orario (1:00), non 1.
A5: Giorno | B5: Data | C5: Entrata | D5: Uscita | E5: Pausa (ore) | F5: Ore Totali | G5: Ore Ordinarie | H5: Straordinari | I5: Causale Assenza | J5: Note Operative | L5: Causale | M5: Giorni
A6: 1 | B6: =IF(A6<=DAY(EOMONTH(MeseRif,0)),DATE(YEAR(MeseRif),MONTH(MeseRif),A6),"") -> 46296 | C6: 0.35416667 | D6: 0.72916667 | E6: 0.041666667 | F6: =IF(OR(C6="",D6=""),0,MOD(D6-C6,1)-E6) -> 0.33333333 | G6: =IF(F6=0,0,MIN(F6,OreGiorno/24)) -> 0.33333333 | H6: =IF(F6=0,0,MAX(0,F6-G6)) -> 0 | I6: PRES | L6: =Tabelle_Parametri!A2 -> PRES | M6: =COUNTIF(ColCausali,L6) -> 17
A7: 2 | B7: =IF(A7<=DAY(EOMONTH(MeseRif,0)),DATE(YEAR(MeseRif),MONTH(MeseRif),A7),"") -> 46297 | C7: 0.34375 | D7: 0.73958333 | E7: 0.041666667 | F7: =IF(OR(C7="",D7=""),0,MOD(D7-C7,1)-E7) -> 0.35416667 | G7: =IF(F7=0,0,MIN(F7,OreGiorno/24)) -> 0.33333333 | H7: =IF(F7=0,0,MAX(0,F7-G7)) -> 0.020833333 | I7: PRES | J7: Chiusura ordini fornitori | L7: =Tabelle_Parametri!A3 -> FER | M7: =COUNTIF(ColCausali,L7) -> 3
A8: 3 | B8: =IF(A8<=DAY(EOMONTH(MeseRif,0)),DATE(YEAR(MeseRif),MONTH(MeseRif),A8),"") -> 46298 | F8: =IF(OR(C8="",D8=""),0,MOD(D8-C8,1)-E8) -> 0 | G8: =IF(F8=0,0,MIN(F8,OreGiorno/24)) -> 0 | H8: =IF(F8=0,0,MAX(0,F8-G8)) -> 0 | L8: =Tabelle_Parametri!A4 -> MAL | M8: =COUNTIF(ColCausali,L8) -> 1
A9: 4 | B9: =IF(A9<=DAY(EOMONTH(MeseRif,0)),DATE(YEAR(MeseRif),MONTH(MeseRif),A9),"") -> 46299 | F9: =IF(OR(C9="",D9=""),0,MOD(D9-C9,1)-E9) -> 0 | G9: =IF(F9=0,0,MIN(F9,OreGiorno/24)) -> 0 | H9: =IF(F9=0,0,MAX(0,F9-G9)) -> 0 | L9: =Tabelle_Parametri!A5 -> ROL | M9: =COUNTIF(ColCausali,L9) -> 1
A10: 5 | B10: =IF(A10<=DAY(EOMONTH(MeseRif,0)),DATE(YEAR(MeseRif),MONTH(MeseRif),A10),"") -> 46300 | C10: 0.35416667 | D10: 0.72916667 | E10: 0.041666667 | F10: =IF(OR(C10="",D10=""),0,MOD(D10-C10,1)-E10) -> 0.33333333 | G10: =IF(F10=0,0,MIN(F10,OreGiorno/24)) -> 0.33333333 | H10: =IF(F10=0,0,MAX(0,F10-G10)) -> 0 | I10: PRES | L10: =Tabelle_Parametri!A6 -> EXF | M10: =COUNTIF(ColCausali,L10) -> 0
A11: 6 | B11: =IF(A11<=DAY(EOMONTH(MeseRif,0)),DATE(YEAR(MeseRif),MONTH(MeseRif),A11),"") -> 46301 | C11: 0.35416667 | D11: 0.72916667 | E11: 0.041666667 | F11: =IF(OR(C11="",D11=""),0,MOD(D11-C11,1)-E11) -> 0.33333333 | G11: =IF(F11=0,0,MIN(F11,OreGiorno/24)) -> 0.33333333 | H11: =IF(F11=0,0,MAX(0,F11-G11)) -> 0 | I11: PRES | L11: =Tabelle_Parametri!A7 -> L104 | M11: =COUNTIF(ColCausali,L11) -> 0
A12: 7 | B12: =IF(A12<=DAY(EOMONTH(MeseRif,0)),DATE(YEAR(MeseRif),MONTH(MeseRif),A12),"") -> 46302 | F12: =IF(OR(C12="",D12=""),0,MOD(D12-C12,1)-E12) -> 0 | G12: =IF(F12=0,0,MIN(F12,OreGiorno/24)) -> 0 | H12: =IF(F12=0,0,MAX(0,F12-G12)) -> 0 | I12: MAL | J12: Certificato medico telematico | L12: =Tabelle_Parametri!A8 -> MAT | M12: =COUNTIF(ColCausali,L12) -> 0
A13: 8 | B13: =IF(A13<=DAY(EOMONTH(MeseRif,0)),DATE(YEAR(MeseRif),MONTH(MeseRif),A13),"") -> 46303 | C13: 0.35416667 | D13: 0.72916667 | E13: 0.041666667 | F13: =IF(OR(C13="",D13=""),0,MOD(D13-C13,1)-E13) -> 0.33333333 | G13: =IF(F13=0,0,MIN(F13,OreGiorno/24)) -> 0.33333333 | H13: =IF(F13=0,0,MAX(0,F13-G13)) -> 0 | I13: PRES | L13: =Tabelle_Parametri!A9 -> ASP | M13: =COUNTIF(ColCausali,L13) -> 0
A14: 9 | B14: =IF(A14<=DAY(EOMONTH(MeseRif,0)),DATE(YEAR(MeseRif),MONTH(MeseRif),A14),"") -> 46304 | C14: 0.35416667 | D14: 0.70833333 | E14: 0.020833333 | F14: =IF(OR(C14="",D14=""),0,MOD(D14-C14,1)-E14) -> 0.33333333 | G14: =IF(F14=0,0,MIN(F14,OreGiorno/24)) -> 0.33333333 | H14: =IF(F14=0,0,MAX(0,F14-G14)) -> 0 | I14: PRES | J14: Pausa ridotta a 30 minuti | L14: =Tabelle_Parametri!A10 -> INF | M14: =COUNTIF(ColCausali,L14) -> 0
A15: 10 | B15: =IF(A15<=DAY(EOMONTH(MeseRif,0)),DATE(YEAR(MeseRif),MONTH(MeseRif),A15),"") -> 46305 | F15: =IF(OR(C15="",D15=""),0,MOD(D15-C15,1)-E15) -> 0 | G15: =IF(F15=0,0,MIN(F15,OreGiorno/24)) -> 0 | H15: =IF(F15=0,0,MAX(0,F15-G15)) -> 0
A16: 11 | B16: =IF(A16<=DAY(EOMONTH(MeseRif,0)),DATE(YEAR(MeseRif),MONTH(MeseRif),A16),"") -> 46306 | F16: =IF(OR(C16="",D16=""),0,MOD(D16-C16,1)-E16) -> 0 | G16: =IF(F16=0,0,MIN(F16,OreGiorno/24)) -> 0 | H16: =IF(F16=0,0,MAX(0,F16-G16)) -> 0
A17: 12 | B17: =IF(A17<=DAY(EOMONTH(MeseRif,0)),DATE(YEAR(MeseRif),MONTH(MeseRif),A17),"") -> 46307 | C17: 0.35416667 | D17: 0.72916667 | E17: 0.041666667 | F17: =IF(OR(C17="",D17=""),0,MOD(D17-C17,1)-E17) -> 0.33333333 | G17: =IF(F17=0,0,MIN(F17,OreGiorno/24)) -> 0.33333333 | H17: =IF(F17=0,0,MAX(0,F17-G17)) -> 0 | I17: PRES
A18: 13 | B18: =IF(A18<=DAY(EOMONTH(MeseRif,0)),DATE(YEAR(MeseRif),MONTH(MeseRif),A18),"") -> 46308 | C18: 0.35416667 | D18: 0.72916667 | E18: 0.041666667 | F18: =IF(OR(C18="",D18=""),0,MOD(D18-C18,1)-E18) -> 0.33333333 | G18: =IF(F18=0,0,MIN(F18,OreGiorno/24)) -> 0.33333333 | H18: =IF(F18=0,0,MAX(0,F18-G18)) -> 0 | I18: PRES
A19: 14 | B19: =IF(A19<=DAY(EOMONTH(MeseRif,0)),DATE(YEAR(MeseRif),MONTH(MeseRif),A19),"") -> 46309 | C19: 0.35416667 | D19: 0.79166667 | E19: 0.041666667 | F19: =IF(OR(C19="",D19=""),0,MOD(D19-C19,1)-E19) -> 0.39583333 | G19: =IF(F19=0,0,MIN(F19,OreGiorno/24)) -> 0.33333333 | H19: =IF(F19=0,0,MAX(0,F19-G19)) -> 0.0625 | I19: PRES | J19: Straordinario autorizzato
A20: 15 | B20: =IF(A20<=DAY(EOMONTH(MeseRif,0)),DATE(YEAR(MeseRif),MONTH(MeseRif),A20),"") -> 46310 | C20: 0.35416667 | D20: 0.72916667 | E20: 0.041666667 | F20: =IF(OR(C20="",D20=""),0,MOD(D20-C20,1)-E20) -> 0.33333333 | G20: =IF(F20=0,0,MIN(F20,OreGiorno/24)) -> 0.33333333 | H20: =IF(F20=0,0,MAX(0,F20-G20)) -> 0 | I20: PRES
A21: 16 | B21: =IF(A21<=DAY(EOMONTH(MeseRif,0)),DATE(YEAR(MeseRif),MONTH(MeseRif),A21),"") -> 46311 | C21: 0.35416667 | D21: 0.72916667 | E21: 0.041666667 | F21: =IF(OR(C21="",D21=""),0,MOD(D21-C21,1)-E21) -> 0.33333333 | G21: =IF(F21=0,0,MIN(F21,OreGiorno/24)) -> 0.33333333 | H21: =IF(F21=0,0,MAX(0,F21-G21)) -> 0 | I21: PRES
A22: 17 | B22: =IF(A22<=DAY(EOMONTH(MeseRif,0)),DATE(YEAR(MeseRif),MONTH(MeseRif),A22),"") -> 46312 | F22: =IF(OR(C22="",D22=""),0,MOD(D22-C22,1)-E22) -> 0 | G22: =IF(F22=0,0,MIN(F22,OreGiorno/24)) -> 0 | H22: =IF(F22=0,0,MAX(0,F22-G22)) -> 0
A23: 18 | B23: =IF(A23<=DAY(EOMONTH(MeseRif,0)),DATE(YEAR(MeseRif),MONTH(MeseRif),A23),"") -> 46313 | F23: =IF(OR(C23="",D23=""),0,MOD(D23-C23,1)-E23) -> 0 | G23: =IF(F23=0,0,MIN(F23,OreGiorno/24)) -> 0 | H23: =IF(F23=0,0,MAX(0,F23-G23)) -> 0
A24: 19 | B24: =IF(A24<=DAY(EOMONTH(MeseRif,0)),DATE(YEAR(MeseRif),MONTH(MeseRif),A24),"") -> 46314 | F24: =IF(OR(C24="",D24=""),0,MOD(D24-C24,1)-E24) -> 0 | G24: =IF(F24=0,0,MIN(F24,OreGiorno/24)) -> 0 | H24: =IF(F24=0,0,MAX(0,F24-G24)) -> 0 | I24: FER | J24: Ferie approvate
A25: 20 | B25: =IF(A25<=DAY(EOMONTH(MeseRif,0)),DATE(YEAR(MeseRif),MONTH(MeseRif),A25),"") -> 46315 | F25: =IF(OR(C25="",D25=""),0,MOD(D25-C25,1)-E25) -> 0 | G25: =IF(F25=0,0,MIN(F25,OreGiorno/24)) -> 0 | H25: =IF(F25=0,0,MAX(0,F25-G25)) -> 0 | I25: FER | J25: Ferie approvate
A26: 21 | B26: =IF(A26<=DAY(EOMONTH(MeseRif,0)),DATE(YEAR(MeseRif),MONTH(MeseRif),A26),"") -> 46316 | F26: =IF(OR(C26="",D26=""),0,MOD(D26-C26,1)-E26) -> 0 | G26: =IF(F26=0,0,MIN(F26,OreGiorno/24)) -> 0 | H26: =IF(F26=0,0,MAX(0,F26-G26)) -> 0 | I26: FER | J26: Ferie approvate
A27: 22 | B27: =IF(A27<=DAY(EOMONTH(MeseRif,0)),DATE(YEAR(MeseRif),MONTH(MeseRif),A27),"") -> 46317 | C27: 0.875 | D27: 0.20833333 | E27: 0.041666667 | F27: =IF(OR(C27="",D27=""),0,MOD(D27-C27,1)-E27) -> 0.29166667 | G27: =IF(F27=0,0,MIN(F27,OreGiorno/24)) -> 0.29166667 | H27: =IF(F27=0,0,MAX(0,F27-G27)) -> 0 | I27: PRES | J27: Turno notturno inventario (uscita il 23)
A28: 23 | B28: =IF(A28<=DAY(EOMONTH(MeseRif,0)),DATE(YEAR(MeseRif),MONTH(MeseRif),A28),"") -> 46318 | C28: 0.54166667 | D28: 0.70833333 | E28: 0 | F28: =IF(OR(C28="",D28=""),0,MOD(D28-C28,1)-E28) -> 0.16666667 | G28: =IF(F28=0,0,MIN(F28,OreGiorno/24)) -> 0.16666667 | H28: =IF(F28=0,0,MAX(0,F28-G28)) -> 0 | I28: PRES | J28: Rientro dopo turno notturno
A29: 24 | B29: =IF(A29<=DAY(EOMONTH(MeseRif,0)),DATE(YEAR(MeseRif),MONTH(MeseRif),A29),"") -> 46319 | F29: =IF(OR(C29="",D29=""),0,MOD(D29-C29,1)-E29) -> 0 | G29: =IF(F29=0,0,MIN(F29,OreGiorno/24)) -> 0 | H29: =IF(F29=0,0,MAX(0,F29-G29)) -> 0
A30: 25 | B30: =IF(A30<=DAY(EOMONTH(MeseRif,0)),DATE(YEAR(MeseRif),MONTH(MeseRif),A30),"") -> 46320 | F30: =IF(OR(C30="",D30=""),0,MOD(D30-C30,1)-E30) -> 0 | G30: =IF(F30=0,0,MIN(F30,OreGiorno/24)) -> 0 | H30: =IF(F30=0,0,MAX(0,F30-G30)) -> 0
A31: 26 | B31: =IF(A31<=DAY(EOMONTH(MeseRif,0)),DATE(YEAR(MeseRif),MONTH(MeseRif),A31),"") -> 46321 | C31: 0.35416667 | D31: 0.72916667 | E31: 0.041666667 | F31: =IF(OR(C31="",D31=""),0,MOD(D31-C31,1)-E31) -> 0.33333333 | G31: =IF(F31=0,0,MIN(F31,OreGiorno/24)) -> 0.33333333 | H31: =IF(F31=0,0,MAX(0,F31-G31)) -> 0 | I31: PRES
A32: 27 | B32: =IF(A32<=DAY(EOMONTH(MeseRif,0)),DATE(YEAR(MeseRif),MONTH(MeseRif),A32),"") -> 46322 | C32: 0.33333333 | D32: 0.77083333 | E32: 0.041666667 | F32: =IF(OR(C32="",D32=""),0,MOD(D32-C32,1)-E32) -> 0.39583333 | G32: =IF(F32=0,0,MIN(F32,OreGiorno/24)) -> 0.33333333 | H32: =IF(F32=0,0,MAX(0,F32-G32)) -> 0.0625 | I32: PRES | J32: Straordinario autorizzato
A33: 28 | B33: =IF(A33<=DAY(EOMONTH(MeseRif,0)),DATE(YEAR(MeseRif),MONTH(MeseRif),A33),"") -> 46323 | C33: 0.35416667 | D33: 0.52083333 | E33: 0 | F33: =IF(OR(C33="",D33=""),0,MOD(D33-C33,1)-E33) -> 0.16666667 | G33: =IF(F33=0,0,MIN(F33,OreGiorno/24)) -> 0.16666667 | H33: =IF(F33=0,0,MAX(0,F33-G33)) -> 0 | I33: ROL | J33: ROL 4 ore nel pomeriggio
A34: 29 | B34: =IF(A34<=DAY(EOMONTH(MeseRif,0)),DATE(YEAR(MeseRif),MONTH(MeseRif),A34),"") -> 46324 | C34: 0.35416667 | D34: 0.72916667 | E34: 0.041666667 | F34: =IF(OR(C34="",D34=""),0,MOD(D34-C34,1)-E34) -> 0.33333333 | G34: =IF(F34=0,0,MIN(F34,OreGiorno/24)) -> 0.33333333 | H34: =IF(F34=0,0,MAX(0,F34-G34)) -> 0 | I34: PRES
A35: 30 | B35: =IF(A35<=DAY(EOMONTH(MeseRif,0)),DATE(YEAR(MeseRif),MONTH(MeseRif),A35),"") -> 46325 | C35: 0.35416667 | D35: 0.72916667 | E35: 0.041666667 | F35: =IF(OR(C35="",D35=""),0,MOD(D35-C35,1)-E35) -> 0.33333333 | G35: =IF(F35=0,0,MIN(F35,OreGiorno/24)) -> 0.33333333 | H35: =IF(F35=0,0,MAX(0,F35-G35)) -> 0 | I35: PRES
A36: 31 | B36: =IF(A36<=DAY(EOMONTH(MeseRif,0)),DATE(YEAR(MeseRif),MONTH(MeseRif),A36),"") -> 46326 | F36: =IF(OR(C36="",D36=""),0,MOD(D36-C36,1)-E36) -> 0 | G36: =IF(F36=0,0,MIN(F36,OreGiorno/24)) -> 0 | H36: =IF(F36=0,0,MAX(0,F36-G36)) -> 0 | K36: Controllo
A37: TOTALE MENSILE | F37: =SUM(F6:F36) -> 5.7708333 | G37: =SUM(G6:G36) -> 5.625 | H37: =SUM(H6:H36) -> 0.14583333 | K37: =IF(ROUND((F37-(G37+H37))*24,4)=0,"QUADRATO","ERRORE SQUADRATURA") -> QUADRATO
A39: Esempio ipotetico — orova.vn. Formule già pronte; nomi: MeseRif (E1), OreGiorno (E2), Causali, ColCausali. Foglio protetto senza password (Revisione > Rimuovi protezione foglio).

Sheet Tabelle_Parametri
A1: Codice | B1: Descrizione
A2: PRES | B2: Presente
A3: FER | B3: Ferie
A4: MAL | B4: Malattia
A5: ROL | B5: Permessi ROL/PIS
A6: EXF | B6: Ex festività soppresse
A7: L104 | B7: Permesso Legge 104
A8: MAT | B8: Maternità / Paternità
A9: ASP | B9: Aspettativa non retribuita
A10: INF | B10: Infortunio sul lavoro
A12: Codici di esempio: allinearli con quelli del Consulente del Lavoro. Nome dell'elenco: Causali (A2:A10).
A13: Esempio ipotetico — orova.vn
