Workbook

Sheet Registro diario
A1: Registro diario de jornada | I1: Ejemplo hipotético — orova.vn
A2: Mes (día 1): | C2: 46054 | D2: =EOMONTH(C2,0) -> 46081 | F2: Una fila por persona y día. Amarillo = se escribe a mano; gris = cálculo automático (bloqueado, sin contraseña).
F3: Horas efectivas = salida − entrada − pausas no computables (ej.: 19:00 − 09:00 − 2 h de pausa = 8 h).
F4: Turno que pasa de medianoche: MOD(salida − entrada; 1) (ej.: 22:00 → 02:00 = 4 h).
F5: Conservación 4 años y a disposición de las personas trabajadoras, sus representantes legales y la Inspección (art. 34.9 ET) — compruébalo en boe.es.
A6: Fecha | B6: Día | C6: Persona | D6: Hora de entrada | E6: Hora de salida | F6: Pausa (inicio) | G6: Pausa (fin) | H6: Pausas no computables | I6: Horas efectivas | J6: Validación / rectificación | K6: Observaciones
A7: 46055 | B7: =IF(A7="","",CHOOSE(WEEKDAY(A7),"dom","lun","mar","mié","jue","vie","sáb")) -> lun | C7: Lucía Moreno Gil | D7: 0.37361111 | E7: 0.79583333 | F7: 0.5625 | G7: 0.64583333 | H7: =IF(OR(F7="",G7=""),IF(D7="","",0),MOD(G7-F7,1)) -> 0.083333333 | I7: =IF(OR(C7="",D7=""),"",IF(E7="","Pendiente",MOD(E7-D7,1)-H7)) -> 0.33888889 | J7: Validado
A8: 46056 | B8: =IF(A8="","",CHOOSE(WEEKDAY(A8),"dom","lun","mar","mié","jue","vie","sáb")) -> mar | C8: Lucía Moreno Gil | D8: 0.375 | E8: 0.79166667 | F8: 0.5625 | G8: 0.64583333 | H8: =IF(OR(F8="",G8=""),IF(D8="","",0),MOD(G8-F8,1)) -> 0.083333333 | I8: =IF(OR(C8="",D8=""),"",IF(E8="","Pendiente",MOD(E8-D8,1)-H8)) -> 0.33333333 | J8: Validado | K8: Turno partido: 09:00–13:30 y 15:30–19:00 = 8 h
A9: 46057 | B9: =IF(A9="","",CHOOSE(WEEKDAY(A9),"dom","lun","mar","mié","jue","vie","sáb")) -> mié | C9: Lucía Moreno Gil | D9: 0.37569444 | E9: 0.79375 | F9: 0.5625 | G9: 0.64583333 | H9: =IF(OR(F9="",G9=""),IF(D9="","",0),MOD(G9-F9,1)) -> 0.083333333 | I9: =IF(OR(C9="",D9=""),"",IF(E9="","Pendiente",MOD(E9-D9,1)-H9)) -> 0.33472222 | J9: Validado
A10: 46058 | B10: =IF(A10="","",CHOOSE(WEEKDAY(A10),"dom","lun","mar","mié","jue","vie","sáb")) -> jue | C10: Lucía Moreno Gil | D10: 0.37291667 | E10: 0.79722222 | F10: 0.5625 | G10: 0.64583333 | H10: =IF(OR(F10="",G10=""),IF(D10="","",0),MOD(G10-F10,1)) -> 0.083333333 | I10: =IF(OR(C10="",D10=""),"",IF(E10="","Pendiente",MOD(E10-D10,1)-H10)) -> 0.34097222 | J10: Validado
A11: 46059 | B11: =IF(A11="","",CHOOSE(WEEKDAY(A11),"dom","lun","mar","mié","jue","vie","sáb")) -> vie | C11: Lucía Moreno Gil | D11: 0.37777778 | E11: 0.79166667 | F11: 0.5625 | G11: 0.64583333 | H11: =IF(OR(F11="",G11=""),IF(D11="","",0),MOD(G11-F11,1)) -> 0.083333333 | I11: =IF(OR(C11="",D11=""),"",IF(E11="","Pendiente",MOD(E11-D11,1)-H11)) -> 0.33055556 | J11: Validado
A12: 46062 | B12: =IF(A12="","",CHOOSE(WEEKDAY(A12),"dom","lun","mar","mié","jue","vie","sáb")) -> lun | C12: Lucía Moreno Gil | D12: 0.37708333 | E12: 0.79305556 | F12: 0.5625 | G12: 0.64583333 | H12: =IF(OR(F12="",G12=""),IF(D12="","",0),MOD(G12-F12,1)) -> 0.083333333 | I12: =IF(OR(C12="",D12=""),"",IF(E12="","Pendiente",MOD(E12-D12,1)-H12)) -> 0.33263889 | J12: Validado
A13: 46063 | B13: =IF(A13="","",CHOOSE(WEEKDAY(A13),"dom","lun","mar","mié","jue","vie","sáb")) -> mar | C13: Lucía Moreno Gil | D13: 0.39027778 | E13: 0.79444444 | F13: 0.5625 | G13: 0.64583333 | H13: =IF(OR(F13="",G13=""),IF(D13="","",0),MOD(G13-F13,1)) -> 0.083333333 | I13: =IF(OR(C13="",D13=""),"",IF(E13="","Pendiente",MOD(E13-D13,1)-H13)) -> 0.32083333 | J13: Validado | K13: Retraso a la entrada (incidencia de transporte)
A14: 46064 | B14: =IF(A14="","",CHOOSE(WEEKDAY(A14),"dom","lun","mar","mié","jue","vie","sáb")) -> mié | C14: Lucía Moreno Gil | D14: 0.37152778 | E14: 0.79097222 | F14: 0.5625 | G14: 0.64583333 | H14: =IF(OR(F14="",G14=""),IF(D14="","",0),MOD(G14-F14,1)) -> 0.083333333 | I14: =IF(OR(C14="",D14=""),"",IF(E14="","Pendiente",MOD(E14-D14,1)-H14)) -> 0.33611111 | J14: Validado
A15: 46065 | B15: =IF(A15="","",CHOOSE(WEEKDAY(A15),"dom","lun","mar","mié","jue","vie","sáb")) -> jue | C15: Lucía Moreno Gil | D15: 0.37638889 | E15: 0.79444444 | F15: 0.5625 | G15: 0.64583333 | H15: =IF(OR(F15="",G15=""),IF(D15="","",0),MOD(G15-F15,1)) -> 0.083333333 | I15: =IF(OR(C15="",D15=""),"",IF(E15="","Pendiente",MOD(E15-D15,1)-H15)) -> 0.33472222 | J15: Validado
A16: 46066 | B16: =IF(A16="","",CHOOSE(WEEKDAY(A16),"dom","lun","mar","mié","jue","vie","sáb")) -> vie | C16: Lucía Moreno Gil | D16: 0.37361111 | E16: 0.78888889 | F16: 0.5625 | G16: 0.64583333 | H16: =IF(OR(F16="",G16=""),IF(D16="","",0),MOD(G16-F16,1)) -> 0.083333333 | I16: =IF(OR(C16="",D16=""),"",IF(E16="","Pendiente",MOD(E16-D16,1)-H16)) -> 0.33194444 | J16: Validado
A17: 46069 | B17: =IF(A17="","",CHOOSE(WEEKDAY(A17),"dom","lun","mar","mié","jue","vie","sáb")) -> lun | C17: Lucía Moreno Gil | D17: 0.37291667 | E17: 0.79027778 | F17: 0.5625 | G17: 0.64583333 | H17: =IF(OR(F17="",G17=""),IF(D17="","",0),MOD(G17-F17,1)) -> 0.083333333 | I17: =IF(OR(C17="",D17=""),"",IF(E17="","Pendiente",MOD(E17-D17,1)-H17)) -> 0.33402778 | J17: Validado
A18: 46070 | B18: =IF(A18="","",CHOOSE(WEEKDAY(A18),"dom","lun","mar","mié","jue","vie","sáb")) -> mar | C18: Lucía Moreno Gil | D18: 0.37777778 | E18: 0.79375 | F18: 0.5625 | G18: 0.64583333 | H18: =IF(OR(F18="",G18=""),IF(D18="","",0),MOD(G18-F18,1)) -> 0.083333333 | I18: =IF(OR(C18="",D18=""),"",IF(E18="","Pendiente",MOD(E18-D18,1)-H18)) -> 0.33263889 | J18: Validado
A19: 46071 | B19: =IF(A19="","",CHOOSE(WEEKDAY(A19),"dom","lun","mar","mié","jue","vie","sáb")) -> mié | C19: Lucía Moreno Gil | D19: 0.37638889 | F19: 0.5625 | G19: 0.64583333 | H19: =IF(OR(F19="",G19=""),IF(D19="","",0),MOD(G19-F19,1)) -> 0.083333333 | I19: =IF(OR(C19="",D19=""),"",IF(E19="","Pendiente",MOD(E19-D19,1)-H19)) -> Pendiente | J19: Rectificación solicitada | K19: Olvido de la salida: propone 19:00 (pendiente de aprobar)
A20: 46072 | B20: =IF(A20="","",CHOOSE(WEEKDAY(A20),"dom","lun","mar","mié","jue","vie","sáb")) -> jue | C20: Lucía Moreno Gil | D20: 0.37222222 | E20: 0.79166667 | F20: 0.5625 | G20: 0.64583333 | H20: =IF(OR(F20="",G20=""),IF(D20="","",0),MOD(G20-F20,1)) -> 0.083333333 | I20: =IF(OR(C20="",D20=""),"",IF(E20="","Pendiente",MOD(E20-D20,1)-H20)) -> 0.33611111 | J20: Validado
A21: 46073 | B21: =IF(A21="","",CHOOSE(WEEKDAY(A21),"dom","lun","mar","mié","jue","vie","sáb")) -> vie | C21: Lucía Moreno Gil | D21: 0.37708333 | E21: 0.79513889 | F21: 0.5625 | G21: 0.64583333 | H21: =IF(OR(F21="",G21=""),IF(D21="","",0),MOD(G21-F21,1)) -> 0.083333333 | I21: =IF(OR(C21="",D21=""),"",IF(E21="","Pendiente",MOD(E21-D21,1)-H21)) -> 0.33472222 | J21: Validado
A22: 46076 | B22: =IF(A22="","",CHOOSE(WEEKDAY(A22),"dom","lun","mar","mié","jue","vie","sáb")) -> lun | C22: Lucía Moreno Gil | D22: 0.37638889 | E22: 0.79652778 | F22: 0.5625 | G22: 0.64583333 | H22: =IF(OR(F22="",G22=""),IF(D22="","",0),MOD(G22-F22,1)) -> 0.083333333 | I22: =IF(OR(C22="",D22=""),"",IF(E22="","Pendiente",MOD(E22-D22,1)-H22)) -> 0.33680556 | J22: Validado
A23: 46077 | B23: =IF(A23="","",CHOOSE(WEEKDAY(A23),"dom","lun","mar","mié","jue","vie","sáb")) -> mar | C23: Lucía Moreno Gil | D23: 0.37361111 | E23: 0.79097222 | F23: 0.5625 | G23: 0.64583333 | H23: =IF(OR(F23="",G23=""),IF(D23="","",0),MOD(G23-F23,1)) -> 0.083333333 | I23: =IF(OR(C23="",D23=""),"",IF(E23="","Pendiente",MOD(E23-D23,1)-H23)) -> 0.33402778 | J23: Validado
A24: 46078 | B24: =IF(A24="","",CHOOSE(WEEKDAY(A24),"dom","lun","mar","mié","jue","vie","sáb")) -> mié | C24: Lucía Moreno Gil | D24: 0.37847222 | E24: 0.79444444 | F24: 0.5625 | G24: 0.64583333 | H24: =IF(OR(F24="",G24=""),IF(D24="","",0),MOD(G24-F24,1)) -> 0.083333333 | I24: =IF(OR(C24="",D24=""),"",IF(E24="","Pendiente",MOD(E24-D24,1)-H24)) -> 0.33263889 | J24: Validado
A25: 46079 | B25: =IF(A25="","",CHOOSE(WEEKDAY(A25),"dom","lun","mar","mié","jue","vie","sáb")) -> jue | C25: Lucía Moreno Gil | D25: 0.37569444 | E25: 0.78888889 | F25: 0.5625 | G25: 0.64583333 | H25: =IF(OR(F25="",G25=""),IF(D25="","",0),MOD(G25-F25,1)) -> 0.083333333 | I25: =IF(OR(C25="",D25=""),"",IF(E25="","Pendiente",MOD(E25-D25,1)-H25)) -> 0.32986111 | J25: Validado
A26: 46080 | B26: =IF(A26="","",CHOOSE(WEEKDAY(A26),"dom","lun","mar","mié","jue","vie","sáb")) -> vie | C26: Lucía Moreno Gil | D26: 0.37291667 | E26: 0.79236111 | F26: 0.5625 | G26: 0.64583333 | H26: =IF(OR(F26="",G26=""),IF(D26="","",0),MOD(G26-F26,1)) -> 0.083333333 | I26: =IF(OR(C26="",D26=""),"",IF(E26="","Pendiente",MOD(E26-D26,1)-H26)) -> 0.33611111 | J26: Pendiente de validar
A27: Total del mes — Lucía Moreno Gil | H27: =SUM(H7:H26) -> 1.6666667 | I27: =SUM(I7:I26) -> 6.3416667 | J27: ="Validados: "&COUNTIF(J7:J26,"Validado")&" · Pendientes de rectificar: "&COUNTIF(I7:I26,"Pendiente") -> Validados: 18 · Pendientes de rectificar: 1
A28: 46055 | B28: =IF(A28="","",CHOOSE(WEEKDAY(A28),"dom","lun","mar","mié","jue","vie","sáb")) -> lun | C28: Javier Ortega Ruiz | D28: 0.33402778 | E28: 0.64375 | H28: =IF(OR(F28="",G28=""),IF(D28="","",0),MOD(G28-F28,1)) -> 0 | I28: =IF(OR(C28="",D28=""),"",IF(E28="","Pendiente",MOD(E28-D28,1)-H28)) -> 0.30972222 | J28: Validado
A29: 46056 | B29: =IF(A29="","",CHOOSE(WEEKDAY(A29),"dom","lun","mar","mié","jue","vie","sáb")) -> mar | C29: Javier Ortega Ruiz | D29: 0.33125 | E29: 0.64722222 | H29: =IF(OR(F29="",G29=""),IF(D29="","",0),MOD(G29-F29,1)) -> 0 | I29: =IF(OR(C29="",D29=""),"",IF(E29="","Pendiente",MOD(E29-D29,1)-H29)) -> 0.31597222 | J29: Validado
A30: 46057 | B30: =IF(A30="","",CHOOSE(WEEKDAY(A30),"dom","lun","mar","mié","jue","vie","sáb")) -> mié | C30: Javier Ortega Ruiz | D30: 0.33611111 | E30: 0.65069444 | H30: =IF(OR(F30="",G30=""),IF(D30="","",0),MOD(G30-F30,1)) -> 0 | I30: =IF(OR(C30="",D30=""),"",IF(E30="","Pendiente",MOD(E30-D30,1)-H30)) -> 0.31458333 | J30: Validado
A31: 46058 | B31: =IF(A31="","",CHOOSE(WEEKDAY(A31),"dom","lun","mar","mié","jue","vie","sáb")) -> jue | C31: Javier Ortega Ruiz | D31: 0.33333333 | E31: 0.64513889 | H31: =IF(OR(F31="",G31=""),IF(D31="","",0),MOD(G31-F31,1)) -> 0 | I31: =IF(OR(C31="",D31=""),"",IF(E31="","Pendiente",MOD(E31-D31,1)-H31)) -> 0.31180556 | J31: Validado
A32: 46059 | B32: =IF(A32="","",CHOOSE(WEEKDAY(A32),"dom","lun","mar","mié","jue","vie","sáb")) -> vie | C32: Javier Ortega Ruiz | D32: 0.33055556 | E32: 0.64861111 | H32: =IF(OR(F32="",G32=""),IF(D32="","",0),MOD(G32-F32,1)) -> 0 | I32: =IF(OR(C32="",D32=""),"",IF(E32="","Pendiente",MOD(E32-D32,1)-H32)) -> 0.31805556 | J32: Validado
A33: 46062 | B33: =IF(A33="","",CHOOSE(WEEKDAY(A33),"dom","lun","mar","mié","jue","vie","sáb")) -> lun | C33: Javier Ortega Ruiz | D33: 0.32986111 | E33: 0.65 | H33: =IF(OR(F33="",G33=""),IF(D33="","",0),MOD(G33-F33,1)) -> 0 | I33: =IF(OR(C33="",D33=""),"",IF(E33="","Pendiente",MOD(E33-D33,1)-H33)) -> 0.32013889 | J33: Rectificación aprobada | K33: Aprobada el 10/02: salida 15:34 añadida, marca original conservada
A34: 46063 | B34: =IF(A34="","",CHOOSE(WEEKDAY(A34),"dom","lun","mar","mié","jue","vie","sáb")) -> mar | C34: Javier Ortega Ruiz | D34: 0.33472222 | E34: 0.64444444 | H34: =IF(OR(F34="",G34=""),IF(D34="","",0),MOD(G34-F34,1)) -> 0 | I34: =IF(OR(C34="",D34=""),"",IF(E34="","Pendiente",MOD(E34-D34,1)-H34)) -> 0.30972222 | J34: Validado
A35: 46064 | B35: =IF(A35="","",CHOOSE(WEEKDAY(A35),"dom","lun","mar","mié","jue","vie","sáb")) -> mié | C35: Javier Ortega Ruiz | D35: 0.33194444 | E35: 0.64791667 | H35: =IF(OR(F35="",G35=""),IF(D35="","",0),MOD(G35-F35,1)) -> 0 | I35: =IF(OR(C35="",D35=""),"",IF(E35="","Pendiente",MOD(E35-D35,1)-H35)) -> 0.31597222 | J35: Validado
A36: 46065 | B36: =IF(A36="","",CHOOSE(WEEKDAY(A36),"dom","lun","mar","mié","jue","vie","sáb")) -> jue | C36: Javier Ortega Ruiz | D36: 0.33680556 | E36: 0.65138889 | H36: =IF(OR(F36="",G36=""),IF(D36="","",0),MOD(G36-F36,1)) -> 0 | I36: =IF(OR(C36="",D36=""),"",IF(E36="","Pendiente",MOD(E36-D36,1)-H36)) -> 0.31458333 | J36: Validado
A37: 46066 | B37: =IF(A37="","",CHOOSE(WEEKDAY(A37),"dom","lun","mar","mié","jue","vie","sáb")) -> vie | C37: Javier Ortega Ruiz | D37: 0.33402778 | E37: 0.64583333 | H37: =IF(OR(F37="",G37=""),IF(D37="","",0),MOD(G37-F37,1)) -> 0 | I37: =IF(OR(C37="",D37=""),"",IF(E37="","Pendiente",MOD(E37-D37,1)-H37)) -> 0.31180556 | J37: Validado
A38: 46067 | B38: =IF(A38="","",CHOOSE(WEEKDAY(A38),"dom","lun","mar","mié","jue","vie","sáb")) -> sáb | C38: Javier Ortega Ruiz | D38: 0.91666667 | E38: 0.083333333 | H38: =IF(OR(F38="",G38=""),IF(D38="","",0),MOD(G38-F38,1)) -> 0 | I38: =IF(OR(C38="",D38=""),"",IF(E38="","Pendiente",MOD(E38-D38,1)-H38)) -> 0.16666667 | J38: Validado | K38: Turno nocturno puntual 22:00–02:00: recargo según su convenio
A39: 46069 | B39: =IF(A39="","",CHOOSE(WEEKDAY(A39),"dom","lun","mar","mié","jue","vie","sáb")) -> lun | C39: Javier Ortega Ruiz | D39: 0.33333333 | E39: 0.64722222 | H39: =IF(OR(F39="",G39=""),IF(D39="","",0),MOD(G39-F39,1)) -> 0 | I39: =IF(OR(C39="",D39=""),"",IF(E39="","Pendiente",MOD(E39-D39,1)-H39)) -> 0.31388889 | J39: Validado
A40: 46070 | B40: =IF(A40="","",CHOOSE(WEEKDAY(A40),"dom","lun","mar","mié","jue","vie","sáb")) -> mar | C40: Javier Ortega Ruiz | D40: 0.34166667 | E40: 0.65069444 | H40: =IF(OR(F40="",G40=""),IF(D40="","",0),MOD(G40-F40,1)) -> 0 | I40: =IF(OR(C40="",D40=""),"",IF(E40="","Pendiente",MOD(E40-D40,1)-H40)) -> 0.30902778 | J40: Validado | K40: Retraso a la entrada
...

Sheet Resumen mensual
A1: Resumen mensual de jornada por persona | H1: Ejemplo hipotético — orova.vn
A3: Mes: | B3: ='Registro diario'!C2 -> 46054 | C3: – | D3: ='Registro diario'!D2 -> 46081
A4: Festivos del mes: | G4: Escribe las fechas (dd/mm/aaaa) si las hay.
A5: Días laborables: | B5: =NETWORKDAYS(B3,D3,B4:F4) -> 20 | C5: lun–vie, sin los festivos indicados
A6: 1 | B6: 2 | C6: 3 | D6: 4 | E6: 5 | F6: 6 | G6: 7 | H6: 8 | I6: 9 | J6: 10
A7: ID | B7: Nombre | C7: DNI / NIE | D7: Jornada teórica (h/mes) | E7: Horas ordinarias | F7: Horas extra | G7: Pausas computables | H7: Retrasos (a la entrada) | I7: Bolsa de compensación | J7: Firma / validación (fecha)
A8: E-001 | B8: Lucía Moreno Gil | C8: 12345678Z | D8: =IF(B8="","",$B$5*D18/5/24-H18) -> 6.6666667 | E8: =IF(B8="","",MIN(SUMIF('Registro diario'!$C$7:$C$84,B8,'Registro diario'!$I$7:$I$84),D8)) -> 6.3416667 | F8: =IF(B8="","",MAX(0,SUMIF('Registro diario'!$C$7:$C$84,B8,'Registro diario'!$I$7:$I$84)-D8)) -> 0 | G8: =IF(B8="","",COUNTIFS('Registro diario'!$C$7:$C$84,B8,'Registro diario'!$I$7:$I$84,">"&6/24)*G18) -> 0 | H8: =IF(B8="","",SUMPRODUCT(('Registro diario'!$C$7:$C$84=B8)*('Registro diario'!$B$7:$B$84<>"sáb")*('Registro diario'!$B$7:$B$84<>"dom")*(ROUND(('Registro diario'!$D$7:$D$84-E18)*1440,0)>F18)*ROUND(('Registro diario'!$D$7:$D$84-E18)*1440,0))/1440) -> 0.015277778 | I8: =IF(B8="","",J18+IF(I18="Descanso compensatorio",F8,0)) -> 0
A9: E-002 | B9: Javier Ortega Ruiz | C9: X1234567L | D9: =IF(B9="","",$B$5*D19/5/24-H19) -> 6.25 | E9: =IF(B9="","",MIN(SUMIF('Registro diario'!$C$7:$C$84,B9,'Registro diario'!$I$7:$I$84),D9)) -> 6.25 | F9: =IF(B9="","",MAX(0,SUMIF('Registro diario'!$C$7:$C$84,B9,'Registro diario'!$I$7:$I$84)-D9)) -> 0.43819444 | G9: =IF(B9="","",COUNTIFS('Registro diario'!$C$7:$C$84,B9,'Registro diario'!$I$7:$I$84,">"&6/24)*G19) -> 0.20833333 | H9: =IF(B9="","",SUMPRODUCT(('Registro diario'!$C$7:$C$84=B9)*('Registro diario'!$B$7:$B$84<>"sáb")*('Registro diario'!$B$7:$B$84<>"dom")*(ROUND(('Registro diario'!$D$7:$D$84-E19)*1440,0)>F19)*ROUND(('Registro diario'!$D$7:$D$84-E19)*1440,0))/1440) -> 0.0083333333 | I9: =IF(B9="","",J19+IF(I19="Descanso compensatorio",F9,0)) -> 0.43819444 | J9: 46084
A10: E-003 | B10: Ana Delgado Ríos | C10: 00000000T | D10: =IF(B10="","",$B$5*D20/5/24-H20) -> 3.1666667 | E10: =IF(B10="","",MIN(SUMIF('Registro diario'!$C$7:$C$84,B10,'Registro diario'!$I$7:$I$84),D10)) -> 3.1263889 | F10: =IF(B10="","",MAX(0,SUMIF('Registro diario'!$C$7:$C$84,B10,'Registro diario'!$I$7:$I$84)-D10)) -> 0 | G10: =IF(B10="","",COUNTIFS('Registro diario'!$C$7:$C$84,B10,'Registro diario'!$I$7:$I$84,">"&6/24)*G20) -> 0 | H10: =IF(B10="","",SUMPRODUCT(('Registro diario'!$C$7:$C$84=B10)*('Registro diario'!$B$7:$B$84<>"sáb")*('Registro diario'!$B$7:$B$84<>"dom")*(ROUND(('Registro diario'!$D$7:$D$84-E20)*1440,0)>F20)*ROUND(('Registro diario'!$D$7:$D$84-E20)*1440,0))/1440) -> 0 | I10: =IF(B10="","",J20+IF(I20="Descanso compensatorio",F10,0)) -> 0 | J10: 46084
D11: =IF(B11="","",$B$5*D21/5/24-H21) | E11: =IF(B11="","",MIN(SUMIF('Registro diario'!$C$7:$C$84,B11,'Registro diario'!$I$7:$I$84),D11)) | F11: =IF(B11="","",MAX(0,SUMIF('Registro diario'!$C$7:$C$84,B11,'Registro diario'!$I$7:$I$84)-D11)) | G11: =IF(B11="","",COUNTIFS('Registro diario'!$C$7:$C$84,B11,'Registro diario'!$I$7:$I$84,">"&6/24)*G21) | H11: =IF(B11="","",SUMPRODUCT(('Registro diario'!$C$7:$C$84=B11)*('Registro diario'!$B$7:$B$84<>"sáb")*('Registro diario'!$B$7:$B$84<>"dom")*(ROUND(('Registro diario'!$D$7:$D$84-E21)*1440,0)>F21)*ROUND(('Registro diario'!$D$7:$D$84-E21)*1440,0))/1440) | I11: =IF(B11="","",J21+IF(I21="Descanso compensatorio",F11,0))
D12: =IF(B12="","",$B$5*D22/5/24-H22) | E12: =IF(B12="","",MIN(SUMIF('Registro diario'!$C$7:$C$84,B12,'Registro diario'!$I$7:$I$84),D12)) | F12: =IF(B12="","",MAX(0,SUMIF('Registro diario'!$C$7:$C$84,B12,'Registro diario'!$I$7:$I$84)-D12)) | G12: =IF(B12="","",COUNTIFS('Registro diario'!$C$7:$C$84,B12,'Registro diario'!$I$7:$I$84,">"&6/24)*G22) | H12: =IF(B12="","",SUMPRODUCT(('Registro diario'!$C$7:$C$84=B12)*('Registro diario'!$B$7:$B$84<>"sáb")*('Registro diario'!$B$7:$B$84<>"dom")*(ROUND(('Registro diario'!$D$7:$D$84-E22)*1440,0)>F22)*ROUND(('Registro diario'!$D$7:$D$84-E22)*1440,0))/1440) | I12: =IF(B12="","",J22+IF(I22="Descanso compensatorio",F12,0))
D13: =IF(B13="","",$B$5*D23/5/24-H23) | E13: =IF(B13="","",MIN(SUMIF('Registro diario'!$C$7:$C$84,B13,'Registro diario'!$I$7:$I$84),D13)) | F13: =IF(B13="","",MAX(0,SUMIF('Registro diario'!$C$7:$C$84,B13,'Registro diario'!$I$7:$I$84)-D13)) | G13: =IF(B13="","",COUNTIFS('Registro diario'!$C$7:$C$84,B13,'Registro diario'!$I$7:$I$84,">"&6/24)*G23) | H13: =IF(B13="","",SUMPRODUCT(('Registro diario'!$C$7:$C$84=B13)*('Registro diario'!$B$7:$B$84<>"sáb")*('Registro diario'!$B$7:$B$84<>"dom")*(ROUND(('Registro diario'!$D$7:$D$84-E23)*1440,0)>F23)*ROUND(('Registro diario'!$D$7:$D$84-E23)*1440,0))/1440) | I13: =IF(B13="","",J23+IF(I23="Descanso compensatorio",F13,0))
A14: Total | D14: =SUM(D8:D13) -> 16.083333 | E14: =SUM(E8:E13) -> 15.718056 | F14: =SUM(F8:F13) -> 0.43819444 | G14: =SUM(G8:G13) -> 0.20833333 | H14: =SUM(H8:H13) -> 0.023611111 | I14: =SUM(I8:I13) -> 0.43819444
A16: Datos pactados por persona (rellena según contrato y convenio; misma fila que el resumen)
A17: ID | B17: Nombre | C17: Tipo de jornada | D17: Jornada semanal pactada (h) | E17: Hora de inicio pactada | F17: Tolerancia de retraso (min) | G17: Pausa computable por jornada > 6 h | H17: Ausencias justificadas (h) | I17: Destino de las horas extra | J17: Saldo anterior de la bolsa (h)
A18: =IF(A8="","",A8) -> E-001 | B18: =IF(B8="","",B8) -> Lucía Moreno Gil | C18: Partida | D18: 40 | E18: 0.375 | F18: 5 | G18: 0 | H18: 0 | I18: Pago en nómina | J18: 0
A19: =IF(A9="","",A9) -> E-002 | B19: =IF(B9="","",B9) -> Javier Ortega Ruiz | C19: Continuada | D19: 37.5 | E19: 0.33333333 | F19: 5 | G19: 0.010416667 | H19: 0 | I19: Descanso compensatorio | J19: 0
A20: =IF(A10="","",A10) -> E-003 | B20: =IF(B10="","",B10) -> Ana Delgado Ríos | C20: Tiempo parcial | D20: 20 | E20: 0.375 | F20: 5 | G20: 0 | H20: 0.16666667 | I20: Pago en nómina | J20: 0
A21: =IF(A11="","",A11) | B21: =IF(B11="","",B11)
A22: =IF(A12="","",A12) | B22: =IF(B12="","",B12)
A23: =IF(A13="","",A13) | B23: =IF(B13="","",B13)
A25: Recargo o descanso equivalente | D25: Según su convenio
A26: Horas extraordinarias
A27: Nocturnidad
A28: Domingos y festivos trabajados
A30: Recargos: copia en la tabla de arriba lo que diga tu convenio; el archivo no aplica recargos ni coeficientes, solo cuenta horas.
A31: Jornada teórica = días laborables × jornada semanal pactada / 5 − ausencias justificadas.
A32: Horas ordinarias = horas efectivas registradas hasta la jornada teórica; horas extra = el exceso sobre ella (revísalo con tu convenio y la distribución irregular pactada).
A33: Horas extra compensadas con descanso: dentro de los cuatro meses siguientes (art. 35.1 ET) — compruébalo en boe.es. Tiempo parcial: sin horas extra salvo fuerza mayor (art. 12.4.c ET).
A34: Retrasos: minutos de entrada posteriores a la hora pactada más la tolerancia, solo lun–vie. Los registros «Pendiente» no suman hasta aprobar la rectificación.
A35: Conservación 4 años y a disposición de las personas trabajadoras, sus representantes legales y la Inspección (art. 34.9 ET) — compruébalo en boe.es.
A36: Ejemplo hipotético: nombres, documentos y horas inventados. El archivo solo cuenta horas, no calcula salarios.
A38: Revisado por (responsable): ______________ Fecha: __/__/____ Firma: ______________
