Workbook

Sheet Tööajatabel
A1: Tööajatabel – töötatud aeg vahetuste kaupa | K1: Hüpoteetiline näide — orova.vn
A2: Kuu (1. päev): | C2: 46419 | D2: =EOMONTH(C2,0) -> 46446 | F2: Riigipühad (tööpäeval): | J2: 46442
A3: Tööandja: | C3: Näidis OÜ | F3: Pühade-eelne päev (−3 h, TLS § 53): | J3: 46441
A4: Päevanorm (h): | C4: 8 | D4: TLS § 43 | F4: Kuu tööpäevad: | J4: =NETWORKDAYS(C2,D2,J2:K2) -> 19
A5: Min. puhkeaeg (h): | C5: 11 | D5: TLS § 51 | F5: Kuu normtunnid (h): | J5: =J4*C4-3*SUMPRODUCT((J3:K3<>"")*(WEEKDAY(J3:K3,2)<6)) -> 149 | L5: =J4&" × "&C4&" − "&(J4*C4-J5)&" = "&J5&" h" -> 19 × 8 − 3 = 149 h
A6: Kollane = sisestage; hall = arvutatakse (lukus, ilma paroolita).
A8: Kuupäev | B8: Päev | C8: Töötaja | D8: Vahetuse tüüp | E8: Algus | F8: Lõpp | G8: Vaheaeg (min) | H8: Graafiku- järgne aeg (h) | I8: Töötatud aeg (h) | J8: Ületunnid (h) | K8: Öötunnid 22–06 (h) | L8: Lisatasu kordaja | M8: Puhkeaeg eelm. vahetusest (h) | N8: Märkus
A9: 46419 | B9: =IF(A9="","",CHOOSE(WEEKDAY(A9),"P","E","T","K","N","R","L")) -> E | C9: Kadri Tamm | D9: Päevane | E9: 0.33333333 | F9: 0.6875 | G9: 30 | H9: 8 | I9: =IF(OR(E9="",F9=""),"",ROUND(MOD(F9-E9,1)*24-N(G9)/60,2)) -> 8 | J9: =IF(OR(I9="",H9=""),"",ROUND(MAX(0,I9-H9),2)) -> 0 | K9: =IF(OR(E9="",F9=""),"",ROUND(24*(MAX(0,MIN((E9+MOD(F9-E9,1)),6/24)-E9)+MAX(0,MIN((E9+MOD(F9-E9,1)),30/24)-MAX(E9,22/24))),2)) -> 0 | M9: =IF(OR(C9="",C9<>C8,E9="",E8="",F8=""),"",ROUND(((A9+E9)-(A8+E8+MOD(F8-E8,1)))*24,2))
A10: 46420 | B10: =IF(A10="","",CHOOSE(WEEKDAY(A10),"P","E","T","K","N","R","L")) -> T | C10: Kadri Tamm | D10: Õhtune | E10: 0.58333333 | F10: 0.9375 | G10: 30 | H10: 8 | I10: =IF(OR(E10="",F10=""),"",ROUND(MOD(F10-E10,1)*24-N(G10)/60,2)) -> 8 | J10: =IF(OR(I10="",H10=""),"",ROUND(MAX(0,I10-H10),2)) -> 0 | K10: =IF(OR(E10="",F10=""),"",ROUND(24*(MAX(0,MIN((E10+MOD(F10-E10,1)),6/24)-E10)+MAX(0,MIN((E10+MOD(F10-E10,1)),30/24)-MAX(E10,22/24))),2)) -> 0.5 | M10: =IF(OR(C10="",C10<>C9,E10="",E9="",F9=""),"",ROUND(((A10+E10)-(A9+E9+MOD(F9-E9,1)))*24,2)) -> 21.5
A11: 46421 | B11: =IF(A11="","",CHOOSE(WEEKDAY(A11),"P","E","T","K","N","R","L")) -> K | C11: Kadri Tamm | D11: Päevane | E11: 0.33333333 | F11: 0.6875 | G11: 30 | H11: 8 | I11: =IF(OR(E11="",F11=""),"",ROUND(MOD(F11-E11,1)*24-N(G11)/60,2)) -> 8 | J11: =IF(OR(I11="",H11=""),"",ROUND(MAX(0,I11-H11),2)) -> 0 | K11: =IF(OR(E11="",F11=""),"",ROUND(24*(MAX(0,MIN((E11+MOD(F11-E11,1)),6/24)-E11)+MAX(0,MIN((E11+MOD(F11-E11,1)),30/24)-MAX(E11,22/24))),2)) -> 0 | M11: =IF(OR(C11="",C11<>C10,E11="",E10="",F10=""),"",ROUND(((A11+E11)-(A10+E10+MOD(F10-E10,1)))*24,2)) -> 9.5 | N11: Puhkeaeg 9,5 h – alla 11 h (TLS § 51), vahetus vahetati töötaja palvel
A12: 46422 | B12: =IF(A12="","",CHOOSE(WEEKDAY(A12),"P","E","T","K","N","R","L")) -> N | C12: Kadri Tamm | D12: Päevane + ületunnid | E12: 0.33333333 | F12: 0.77083333 | G12: 30 | H12: 8 | I12: =IF(OR(E12="",F12=""),"",ROUND(MOD(F12-E12,1)*24-N(G12)/60,2)) -> 10 | J12: =IF(OR(I12="",H12=""),"",ROUND(MAX(0,I12-H12),2)) -> 2 | K12: =IF(OR(E12="",F12=""),"",ROUND(24*(MAX(0,MIN((E12+MOD(F12-E12,1)),6/24)-E12)+MAX(0,MIN((E12+MOD(F12-E12,1)),30/24)-MAX(E12,22/24))),2)) -> 0 | M12: =IF(OR(C12="",C12<>C11,E12="",E11="",F11=""),"",ROUND(((A12+E12)-(A11+E11+MOD(F11-E11,1)))*24,2)) -> 15.5 | N12: Ületunnid 2 h kokku lepitud (inventuur)
A13: 46423 | B13: =IF(A13="","",CHOOSE(WEEKDAY(A13),"P","E","T","K","N","R","L")) -> R | C13: Kadri Tamm | D13: Päevane | E13: 0.33333333 | F13: 0.6875 | G13: 30 | H13: 8 | I13: =IF(OR(E13="",F13=""),"",ROUND(MOD(F13-E13,1)*24-N(G13)/60,2)) -> 8 | J13: =IF(OR(I13="",H13=""),"",ROUND(MAX(0,I13-H13),2)) -> 0 | K13: =IF(OR(E13="",F13=""),"",ROUND(24*(MAX(0,MIN((E13+MOD(F13-E13,1)),6/24)-E13)+MAX(0,MIN((E13+MOD(F13-E13,1)),30/24)-MAX(E13,22/24))),2)) -> 0 | M13: =IF(OR(C13="",C13<>C12,E13="",E12="",F12=""),"",ROUND(((A13+E13)-(A12+E12+MOD(F12-E12,1)))*24,2)) -> 13.5
A14: 46426 | B14: =IF(A14="","",CHOOSE(WEEKDAY(A14),"P","E","T","K","N","R","L")) -> E | C14: Kadri Tamm | D14: Päevane | E14: 0.33333333 | F14: 0.6875 | G14: 30 | H14: 8 | I14: =IF(OR(E14="",F14=""),"",ROUND(MOD(F14-E14,1)*24-N(G14)/60,2)) -> 8 | J14: =IF(OR(I14="",H14=""),"",ROUND(MAX(0,I14-H14),2)) -> 0 | K14: =IF(OR(E14="",F14=""),"",ROUND(24*(MAX(0,MIN((E14+MOD(F14-E14,1)),6/24)-E14)+MAX(0,MIN((E14+MOD(F14-E14,1)),30/24)-MAX(E14,22/24))),2)) -> 0 | M14: =IF(OR(C14="",C14<>C13,E14="",E13="",F13=""),"",ROUND(((A14+E14)-(A13+E13+MOD(F13-E13,1)))*24,2)) -> 63.5
A15: 46427 | B15: =IF(A15="","",CHOOSE(WEEKDAY(A15),"P","E","T","K","N","R","L")) -> T | C15: Kadri Tamm | D15: Päevane | E15: 0.33333333 | F15: 0.6875 | G15: 30 | H15: 8 | I15: =IF(OR(E15="",F15=""),"",ROUND(MOD(F15-E15,1)*24-N(G15)/60,2)) -> 8 | J15: =IF(OR(I15="",H15=""),"",ROUND(MAX(0,I15-H15),2)) -> 0 | K15: =IF(OR(E15="",F15=""),"",ROUND(24*(MAX(0,MIN((E15+MOD(F15-E15,1)),6/24)-E15)+MAX(0,MIN((E15+MOD(F15-E15,1)),30/24)-MAX(E15,22/24))),2)) -> 0 | M15: =IF(OR(C15="",C15<>C14,E15="",E14="",F14=""),"",ROUND(((A15+E15)-(A14+E14+MOD(F14-E14,1)))*24,2)) -> 15.5
A16: 46428 | B16: =IF(A16="","",CHOOSE(WEEKDAY(A16),"P","E","T","K","N","R","L")) -> K | C16: Kadri Tamm | D16: Päevane | E16: 0.33333333 | F16: 0.6875 | G16: 30 | H16: 8 | I16: =IF(OR(E16="",F16=""),"",ROUND(MOD(F16-E16,1)*24-N(G16)/60,2)) -> 8 | J16: =IF(OR(I16="",H16=""),"",ROUND(MAX(0,I16-H16),2)) -> 0 | K16: =IF(OR(E16="",F16=""),"",ROUND(24*(MAX(0,MIN((E16+MOD(F16-E16,1)),6/24)-E16)+MAX(0,MIN((E16+MOD(F16-E16,1)),30/24)-MAX(E16,22/24))),2)) -> 0 | M16: =IF(OR(C16="",C16<>C15,E16="",E15="",F15=""),"",ROUND(((A16+E16)-(A15+E15+MOD(F15-E15,1)))*24,2)) -> 15.5
A17: 46429 | B17: =IF(A17="","",CHOOSE(WEEKDAY(A17),"P","E","T","K","N","R","L")) -> N | C17: Kadri Tamm | D17: Päevane | E17: 0.33333333 | F17: 0.6875 | G17: 30 | H17: 8 | I17: =IF(OR(E17="",F17=""),"",ROUND(MOD(F17-E17,1)*24-N(G17)/60,2)) -> 8 | J17: =IF(OR(I17="",H17=""),"",ROUND(MAX(0,I17-H17),2)) -> 0 | K17: =IF(OR(E17="",F17=""),"",ROUND(24*(MAX(0,MIN((E17+MOD(F17-E17,1)),6/24)-E17)+MAX(0,MIN((E17+MOD(F17-E17,1)),30/24)-MAX(E17,22/24))),2)) -> 0 | M17: =IF(OR(C17="",C17<>C16,E17="",E16="",F16=""),"",ROUND(((A17+E17)-(A16+E16+MOD(F16-E16,1)))*24,2)) -> 15.5
A18: 46430 | B18: =IF(A18="","",CHOOSE(WEEKDAY(A18),"P","E","T","K","N","R","L")) -> R | C18: Kadri Tamm | D18: Päevane | E18: 0.33333333 | F18: 0.6875 | G18: 30 | H18: 8 | I18: =IF(OR(E18="",F18=""),"",ROUND(MOD(F18-E18,1)*24-N(G18)/60,2)) -> 8 | J18: =IF(OR(I18="",H18=""),"",ROUND(MAX(0,I18-H18),2)) -> 0 | K18: =IF(OR(E18="",F18=""),"",ROUND(24*(MAX(0,MIN((E18+MOD(F18-E18,1)),6/24)-E18)+MAX(0,MIN((E18+MOD(F18-E18,1)),30/24)-MAX(E18,22/24))),2)) -> 0 | M18: =IF(OR(C18="",C18<>C17,E18="",E17="",F17=""),"",ROUND(((A18+E18)-(A17+E17+MOD(F17-E17,1)))*24,2)) -> 15.5
A19: 46433 | B19: =IF(A19="","",CHOOSE(WEEKDAY(A19),"P","E","T","K","N","R","L")) -> E | C19: Kadri Tamm | D19: Päevane | E19: 0.33333333 | F19: 0.6875 | G19: 30 | H19: 8 | I19: =IF(OR(E19="",F19=""),"",ROUND(MOD(F19-E19,1)*24-N(G19)/60,2)) -> 8 | J19: =IF(OR(I19="",H19=""),"",ROUND(MAX(0,I19-H19),2)) -> 0 | K19: =IF(OR(E19="",F19=""),"",ROUND(24*(MAX(0,MIN((E19+MOD(F19-E19,1)),6/24)-E19)+MAX(0,MIN((E19+MOD(F19-E19,1)),30/24)-MAX(E19,22/24))),2)) -> 0 | M19: =IF(OR(C19="",C19<>C18,E19="",E18="",F18=""),"",ROUND(((A19+E19)-(A18+E18+MOD(F18-E18,1)))*24,2)) -> 63.5
A20: 46434 | B20: =IF(A20="","",CHOOSE(WEEKDAY(A20),"P","E","T","K","N","R","L")) -> T | C20: Kadri Tamm | D20: Päevane | E20: 0.33333333 | F20: 0.6875 | G20: 30 | H20: 8 | I20: =IF(OR(E20="",F20=""),"",ROUND(MOD(F20-E20,1)*24-N(G20)/60,2)) -> 8 | J20: =IF(OR(I20="",H20=""),"",ROUND(MAX(0,I20-H20),2)) -> 0 | K20: =IF(OR(E20="",F20=""),"",ROUND(24*(MAX(0,MIN((E20+MOD(F20-E20,1)),6/24)-E20)+MAX(0,MIN((E20+MOD(F20-E20,1)),30/24)-MAX(E20,22/24))),2)) -> 0 | M20: =IF(OR(C20="",C20<>C19,E20="",E19="",F19=""),"",ROUND(((A20+E20)-(A19+E19+MOD(F19-E19,1)))*24,2)) -> 15.5
A21: 46435 | B21: =IF(A21="","",CHOOSE(WEEKDAY(A21),"P","E","T","K","N","R","L")) -> K | C21: Kadri Tamm | D21: Päevane | E21: 0.33333333 | F21: 0.6875 | G21: 30 | H21: 8 | I21: =IF(OR(E21="",F21=""),"",ROUND(MOD(F21-E21,1)*24-N(G21)/60,2)) -> 8 | J21: =IF(OR(I21="",H21=""),"",ROUND(MAX(0,I21-H21),2)) -> 0 | K21: =IF(OR(E21="",F21=""),"",ROUND(24*(MAX(0,MIN((E21+MOD(F21-E21,1)),6/24)-E21)+MAX(0,MIN((E21+MOD(F21-E21,1)),30/24)-MAX(E21,22/24))),2)) -> 0 | M21: =IF(OR(C21="",C21<>C20,E21="",E20="",F20=""),"",ROUND(((A21+E21)-(A20+E20+MOD(F20-E20,1)))*24,2)) -> 15.5
A22: 46436 | B22: =IF(A22="","",CHOOSE(WEEKDAY(A22),"P","E","T","K","N","R","L")) -> N | C22: Kadri Tamm | D22: Päevane | E22: 0.33333333 | F22: 0.6875 | G22: 30 | H22: 8 | I22: =IF(OR(E22="",F22=""),"",ROUND(MOD(F22-E22,1)*24-N(G22)/60,2)) -> 8 | J22: =IF(OR(I22="",H22=""),"",ROUND(MAX(0,I22-H22),2)) -> 0 | K22: =IF(OR(E22="",F22=""),"",ROUND(24*(MAX(0,MIN((E22+MOD(F22-E22,1)),6/24)-E22)+MAX(0,MIN((E22+MOD(F22-E22,1)),30/24)-MAX(E22,22/24))),2)) -> 0 | M22: =IF(OR(C22="",C22<>C21,E22="",E21="",F21=""),"",ROUND(((A22+E22)-(A21+E21+MOD(F21-E21,1)))*24,2)) -> 15.5
A23: 46437 | B23: =IF(A23="","",CHOOSE(WEEKDAY(A23),"P","E","T","K","N","R","L")) -> R | C23: Kadri Tamm | D23: Päevane | E23: 0.33333333 | F23: 0.6875 | G23: 30 | H23: 8 | I23: =IF(OR(E23="",F23=""),"",ROUND(MOD(F23-E23,1)*24-N(G23)/60,2)) -> 8 | J23: =IF(OR(I23="",H23=""),"",ROUND(MAX(0,I23-H23),2)) -> 0 | K23: =IF(OR(E23="",F23=""),"",ROUND(24*(MAX(0,MIN((E23+MOD(F23-E23,1)),6/24)-E23)+MAX(0,MIN((E23+MOD(F23-E23,1)),30/24)-MAX(E23,22/24))),2)) -> 0 | M23: =IF(OR(C23="",C23<>C22,E23="",E22="",F22=""),"",ROUND(((A23+E23)-(A22+E22+MOD(F22-E22,1)))*24,2)) -> 15.5
A24: 46440 | B24: =IF(A24="","",CHOOSE(WEEKDAY(A24),"P","E","T","K","N","R","L")) -> E | C24: Kadri Tamm | D24: Päevane | E24: 0.33333333 | F24: 0.6875 | G24: 30 | H24: 8 | I24: =IF(OR(E24="",F24=""),"",ROUND(MOD(F24-E24,1)*24-N(G24)/60,2)) -> 8 | J24: =IF(OR(I24="",H24=""),"",ROUND(MAX(0,I24-H24),2)) -> 0 | K24: =IF(OR(E24="",F24=""),"",ROUND(24*(MAX(0,MIN((E24+MOD(F24-E24,1)),6/24)-E24)+MAX(0,MIN((E24+MOD(F24-E24,1)),30/24)-MAX(E24,22/24))),2)) -> 0 | M24: =IF(OR(C24="",C24<>C23,E24="",E23="",F23=""),"",ROUND(((A24+E24)-(A23+E23+MOD(F23-E23,1)))*24,2)) -> 63.5
A25: 46441 | B25: =IF(A25="","",CHOOSE(WEEKDAY(A25),"P","E","T","K","N","R","L")) -> T | C25: Kadri Tamm | D25: Pühade-eelne päev | E25: 0.33333333 | F25: 0.5625 | G25: 30 | H25: 5 | I25: =IF(OR(E25="",F25=""),"",ROUND(MOD(F25-E25,1)*24-N(G25)/60,2)) -> 5 | J25: =IF(OR(I25="",H25=""),"",ROUND(MAX(0,I25-H25),2)) -> 0 | K25: =IF(OR(E25="",F25=""),"",ROUND(24*(MAX(0,MIN((E25+MOD(F25-E25,1)),6/24)-E25)+MAX(0,MIN((E25+MOD(F25-E25,1)),30/24)-MAX(E25,22/24))),2)) -> 0 | M25: =IF(OR(C25="",C25<>C24,E25="",E24="",F24=""),"",ROUND(((A25+E25)-(A24+E24+MOD(F24-E24,1)))*24,2)) -> 15.5 | N25: Lühendatud 3 h (TLS § 53)
A26: 46443 | B26: =IF(A26="","",CHOOSE(WEEKDAY(A26),"P","E","T","K","N","R","L")) -> N | C26: Kadri Tamm | D26: Päevane | E26: 0.33333333 | F26: 0.6875 | G26: 30 | H26: 8 | I26: =IF(OR(E26="",F26=""),"",ROUND(MOD(F26-E26,1)*24-N(G26)/60,2)) -> 8 | J26: =IF(OR(I26="",H26=""),"",ROUND(MAX(0,I26-H26),2)) -> 0 | K26: =IF(OR(E26="",F26=""),"",ROUND(24*(MAX(0,MIN((E26+MOD(F26-E26,1)),6/24)-E26)+MAX(0,MIN((E26+MOD(F26-E26,1)),30/24)-MAX(E26,22/24))),2)) -> 0 | M26: =IF(OR(C26="",C26<>C25,E26="",E25="",F25=""),"",ROUND(((A26+E26)-(A25+E25+MOD(F25-E25,1)))*24,2)) -> 42.5
A27: 46444 | B27: =IF(A27="","",CHOOSE(WEEKDAY(A27),"P","E","T","K","N","R","L")) -> R | C27: Kadri Tamm | D27: Päevane | E27: 0.33333333 | F27: 0.6875 | G27: 30 | H27: 8 | I27: =IF(OR(E27="",F27=""),"",ROUND(MOD(F27-E27,1)*24-N(G27)/60,2)) -> 8 | J27: =IF(OR(I27="",H27=""),"",ROUND(MAX(0,I27-H27),2)) -> 0 | K27: =IF(OR(E27="",F27=""),"",ROUND(24*(MAX(0,MIN((E27+MOD(F27-E27,1)),6/24)-E27)+MAX(0,MIN((E27+MOD(F27-E27,1)),30/24)-MAX(E27,22/24))),2)) -> 0 | M27: =IF(OR(C27="",C27<>C26,E27="",E26="",F26=""),"",ROUND(((A27+E27)-(A26+E26+MOD(F26-E26,1)))*24,2)) -> 15.5
A28: Kuu kokku — Kadri Tamm | H28: =SUM(H9:H27) -> 149 | I28: =SUM(I9:I27) -> 151 | J28: =SUM(J9:J27) -> 2 | K28: =SUM(K9:K27) -> 0.5 | M28: ="alla "&$C$5&" h: "&COUNTIF(M9:M27,"<"&$C$5) -> alla 11 h: 1
A29: 46419 | B29: =IF(A29="","",CHOOSE(WEEKDAY(A29),"P","E","T","K","N","R","L")) -> E | C29: Marko Kask | D29: Õhtune | E29: 0.58333333 | F29: 0.9375 | G29: 30 | H29: 8 | I29: =IF(OR(E29="",F29=""),"",ROUND(MOD(F29-E29,1)*24-N(G29)/60,2)) -> 8 | J29: =IF(OR(I29="",H29=""),"",ROUND(MAX(0,I29-H29),2)) -> 0 | K29: =IF(OR(E29="",F29=""),"",ROUND(24*(MAX(0,MIN((E29+MOD(F29-E29,1)),6/24)-E29)+MAX(0,MIN((E29+MOD(F29-E29,1)),30/24)-MAX(E29,22/24))),2)) -> 0.5 | M29: =IF(OR(C29="",C29<>C28,E29="",E28="",F28=""),"",ROUND(((A29+E29)-(A28+E28+MOD(F28-E28,1)))*24,2))
A30: 46420 | B30: =IF(A30="","",CHOOSE(WEEKDAY(A30),"P","E","T","K","N","R","L")) -> T | C30: Marko Kask | D30: Õhtune | E30: 0.58333333 | F30: 0.9375 | G30: 30 | H30: 8 | I30: =IF(OR(E30="",F30=""),"",ROUND(MOD(F30-E30,1)*24-N(G30)/60,2)) -> 8 | J30: =IF(OR(I30="",H30=""),"",ROUND(MAX(0,I30-H30),2)) -> 0 | K30: =IF(OR(E30="",F30=""),"",ROUND(24*(MAX(0,MIN((E30+MOD(F30-E30,1)),6/24)-E30)+MAX(0,MIN((E30+MOD(F30-E30,1)),30/24)-MAX(E30,22/24))),2)) -> 0.5 | M30: =IF(OR(C30="",C30<>C29,E30="",E29="",F29=""),"",ROUND(((A30+E30)-(A29+E29+MOD(F29-E29,1)))*24,2)) -> 15.5
A31: 46421 | B31: =IF(A31="","",CHOOSE(WEEKDAY(A31),"P","E","T","K","N","R","L")) -> K | C31: Marko Kask | D31: Õhtune | E31: 0.58333333 | F31: 0.9375 | G31: 30 | H31: 8 | I31: =IF(OR(E31="",F31=""),"",ROUND(MOD(F31-E31,1)*24-N(G31)/60,2)) -> 8 | J31: =IF(OR(I31="",H31=""),"",ROUND(MAX(0,I31-H31),2)) -> 0 | K31: =IF(OR(E31="",F31=""),"",ROUND(24*(MAX(0,MIN((E31+MOD(F31-E31,1)),6/24)-E31)+MAX(0,MIN((E31+MOD(F31-E31,1)),30/24)-MAX(E31,22/24))),2)) -> 0.5 | M31: =IF(OR(C31="",C31<>C30,E31="",E30="",F30=""),"",ROUND(((A31+E31)-(A30+E30+MOD(F30-E30,1)))*24,2)) -> 15.5
A32: 46422 | B32: =IF(A32="","",CHOOSE(WEEKDAY(A32),"P","E","T","K","N","R","L")) -> N | C32: Marko Kask | D32: Õhtune | E32: 0.58333333 | F32: 0.9375 | G32: 30 | H32: 8 | I32: =IF(OR(E32="",F32=""),"",ROUND(MOD(F32-E32,1)*24-N(G32)/60,2)) -> 8 | J32: =IF(OR(I32="",H32=""),"",ROUND(MAX(0,I32-H32),2)) -> 0 | K32: =IF(OR(E32="",F32=""),"",ROUND(24*(MAX(0,MIN((E32+MOD(F32-E32,1)),6/24)-E32)+MAX(0,MIN((E32+MOD(F32-E32,1)),30/24)-MAX(E32,22/24))),2)) -> 0.5 | M32: =IF(OR(C32="",C32<>C31,E32="",E31="",F31=""),"",ROUND(((A32+E32)-(A31+E31+MOD(F31-E31,1)))*24,2)) -> 15.5
A33: 46423 | B33: =IF(A33="","",CHOOSE(WEEKDAY(A33),"P","E","T","K","N","R","L")) -> R | C33: Marko Kask | D33: Õhtune | E33: 0.58333333 | F33: 0.9375 | G33: 30 | H33: 8 | I33: =IF(OR(E33="",F33=""),"",ROUND(MOD(F33-E33,1)*24-N(G33)/60,2)) -> 8 | J33: =IF(OR(I33="",H33=""),"",ROUND(MAX(0,I33-H33),2)) -> 0 | K33: =IF(OR(E33="",F33=""),"",ROUND(24*(MAX(0,MIN((E33+MOD(F33-E33,1)),6/24)-E33)+MAX(0,MIN((E33+MOD(F33-E33,1)),30/24)-MAX(E33,22/24))),2)) -> 0.5 | M33: =IF(OR(C33="",C33<>C32,E33="",E32="",F32=""),"",ROUND(((A33+E33)-(A32+E32+MOD(F32-E32,1)))*24,2)) -> 15.5
A34: 46426 | B34: =IF(A34="","",CHOOSE(WEEKDAY(A34),"P","E","T","K","N","R","L")) -> E | C34: Marko Kask | D34: Öövahetus | E34: 0.91666667 | F34: 0.27083333 | G34: 30 | H34: 8 | I34: =IF(OR(E34="",F34=""),"",ROUND(MOD(F34-E34,1)*24-N(G34)/60,2)) -> 8 | J34: =IF(OR(I34="",H34=""),"",ROUND(MAX(0,I34-H34),2)) -> 0 | K34: =IF(OR(E34="",F34=""),"",ROUND(24*(MAX(0,MIN((E34+MOD(F34-E34,1)),6/24)-E34)+MAX(0,MIN((E34+MOD(F34-E34,1)),30/24)-MAX(E34,22/24))),2)) -> 8 | M34: =IF(OR(C34="",C34<>C33,E34="",E33="",F33=""),"",ROUND(((A34+E34)-(A33+E33+MOD(F33-E33,1)))*24,2)) -> 71.5
A35: 46427 | B35: =IF(A35="","",CHOOSE(WEEKDAY(A35),"P","E","T","K","N","R","L")) -> T | C35: Marko Kask | D35: Öövahetus | E35: 0.91666667 | F35: 0.27083333 | G35: 30 | H35: 8 | I35: =IF(OR(E35="",F35=""),"",ROUND(MOD(F35-E35,1)*24-N(G35)/60,2)) -> 8 | J35: =IF(OR(I35="",H35=""),"",ROUND(MAX(0,I35-H35),2)) -> 0 | K35: =IF(OR(E35="",F35=""),"",ROUND(24*(MAX(0,MIN((E35+MOD(F35-E35,1)),6/24)-E35)+MAX(0,MIN((E35+MOD(F35-E35,1)),30/24)-MAX(E35,22/24))),2)) -> 8 | M35: =IF(OR(C35="",C35<>C34,E35="",E34="",F34=""),"",ROUND(((A35+E35)-(A34+E34+MOD(F34-E34,1)))*24,2)) -> 15.5
A36: 46428 | B36: =IF(A36="","",CHOOSE(WEEKDAY(A36),"P","E","T","K","N","R","L")) -> K | C36: Marko Kask | D36: Öövahetus | E36: 0.91666667 | F36: 0.27083333 | G36: 30 | H36: 8 | I36: =IF(OR(E36="",F36=""),"",ROUND(MOD(F36-E36,1)*24-N(G36)/60,2)) -> 8 | J36: =IF(OR(I36="",H36=""),"",ROUND(MAX(0,I36-H36),2)) -> 0 | K36: =IF(OR(E36="",F36=""),"",ROUND(24*(MAX(0,MIN((E36+MOD(F36-E36,1)),6/24)-E36)+MAX(0,MIN((E36+MOD(F36-E36,1)),30/24)-MAX(E36,22/24))),2)) -> 8 | M36: =IF(OR(C36="",C36<>C35,E36="",E35="",F35=""),"",ROUND(((A36+E36)-(A35+E35+MOD(F35-E35,1)))*24,2)) -> 15.5
A37: 46429 | B37: =IF(A37="","",CHOOSE(WEEKDAY(A37),"P","E","T","K","N","R","L")) -> N | C37: Marko Kask | D37: Öövahetus | E37: 0.91666667 | F37: 0.27083333 | G37: 30 | H37: 8 | I37: =IF(OR(E37="",F37=""),"",ROUND(MOD(F37-E37,1)*24-N(G37)/60,2)) -> 8 | J37: =IF(OR(I37="",H37=""),"",ROUND(MAX(0,I37-H37),2)) -> 0 | K37: =IF(OR(E37="",F37=""),"",ROUND(24*(MAX(0,MIN((E37+MOD(F37-E37,1)),6/24)-E37)+MAX(0,MIN((E37+MOD(F37-E37,1)),30/24)-MAX(E37,22/24))),2)) -> 8 | M37: =IF(OR(C37="",C37<>C36,E37="",E36="",F36=""),"",ROUND(((A37+E37)-(A36+E36+MOD(F36-E36,1)))*24,2)) -> 15.5
A38: 46430 | B38: =IF(A38="","",CHOOSE(WEEKDAY(A38),"P","E","T","K","N","R","L")) -> R | C38: Marko Kask | D38: Öövahetus | E38: 0.91666667 | F38: 0.27083333 | G38: 30 | H38: 8 | I38: =IF(OR(E38="",F38=""),"",ROUND(MOD(F38-E38,1)*24-N(G38)/60,2)) -> 8 | J38: =IF(OR(I38="",H38=""),"",ROUND(MAX(0,I38-H38),2)) -> 0 | K38: =IF(OR(E38="",F38=""),"",ROUND(24*(MAX(0,MIN((E38+MOD(F38-E38,1)),6/24)-E38)+MAX(0,MIN((E38+MOD(F38-E38,1)),30/24)-MAX(E38,22/24))),2)) -> 8 | M38: =IF(OR(C38="",C38<>C37,E38="",E37="",F37=""),"",ROUND(((A38+E38)-(A37+E37+MOD(F37-E37,1)))*24,2)) -> 15.5
A39: 46433 | B39: =IF(A39="","",CHOOSE(WEEKDAY(A39),"P","E","T","K","N","R","L")) -> E | C39: Marko Kask | D39: Õhtune | E39: 0.58333333 | F39: 0.9375 | G39: 30 | H39: 8 | I39: =IF(OR(E39="",F39=""),"",ROUND(MOD(F39-E39,1)*24-N(G39)/60,2)) -> 8 | J39: =IF(OR(I39="",H39=""),"",ROUND(MAX(0,I39-H39),2)) -> 0 | K39: =IF(OR(E39="",F39=""),"",ROUND(24*(MAX(0,MIN((E39+MOD(F39-E39,1)),6/24)-E39)+MAX(0,MIN((E39+MOD(F39-E39,1)),30/24)-MAX(E39,22/24))),2)) -> 0.5 | M39: =IF(OR(C39="",C39<>C38,E39="",E38="",F38=""),"",ROUND(((A39+E39)-(A38+E38+MOD(F38-E38,1)))*24,2)) -> 55.5
A40: 46434 | B40: =IF(A40="","",CHOOSE(WEEKDAY(A40),"P","E","T","K","N","R","L")) -> T | C40: Marko Kask | D40: Õhtune | E40: 0.58333333 | F40: 0.9375 | G40: 30 | H40: 8 | I40: =IF(OR(E40="",F40=""),"",ROUND(MOD(F40-E40,1)*24-N(G40)/60,2)) -> 8 | J40: =IF(OR(I40="",H40=""),"",ROUND(MAX(0,I40-H40),2)) -> 0 | K40: =IF(OR(E40="",F40=""),"",ROUND(24*(MAX(0,MIN((E40+MOD(F40-E40,1)),6/24)-E40)+MAX(0,MIN((E40+MOD(F40-E40,1)),30/24)-MAX(E40,22/24))),2)) -> 0.5 | M40: =IF(OR(C40="",C40<>C39,E40="",E39="",F39=""),"",ROUND(((A40+E40)-(A39+E39+MOD(F39-E39,1)))*24,2)) -> 15.5
... A44: 46440 | B44: =IF(A44="","",CHOOSE(WEEKDAY(A44),"P","E","T","K","N","R","L")) -> E | C44: Marko Kask | D44: Õhtune | E44: 0.58333333 | F44: 0.9375 | G44: 30 | H44: 8 | I44: =IF(OR(E44="",F44=""),"",ROUND(MOD(F44-E44,1)*24-N(G44)/60,2)) -> 8 | J44: =IF(OR(I44="",H44=""),"",ROUND(MAX(0,I44-H44),2)) -> 0 | K44: =IF(OR(E44="",F44=""),"",ROUND(24*(MAX(0,MIN((E44+MOD(F44-E44,1)),6/24)-E44)+MAX(0,MIN((E44+MOD(F44-E44,1)),30/24)-MAX(E44,22/24))),2)) -> 0.5 | M44: =IF(OR(C44="",C44<>C43,E44="",E43="",F43=""),"",ROUND(((A44+E44)-(A43+E43+MOD(F43-E43,1)))*24,2)) -> 63.5
...

Sheet Kuukokkuvõte
A1: Kuukokkuvõte – töötajate kaupa | I1: Hüpoteetiline näide — orova.vn
A2: Kuu: | B2: =Tööajatabel!C2 -> 46419
A3: Kuu tööpäevad: | B3: =Tööajatabel!J4 -> 19
A4: Kuu normtunnid (h): | B4: =Tööajatabel!J5 -> 149 | C4: =Tööajatabel!L5 -> 19 × 8 − 3 = 149 h
A5: Min. puhkeaeg (h): | B5: =Tööajatabel!C5 -> 11 | C5: muudetakse lehel «Tööajatabel»
A7: Töötaja | B7: Tööpäevad | C7: Norm- tunnid (h) | D7: Töötatud tunnid (h) | E7: Ületunnid (h) | F7: Öötunnid (h) | G7: Riigipühal töötatud (h) | H7: Puhkeaeg < 11 h (vahetusi) | I7: Puudumised (päeva) | J7: Kontroll (leht 1) | K7: Kinnitas | L7: Kuupäev
A8: Kadri Tamm | B8: =IF($A8="","",COUNTIFS(Tööajatabel!$C$9:$C$79,$A8,Tööajatabel!$I$9:$I$79,">0")) -> 19 | C8: =IF($A8="","",$B$4) -> 149 | D8: =IF($A8="","",SUMIFS(Tööajatabel!$I$9:$I$79,Tööajatabel!$C$9:$C$79,$A8)) -> 151 | E8: =IF($A8="","",SUMIFS(Tööajatabel!$J$9:$J$79,Tööajatabel!$C$9:$C$79,$A8)) -> 2 | F8: =IF($A8="","",SUMIFS(Tööajatabel!$K$9:$K$79,Tööajatabel!$C$9:$C$79,$A8)) -> 0.5 | G8: =IF($A8="","",SUMIFS(Tööajatabel!$I$9:$I$79,Tööajatabel!$C$9:$C$79,$A8,Tööajatabel!$D$9:$D$79,"Riigipüha")) -> 0 | H8: =IF($A8="","",COUNTIFS(Tööajatabel!$C$9:$C$79,$A8,Tööajatabel!$M$9:$M$79,"<"&$B$5)) -> 1 | I8: =IF($A8="","",COUNTIFS(Tööajatabel!$C$9:$C$79,$A8,Tööajatabel!$D$9:$D$79,"Puudumine")) -> 0 | J8: =IF($A8="","",IFERROR(IF(ROUND(D8-INDEX(Tööajatabel!$I$9:$I$79,MATCH("Kuu kokku — "&$A8,Tööajatabel!$A$9:$A$79,0)),2)=0,"klapib","ERINEB"),"kokkuvõtterida puudub")) -> klapib
A9: Marko Kask | B9: =IF($A9="","",COUNTIFS(Tööajatabel!$C$9:$C$79,$A9,Tööajatabel!$I$9:$I$79,">0")) -> 19 | C9: =IF($A9="","",$B$4) -> 149 | D9: =IF($A9="","",SUMIFS(Tööajatabel!$I$9:$I$79,Tööajatabel!$C$9:$C$79,$A9)) -> 149 | E9: =IF($A9="","",SUMIFS(Tööajatabel!$J$9:$J$79,Tööajatabel!$C$9:$C$79,$A9)) -> 0 | F9: =IF($A9="","",SUMIFS(Tööajatabel!$K$9:$K$79,Tööajatabel!$C$9:$C$79,$A9)) -> 46.5 | G9: =IF($A9="","",SUMIFS(Tööajatabel!$I$9:$I$79,Tööajatabel!$C$9:$C$79,$A9,Tööajatabel!$D$9:$D$79,"Riigipüha")) -> 8 | H9: =IF($A9="","",COUNTIFS(Tööajatabel!$C$9:$C$79,$A9,Tööajatabel!$M$9:$M$79,"<"&$B$5)) -> 0 | I9: =IF($A9="","",COUNTIFS(Tööajatabel!$C$9:$C$79,$A9,Tööajatabel!$D$9:$D$79,"Puudumine")) -> 0 | J9: =IF($A9="","",IFERROR(IF(ROUND(D9-INDEX(Tööajatabel!$I$9:$I$79,MATCH("Kuu kokku — "&$A9,Tööajatabel!$A$9:$A$79,0)),2)=0,"klapib","ERINEB"),"kokkuvõtterida puudub")) -> klapib
A10: Liis Saar | B10: =IF($A10="","",COUNTIFS(Tööajatabel!$C$9:$C$79,$A10,Tööajatabel!$I$9:$I$79,">0")) -> 17 | C10: =IF($A10="","",$B$4) -> 149 | D10: =IF($A10="","",SUMIFS(Tööajatabel!$I$9:$I$79,Tööajatabel!$C$9:$C$79,$A10)) -> 134.5 | E10: =IF($A10="","",SUMIFS(Tööajatabel!$J$9:$J$79,Tööajatabel!$C$9:$C$79,$A10)) -> 1.5 | F10: =IF($A10="","",SUMIFS(Tööajatabel!$K$9:$K$79,Tööajatabel!$C$9:$C$79,$A10)) -> 0 | G10: =IF($A10="","",SUMIFS(Tööajatabel!$I$9:$I$79,Tööajatabel!$C$9:$C$79,$A10,Tööajatabel!$D$9:$D$79,"Riigipüha")) -> 0 | H10: =IF($A10="","",COUNTIFS(Tööajatabel!$C$9:$C$79,$A10,Tööajatabel!$M$9:$M$79,"<"&$B$5)) -> 0 | I10: =IF($A10="","",COUNTIFS(Tööajatabel!$C$9:$C$79,$A10,Tööajatabel!$D$9:$D$79,"Puudumine")) -> 2 | J10: =IF($A10="","",IFERROR(IF(ROUND(D10-INDEX(Tööajatabel!$I$9:$I$79,MATCH("Kuu kokku — "&$A10,Tööajatabel!$A$9:$A$79,0)),2)=0,"klapib","ERINEB"),"kokkuvõtterida puudub")) -> klapib
B11: =IF($A11="","",COUNTIFS(Tööajatabel!$C$9:$C$79,$A11,Tööajatabel!$I$9:$I$79,">0")) | C11: =IF($A11="","",$B$4) | D11: =IF($A11="","",SUMIFS(Tööajatabel!$I$9:$I$79,Tööajatabel!$C$9:$C$79,$A11)) | E11: =IF($A11="","",SUMIFS(Tööajatabel!$J$9:$J$79,Tööajatabel!$C$9:$C$79,$A11)) | F11: =IF($A11="","",SUMIFS(Tööajatabel!$K$9:$K$79,Tööajatabel!$C$9:$C$79,$A11)) | G11: =IF($A11="","",SUMIFS(Tööajatabel!$I$9:$I$79,Tööajatabel!$C$9:$C$79,$A11,Tööajatabel!$D$9:$D$79,"Riigipüha")) | H11: =IF($A11="","",COUNTIFS(Tööajatabel!$C$9:$C$79,$A11,Tööajatabel!$M$9:$M$79,"<"&$B$5)) | I11: =IF($A11="","",COUNTIFS(Tööajatabel!$C$9:$C$79,$A11,Tööajatabel!$D$9:$D$79,"Puudumine")) | J11: =IF($A11="","",IFERROR(IF(ROUND(D11-INDEX(Tööajatabel!$I$9:$I$79,MATCH("Kuu kokku — "&$A11,Tööajatabel!$A$9:$A$79,0)),2)=0,"klapib","ERINEB"),"kokkuvõtterida puudub"))
B12: =IF($A12="","",COUNTIFS(Tööajatabel!$C$9:$C$79,$A12,Tööajatabel!$I$9:$I$79,">0")) | C12: =IF($A12="","",$B$4) | D12: =IF($A12="","",SUMIFS(Tööajatabel!$I$9:$I$79,Tööajatabel!$C$9:$C$79,$A12)) | E12: =IF($A12="","",SUMIFS(Tööajatabel!$J$9:$J$79,Tööajatabel!$C$9:$C$79,$A12)) | F12: =IF($A12="","",SUMIFS(Tööajatabel!$K$9:$K$79,Tööajatabel!$C$9:$C$79,$A12)) | G12: =IF($A12="","",SUMIFS(Tööajatabel!$I$9:$I$79,Tööajatabel!$C$9:$C$79,$A12,Tööajatabel!$D$9:$D$79,"Riigipüha")) | H12: =IF($A12="","",COUNTIFS(Tööajatabel!$C$9:$C$79,$A12,Tööajatabel!$M$9:$M$79,"<"&$B$5)) | I12: =IF($A12="","",COUNTIFS(Tööajatabel!$C$9:$C$79,$A12,Tööajatabel!$D$9:$D$79,"Puudumine")) | J12: =IF($A12="","",IFERROR(IF(ROUND(D12-INDEX(Tööajatabel!$I$9:$I$79,MATCH("Kuu kokku — "&$A12,Tööajatabel!$A$9:$A$79,0)),2)=0,"klapib","ERINEB"),"kokkuvõtterida puudub"))
B13: =IF($A13="","",COUNTIFS(Tööajatabel!$C$9:$C$79,$A13,Tööajatabel!$I$9:$I$79,">0")) | C13: =IF($A13="","",$B$4) | D13: =IF($A13="","",SUMIFS(Tööajatabel!$I$9:$I$79,Tööajatabel!$C$9:$C$79,$A13)) | E13: =IF($A13="","",SUMIFS(Tööajatabel!$J$9:$J$79,Tööajatabel!$C$9:$C$79,$A13)) | F13: =IF($A13="","",SUMIFS(Tööajatabel!$K$9:$K$79,Tööajatabel!$C$9:$C$79,$A13)) | G13: =IF($A13="","",SUMIFS(Tööajatabel!$I$9:$I$79,Tööajatabel!$C$9:$C$79,$A13,Tööajatabel!$D$9:$D$79,"Riigipüha")) | H13: =IF($A13="","",COUNTIFS(Tööajatabel!$C$9:$C$79,$A13,Tööajatabel!$M$9:$M$79,"<"&$B$5)) | I13: =IF($A13="","",COUNTIFS(Tööajatabel!$C$9:$C$79,$A13,Tööajatabel!$D$9:$D$79,"Puudumine")) | J13: =IF($A13="","",IFERROR(IF(ROUND(D13-INDEX(Tööajatabel!$I$9:$I$79,MATCH("Kuu kokku — "&$A13,Tööajatabel!$A$9:$A$79,0)),2)=0,"klapib","ERINEB"),"kokkuvõtterida puudub"))
A14: Kokku | B14: =SUM(B8:B13) -> 55 | C14: =SUM(C8:C13) -> 447 | D14: =SUM(D8:D13) -> 434.5 | E14: =SUM(E8:E13) -> 3.5 | F14: =SUM(F8:F13) -> 47 | G14: =SUM(G8:G13) -> 8 | H14: =SUM(H8:H13) -> 1 | I14: =SUM(I8:I13) -> 2 | J14: =IF(ROUND(SUMIF(Tööajatabel!$C$9:$C$79,"?*",Tööajatabel!$I$9:$I$79)-D14,2)=0,"klapib","ERINEB") -> klapib
A15: Kontroll: töötatud tunnid lehel «Tööajatabel» | D15: =SUMIF(Tööajatabel!$C$9:$C$79,"?*",Tööajatabel!$I$9:$I$79) -> 434.5
A17: Normtunnid = kuu tööpäevad × päevanorm − 3 h iga tööpäevale langeva pühade-eelse päeva eest (TLS § 53); osalise koormusega töötajal korrutage koormusega.
A18: Töötatud tunnid, ületunnid ja öötunnid liidetakse lehelt «Tööajatabel» töötaja nime järgi.
A19: Kontroll võrdleb iga töötaja summat lehe «Tööajatabel» reaga «Kuu kokku — nimi»; «ERINEB» tähendab, et mõni rida on kirjutatud vale nimega või kokkuvõtterea alt välja.
A20: Summeeritud tööaja korral selguvad ületunnid alles arvestusperioodi lõpus – liitke kuude kokkuvõtted kokku.
A21: Fail arvestab ainult tunde. Palk, lisatasud ja maksud arvutatakse palgaprogrammis.
A22: Hüpoteetiline näide: nimed ja vahetused on väljamõeldud.
