Workbook

Sheet Tööajatabel
A1: Tööajatabel – töötatud aeg vahetuste kaupa | K1: Hüpoteetiline näide — orova.vn
A2: Kuu (1. päev): | C2: 46419 | D2: =EOMONTH(C2,0) -> 46446 | F2: Riigipühad (tööpäeval): | J2: 46442
A3: Tööandja: | C3: Näidis OÜ | F3: Pühade-eelne päev (−3 h, TLS § 53): | J3: 46441
A4: Päevanorm (h): | C4: 8 | D4: TLS § 43 | F4: Kuu tööpäevad: | J4: =NETWORKDAYS(C2,D2,J2:K2) -> 19
A5: Min. puhkeaeg (h): | C5: 11 | D5: TLS § 51 | F5: Kuu normtunnid (h): | J5: =J4*C4-3*SUMPRODUCT((J3:K3<>"")*(WEEKDAY(J3:K3,2)<6)) -> 149 | L5: =J4&" × "&C4&" − "&(J4*C4-J5)&" = "&J5&" h" -> 19 × 8 − 3 = 149 h
A6: Kollane = sisestage; hall = arvutatakse (lukus, ilma paroolita).
A8: Kuupäev | B8: Päev | C8: Töötaja | D8: Vahetuse tüüp | E8: Algus | F8: Lõpp | G8: Vaheaeg (min) | H8: Graafiku- järgne aeg (h) | I8: Töötatud aeg (h) | J8: Ületunnid (h) | K8: Öötunnid 22–06 (h) | L8: Lisatasu kordaja | M8: Puhkeaeg eelm. vahetusest (h) | N8: Märkus
A9: 46419 | B9: =IF(A9="","",CHOOSE(WEEKDAY(A9),"P","E","T","K","N","R","L")) -> E | C9: Kadri Tamm | D9: Päevane | E9: 0.33333333 | F9: 0.6875 | G9: 30 | H9: 8 | I9: =IF(OR(E9="",F9=""),"",ROUND(MOD(F9-E9,1)*24-N(G9)/60,2)) -> 8 | J9: =IF(OR(I9="",H9=""),"",ROUND(MAX(0,I9-H9),2)) -> 0 | K9: =IF(OR(E9="",F9=""),"",ROUND(24*(MAX(0,MIN((E9+MOD(F9-E9,1)),6/24)-E9)+MAX(0,MIN((E9+MOD(F9-E9,1)),30/24)-MAX(E9,22/24))),2)) -> 0 | M9: =IF(OR(C9="",C9<>C8,E9="",E8="",F8=""),"",ROUND(((A9+E9)-(A8+E8+MOD(F8-E8,1)))*24,2))
A10: 46420 | B10: =IF(A10="","",CHOOSE(WEEKDAY(A10),"P","E","T","K","N","R","L")) -> T | C10: Kadri Tamm | D10: Õhtune | E10: 0.58333333 | F10: 0.9375 | G10: 30 | H10: 8 | I10: =IF(OR(E10="",F10=""),"",ROUND(MOD(F10-E10,1)*24-N(G10)/60,2)) -> 8 | J10: =IF(OR(I10="",H10=""),"",ROUND(MAX(0,I10-H10),2)) -> 0 | K10: =IF(OR(E10="",F10=""),"",ROUND(24*(MAX(0,MIN((E10+MOD(F10-E10,1)),6/24)-E10)+MAX(0,MIN((E10+MOD(F10-E10,1)),30/24)-MAX(E10,22/24))),2)) -> 0.5 | M10: =IF(OR(C10="",C10<>C9,E10="",E9="",F9=""),"",ROUND(((A10+E10)-(A9+E9+MOD(F9-E9,1)))*24,2)) -> 21.5
A11: 46421 | B11: =IF(A11="","",CHOOSE(WEEKDAY(A11),"P","E","T","K","N","R","L")) -> K | C11: Kadri Tamm | D11: Päevane | E11: 0.33333333 | F11: 0.6875 | G11: 30 | H11: 8 | I11: =IF(OR(E11="",F11=""),"",ROUND(MOD(F11-E11,1)*24-N(G11)/60,2)) -> 8 | J11: =IF(OR(I11="",H11=""),"",ROUND(MAX(0,I11-H11),2)) -> 0 | K11: =IF(OR(E11="",F11=""),"",ROUND(24*(MAX(0,MIN((E11+MOD(F11-E11,1)),6/24)-E11)+MAX(0,MIN((E11+MOD(F11-E11,1)),30/24)-MAX(E11,22/24))),2)) -> 0 | M11: =IF(OR(C11="",C11<>C10,E11="",E10="",F10=""),"",ROUND(((A11+E11)-(A10+E10+MOD(F10-E10,1)))*24,2)) -> 9.5 | N11: Puhkeaeg 9,5 h – alla 11 h (TLS § 51), vahetus vahetati töötaja palvel
A12: 46422 | B12: =IF(A12="","",CHOOSE(WEEKDAY(A12),"P","E","T","K","N","R","L")) -> N | C12: Kadri Tamm | D12: Päevane + ületunnid | E12: 0.33333333 | F12: 0.77083333 | G12: 30 | H12: 8 | I12: =IF(OR(E12="",F12=""),"",ROUND(MOD(F12-E12,1)*24-N(G12)/60,2)) -> 10 | J12: =IF(OR(I12="",H12=""),"",ROUND(MAX(0,I12-H12),2)) -> 2 | K12: =IF(OR(E12="",F12=""),"",ROUND(24*(MAX(0,MIN((E12+MOD(F12-E12,1)),6/24)-E12)+MAX(0,MIN((E12+MOD(F12-E12,1)),30/24)-MAX(E12,22/24))),2)) -> 0 | M12: =IF(OR(C12="",C12<>C11,E12="",E11="",F11=""),"",ROUND(((A12+E12)-(A11+E11+MOD(F11-E11,1)))*24,2)) -> 15.5 | N12: Ületunnid 2 h kokku lepitud (inventuur)
A13: 46423 | B13: =IF(A13="","",CHOOSE(WEEKDAY(A13),"P","E","T","K","N","R","L")) -> R | C13: Kadri Tamm | D13: Päevane | E13: 0.33333333 | F13: 0.6875 | G13: 30 | H13: 8 | I13: =IF(OR(E13="",F13=""),"",ROUND(MOD(F13-E13,1)*24-N(G13)/60,2)) -> 8 | J13: =IF(OR(I13="",H13=""),"",ROUND(MAX(0,I13-H13),2)) -> 0 | K13: =IF(OR(E13="",F13=""),"",ROUND(24*(MAX(0,MIN((E13+MOD(F13-E13,1)),6/24)-E13)+MAX(0,MIN((E13+MOD(F13-E13,1)),30/24)-MAX(E13,22/24))),2)) -> 0 | M13: =IF(OR(C13="",C13<>C12,E13="",E12="",F12=""),"",ROUND(((A13+E13)-(A12+E12+MOD(F12-E12,1)))*24,2)) -> 13.5
A14: 46426 | B14: =IF(A14="","",CHOOSE(WEEKDAY(A14),"P","E","T","K","N","R","L")) -> E | C14: Kadri Tamm | D14: Päevane | E14: 0.33333333 | F14: 0.6875 | G14: 30 | H14: 8 | I14: =IF(OR(E14="",F14=""),"",ROUND(MOD(F14-E14,1)*24-N(G14)/60,2)) -> 8 | J14: =IF(OR(I14="",H14=""),"",ROUND(MAX(0,I14-H14),2)) -> 0 | K14: =IF(OR(E14="",F14=""),"",ROUND(24*(MAX(0,MIN((E14+MOD(F14-E14,1)),6/24)-E14)+MAX(0,MIN((E14+MOD(F14-E14,1)),30/24)-MAX(E14,22/24))),2)) -> 0 | M14: =IF(OR(C14="",C14<>C13,E14="",E13="",F13=""),"",ROUND(((A14+E14)-(A13+E13+MOD(F13-E13,1)))*24,2)) -> 63.5
A15: 46427 | B15: =IF(A15="","",CHOOSE(WEEKDAY(A15),"P","E","T","K","N","R","L")) -> T | C15: Kadri Tamm | D15: Päevane | E15: 0.33333333 | F15: 0.6875 | G15: 30 | H15: 8 | I15: =IF(OR(E15="",F15=""),"",ROUND(MOD(F15-E15,1)*24-N(G15)/60,2)) -> 8 | J15: =IF(OR(I15="",H15=""),"",ROUND(MAX(0,I15-H15),2)) -> 0 | K15: =IF(OR(E15="",F15=""),"",ROUND(24*(MAX(0,MIN((E15+MOD(F15-E15,1)),6/24)-E15)+MAX(0,MIN((E15+MOD(F15-E15,1)),30/24)-MAX(E15,22/24))),2)) -> 0 | M15: =IF(OR(C15="",C15<>C14,E15="",E14="",F14=""),"",ROUND(((A15+E15)-(A14+E14+MOD(F14-E14,1)))*24,2)) -> 15.5
A16: 46428 | B16: =IF(A16="","",CHOOSE(WEEKDAY(A16),"P","E","T","K","N","R","L")) -> K | C16: Kadri Tamm | D16: Päevane | E16: 0.33333333 | F16: 0.6875 | G16: 30 | H16: 8 | I16: =IF(OR(E16="",F16=""),"",ROUND(MOD(F16-E16,1)*24-N(G16)/60,2)) -> 8 | J16: =IF(OR(I16="",H16=""),"",ROUND(MAX(0,I16-H16),2)) -> 0 | K16: =IF(OR(E16="",F16=""),"",ROUND(24*(MAX(0,MIN((E16+MOD(F16-E16,1)),6/24)-E16)+MAX(0,MIN((E16+MOD(F16-E16,1)),30/24)-MAX(E16,22/24))),2)) -> 0 | M16: =IF(OR(C16="",C16<>C15,E16="",E15="",F15=""),"",ROUND(((A16+E16)-(A15+E15+MOD(F15-E15,1)))*24,2)) -> 15.5
A17: 46429 | B17: =IF(A17="","",CHOOSE(WEEKDAY(A17),"P","E","T","K","N","R","L")) -> N | C17: Kadri Tamm | D17: Päevane | E17: 0.33333333 | F17: 0.6875 | G17: 30 | H17: 8 | I17: =IF(OR(E17="",F17=""),"",ROUND(MOD(F17-E17,1)*24-N(G17)/60,2)) -> 8 | J17: =IF(OR(I17="",H17=""),"",ROUND(MAX(0,I17-H17),2)) -> 0 | K17: =IF(OR(E17="",F17=""),"",ROUND(24*(MAX(0,MIN((E17+MOD(F17-E17,1)),6/24)-E17)+MAX(0,MIN((E17+MOD(F17-E17,1)),30/24)-MAX(E17,22/24))),2)) -> 0 | M17: =IF(OR(C17="",C17<>C16,E17="",E16="",F16=""),"",ROUND(((A17+E17)-(A16+E16+MOD(F16-E16,1)))*24,2)) -> 15.5
A18: 46430 | B18: =IF(A18="","",CHOOSE(WEEKDAY(A18),"P","E","T","K","N","R","L")) -> R | C18: Kadri Tamm | D18: Päevane | E18: 0.33333333 | F18: 0.6875 | G18: 30 | H18: 8 | I18: =IF(OR(E18="",F18=""),"",ROUND(MOD(F18-E18,1)*24-N(G18)/60,2)) -> 8 | J18: =IF(OR(I18="",H18=""),"",ROUND(MAX(0,I18-H18),2)) -> 0 | K18: =IF(OR(E18="",F18=""),"",ROUND(24*(MAX(0,MIN((E18+MOD(F18-E18,1)),6/24)-E18)+MAX(0,MIN((E18+MOD(F18-E18,1)),30/24)-MAX(E18,22/24))),2)) -> 0 | M18: =IF(OR(C18="",C18<>C17,E18="",E17="",F17=""),"",ROUND(((A18+E18)-(A17+E17+MOD(F17-E17,1)))*24,2)) -> 15.5
A19: 46433 | B19: =IF(A19="","",CHOOSE(WEEKDAY(A19),"P","E","T","K","N","R","L")) -> E | C19: Kadri Tamm | D19: Päevane | E19: 0.33333333 | F19: 0.6875 | G19: 30 | H19: 8 | I19: =IF(OR(E19="",F19=""),"",ROUND(MOD(F19-E19,1)*24-N(G19)/60,2)) -> 8 | J19: =IF(OR(I19="",H19=""),"",ROUND(MAX(0,I19-H19),2)) -> 0 | K19: =IF(OR(E19="",F19=""),"",ROUND(24*(MAX(0,MIN((E19+MOD(F19-E19,1)),6/24)-E19)+MAX(0,MIN((E19+MOD(F19-E19,1)),30/24)-MAX(E19,22/24))),2)) -> 0 | M19: =IF(OR(C19="",C19<>C18,E19="",E18="",F18=""),"",ROUND(((A19+E19)-(A18+E18+MOD(F18-E18,1)))*24,2)) -> 63.5
A20: 46434 | B20: =IF(A20="","",CHOOSE(WEEKDAY(A20),"P","E","T","K","N","R","L")) -> T | C20: Kadri Tamm | D20: Päevane | E20: 0.33333333 | F20: 0.6875 | G20: 30 | H20: 8 | I20: =IF(OR(E20="",F20=""),"",ROUND(MOD(F20-E20,1)*24-N(G20)/60,2)) -> 8 | J20: =IF(OR(I20="",H20=""),"",ROUND(MAX(0,I20-H20),2)) -> 0 | K20: =IF(OR(E20="",F20=""),"",ROUND(24*(MAX(0,MIN((E20+MOD(F20-E20,1)),6/24)-E20)+MAX(0,MIN((E20+MOD(F20-E20,1)),30/24)-MAX(E20,22/24))),2)) -> 0 | M20: =IF(OR(C20="",C20<>C19,E20="",E19="",F19=""),"",ROUND(((A20+E20)-(A19+E19+MOD(F19-E19,1)))*24,2)) -> 15.5
A21: 46435 | B21: =IF(A21="","",CHOOSE(WEEKDAY(A21),"P","E","T","K","N","R","L")) -> K | C21: Kadri Tamm | D21: Päevane | E21: 0.33333333 | F21: 0.6875 | G21: 30 | H21: 8 | I21: =IF(OR(E21="",F21=""),"",ROUND(MOD(F21-E21,1)*24-N(G21)/60,2)) -> 8 | J21: =IF(OR(I21="",H21=""),"",ROUND(MAX(0,I21-H21),2)) -> 0 | K21: =IF(OR(E21="",F21=""),"",ROUND(24*(MAX(0,MIN((E21+MOD(F21-E21,1)),6/24)-E21)+MAX(0,MIN((E21+MOD(F21-E21,1)),30/24)-MAX(E21,22/24))),2)) -> 0 | M21: =IF(OR(C21="",C21<>C20,E21="",E20="",F20=""),"",ROUND(((A21+E21)-(A20+E20+MOD(F20-E20,1)))*24,2)) -> 15.5
A22: 46436 | B22: =IF(A22="","",CHOOSE(WEEKDAY(A22),"P","E","T","K","N","R","L")) -> N | C22: Kadri Tamm | D22: Päevane | E22: 0.33333333 | F22: 0.6875 | G22: 30 | H22: 8 | I22: =IF(OR(E22="",F22=""),"",ROUND(MOD(F22-E22,1)*24-N(G22)/60,2)) -> 8 | J22: =IF(OR(I22="",H22=""),"",ROUND(MAX(0,I22-H22),2)) -> 0 | K22: =IF(OR(E22="",F22=""),"",ROUND(24*(MAX(0,MIN((E22+MOD(F22-E22,1)),6/24)-E22)+MAX(0,MIN((E22+MOD(F22-E22,1)),30/24)-MAX(E22,22/24))),2)) -> 0 | M22: =IF(OR(C22="",C22<>C21,E22="",E21="",F21=""),"",ROUND(((A22+E22)-(A21+E21+MOD(F21-E21,1)))*24,2)) -> 15.5
A23: 46437 | B23: =IF(A23="","",CHOOSE(WEEKDAY(A23),"P","E","T","K","N","R","L")) -> R | C23: Kadri Tamm | D23: Päevane | E23: 0.33333333 | F23: 0.6875 | G23: 30 | H23: 8 | I23: =IF(OR(E23="",F23=""),"",ROUND(MOD(F23-E23,1)*24-N(G23)/60,2)) -> 8 | J23: =IF(OR(I23="",H23=""),"",ROUND(MAX(0,I23-H23),2)) -> 0 | K23: =IF(OR(E23="",F23=""),"",ROUND(24*(MAX(0,MIN((E23+MOD(F23-E23,1)),6/24)-E23)+MAX(0,MIN((E23+MOD(F23-E23,1)),30/24)-MAX(E23,22/24))),2)) -> 0 | M23: =IF(OR(C23="",C23<>C22,E23="",E22="",F22=""),"",ROUND(((A23+E23)-(A22+E22+MOD(F22-E22,1)))*24,2)) -> 15.5
A24: 46440 | B24: =IF(A24="","",CHOOSE(WEEKDAY(A24),"P","E","T","K","N","R","L")) -> E | C24: Kadri Tamm | D24: Päevane | E24: 0.33333333 | F24: 0.6875 | G24: 30 | H24: 8 | I24: =IF(OR(E24="",F24=""),"",ROUND(MOD(F24-E24,1)*24-N(G24)/60,2)) -> 8 | J24: =IF(OR(I24="",H24=""),"",ROUND(MAX(0,I24-H24),2)) -> 0 | K24: =IF(OR(E24="",F24=""),"",ROUND(24*(MAX(0,MIN((E24+MOD(F24-E24,1)),6/24)-E24)+MAX(0,MIN((E24+MOD(F24-E24,1)),30/24)-MAX(E24,22/24))),2)) -> 0 | M24: =IF(OR(C24="",C24<>C23,E24="",E23="",F23=""),"",ROUND(((A24+E24)-(A23+E23+MOD(F23-E23,1)))*24,2)) -> 63.5
A25: 46441 | B25: =IF(A25="","",CHOOSE(WEEKDAY(A25),"P","E","T","K","N","R","L")) -> T | C25: Kadri Tamm | D25: Pühade-eelne päev | E25: 0.33333333 | F25: 0.5625 | G25: 30 | H25: 5 | I25: =IF(OR(E25="",F25=""),"",ROUND(MOD(F25-E25,1)*24-N(G25)/60,2)) -> 5 | J25: =IF(OR(I25="",H25=""),"",ROUND(MAX(0,I25-H25),2)) -> 0 | K25: =IF(OR(E25="",F25=""),"",ROUND(24*(MAX(0,MIN((E25+MOD(F25-E25,1)),6/24)-E25)+MAX(0,MIN((E25+MOD(F25-E25,1)),30/24)-MAX(E25,22/24))),2)) -> 0 | M25: =IF(OR(C25="",C25<>C24,E25="",E24="",F24=""),"",ROUND(((A25+E25)-(A24+E24+MOD(F24-E24,1)))*24,2)) -> 15.5 | N25: Lühendatud 3 h (TLS § 53)
A26: 46443 | B26: =IF(A26="","",CHOOSE(WEEKDAY(A26),"P","E","T","K","N","R","L")) -> N | C26: Kadri Tamm | D26: Päevane | E26: 0.33333333 | F26: 0.6875 | G26: 30 | H26: 8 | I26: =IF(OR(E26="",F26=""),"",ROUND(MOD(F26-E26,1)*24-N(G26)/60,2)) -> 8 | J26: =IF(OR(I26="",H26=""),"",ROUND(MAX(0,I26-H26),2)) -> 0 | K26: =IF(OR(E26="",F26=""),"",ROUND(24*(MAX(0,MIN((E26+MOD(F26-E26,1)),6/24)-E26)+MAX(0,MIN((E26+MOD(F26-E26,1)),30/24)-MAX(E26,22/24))),2)) -> 0 | M26: =IF(OR(C26="",C26<>C25,E26="",E25="",F25=""),"",ROUND(((A26+E26)-(A25+E25+MOD(F25-E25,1)))*24,2)) -> 42.5
A27: 46444 | B27: =IF(A27="","",CHOOSE(WEEKDAY(A27),"P","E","T","K","N","R","L")) -> R | C27: Kadri Tamm | D27: Päevane | E27: 0.33333333 | F27: 0.6875 | G27: 30 | H27: 8 | I27: =IF(OR(E27="",F27=""),"",ROUND(MOD(F27-E27,1)*24-N(G27)/60,2)) -> 8 | J27: =IF(OR(I27="",H27=""),"",ROUND(MAX(0,I27-H27),2)) -> 0 | K27: =IF(OR(E27="",F27=""),"",ROUND(24*(MAX(0,MIN((E27+MOD(F27-E27,1)),6/24)-E27)+MAX(0,MIN((E27+MOD(F27-E27,1)),30/24)-MAX(E27,22/24))),2)) -> 0 | M27: =IF(OR(C27="",C27<>C26,E27="",E26="",F26=""),"",ROUND(((A27+E27)-(A26+E26+MOD(F26-E26,1)))*24,2)) -> 15.5
A28: Kuu kokku — Kadri Tamm | H28: =SUM(H9:H27) -> 149 | I28: =SUM(I9:I27) -> 151 | J28: =SUM(J9:J27) -> 2 | K28: =SUM(K9:K27) -> 0.5 | M28: ="alla "&$C$5&" h: "&COUNTIF(M9:M27,"<"&$C$5) -> alla 11 h: 1
A29: 46419 | B29: =IF(A29="","",CHOOSE(WEEKDAY(A29),"P","E","T","K","N","R","L")) -> E | C29: Marko Kask | D29: Õhtune | E29: 0.58333333 | F29: 0.9375 | G29: 30 | H29: 8 | I29: =IF(OR(E29="",F29=""),"",ROUND(MOD(F29-E29,1)*24-N(G29)/60,2)) -> 8 | J29: =IF(OR(I29="",H29=""),"",ROUND(MAX(0,I29-H29),2)) -> 0 | K29: =IF(OR(E29="",F29=""),"",ROUND(24*(MAX(0,MIN((E29+MOD(F29-E29,1)),6/24)-E29)+MAX(0,MIN((E29+MOD(F29-E29,1)),30/24)-MAX(E29,22/24))),2)) -> 0.5 | M29: =IF(OR(C29="",C29<>C28,E29="",E28="",F28=""),"",ROUND(((A29+E29)-(A28+E28+MOD(F28-E28,1)))*24,2))
A30: 46420 | B30: =IF(A30="","",CHOOSE(WEEKDAY(A30),"P","E","T","K","N","R","L")) -> T | C30: Marko Kask | D30: Õhtune | E30: 0.58333333 | F30: 0.9375 | G30: 30 | H30: 8 | I30: =IF(OR(E30="",F30=""),"",ROUND(MOD(F30-E30,1)*24-N(G30)/60,2)) -> 8 | J30: =IF(OR(I30="",H30=""),"",ROUND(MAX(0,I30-H30),2)) -> 0 | K30: =IF(OR(E30="",F30=""),"",ROUND(24*(MAX(0,MIN((E30+MOD(F30-E30,1)),6/24)-E30)+MAX(0,MIN((E30+MOD(F30-E30,1)),30/24)-MAX(E30,22/24))),2)) -> 0.5 | M30: =IF(OR(C30="",C30<>C29,E30="",E29="",F29=""),"",ROUND(((A30+E30)-(A29+E29+MOD(F29-E29,1)))*24,2)) -> 15.5
A31: 46421 | B31: =IF(A31="","",CHOOSE(WEEKDAY(A31),"P","E","T","K","N","R","L")) -> K | C31: Marko Kask | D31: Õhtune | E31: 0.58333333 | F31: 0.9375 | G31: 30 | H31: 8 | I31: =IF(OR(E31="",F31=""),"",ROUND(MOD(F31-E31,1)*24-N(G31)/60,2)) -> 8 | J31: =IF(OR(I31="",H31=""),"",ROUND(MAX(0,I31-H31),2)) -> 0 | K31: =IF(OR(E31="",F31=""),"",ROUND(24*(MAX(0,MIN((E31+MOD(F31-E31,1)),6/24)-E31)+MAX(0,MIN((E31+MOD(F31-E31,1)),30/24)-MAX(E31,22/24))),2)) -> 0.5 | M31: =IF(OR(C31="",C31<>C30,E31="",E30="",F30=""),"",ROUND(((A31+E31)-(A30+E30+MOD(F30-E30,1)))*24,2)) -> 15.5
A32: 46422 | B32: =IF(A32="","",CHOOSE(WEEKDAY(A32),"P","E","T","K","N","R","L")) -> N | C32: Marko Kask | D32: Õhtune | E32: 0.58333333 | F32: 0.9375 | G32: 30 | H32: 8 | I32: =IF(OR(E32="",F32=""),"",ROUND(MOD(F32-E32,1)*24-N(G32)/60,2)) -> 8 | J32: =IF(OR(I32="",H32=""),"",ROUND(MAX(0,I32-H32),2)) -> 0 | K32: =IF(OR(E32="",F32=""),"",ROUND(24*(MAX(0,MIN((E32+MOD(F32-E32,1)),6/24)-E32)+MAX(0,MIN((E32+MOD(F32-E32,1)),30/24)-MAX(E32,22/24))),2)) -> 0.5 | M32: =IF(OR(C32="",C32<>C31,E32="",E31="",F31=""),"",ROUND(((A32+E32)-(A31+E31+MOD(F31-E31,1)))*24,2)) -> 15.5
A33: 46423 | B33: =IF(A33="","",CHOOSE(WEEKDAY(A33),"P","E","T","K","N","R","L")) -> R | C33: Marko Kask | D33: Õhtune | E33: 0.58333333 | F33: 0.9375 | G33: 30 | H33: 8 | I33: =IF(OR(E33="",F33=""),"",ROUND(MOD(F33-E33,1)*24-N(G33)/60,2)) -> 8 | J33: =IF(OR(I33="",H33=""),"",ROUND(MAX(0,I33-H33),2)) -> 0 | K33: =IF(OR(E33="",F33=""),"",ROUND(24*(MAX(0,MIN((E33+MOD(F33-E33,1)),6/24)-E33)+MAX(0,MIN((E33+MOD(F33-E33,1)),30/24)-MAX(E33,22/24))),2)) -> 0.5 | M33: =IF(OR(C33="",C33<>C32,E33="",E32="",F32=""),"",ROUND(((A33+E33)-(A32+E32+MOD(F32-E32,1)))*24,2)) -> 15.5
A34: 46426 | B34: =IF(A34="","",CHOOSE(WEEKDAY(A34),"P","E","T","K","N","R","L")) -> E | C34: Marko Kask | D34: Öövahetus | E34: 0.91666667 | F34: 0.27083333 | G34: 30 | H34: 8 | I34: =IF(OR(E34="",F34=""),"",ROUND(MOD(F34-E34,1)*24-N(G34)/60,2)) -> 8 | J34: =IF(OR(I34="",H34=""),"",ROUND(MAX(0,I34-H34),2)) -> 0 | K34: =IF(OR(E34="",F34=""),"",ROUND(24*(MAX(0,MIN((E34+MOD(F34-E34,1)),6/24)-E34)+MAX(0,MIN((E34+MOD(F34-E34,1)),30/24)-MAX(E34,22/24))),2)) -> 8 | M34: =IF(OR(C34="",C34<>C33,E34="",E33="",F33=""),"",ROUND(((A34+E34)-(A33+E33+MOD(F33-E33,1)))*24,2)) -> 71.5
A35: 46427 | B35: =IF(A35="","",CHOOSE(WEEKDAY(A35),"P","E","T","K","N","R","L")) -> T | C35: Marko Kask | D35: Öövahetus | E35: 0.91666667 | F35: 0.27083333 | G35: 30 | H35: 8 | I35: =IF(OR(E35="",F35=""),"",ROUND(MOD(F35-E35,1)*24-N(G35)/60,2)) -> 8 | J35: =IF(OR(I35="",H35=""),"",ROUND(MAX(0,I35-H35),2)) -> 0 | K35: =IF(OR(E35="",F35=""),"",ROUND(24*(MAX(0,MIN((E35+MOD(F35-E35,1)),6/24)-E35)+MAX(0,MIN((E35+MOD(F35-E35,1)),30/24)-MAX(E35,22/24))),2)) -> 8 | M35: =IF(OR(C35="",C35<>C34,E35="",E34="",F34=""),"",ROUND(((A35+E35)-(A34+E34+MOD(F34-E34,1)))*24,2)) -> 15.5
A36: 46428 | B36: =IF(A36="","",CHOOSE(WEEKDAY(A36),"P","E","T","K","N","R","L")) -> K | C36: Marko Kask | D36: Öövahetus | E36: 0.91666667 | F36: 0.27083333 | G36: 30 | H36: 8 | I36: =IF(OR(E36="",F36=""),"",ROUND(MOD(F36-E36,1)*24-N(G36)/60,2)) -> 8 | J36: =IF(OR(I36="",H36=""),"",ROUND(MAX(0,I36-H36),2)) -> 0 | K36: =IF(OR(E36="",F36=""),"",ROUND(24*(MAX(0,MIN((E36+MOD(F36-E36,1)),6/24)-E36)+MAX(0,MIN((E36+MOD(F36-E36,1)),30/24)-MAX(E36,22/24))),2)) -> 8 | M36: =IF(OR(C36="",C36<>C35,E36="",E35="",F35=""),"",ROUND(((A36+E36)-(A35+E35+MOD(F35-E35,1)))*24,2)) -> 15.5
A37: 46429 | B37: =IF(A37="","",CHOOSE(WEEKDAY(A37),"P","E","T","K","N","R","L")) -> N | C37: Marko Kask | D37: Öövahetus | E37: 0.91666667 | F37: 0.27083333 | G37: 30 | H37: 8 | I37: =IF(OR(E37="",F37=""),"",ROUND(MOD(F37-E37,1)*24-N(G37)/60,2)) -> 8 | J37: =IF(OR(I37="",H37=""),"",ROUND(MAX(0,I37-H37),2)) -> 0 | K37: =IF(OR(E37="",F37=""),"",ROUND(24*(MAX(0,MIN((E37+MOD(F37-E37,1)),6/24)-E37)+MAX(0,MIN((E37+MOD(F37-E37,1)),30/24)-MAX(E37,22/24))),2)) -> 8 | M37: =IF(OR(C37="",C37<>C36,E37="",E36="",F36=""),"",ROUND(((A37+E37)-(A36+E36+MOD(F36-E36,1)))*24,2)) -> 15.5
A38: 46430 | B38: =IF(A38="","",CHOOSE(WEEKDAY(A38),"P","E","T","K","N","R","L")) -> R | C38: Marko Kask | D38: Öövahetus | E38: 0.91666667 | F38: 0.27083333 | G38: 30 | H38: 8 | I38: =IF(OR(E38="",F38=""),"",ROUND(MOD(F38-E38,1)*24-N(G38)/60,2)) -> 8 | J38: =IF(OR(I38="",H38=""),"",ROUND(MAX(0,I38-H38),2)) -> 0 | K38: =IF(OR(E38="",F38=""),"",ROUND(24*(MAX(0,MIN((E38+MOD(F38-E38,1)),6/24)-E38)+MAX(0,MIN((E38+MOD(F38-E38,1)),30/24)-MAX(E38,22/24))),2)) -> 8 | M38: =IF(OR(C38="",C38<>C37,E38="",E37="",F37=""),"",ROUND(((A38+E38)-(A37+E37+MOD(F37-E37,1)))*24,2)) -> 15.5
A39: 46433 | B39: =IF(A39="","",CHOOSE(WEEKDAY(A39),"P","E","T","K","N","R","L")) -> E | C39: Marko Kask | D39: Õhtune | E39: 0.58333333 | F39: 0.9375 | G39: 30 | H39: 8 | I39: =IF(OR(E39="",F39=""),"",ROUND(MOD(F39-E39,1)*24-N(G39)/60,2)) -> 8 | J39: =IF(OR(I39="",H39=""),"",ROUND(MAX(0,I39-H39),2)) -> 0 | K39: =IF(OR(E39="",F39=""),"",ROUND(24*(MAX(0,MIN((E39+MOD(F39-E39,1)),6/24)-E39)+MAX(0,MIN((E39+MOD(F39-E39,1)),30/24)-MAX(E39,22/24))),2)) -> 0.5 | M39: =IF(OR(C39="",C39<>C38,E39="",E38="",F38=""),"",ROUND(((A39+E39)-(A38+E38+MOD(F38-E38,1)))*24,2)) -> 55.5
A40: 46434 | B40: =IF(A40="","",CHOOSE(WEEKDAY(A40),"P","E","T","K","N","R","L")) -> T | C40: Marko Kask | D40: Õhtune | E40: 0.58333333 | F40: 0.9375 | G40: 30 | H40: 8 | I40: =IF(OR(E40="",F40=""),"",ROUND(MOD(F40-E40,1)*24-N(G40)/60,2)) -> 8 | J40: =IF(OR(I40="",H40=""),"",ROUND(MAX(0,I40-H40),2)) -> 0 | K40: =IF(OR(E40="",F40=""),"",ROUND(24*(MAX(0,MIN((E40+MOD(F40-E40,1)),6/24)-E40)+MAX(0,MIN((E40+MOD(F40-E40,1)),30/24)-MAX(E40,22/24))),2)) -> 0.5 | M40: =IF(OR(C40="",C40<>C39,E40="",E39="",F39=""),"",ROUND(((A40+E40)-(A39+E39+MOD(F39-E39,1)))*24,2)) -> 15.5
... A44: 46440 | B44: =IF(A44="","",CHOOSE(WEEKDAY(A44),"P","E","T","K","N","R","L")) -> E | C44: Marko Kask | D44: Õhtune | E44: 0.58333333 | F44: 0.9375 | G44: 30 | H44: 8 | I44: =IF(OR(E44="",F44=""),"",ROUND(MOD(F44-E44,1)*24-N(G44)/60,2)) -> 8 | J44: =IF(OR(I44="",H44=""),"",ROUND(MAX(0,I44-H44),2)) -> 0 | K44: =IF(OR(E44="",F44=""),"",ROUND(24*(MAX(0,MIN((E44+MOD(F44-E44,1)),6/24)-E44)+MAX(0,MIN((E44+MOD(F44-E44,1)),30/24)-MAX(E44,22/24))),2)) -> 0.5 | M44: =IF(OR(C44="",C44<>C43,E44="",E43="",F43=""),"",ROUND(((A44+E44)-(A43+E43+MOD(F43-E43,1)))*24,2)) -> 63.5
A45: 46441 | B45: =IF(A45="","",CHOOSE(WEEKDAY(A45),"P","E","T","K","N","R","L")) -> T | C45: Marko Kask | D45: Pühade-eelne päev | E45: 0.58333333 | F45: 0.8125 | G45: 30 | H45: 5 | I45: =IF(OR(E45="",F45=""),"",ROUND(MOD(F45-E45,1)*24-N(G45)/60,2)) -> 5 | J45: =IF(OR(I45="",H45=""),"",ROUND(MAX(0,I45-H45),2)) -> 0 | K45: =IF(OR(E45="",F45=""),"",ROUND(24*(MAX(0,MIN((E45+MOD(F45-E45,1)),6/24)-E45)+MAX(0,MIN((E45+MOD(F45-E45,1)),30/24)-MAX(E45,22/24))),2)) -> 0 | M45: =IF(OR(C45="",C45<>C44,E45="",E44="",F44=""),"",ROUND(((A45+E45)-(A44+E44+MOD(F44-E44,1)))*24,2)) -> 15.5 | N45: Lühendatud 3 h (TLS § 53)
A46: 46442 | B46: =IF(A46="","",CHOOSE(WEEKDAY(A46),"P","E","T","K","N","R","L")) -> K | C46: Marko Kask | D46: Riigipüha | E46: 0.58333333 | F46: 0.9375 | G46: 30 | H46: 8 | I46: =IF(OR(E46="",F46=""),"",ROUND(MOD(F46-E46,1)*24-N(G46)/60,2)) -> 8 | J46: =IF(OR(I46="",H46=""),"",ROUND(MAX(0,I46-H46),2)) -> 0 | K46: =IF(OR(E46="",F46=""),"",ROUND(24*(MAX(0,MIN((E46+MOD(F46-E46,1)),6/24)-E46)+MAX(0,MIN((E46+MOD(F46-E46,1)),30/24)-MAX(E46,22/24))),2)) -> 0.5 | M46: =IF(OR(C46="",C46<>C45,E46="",E45="",F45=""),"",ROUND(((A46+E46)-(A45+E45+MOD(F45-E45,1)))*24,2)) -> 18.5 | N46: Iseseisvuspäev – töö graafiku järgi, vaba päev 25.02
A47: 46444 | B47: =IF(A47="","",CHOOSE(WEEKDAY(A47),"P","E","T","K","N","R","L")) -> R | C47: Marko Kask | D47: Õhtune | E47: 0.58333333 | F47: 0.9375 | G47: 30 | H47: 8 | I47: =IF(OR(E47="",F47=""),"",ROUND(MOD(F47-E47,1)*24-N(G47)/60,2)) -> 8 | J47: =IF(OR(I47="",H47=""),"",ROUND(MAX(0,I47-H47),2)) -> 0 | K47: =IF(OR(E47="",F47=""),"",ROUND(24*(MAX(0,MIN((E47+MOD(F47-E47,1)),6/24)-E47)+MAX(0,MIN((E47+MOD(F47-E47,1)),30/24)-MAX(E47,22/24))),2)) -> 0.5 | M47: =IF(OR(C47="",C47<>C46,E47="",E46="",F46=""),"",ROUND(((A47+E47)-(A46+E46+MOD(F46-E46,1)))*24,2)) -> 39.5
A48: Kuu kokku — Marko Kask | H48: =SUM(H29:H47) -> 149 | I48: =SUM(I29:I47) -> 149 | J48: =SUM(J29:J47) -> 0 | K48: =SUM(K29:K47) -> 46.5 | M48: ="alla "&$C$5&" h: "&COUNTIF(M29:M47,"<"&$C$5) -> alla 11 h: 0
A49: 46419 | B49: =IF(A49="","",CHOOSE(WEEKDAY(A49),"P","E","T","K","N","R","L")) -> E | C49: Liis Saar | D49: Päevane | E49: 0.375 | F49: 0.72916667 | G49: 30 | H49: 8 | I49: =IF(OR(E49="",F49=""),"",ROUND(MOD(F49-E49,1)*24-N(G49)/60,2)) -> 8 | J49: =IF(OR(I49="",H49=""),"",ROUND(MAX(0,I49-H49),2)) -> 0 | K49: =IF(OR(E49="",F49=""),"",ROUND(24*(MAX(0,MIN((E49+MOD(F49-E49,1)),6/24)-E49)+MAX(0,MIN((E49+MOD(F49-E49,1)),30/24)-MAX(E49,22/24))),2)) -> 0 | M49: =IF(OR(C49="",C49<>C48,E49="",E48="",F48=""),"",ROUND(((A49+E49)-(A48+E48+MOD(F48-E48,1)))*24,2))
A50: 46420 | B50: =IF(A50="","",CHOOSE(WEEKDAY(A50),"P","E","T","K","N","R","L")) -> T | C50: Liis Saar | D50: Päevane | E50: 0.375 | F50: 0.72916667 | G50: 30 | H50: 8 | I50: =IF(OR(E50="",F50=""),"",ROUND(MOD(F50-E50,1)*24-N(G50)/60,2)) -> 8 | J50: =IF(OR(I50="",H50=""),"",ROUND(MAX(0,I50-H50),2)) -> 0 | K50: =IF(OR(E50="",F50=""),"",ROUND(24*(MAX(0,MIN((E50+MOD(F50-E50,1)),6/24)-E50)+MAX(0,MIN((E50+MOD(F50-E50,1)),30/24)-MAX(E50,22/24))),2)) -> 0 | M50: =IF(OR(C50="",C50<>C49,E50="",E49="",F49=""),"",ROUND(((A50+E50)-(A49+E49+MOD(F49-E49,1)))*24,2)) -> 15.5
A51: 46421 | B51: =IF(A51="","",CHOOSE(WEEKDAY(A51),"P","E","T","K","N","R","L")) -> K | C51: Liis Saar | D51: Päevane | E51: 0.375 | F51: 0.72916667 | G51: 30 | H51: 8 | I51: =IF(OR(E51="",F51=""),"",ROUND(MOD(F51-E51,1)*24-N(G51)/60,2)) -> 8 | J51: =IF(OR(I51="",H51=""),"",ROUND(MAX(0,I51-H51),2)) -> 0 | K51: =IF(OR(E51="",F51=""),"",ROUND(24*(MAX(0,MIN((E51+MOD(F51-E51,1)),6/24)-E51)+MAX(0,MIN((E51+MOD(F51-E51,1)),30/24)-MAX(E51,22/24))),2)) -> 0 | M51: =IF(OR(C51="",C51<>C50,E51="",E50="",F50=""),"",ROUND(((A51+E51)-(A50+E50+MOD(F50-E50,1)))*24,2)) -> 15.5
A52: 46422 | B52: =IF(A52="","",CHOOSE(WEEKDAY(A52),"P","E","T","K","N","R","L")) -> N | C52: Liis Saar | D52: Päevane | E52: 0.375 | F52: 0.72916667 | G52: 30 | H52: 8 | I52: =IF(OR(E52="",F52=""),"",ROUND(MOD(F52-E52,1)*24-N(G52)/60,2)) -> 8 | J52: =IF(OR(I52="",H52=""),"",ROUND(MAX(0,I52-H52),2)) -> 0 | K52: =IF(OR(E52="",F52=""),"",ROUND(24*(MAX(0,MIN((E52+MOD(F52-E52,1)),6/24)-E52)+MAX(0,MIN((E52+MOD(F52-E52,1)),30/24)-MAX(E52,22/24))),2)) -> 0 | M52: =IF(OR(C52="",C52<>C51,E52="",E51="",F51=""),"",ROUND(((A52+E52)-(A51+E51+MOD(F51-E51,1)))*24,2)) -> 15.5
A53: 46423 | B53: =IF(A53="","",CHOOSE(WEEKDAY(A53),"P","E","T","K","N","R","L")) -> R | C53: Liis Saar | D53: Päevane | E53: 0.375 | F53: 0.72916667 | G53: 30 | H53: 8 | I53: =IF(OR(E53="",F53=""),"",ROUND(MOD(F53-E53,1)*24-N(G53)/60,2)) -> 8 | J53: =IF(OR(I53="",H53=""),"",ROUND(MAX(0,I53-H53),2)) -> 0 | K53: =IF(OR(E53="",F53=""),"",ROUND(24*(MAX(0,MIN((E53+MOD(F53-E53,1)),6/24)-E53)+MAX(0,MIN((E53+MOD(F53-E53,1)),30/24)-MAX(E53,22/24))),2)) -> 0 | M53: =IF(OR(C53="",C53<>C52,E53="",E52="",F52=""),"",ROUND(((A53+E53)-(A52+E52+MOD(F52-E52,1)))*24,2)) -> 15.5
A54: 46426 | B54: =IF(A54="","",CHOOSE(WEEKDAY(A54),"P","E","T","K","N","R","L")) -> E | C54: Liis Saar | D54: Päevane | E54: 0.375 | F54: 0.72916667 | G54: 30 | H54: 8 | I54: =IF(OR(E54="",F54=""),"",ROUND(MOD(F54-E54,1)*24-N(G54)/60,2)) -> 8 | J54: =IF(OR(I54="",H54=""),"",ROUND(MAX(0,I54-H54),2)) -> 0 | K54: =IF(OR(E54="",F54=""),"",ROUND(24*(MAX(0,MIN((E54+MOD(F54-E54,1)),6/24)-E54)+MAX(0,MIN((E54+MOD(F54-E54,1)),30/24)-MAX(E54,22/24))),2)) -> 0 | M54: =IF(OR(C54="",C54<>C53,E54="",E53="",F53=""),"",ROUND(((A54+E54)-(A53+E53+MOD(F53-E53,1)))*24,2)) -> 63.5
A55: 46427 | B55: =IF(A55="","",CHOOSE(WEEKDAY(A55),"P","E","T","K","N","R","L")) -> T | C55: Liis Saar | D55: Päevane | E55: 0.375 | F55: 0.72916667 | G55: 30 | H55: 8 | I55: =IF(OR(E55="",F55=""),"",ROUND(MOD(F55-E55,1)*24-N(G55)/60,2)) -> 8 | J55: =IF(OR(I55="",H55=""),"",ROUND(MAX(0,I55-H55),2)) -> 0 | K55: =IF(OR(E55="",F55=""),"",ROUND(24*(MAX(0,MIN((E55+MOD(F55-E55,1)),6/24)-E55)+MAX(0,MIN((E55+MOD(F55-E55,1)),30/24)-MAX(E55,22/24))),2)) -> 0 | M55: =IF(OR(C55="",C55<>C54,E55="",E54="",F54=""),"",ROUND(((A55+E55)-(A54+E54+MOD(F54-E54,1)))*24,2)) -> 15.5
A56: 46428 | B56: =IF(A56="","",CHOOSE(WEEKDAY(A56),"P","E","T","K","N","R","L")) -> K | C56: Liis Saar | D56: Puudumine | H56: 8 | I56: =IF(OR(E56="",F56=""),"",ROUND(MOD(F56-E56,1)*24-N(G56)/60,2)) | J56: =IF(OR(I56="",H56=""),"",ROUND(MAX(0,I56-H56),2)) | K56: =IF(OR(E56="",F56=""),"",ROUND(24*(MAX(0,MIN((E56+MOD(F56-E56,1)),6/24)-E56)+MAX(0,MIN((E56+MOD(F56-E56,1)),30/24)-MAX(E56,22/24))),2)) | M56: =IF(OR(C56="",C56<>C55,E56="",E55="",F55=""),"",ROUND(((A56+E56)-(A55+E55+MOD(F55-E55,1)))*24,2)) | N56: Haigusleht
A57: 46429 | B57: =IF(A57="","",CHOOSE(WEEKDAY(A57),"P","E","T","K","N","R","L")) -> N | C57: Liis Saar | D57: Puudumine | H57: 8 | I57: =IF(OR(E57="",F57=""),"",ROUND(MOD(F57-E57,1)*24-N(G57)/60,2)) | J57: =IF(OR(I57="",H57=""),"",ROUND(MAX(0,I57-H57),2)) | K57: =IF(OR(E57="",F57=""),"",ROUND(24*(MAX(0,MIN((E57+MOD(F57-E57,1)),6/24)-E57)+MAX(0,MIN((E57+MOD(F57-E57,1)),30/24)-MAX(E57,22/24))),2)) | M57: =IF(OR(C57="",C57<>C56,E57="",E56="",F56=""),"",ROUND(((A57+E57)-(A56+E56+MOD(F56-E56,1)))*24,2)) | N57: Haigusleht
A58: 46430 | B58: =IF(A58="","",CHOOSE(WEEKDAY(A58),"P","E","T","K","N","R","L")) -> R | C58: Liis Saar | D58: Päevane | E58: 0.375 | F58: 0.72916667 | G58: 30 | H58: 8 | I58: =IF(OR(E58="",F58=""),"",ROUND(MOD(F58-E58,1)*24-N(G58)/60,2)) -> 8 | J58: =IF(OR(I58="",H58=""),"",ROUND(MAX(0,I58-H58),2)) -> 0 | K58: =IF(OR(E58="",F58=""),"",ROUND(24*(MAX(0,MIN((E58+MOD(F58-E58,1)),6/24)-E58)+MAX(0,MIN((E58+MOD(F58-E58,1)),30/24)-MAX(E58,22/24))),2)) -> 0 | M58: =IF(OR(C58="",C58<>C57,E58="",E57="",F57=""),"",ROUND(((A58+E58)-(A57+E57+MOD(F57-E57,1)))*24,2))
A59: 46433 | B59: =IF(A59="","",CHOOSE(WEEKDAY(A59),"P","E","T","K","N","R","L")) -> E | C59: Liis Saar | D59: Päevane | E59: 0.375 | F59: 0.72916667 | G59: 30 | H59: 8 | I59: =IF(OR(E59="",F59=""),"",ROUND(MOD(F59-E59,1)*24-N(G59)/60,2)) -> 8 | J59: =IF(OR(I59="",H59=""),"",ROUND(MAX(0,I59-H59),2)) -> 0 | K59: =IF(OR(E59="",F59=""),"",ROUND(24*(MAX(0,MIN((E59+MOD(F59-E59,1)),6/24)-E59)+MAX(0,MIN((E59+MOD(F59-E59,1)),30/24)-MAX(E59,22/24))),2)) -> 0 | M59: =IF(OR(C59="",C59<>C58,E59="",E58="",F58=""),"",ROUND(((A59+E59)-(A58+E58+MOD(F58-E58,1)))*24,2)) -> 63.5
A60: 46434 | B60: =IF(A60="","",CHOOSE(WEEKDAY(A60),"P","E","T","K","N","R","L")) -> T | C60: Liis Saar | D60: Päevane + ületunnid | E60: 0.375 | F60: 0.79166667 | G60: 30 | H60: 8 | I60: =IF(OR(E60="",F60=""),"",ROUND(MOD(F60-E60,1)*24-N(G60)/60,2)) -> 9.5 | J60: =IF(OR(I60="",H60=""),"",ROUND(MAX(0,I60-H60),2)) -> 1.5 | K60: =IF(OR(E60="",F60=""),"",ROUND(24*(MAX(0,MIN((E60+MOD(F60-E60,1)),6/24)-E60)+MAX(0,MIN((E60+MOD(F60-E60,1)),30/24)-MAX(E60,22/24))),2)) -> 0 | M60: =IF(OR(C60="",C60<>C59,E60="",E59="",F59=""),"",ROUND(((A60+E60)-(A59+E59+MOD(F59-E59,1)))*24,2)) -> 15.5 | N60: Ületunnid 1,5 h kokku lepitud
A61: 46435 | B61: =IF(A61="","",CHOOSE(WEEKDAY(A61),"P","E","T","K","N","R","L")) -> K | C61: Liis Saar | D61: Päevane | E61: 0.375 | F61: 0.72916667 | G61: 30 | H61: 8 | I61: =IF(OR(E61="",F61=""),"",ROUND(MOD(F61-E61,1)*24-N(G61)/60,2)) -> 8 | J61: =IF(OR(I61="",H61=""),"",ROUND(MAX(0,I61-H61),2)) -> 0 | K61: =IF(OR(E61="",F61=""),"",ROUND(24*(MAX(0,MIN((E61+MOD(F61-E61,1)),6/24)-E61)+MAX(0,MIN((E61+MOD(F61-E61,1)),30/24)-MAX(E61,22/24))),2)) -> 0 | M61: =IF(OR(C61="",C61<>C60,E61="",E60="",F60=""),"",ROUND(((A61+E61)-(A60+E60+MOD(F60-E60,1)))*24,2)) -> 14
A62: 46436 | B62: =IF(A62="","",CHOOSE(WEEKDAY(A62),"P","E","T","K","N","R","L")) -> N | C62: Liis Saar | D62: Päevane | E62: 0.375 | F62: 0.72916667 | G62: 30 | H62: 8 | I62: =IF(OR(E62="",F62=""),"",ROUND(MOD(F62-E62,1)*24-N(G62)/60,2)) -> 8 | J62: =IF(OR(I62="",H62=""),"",ROUND(MAX(0,I62-H62),2)) -> 0 | K62: =IF(OR(E62="",F62=""),"",ROUND(24*(MAX(0,MIN((E62+MOD(F62-E62,1)),6/24)-E62)+MAX(0,MIN((E62+MOD(F62-E62,1)),30/24)-MAX(E62,22/24))),2)) -> 0 | M62: =IF(OR(C62="",C62<>C61,E62="",E61="",F61=""),"",ROUND(((A62+E62)-(A61+E61+MOD(F61-E61,1)))*24,2)) -> 15.5 | N62: Unustatud väljalogimine parandatud 17:30-ks, kinnitas juht 19.02
A63: 46437 | B63: =IF(A63="","",CHOOSE(WEEKDAY(A63),"P","E","T","K","N","R","L")) -> R | C63: Liis Saar | D63: Päevane | E63: 0.375 | F63: 0.72916667 | G63: 30 | H63: 8 | I63: =IF(OR(E63="",F63=""),"",ROUND(MOD(F63-E63,1)*24-N(G63)/60,2)) -> 8 | J63: =IF(OR(I63="",H63=""),"",ROUND(MAX(0,I63-H63),2)) -> 0 | K63: =IF(OR(E63="",F63=""),"",ROUND(24*(MAX(0,MIN((E63+MOD(F63-E63,1)),6/24)-E63)+MAX(0,MIN((E63+MOD(F63-E63,1)),30/24)-MAX(E63,22/24))),2)) -> 0 | M63: =IF(OR(C63="",C63<>C62,E63="",E62="",F62=""),"",ROUND(((A63+E63)-(A62+E62+MOD(F62-E62,1)))*24,2)) -> 15.5
A64: 46440 | B64: =IF(A64="","",CHOOSE(WEEKDAY(A64),"P","E","T","K","N","R","L")) -> E | C64: Liis Saar | D64: Päevane | E64: 0.375 | F64: 0.72916667 | G64: 30 | H64: 8 | I64: =IF(OR(E64="",F64=""),"",ROUND(MOD(F64-E64,1)*24-N(G64)/60,2)) -> 8 | J64: =IF(OR(I64="",H64=""),"",ROUND(MAX(0,I64-H64),2)) -> 0 | K64: =IF(OR(E64="",F64=""),"",ROUND(24*(MAX(0,MIN((E64+MOD(F64-E64,1)),6/24)-E64)+MAX(0,MIN((E64+MOD(F64-E64,1)),30/24)-MAX(E64,22/24))),2)) -> 0 | M64: =IF(OR(C64="",C64<>C63,E64="",E63="",F63=""),"",ROUND(((A64+E64)-(A63+E63+MOD(F63-E63,1)))*24,2)) -> 63.5
A65: 46441 | B65: =IF(A65="","",CHOOSE(WEEKDAY(A65),"P","E","T","K","N","R","L")) -> T | C65: Liis Saar | D65: Pühade-eelne päev | E65: 0.375 | F65: 0.60416667 | G65: 30 | H65: 5 | I65: =IF(OR(E65="",F65=""),"",ROUND(MOD(F65-E65,1)*24-N(G65)/60,2)) -> 5 | J65: =IF(OR(I65="",H65=""),"",ROUND(MAX(0,I65-H65),2)) -> 0 | K65: =IF(OR(E65="",F65=""),"",ROUND(24*(MAX(0,MIN((E65+MOD(F65-E65,1)),6/24)-E65)+MAX(0,MIN((E65+MOD(F65-E65,1)),30/24)-MAX(E65,22/24))),2)) -> 0 | M65: =IF(OR(C65="",C65<>C64,E65="",E64="",F64=""),"",ROUND(((A65+E65)-(A64+E64+MOD(F64-E64,1)))*24,2)) -> 15.5 | N65: Lühendatud 3 h (TLS § 53)
A66: 46443 | B66: =IF(A66="","",CHOOSE(WEEKDAY(A66),"P","E","T","K","N","R","L")) -> N | C66: Liis Saar | D66: Päevane | E66: 0.375 | F66: 0.72916667 | G66: 30 | H66: 8 | I66: =IF(OR(E66="",F66=""),"",ROUND(MOD(F66-E66,1)*24-N(G66)/60,2)) -> 8 | J66: =IF(OR(I66="",H66=""),"",ROUND(MAX(0,I66-H66),2)) -> 0 | K66: =IF(OR(E66="",F66=""),"",ROUND(24*(MAX(0,MIN((E66+MOD(F66-E66,1)),6/24)-E66)+MAX(0,MIN((E66+MOD(F66-E66,1)),30/24)-MAX(E66,22/24))),2)) -> 0 | M66: =IF(OR(C66="",C66<>C65,E66="",E65="",F65=""),"",ROUND(((A66+E66)-(A65+E65+MOD(F65-E65,1)))*24,2)) -> 42.5
A67: 46444 | B67: =IF(A67="","",CHOOSE(WEEKDAY(A67),"P","E","T","K","N","R","L")) -> R | C67: Liis Saar | D67: Päevane | E67: 0.375 | F67: 0.72916667 | G67: 30 | H67: 8 | I67: =IF(OR(E67="",F67=""),"",ROUND(MOD(F67-E67,1)*24-N(G67)/60,2)) -> 8 | J67: =IF(OR(I67="",H67=""),"",ROUND(MAX(0,I67-H67),2)) -> 0 | K67: =IF(OR(E67="",F67=""),"",ROUND(24*(MAX(0,MIN((E67+MOD(F67-E67,1)),6/24)-E67)+MAX(0,MIN((E67+MOD(F67-E67,1)),30/24)-MAX(E67,22/24))),2)) -> 0 | M67: =IF(OR(C67="",C67<>C66,E67="",E66="",F66=""),"",ROUND(((A67+E67)-(A66+E66+MOD(F66-E66,1)))*24,2)) -> 15.5
A68: Kuu kokku — Liis Saar | H68: =SUM(H49:H67) -> 149 | I68: =SUM(I49:I67) -> 134.5 | J68: =SUM(J49:J67) -> 1.5 | K68: =SUM(K49:K67) -> 0 | M68: ="alla "&$C$5&" h: "&COUNTIF(M49:M67,"<"&$C$5) -> alla 11 h: 0
C69: Tühjad read uute kannete jaoks (valemid on sees)
B70: =IF(A70="","",CHOOSE(WEEKDAY(A70),"P","E","T","K","N","R","L")) | I70: =IF(OR(E70="",F70=""),"",ROUND(MOD(F70-E70,1)*24-N(G70)/60,2)) | J70: =IF(OR(I70="",H70=""),"",ROUND(MAX(0,I70-H70),2)) | K70: =IF(OR(E70="",F70=""),"",ROUND(24*(MAX(0,MIN((E70+MOD(F70-E70,1)),6/24)-E70)+MAX(0,MIN((E70+MOD(F70-E70,1)),30/24)-MAX(E70,22/24))),2)) | M70: =IF(OR(C70="",C70<>C69,E70="",E69="",F69=""),"",ROUND(((A70+E70)-(A69+E69+MOD(F69-E69,1)))*24,2))
B71: =IF(A71="","",CHOOSE(WEEKDAY(A71),"P","E","T","K","N","R","L")) | I71: =IF(OR(E71="",F71=""),"",ROUND(MOD(F71-E71,1)*24-N(G71)/60,2)) | J71: =IF(OR(I71="",H71=""),"",ROUND(MAX(0,I71-H71),2)) | K71: =IF(OR(E71="",F71=""),"",ROUND(24*(MAX(0,MIN((E71+MOD(F71-E71,1)),6/24)-E71)+MAX(0,MIN((E71+MOD(F71-E71,1)),30/24)-MAX(E71,22/24))),2)) | M71: =IF(OR(C71="",C71<>C70,E71="",E70="",F70=""),"",ROUND(((A71+E71)-(A70+E70+MOD(F70-E70,1)))*24,2))
B72: =IF(A72="","",CHOOSE(WEEKDAY(A72),"P","E","T","K","N","R","L")) | I72: =IF(OR(E72="",F72=""),"",ROUND(MOD(F72-E72,1)*24-N(G72)/60,2)) | J72: =IF(OR(I72="",H72=""),"",ROUND(MAX(0,I72-H72),2)) | K72: =IF(OR(E72="",F72=""),"",ROUND(24*(MAX(0,MIN((E72+MOD(F72-E72,1)),6/24)-E72)+MAX(0,MIN((E72+MOD(F72-E72,1)),30/24)-MAX(E72,22/24))),2)) | M72: =IF(OR(C72="",C72<>C71,E72="",E71="",F71=""),"",ROUND(((A72+E72)-(A71+E71+MOD(F71-E71,1)))*24,2))
B73: =IF(A73="","",CHOOSE(WEEKDAY(A73),"P","E","T","K","N","R","L")) | I73: =IF(OR(E73="",F73=""),"",ROUND(MOD(F73-E73,1)*24-N(G73)/60,2)) | J73: =IF(OR(I73="",H73=""),"",ROUND(MAX(0,I73-H73),2)) | K73: =IF(OR(E73="",F73=""),"",ROUND(24*(MAX(0,MIN((E73+MOD(F73-E73,1)),6/24)-E73)+MAX(0,MIN((E73+MOD(F73-E73,1)),30/24)-MAX(E73,22/24))),2)) | M73: =IF(OR(C73="",C73<>C72,E73="",E72="",F72=""),"",ROUND(((A73+E73)-(A72+E72+MOD(F72-E72,1)))*24,2))
B74: =IF(A74="","",CHOOSE(WEEKDAY(A74),"P","E","T","K","N","R","L")) | I74: =IF(OR(E74="",F74=""),"",ROUND(MOD(F74-E74,1)*24-N(G74)/60,2)) | J74: =IF(OR(I74="",H74=""),"",ROUND(MAX(0,I74-H74),2)) | K74: =IF(OR(E74="",F74=""),"",ROUND(24*(MAX(0,MIN((E74+MOD(F74-E74,1)),6/24)-E74)+MAX(0,MIN((E74+MOD(F74-E74,1)),30/24)-MAX(E74,22/24))),2)) | M74: =IF(OR(C74="",C74<>C73,E74="",E73="",F73=""),"",ROUND(((A74+E74)-(A73+E73+MOD(F73-E73,1)))*24,2))
B75: =IF(A75="","",CHOOSE(WEEKDAY(A75),"P","E","T","K","N","R","L")) | I75: =IF(OR(E75="",F75=""),"",ROUND(MOD(F75-E75,1)*24-N(G75)/60,2)) | J75: =IF(OR(I75="",H75=""),"",ROUND(MAX(0,I75-H75),2)) | K75: =IF(OR(E75="",F75=""),"",ROUND(24*(MAX(0,MIN((E75+MOD(F75-E75,1)),6/24)-E75)+MAX(0,MIN((E75+MOD(F75-E75,1)),30/24)-MAX(E75,22/24))),2)) | M75: =IF(OR(C75="",C75<>C74,E75="",E74="",F74=""),"",ROUND(((A75+E75)-(A74+E74+MOD(F74-E74,1)))*24,2))
B76: =IF(A76="","",CHOOSE(WEEKDAY(A76),"P","E","T","K","N","R","L")) | I76: =IF(OR(E76="",F76=""),"",ROUND(MOD(F76-E76,1)*24-N(G76)/60,2)) | J76: =IF(OR(I76="",H76=""),"",ROUND(MAX(0,I76-H76),2)) | K76: =IF(OR(E76="",F76=""),"",ROUND(24*(MAX(0,MIN((E76+MOD(F76-E76,1)),6/24)-E76)+MAX(0,MIN((E76+MOD(F76-E76,1)),30/24)-MAX(E76,22/24))),2)) | M76: =IF(OR(C76="",C76<>C75,E76="",E75="",F75=""),"",ROUND(((A76+E76)-(A75+E75+MOD(F75-E75,1)))*24,2))
B77: =IF(A77="","",CHOOSE(WEEKDAY(A77),"P","E","T","K","N","R","L")) | I77: =IF(OR(E77="",F77=""),"",ROUND(MOD(F77-E77,1)*24-N(G77)/60,2)) | J77: =IF(OR(I77="",H77=""),"",ROUND(MAX(0,I77-H77),2)) | K77: =IF(OR(E77="",F77=""),"",ROUND(24*(MAX(0,MIN((E77+MOD(F77-E77,1)),6/24)-E77)+MAX(0,MIN((E77+MOD(F77-E77,1)),30/24)-MAX(E77,22/24))),2)) | M77: =IF(OR(C77="",C77<>C76,E77="",E76="",F76=""),"",ROUND(((A77+E77)-(A76+E76+MOD(F76-E76,1)))*24,2))
B78: =IF(A78="","",CHOOSE(WEEKDAY(A78),"P","E","T","K","N","R","L")) | I78: =IF(OR(E78="",F78=""),"",ROUND(MOD(F78-E78,1)*24-N(G78)/60,2)) | J78: =IF(OR(I78="",H78=""),"",ROUND(MAX(0,I78-H78),2)) | K78: =IF(OR(E78="",F78=""),"",ROUND(24*(MAX(0,MIN((E78+MOD(F78-E78,1)),6/24)-E78)+MAX(0,MIN((E78+MOD(F78-E78,1)),30/24)-MAX(E78,22/24))),2)) | M78: =IF(OR(C78="",C78<>C77,E78="",E77="",F77=""),"",ROUND(((A78+E78)-(A77+E77+MOD(F77-E77,1)))*24,2))
B79: =IF(A79="","",CHOOSE(WEEKDAY(A79),"P","E","T","K","N","R","L")) | I79: =IF(OR(E79="",F79=""),"",ROUND(MOD(F79-E79,1)*24-N(G79)/60,2)) | J79: =IF(OR(I79="",H79=""),"",ROUND(MAX(0,I79-H79),2)) | K79: =IF(OR(E79="",F79=""),"",ROUND(24*(MAX(0,MIN((E79+MOD(F79-E79,1)),6/24)-E79)+MAX(0,MIN((E79+MOD(F79-E79,1)),30/24)-MAX(E79,22/24))),2)) | M79: =IF(OR(C79="",C79<>C78,E79="",E78="",F78=""),"",ROUND(((A79+E79)-(A78+E78+MOD(F78-E78,1)))*24,2))
A81: Töötatud aeg = MOD(lõpp − algus; 1) × 24 − vaheaeg / 60. Üle südaöö vahetus arvutatakse õigesti (24:00 kirjutage 00:00).
A82: Ületunnid = MAX(0; töötatud aeg − graafikujärgne aeg). Pühade-eelsel päeval on graafikujärgne aeg 3 h lühem (TLS § 53).
A83: Öötunnid = vahetuse osa vahemikus 22:00–06:00 (vaheaega maha ei arvata).
A84: Lisatasu kordaja: kollane lahter jääb tühjaks, kuni määr tuleneb seadusest, kollektiiv- või töölepingust.
A85: Puhkeaeg eelmisest vahetusest = sama töötaja eelmise vahetuse lõpust selle vahetuse alguseni; alla C5 tunni on punane (TLS § 51).
A86: Näide (Kadri Tamm, veebruar 2027): 19 tööpäeva (24.02 on riigipüha) × 8 h − 3 h (23.02) = 149 h.
A87: Ärge muutke vana kellaaega vaikselt – kirjutage märkusesse põhjus ja kes kinnitas. Fail arvestab ainult tunde; palk ja maksud arvutatakse palgaprogrammis. Kontrollige kehtivat TLS-i Riigi Teatajast.

Sheet Kuukokkuvõte
A1: Kuukokkuvõte – töötajate kaupa | I1: Hüpoteetiline näide — orova.vn
A2: Kuu: | B2: =Tööajatabel!C2 -> 46419
A3: Kuu tööpäevad: | B3: =Tööajatabel!J4 -> 19
A4: Kuu normtunnid (h): | B4: =Tööajatabel!J5 -> 149 | C4: =Tööajatabel!L5 -> 19 × 8 − 3 = 149 h
A5: Min. puhkeaeg (h): | B5: =Tööajatabel!C5 -> 11 | C5: muudetakse lehel «Tööajatabel»
A7: Töötaja | B7: Tööpäevad | C7: Norm- tunnid (h) | D7: Töötatud tunnid (h) | E7: Ületunnid (h) | F7: Öötunnid (h) | G7: Riigipühal töötatud (h) | H7: Puhkeaeg < 11 h (vahetusi) | I7: Puudumised (päeva) | J7: Kontroll (leht 1) | K7: Kinnitas | L7: Kuupäev
A8: Kadri Tamm | B8: =IF($A8="","",COUNTIFS(Tööajatabel!$C$9:$C$79,$A8,Tööajatabel!$I$9:$I$79,">0")) -> 19 | C8: =IF($A8="","",$B$4) -> 149 | D8: =IF($A8="","",SUMIFS(Tööajatabel!$I$9:$I$79,Tööajatabel!$C$9:$C$79,$A8)) -> 151 | E8: =IF($A8="","",SUMIFS(Tööajatabel!$J$9:$J$79,Tööajatabel!$C$9:$C$79,$A8)) -> 2 | F8: =IF($A8="","",SUMIFS(Tööajatabel!$K$9:$K$79,Tööajatabel!$C$9:$C$79,$A8)) -> 0.5 | G8: =IF($A8="","",SUMIFS(Tööajatabel!$I$9:$I$79,Tööajatabel!$C$9:$C$79,$A8,Tööajatabel!$D$9:$D$79,"Riigipüha")) -> 0 | H8: =IF($A8="","",COUNTIFS(Tööajatabel!$C$9:$C$79,$A8,Tööajatabel!$M$9:$M$79,"<"&$B$5)) -> 1 | I8: =IF($A8="","",COUNTIFS(Tööajatabel!$C$9:$C$79,$A8,Tööajatabel!$D$9:$D$79,"Puudumine")) -> 0 | J8: =IF($A8="","",IFERROR(IF(ROUND(D8-INDEX(Tööajatabel!$I$9:$I$79,MATCH("Kuu kokku — "&$A8,Tööajatabel!$A$9:$A$79,0)),2)=0,"klapib","ERINEB"),"kokkuvõtterida puudub")) -> klapib
A9: Marko Kask | B9: =IF($A9="","",COUNTIFS(Tööajatabel!$C$9:$C$79,$A9,Tööajatabel!$I$9:$I$79,">0")) -> 19 | C9: =IF($A9="","",$B$4) -> 149 | D9: =IF($A9="","",SUMIFS(Tööajatabel!$I$9:$I$79,Tööajatabel!$C$9:$C$79,$A9)) -> 149 | E9: =IF($A9="","",SUMIFS(Tööajatabel!$J$9:$J$79,Tööajatabel!$C$9:$C$79,$A9)) -> 0 | F9: =IF($A9="","",SUMIFS(Tööajatabel!$K$9:$K$79,Tööajatabel!$C$9:$C$79,$A9)) -> 46.5 | G9: =IF($A9="","",SUMIFS(Tööajatabel!$I$9:$I$79,Tööajatabel!$C$9:$C$79,$A9,Tööajatabel!$D$9:$D$79,"Riigipüha")) -> 8 | H9: =IF($A9="","",COUNTIFS(Tööajatabel!$C$9:$C$79,$A9,Tööajatabel!$M$9:$M$79,"<"&$B$5)) -> 0 | I9: =IF($A9="","",COUNTIFS(Tööajatabel!$C$9:$C$79,$A9,Tööajatabel!$D$9:$D$79,"Puudumine")) -> 0 | J9: =IF($A9="","",IFERROR(IF(ROUND(D9-INDEX(Tööajatabel!$I$9:$I$79,MATCH("Kuu kokku — "&$A9,Tööajatabel!$A$9:$A$79,0)),2)=0,"klapib","ERINEB"),"kokkuvõtterida puudub")) -> klapib
A10: Liis Saar | B10: =IF($A10="","",COUNTIFS(Tööajatabel!$C$9:$C$79,$A10,Tööajatabel!$I$9:$I$79,">0")) -> 17 | C10: =IF($A10="","",$B$4) -> 149 | D10: =IF($A10="","",SUMIFS(Tööajatabel!$I$9:$I$79,Tööajatabel!$C$9:$C$79,$A10)) -> 134.5 | E10: =IF($A10="","",SUMIFS(Tööajatabel!$J$9:$J$79,Tööajatabel!$C$9:$C$79,$A10)) -> 1.5 | F10: =IF($A10="","",SUMIFS(Tööajatabel!$K$9:$K$79,Tööajatabel!$C$9:$C$79,$A10)) -> 0 | G10: =IF($A10="","",SUMIFS(Tööajatabel!$I$9:$I$79,Tööajatabel!$C$9:$C$79,$A10,Tööajatabel!$D$9:$D$79,"Riigipüha")) -> 0 | H10: =IF($A10="","",COUNTIFS(Tööajatabel!$C$9:$C$79,$A10,Tööajatabel!$M$9:$M$79,"<"&$B$5)) -> 0 | I10: =IF($A10="","",COUNTIFS(Tööajatabel!$C$9:$C$79,$A10,Tööajatabel!$D$9:$D$79,"Puudumine")) -> 2 | J10: =IF($A10="","",IFERROR(IF(ROUND(D10-INDEX(Tööajatabel!$I$9:$I$79,MATCH("Kuu kokku — "&$A10,Tööajatabel!$A$9:$A$79,0)),2)=0,"klapib","ERINEB"),"kokkuvõtterida puudub")) -> klapib
B11: =IF($A11="","",COUNTIFS(Tööajatabel!$C$9:$C$79,$A11,Tööajatabel!$I$9:$I$79,">0")) | C11: =IF($A11="","",$B$4) | D11: =IF($A11="","",SUMIFS(Tööajatabel!$I$9:$I$79,Tööajatabel!$C$9:$C$79,$A11)) | E11: =IF($A11="","",SUMIFS(Tööajatabel!$J$9:$J$79,Tööajatabel!$C$9:$C$79,$A11)) | F11: =IF($A11="","",SUMIFS(Tööajatabel!$K$9:$K$79,Tööajatabel!$C$9:$C$79,$A11)) | G11: =IF($A11="","",SUMIFS(Tööajatabel!$I$9:$I$79,Tööajatabel!$C$9:$C$79,$A11,Tööajatabel!$D$9:$D$79,"Riigipüha")) | H11: =IF($A11="","",COUNTIFS(Tööajatabel!$C$9:$C$79,$A11,Tööajatabel!$M$9:$M$79,"<"&$B$5)) | I11: =IF($A11="","",COUNTIFS(Tööajatabel!$C$9:$C$79,$A11,Tööajatabel!$D$9:$D$79,"Puudumine")) | J11: =IF($A11="","",IFERROR(IF(ROUND(D11-INDEX(Tööajatabel!$I$9:$I$79,MATCH("Kuu kokku — "&$A11,Tööajatabel!$A$9:$A$79,0)),2)=0,"klapib","ERINEB"),"kokkuvõtterida puudub"))
B12: =IF($A12="","",COUNTIFS(Tööajatabel!$C$9:$C$79,$A12,Tööajatabel!$I$9:$I$79,">0")) | C12: =IF($A12="","",$B$4) | D12: =IF($A12="","",SUMIFS(Tööajatabel!$I$9:$I$79,Tööajatabel!$C$9:$C$79,$A12)) | E12: =IF($A12="","",SUMIFS(Tööajatabel!$J$9:$J$79,Tööajatabel!$C$9:$C$79,$A12)) | F12: =IF($A12="","",SUMIFS(Tööajatabel!$K$9:$K$79,Tööajatabel!$C$9:$C$79,$A12)) | G12: =IF($A12="","",SUMIFS(Tööajatabel!$I$9:$I$79,Tööajatabel!$C$9:$C$79,$A12,Tööajatabel!$D$9:$D$79,"Riigipüha")) | H12: =IF($A12="","",COUNTIFS(Tööajatabel!$C$9:$C$79,$A12,Tööajatabel!$M$9:$M$79,"<"&$B$5)) | I12: =IF($A12="","",COUNTIFS(Tööajatabel!$C$9:$C$79,$A12,Tööajatabel!$D$9:$D$79,"Puudumine")) | J12: =IF($A12="","",IFERROR(IF(ROUND(D12-INDEX(Tööajatabel!$I$9:$I$79,MATCH("Kuu kokku — "&$A12,Tööajatabel!$A$9:$A$79,0)),2)=0,"klapib","ERINEB"),"kokkuvõtterida puudub"))
B13: =IF($A13="","",COUNTIFS(Tööajatabel!$C$9:$C$79,$A13,Tööajatabel!$I$9:$I$79,">0")) | C13: =IF($A13="","",$B$4) | D13: =IF($A13="","",SUMIFS(Tööajatabel!$I$9:$I$79,Tööajatabel!$C$9:$C$79,$A13)) | E13: =IF($A13="","",SUMIFS(Tööajatabel!$J$9:$J$79,Tööajatabel!$C$9:$C$79,$A13)) | F13: =IF($A13="","",SUMIFS(Tööajatabel!$K$9:$K$79,Tööajatabel!$C$9:$C$79,$A13)) | G13: =IF($A13="","",SUMIFS(Tööajatabel!$I$9:$I$79,Tööajatabel!$C$9:$C$79,$A13,Tööajatabel!$D$9:$D$79,"Riigipüha")) | H13: =IF($A13="","",COUNTIFS(Tööajatabel!$C$9:$C$79,$A13,Tööajatabel!$M$9:$M$79,"<"&$B$5)) | I13: =IF($A13="","",COUNTIFS(Tööajatabel!$C$9:$C$79,$A13,Tööajatabel!$D$9:$D$79,"Puudumine")) | J13: =IF($A13="","",IFERROR(IF(ROUND(D13-INDEX(Tööajatabel!$I$9:$I$79,MATCH("Kuu kokku — "&$A13,Tööajatabel!$A$9:$A$79,0)),2)=0,"klapib","ERINEB"),"kokkuvõtterida puudub"))
A14: Kokku | B14: =SUM(B8:B13) -> 55 | C14: =SUM(C8:C13) -> 447 | D14: =SUM(D8:D13) -> 434.5 | E14: =SUM(E8:E13) -> 3.5 | F14: =SUM(F8:F13) -> 47 | G14: =SUM(G8:G13) -> 8 | H14: =SUM(H8:H13) -> 1 | I14: =SUM(I8:I13) -> 2 | J14: =IF(ROUND(SUMIF(Tööajatabel!$C$9:$C$79,"?*",Tööajatabel!$I$9:$I$79)-D14,2)=0,"klapib","ERINEB") -> klapib
A15: Kontroll: töötatud tunnid lehel «Tööajatabel» | D15: =SUMIF(Tööajatabel!$C$9:$C$79,"?*",Tööajatabel!$I$9:$I$79) -> 434.5
A17: Normtunnid = kuu tööpäevad × päevanorm − 3 h iga tööpäevale langeva pühade-eelse päeva eest (TLS § 53); osalise koormusega töötajal korrutage koormusega.
A18: Töötatud tunnid, ületunnid ja öötunnid liidetakse lehelt «Tööajatabel» töötaja nime järgi.
A19: Kontroll võrdleb iga töötaja summat lehe «Tööajatabel» reaga «Kuu kokku — nimi»; «ERINEB» tähendab, et mõni rida on kirjutatud vale nimega või kokkuvõtterea alt välja.
A20: Summeeritud tööaja korral selguvad ületunnid alles arvestusperioodi lõpus – liitke kuude kokkuvõtted kokku.
A21: Fail arvestab ainult tunde. Palk, lisatasud ja maksud arvutatakse palgaprogrammis.
A22: Hüpoteetiline näide: nimed ja vahetused on väljamõeldud.
