Workbook

Sheet Työaikakirjanpito
A1: Päivämäärä | B1: Työntekijä | C1: Aloitus- aika | D1: Lopetus- aika | E1: Palkaton tauko (min) | F1: Tehdyt tunnit | G1: Työvuoro- luettelon mukainen (h) | H1: Lisätyö (h) | I1: Vuorokaut. ylityö +50 % (h) | J1: Vuorokaut. ylityö +100 % (h) | K1: Sunnuntai- työ (h) | L1: TES-lisät ja selite | M1: Lepoaika edellisestä vuorosta (h) | N1: Hyväksytty (esihenkilö) | P1: Asetukset
A2: 46328 | B2: Aino Virtanen | C2: 0.33333333 | D2: 0.6875 | E2: 30 | F2: =IF(OR(C2="",D2=""),"",ROUND(MOD(D2-C2,1)*24-N(E2)/60,2)) -> 8 | G2: 8 | H2: =IF(F2="","",MAX(0,MIN(F2,$Q$3)-N(G2))) -> 0 | I2: =IF(F2="","",MIN(2,MAX(0,F2-$Q$3))) -> 0 | J2: =IF(F2="","",MAX(0,F2-$Q$3-2)) -> 0 | K2: =IF(F2="","",IF(OR(WEEKDAY(A2,2)=7,COUNTIF($Q$6:$Q$8,A2)>0),F2,0)) -> 0 | M2: =IF(OR(B2="",B2<>B1,C2="",C1="",D1=""),"",ROUND(((A2+C2)-(A1+C1+MOD(D1-C1,1)))*24,2)) | N2: MK | P2: Kuukausi: | Q2: 46327
A3: 46329 | B3: Aino Virtanen | C3: 0.33333333 | D3: 0.6875 | E3: 30 | F3: =IF(OR(C3="",D3=""),"",ROUND(MOD(D3-C3,1)*24-N(E3)/60,2)) -> 8 | G3: 8 | H3: =IF(F3="","",MAX(0,MIN(F3,$Q$3)-N(G3))) -> 0 | I3: =IF(F3="","",MIN(2,MAX(0,F3-$Q$3))) -> 0 | J3: =IF(F3="","",MAX(0,F3-$Q$3-2)) -> 0 | K3: =IF(F3="","",IF(OR(WEEKDAY(A3,2)=7,COUNTIF($Q$6:$Q$8,A3)>0),F3,0)) -> 0 | M3: =IF(OR(B3="",B3<>B2,C3="",C2="",D2=""),"",ROUND(((A3+C3)-(A2+C2+MOD(D2-C2,1)))*24,2)) -> 15.5 | N3: MK | P3: Vuorokautinen raja (h): | Q3: 8 | R3: säännöllinen työaika, 5 § (yleistyöaika, 16 §)
A4: 46330 | B4: Aino Virtanen | C4: 0.29166667 | D4: 0.77083333 | E4: 30 | F4: =IF(OR(C4="",D4=""),"",ROUND(MOD(D4-C4,1)*24-N(E4)/60,2)) -> 11 | G4: 8 | H4: =IF(F4="","",MAX(0,MIN(F4,$Q$3)-N(G4))) -> 0 | I4: =IF(F4="","",MIN(2,MAX(0,F4-$Q$3))) -> 2 | J4: =IF(F4="","",MAX(0,F4-$Q$3-2)) -> 1 | K4: =IF(F4="","",IF(OR(WEEKDAY(A4,2)=7,COUNTIF($Q$6:$Q$8,A4)>0),F4,0)) -> 0 | L4: Ylityö esihenkilön pyynnöstä (16 §) | M4: =IF(OR(B4="",B4<>B3,C4="",C3="",D3=""),"",ROUND(((A4+C4)-(A3+C3+MOD(D3-C3,1)))*24,2)) -> 14.5 | N4: MK | P4: Min. vuorokausilepo (h): | Q4: 11 | R4: 25 §
A5: 46331 | B5: Aino Virtanen | C5: 0.33333333 | D5: 0.6875 | E5: 30 | F5: =IF(OR(C5="",D5=""),"",ROUND(MOD(D5-C5,1)*24-N(E5)/60,2)) -> 8 | G5: 8 | H5: =IF(F5="","",MAX(0,MIN(F5,$Q$3)-N(G5))) -> 0 | I5: =IF(F5="","",MIN(2,MAX(0,F5-$Q$3))) -> 0 | J5: =IF(F5="","",MAX(0,F5-$Q$3-2)) -> 0 | K5: =IF(F5="","",IF(OR(WEEKDAY(A5,2)=7,COUNTIF($Q$6:$Q$8,A5)>0),F5,0)) -> 0 | M5: =IF(OR(B5="",B5<>B4,C5="",C4="",D4=""),"",ROUND(((A5+C5)-(A4+C4+MOD(D4-C4,1)))*24,2)) -> 13.5 | N5: MK | P5: Iltalisän kerroin: | R5: työehtosopimuksen mukaan – tyhjä, kunnes täytätte
A6: 46332 | B6: Aino Virtanen | C6: 0.33333333 | D6: 0.6875 | E6: 30 | F6: =IF(OR(C6="",D6=""),"",ROUND(MOD(D6-C6,1)*24-N(E6)/60,2)) -> 8 | G6: 8 | H6: =IF(F6="","",MAX(0,MIN(F6,$Q$3)-N(G6))) -> 0 | I6: =IF(F6="","",MIN(2,MAX(0,F6-$Q$3))) -> 0 | J6: =IF(F6="","",MAX(0,F6-$Q$3-2)) -> 0 | K6: =IF(F6="","",IF(OR(WEEKDAY(A6,2)=7,COUNTIF($Q$6:$Q$8,A6)>0),F6,0)) -> 0 | M6: =IF(OR(B6="",B6<>B5,C6="",C5="",D5=""),"",ROUND(((A6+C6)-(A5+C5+MOD(D5-C5,1)))*24,2)) -> 15.5 | N6: MK | P6: Juhlapäivät: | R6: kirjaa pvm; sunnuntait lasketaan automaattisesti
A7: 46335 | B7: Aino Virtanen | C7: 0.33333333 | D7: 0.6875 | E7: 30 | F7: =IF(OR(C7="",D7=""),"",ROUND(MOD(D7-C7,1)*24-N(E7)/60,2)) -> 8 | G7: 8 | H7: =IF(F7="","",MAX(0,MIN(F7,$Q$3)-N(G7))) -> 0 | I7: =IF(F7="","",MIN(2,MAX(0,F7-$Q$3))) -> 0 | J7: =IF(F7="","",MAX(0,F7-$Q$3-2)) -> 0 | K7: =IF(F7="","",IF(OR(WEEKDAY(A7,2)=7,COUNTIF($Q$6:$Q$8,A7)>0),F7,0)) -> 0 | M7: =IF(OR(B7="",B7<>B6,C7="",C6="",D6=""),"",ROUND(((A7+C7)-(A6+C6+MOD(D6-C6,1)))*24,2)) -> 63.5 | N7: MK
A8: 46336 | B8: Aino Virtanen | C8: 0.33333333 | D8: 0.6875 | E8: 30 | F8: =IF(OR(C8="",D8=""),"",ROUND(MOD(D8-C8,1)*24-N(E8)/60,2)) -> 8 | G8: 8 | H8: =IF(F8="","",MAX(0,MIN(F8,$Q$3)-N(G8))) -> 0 | I8: =IF(F8="","",MIN(2,MAX(0,F8-$Q$3))) -> 0 | J8: =IF(F8="","",MAX(0,F8-$Q$3-2)) -> 0 | K8: =IF(F8="","",IF(OR(WEEKDAY(A8,2)=7,COUNTIF($Q$6:$Q$8,A8)>0),F8,0)) -> 0 | M8: =IF(OR(B8="",B8<>B7,C8="",C7="",D7=""),"",ROUND(((A8+C8)-(A7+C7+MOD(D7-C7,1)))*24,2)) -> 15.5 | N8: MK
A9: 46337 | B9: Aino Virtanen | C9: 0.33333333 | D9: 0.6875 | E9: 30 | F9: =IF(OR(C9="",D9=""),"",ROUND(MOD(D9-C9,1)*24-N(E9)/60,2)) -> 8 | G9: 8 | H9: =IF(F9="","",MAX(0,MIN(F9,$Q$3)-N(G9))) -> 0 | I9: =IF(F9="","",MIN(2,MAX(0,F9-$Q$3))) -> 0 | J9: =IF(F9="","",MAX(0,F9-$Q$3-2)) -> 0 | K9: =IF(F9="","",IF(OR(WEEKDAY(A9,2)=7,COUNTIF($Q$6:$Q$8,A9)>0),F9,0)) -> 0 | M9: =IF(OR(B9="",B9<>B8,C9="",C8="",D8=""),"",ROUND(((A9+C9)-(A8+C8+MOD(D8-C8,1)))*24,2)) -> 15.5 | N9: MK
A10: 46338 | B10: Aino Virtanen | C10: 0.33333333 | D10: 0.6875 | E10: 30 | F10: =IF(OR(C10="",D10=""),"",ROUND(MOD(D10-C10,1)*24-N(E10)/60,2)) -> 8 | G10: 8 | H10: =IF(F10="","",MAX(0,MIN(F10,$Q$3)-N(G10))) -> 0 | I10: =IF(F10="","",MIN(2,MAX(0,F10-$Q$3))) -> 0 | J10: =IF(F10="","",MAX(0,F10-$Q$3-2)) -> 0 | K10: =IF(F10="","",IF(OR(WEEKDAY(A10,2)=7,COUNTIF($Q$6:$Q$8,A10)>0),F10,0)) -> 0 | M10: =IF(OR(B10="",B10<>B9,C10="",C9="",D9=""),"",ROUND(((A10+C10)-(A9+C9+MOD(D9-C9,1)))*24,2)) -> 15.5 | N10: MK | P10: Kuvitteellinen esimerkki — orova.vn
A11: 46339 | B11: Aino Virtanen | C11: 0.33333333 | D11: 0.6875 | E11: 30 | F11: =IF(OR(C11="",D11=""),"",ROUND(MOD(D11-C11,1)*24-N(E11)/60,2)) -> 8 | G11: 8 | H11: =IF(F11="","",MAX(0,MIN(F11,$Q$3)-N(G11))) -> 0 | I11: =IF(F11="","",MIN(2,MAX(0,F11-$Q$3))) -> 0 | J11: =IF(F11="","",MAX(0,F11-$Q$3-2)) -> 0 | K11: =IF(F11="","",IF(OR(WEEKDAY(A11,2)=7,COUNTIF($Q$6:$Q$8,A11)>0),F11,0)) -> 0 | M11: =IF(OR(B11="",B11<>B10,C11="",C10="",D10=""),"",ROUND(((A11+C11)-(A10+C10+MOD(D10-C10,1)))*24,2)) -> 15.5 | N11: MK
A12: 46342 | B12: Aino Virtanen | C12: 0.33333333 | D12: 0.6875 | E12: 30 | F12: =IF(OR(C12="",D12=""),"",ROUND(MOD(D12-C12,1)*24-N(E12)/60,2)) -> 8 | G12: 8 | H12: =IF(F12="","",MAX(0,MIN(F12,$Q$3)-N(G12))) -> 0 | I12: =IF(F12="","",MIN(2,MAX(0,F12-$Q$3))) -> 0 | J12: =IF(F12="","",MAX(0,F12-$Q$3-2)) -> 0 | K12: =IF(F12="","",IF(OR(WEEKDAY(A12,2)=7,COUNTIF($Q$6:$Q$8,A12)>0),F12,0)) -> 0 | M12: =IF(OR(B12="",B12<>B11,C12="",C11="",D11=""),"",ROUND(((A12+C12)-(A11+C11+MOD(D11-C11,1)))*24,2)) -> 63.5 | N12: MK | P12: Tehdyt tunnit = MOD(Lopetus − Aloitus; 1) × 24 − Tauko/60 (suomenkielisessä Excelissä JAKOJ).
A13: 46343 | B13: Aino Virtanen | C13: 0.33333333 | D13: 0.6875 | E13: 30 | F13: =IF(OR(C13="",D13=""),"",ROUND(MOD(D13-C13,1)*24-N(E13)/60,2)) -> 8 | G13: 8 | H13: =IF(F13="","",MAX(0,MIN(F13,$Q$3)-N(G13))) -> 0 | I13: =IF(F13="","",MIN(2,MAX(0,F13-$Q$3))) -> 0 | J13: =IF(F13="","",MAX(0,F13-$Q$3-2)) -> 0 | K13: =IF(F13="","",IF(OR(WEEKDAY(A13,2)=7,COUNTIF($Q$6:$Q$8,A13)>0),F13,0)) -> 0 | M13: =IF(OR(B13="",B13<>B12,C13="",C12="",D12=""),"",ROUND(((A13+C13)-(A12+C12+MOD(D12-C12,1)))*24,2)) -> 15.5 | N13: MK | P13: Puolenyön yli jatkuva vuoro lasketaan oikein; vuorokausi vaihtuu kello 24 (42 §).
A14: 46344 | B14: Aino Virtanen | C14: 0.33333333 | D14: 0.6875 | E14: 30 | F14: =IF(OR(C14="",D14=""),"",ROUND(MOD(D14-C14,1)*24-N(E14)/60,2)) -> 8 | G14: 8 | H14: =IF(F14="","",MAX(0,MIN(F14,$Q$3)-N(G14))) -> 0 | I14: =IF(F14="","",MIN(2,MAX(0,F14-$Q$3))) -> 0 | J14: =IF(F14="","",MAX(0,F14-$Q$3-2)) -> 0 | K14: =IF(F14="","",IF(OR(WEEKDAY(A14,2)=7,COUNTIF($Q$6:$Q$8,A14)>0),F14,0)) -> 0 | M14: =IF(OR(B14="",B14<>B13,C14="",C13="",D13=""),"",ROUND(((A14+C14)-(A13+C13+MOD(D13-C13,1)))*24,2)) -> 15.5 | N14: MK | P14: Lisätyö = MAKS(0; MIN(Tehdyt; Q3) − Työvuoroluettelon mukainen työaika).
A15: 46345 | B15: Aino Virtanen | C15: 0.33333333 | D15: 0.6875 | E15: 30 | F15: =IF(OR(C15="",D15=""),"",ROUND(MOD(D15-C15,1)*24-N(E15)/60,2)) -> 8 | G15: 8 | H15: =IF(F15="","",MAX(0,MIN(F15,$Q$3)-N(G15))) -> 0 | I15: =IF(F15="","",MIN(2,MAX(0,F15-$Q$3))) -> 0 | J15: =IF(F15="","",MAX(0,F15-$Q$3-2)) -> 0 | K15: =IF(F15="","",IF(OR(WEEKDAY(A15,2)=7,COUNTIF($Q$6:$Q$8,A15)>0),F15,0)) -> 0 | M15: =IF(OR(B15="",B15<>B14,C15="",C14="",D14=""),"",ROUND(((A15+C15)-(A14+C14+MOD(D14-C14,1)))*24,2)) -> 15.5 | N15: MK | P15: Kuukausikooste vähentää viikoittaisen ylityön lisätyöstä, jottei samaa tuntia lasketa kahdesti.
A16: 46346 | B16: Aino Virtanen | C16: 0.33333333 | D16: 0.6875 | E16: 30 | F16: =IF(OR(C16="",D16=""),"",ROUND(MOD(D16-C16,1)*24-N(E16)/60,2)) -> 8 | G16: 8 | H16: =IF(F16="","",MAX(0,MIN(F16,$Q$3)-N(G16))) -> 0 | I16: =IF(F16="","",MIN(2,MAX(0,F16-$Q$3))) -> 0 | J16: =IF(F16="","",MAX(0,F16-$Q$3-2)) -> 0 | K16: =IF(F16="","",IF(OR(WEEKDAY(A16,2)=7,COUNTIF($Q$6:$Q$8,A16)>0),F16,0)) -> 0 | M16: =IF(OR(B16="",B16<>B15,C16="",C15="",D15=""),"",ROUND(((A16+C16)-(A15+C15+MOD(D15-C15,1)))*24,2)) -> 15.5 | N16: MK | P16: Vuorokautinen ylityö: kaksi ensimmäistä Q3:n ylittävää tuntia +50 %, seuraavat +100 % (16 § ja 20 §).
A17: 46349 | B17: Aino Virtanen | C17: 0.33333333 | D17: 0.6875 | E17: 30 | F17: =IF(OR(C17="",D17=""),"",ROUND(MOD(D17-C17,1)*24-N(E17)/60,2)) -> 8 | G17: 8 | H17: =IF(F17="","",MAX(0,MIN(F17,$Q$3)-N(G17))) -> 0 | I17: =IF(F17="","",MIN(2,MAX(0,F17-$Q$3))) -> 0 | J17: =IF(F17="","",MAX(0,F17-$Q$3-2)) -> 0 | K17: =IF(F17="","",IF(OR(WEEKDAY(A17,2)=7,COUNTIF($Q$6:$Q$8,A17)>0),F17,0)) -> 0 | M17: =IF(OR(B17="",B17<>B16,C17="",C16="",D16=""),"",ROUND(((A17+C17)-(A16+C16+MOD(D16-C16,1)))*24,2)) -> 63.5 | N17: MK | P17: Sunnuntaityö: sunnuntaina tai Q6:Q8-juhlapäivänä tehdyt tunnit, korotus 100 % (20 §).
A18: 46350 | B18: Aino Virtanen | C18: 0.33333333 | D18: 0.6875 | E18: 30 | F18: =IF(OR(C18="",D18=""),"",ROUND(MOD(D18-C18,1)*24-N(E18)/60,2)) -> 8 | G18: 8 | H18: =IF(F18="","",MAX(0,MIN(F18,$Q$3)-N(G18))) -> 0 | I18: =IF(F18="","",MIN(2,MAX(0,F18-$Q$3))) -> 0 | J18: =IF(F18="","",MAX(0,F18-$Q$3-2)) -> 0 | K18: =IF(F18="","",IF(OR(WEEKDAY(A18,2)=7,COUNTIF($Q$6:$Q$8,A18)>0),F18,0)) -> 0 | M18: =IF(OR(B18="",B18<>B17,C18="",C17="",D17=""),"",ROUND(((A18+C18)-(A17+C17+MOD(D17-C17,1)))*24,2)) -> 15.5 | N18: MK | P18: Lepoaika: saman työntekijän edellisen vuoron lopusta tämän alkuun; alle Q4 h = punainen (25 §).
A19: 46351 | B19: Aino Virtanen | C19: 0.33333333 | D19: 0.6875 | E19: 30 | F19: =IF(OR(C19="",D19=""),"",ROUND(MOD(D19-C19,1)*24-N(E19)/60,2)) -> 8 | G19: 8 | H19: =IF(F19="","",MAX(0,MIN(F19,$Q$3)-N(G19))) -> 0 | I19: =IF(F19="","",MIN(2,MAX(0,F19-$Q$3))) -> 0 | J19: =IF(F19="","",MAX(0,F19-$Q$3-2)) -> 0 | K19: =IF(F19="","",IF(OR(WEEKDAY(A19,2)=7,COUNTIF($Q$6:$Q$8,A19)>0),F19,0)) -> 0 | L19: Unohtunut leimaus korjattu 16:30, hyväksytty 26.11. | M19: =IF(OR(B19="",B19<>B18,C19="",C18="",D18=""),"",ROUND(((A19+C19)-(A18+C18+MOD(D18-C18,1)))*24,2)) -> 15.5 | N19: MK | P19: Vaalea/keltainen = täytetään; harmaa = lasketaan (lukittu ilman salasanaa).
A20: 46352 | B20: Aino Virtanen | C20: 0.33333333 | D20: 0.6875 | E20: 30 | F20: =IF(OR(C20="",D20=""),"",ROUND(MOD(D20-C20,1)*24-N(E20)/60,2)) -> 8 | G20: 8 | H20: =IF(F20="","",MAX(0,MIN(F20,$Q$3)-N(G20))) -> 0 | I20: =IF(F20="","",MIN(2,MAX(0,F20-$Q$3))) -> 0 | J20: =IF(F20="","",MAX(0,F20-$Q$3-2)) -> 0 | K20: =IF(F20="","",IF(OR(WEEKDAY(A20,2)=7,COUNTIF($Q$6:$Q$8,A20)>0),F20,0)) -> 0 | M20: =IF(OR(B20="",B20<>B19,C20="",C19="",D19=""),"",ROUND(((A20+C20)-(A19+C19+MOD(D19-C19,1)))*24,2)) -> 15.5 | N20: MK | P20: Älä muokkaa vanhaa kirjausta hiljaa – kirjaa peruste ja hyväksyjä sarakkeeseen L.
A21: 46353 | B21: Aino Virtanen | C21: 0.33333333 | D21: 0.6875 | E21: 30 | F21: =IF(OR(C21="",D21=""),"",ROUND(MOD(D21-C21,1)*24-N(E21)/60,2)) -> 8 | G21: 8 | H21: =IF(F21="","",MAX(0,MIN(F21,$Q$3)-N(G21))) -> 0 | I21: =IF(F21="","",MIN(2,MAX(0,F21-$Q$3))) -> 0 | J21: =IF(F21="","",MAX(0,F21-$Q$3-2)) -> 0 | K21: =IF(F21="","",IF(OR(WEEKDAY(A21,2)=7,COUNTIF($Q$6:$Q$8,A21)>0),F21,0)) -> 0 | M21: =IF(OR(B21="",B21<>B20,C21="",C20="",D20=""),"",ROUND(((A21+C21)-(A20+C20+MOD(D20-C20,1)))*24,2)) -> 15.5 | N21: MK | P21: Tiedosto laskee vain tunnit: palkka, iltalisät ja vero lasketaan palkanlaskennassa.
A22: 46356 | B22: Aino Virtanen | C22: 0.33333333 | D22: 0.6875 | E22: 30 | F22: =IF(OR(C22="",D22=""),"",ROUND(MOD(D22-C22,1)*24-N(E22)/60,2)) -> 8 | G22: 8 | H22: =IF(F22="","",MAX(0,MIN(F22,$Q$3)-N(G22))) -> 0 | I22: =IF(F22="","",MIN(2,MAX(0,F22-$Q$3))) -> 0 | J22: =IF(F22="","",MAX(0,F22-$Q$3-2)) -> 0 | K22: =IF(F22="","",IF(OR(WEEKDAY(A22,2)=7,COUNTIF($Q$6:$Q$8,A22)>0),F22,0)) -> 0 | M22: =IF(OR(B22="",B22<>B21,C22="",C21="",D21=""),"",ROUND(((A22+C22)-(A21+C21+MOD(D21-C21,1)))*24,2)) -> 63.5 | P22: Tarkista ajantasainen työaikalaki (872/2019) Finlexistä ja oma työehtosopimuksenne.
A23: 46328 | B23: Mikko Laine | C23: 0.29166667 | D23: 0.64583333 | E23: 30 | F23: =IF(OR(C23="",D23=""),"",ROUND(MOD(D23-C23,1)*24-N(E23)/60,2)) -> 8 | G23: 8 | H23: =IF(F23="","",MAX(0,MIN(F23,$Q$3)-N(G23))) -> 0 | I23: =IF(F23="","",MIN(2,MAX(0,F23-$Q$3))) -> 0 | J23: =IF(F23="","",MAX(0,F23-$Q$3-2)) -> 0 | K23: =IF(F23="","",IF(OR(WEEKDAY(A23,2)=7,COUNTIF($Q$6:$Q$8,A23)>0),F23,0)) -> 0 | M23: =IF(OR(B23="",B23<>B22,C23="",C22="",D22=""),"",ROUND(((A23+C23)-(A22+C22+MOD(D22-C22,1)))*24,2)) | N23: MK
A24: 46329 | B24: Mikko Laine | C24: 0.29166667 | D24: 0.64583333 | E24: 30 | F24: =IF(OR(C24="",D24=""),"",ROUND(MOD(D24-C24,1)*24-N(E24)/60,2)) -> 8 | G24: 8 | H24: =IF(F24="","",MAX(0,MIN(F24,$Q$3)-N(G24))) -> 0 | I24: =IF(F24="","",MIN(2,MAX(0,F24-$Q$3))) -> 0 | J24: =IF(F24="","",MAX(0,F24-$Q$3-2)) -> 0 | K24: =IF(F24="","",IF(OR(WEEKDAY(A24,2)=7,COUNTIF($Q$6:$Q$8,A24)>0),F24,0)) -> 0 | M24: =IF(OR(B24="",B24<>B23,C24="",C23="",D23=""),"",ROUND(((A24+C24)-(A23+C23+MOD(D23-C23,1)))*24,2)) -> 15.5 | N24: MK
A25: 46330 | B25: Mikko Laine | C25: 0.29166667 | D25: 0.64583333 | E25: 30 | F25: =IF(OR(C25="",D25=""),"",ROUND(MOD(D25-C25,1)*24-N(E25)/60,2)) -> 8 | G25: 8 | H25: =IF(F25="","",MAX(0,MIN(F25,$Q$3)-N(G25))) -> 0 | I25: =IF(F25="","",MIN(2,MAX(0,F25-$Q$3))) -> 0 | J25: =IF(F25="","",MAX(0,F25-$Q$3-2)) -> 0 | K25: =IF(F25="","",IF(OR(WEEKDAY(A25,2)=7,COUNTIF($Q$6:$Q$8,A25)>0),F25,0)) -> 0 | M25: =IF(OR(B25="",B25<>B24,C25="",C24="",D24=""),"",ROUND(((A25+C25)-(A24+C24+MOD(D24-C24,1)))*24,2)) -> 15.5 | N25: MK
A26: 46331 | B26: Mikko Laine | C26: 0.29166667 | D26: 0.64583333 | E26: 30 | F26: =IF(OR(C26="",D26=""),"",ROUND(MOD(D26-C26,1)*24-N(E26)/60,2)) -> 8 | G26: 8 | H26: =IF(F26="","",MAX(0,MIN(F26,$Q$3)-N(G26))) -> 0 | I26: =IF(F26="","",MIN(2,MAX(0,F26-$Q$3))) -> 0 | J26: =IF(F26="","",MAX(0,F26-$Q$3-2)) -> 0 | K26: =IF(F26="","",IF(OR(WEEKDAY(A26,2)=7,COUNTIF($Q$6:$Q$8,A26)>0),F26,0)) -> 0 | M26: =IF(OR(B26="",B26<>B25,C26="",C25="",D25=""),"",ROUND(((A26+C26)-(A25+C25+MOD(D25-C25,1)))*24,2)) -> 15.5 | N26: MK
A27: 46332 | B27: Mikko Laine | C27: 0.29166667 | D27: 0.64583333 | E27: 30 | F27: =IF(OR(C27="",D27=""),"",ROUND(MOD(D27-C27,1)*24-N(E27)/60,2)) -> 8 | G27: 8 | H27: =IF(F27="","",MAX(0,MIN(F27,$Q$3)-N(G27))) -> 0 | I27: =IF(F27="","",MIN(2,MAX(0,F27-$Q$3))) -> 0 | J27: =IF(F27="","",MAX(0,F27-$Q$3-2)) -> 0 | K27: =IF(F27="","",IF(OR(WEEKDAY(A27,2)=7,COUNTIF($Q$6:$Q$8,A27)>0),F27,0)) -> 0 | M27: =IF(OR(B27="",B27<>B26,C27="",C26="",D26=""),"",ROUND(((A27+C27)-(A26+C26+MOD(D26-C26,1)))*24,2)) -> 15.5 | N27: MK
A28: 46335 | B28: Mikko Laine | C28: 0.29166667 | D28: 0.64583333 | E28: 30 | F28: =IF(OR(C28="",D28=""),"",ROUND(MOD(D28-C28,1)*24-N(E28)/60,2)) -> 8 | G28: 8 | H28: =IF(F28="","",MAX(0,MIN(F28,$Q$3)-N(G28))) -> 0 | I28: =IF(F28="","",MIN(2,MAX(0,F28-$Q$3))) -> 0 | J28: =IF(F28="","",MAX(0,F28-$Q$3-2)) -> 0 | K28: =IF(F28="","",IF(OR(WEEKDAY(A28,2)=7,COUNTIF($Q$6:$Q$8,A28)>0),F28,0)) -> 0 | M28: =IF(OR(B28="",B28<>B27,C28="",C27="",D27=""),"",ROUND(((A28+C28)-(A27+C27+MOD(D27-C27,1)))*24,2)) -> 63.5 | N28: MK
A29: 46336 | B29: Mikko Laine | C29: 0.58333333 | D29: 0.9375 | E29: 30 | F29: =IF(OR(C29="",D29=""),"",ROUND(MOD(D29-C29,1)*24-N(E29)/60,2)) -> 8 | G29: 8 | H29: =IF(F29="","",MAX(0,MIN(F29,$Q$3)-N(G29))) -> 0 | I29: =IF(F29="","",MIN(2,MAX(0,F29-$Q$3))) -> 0 | J29: =IF(F29="","",MAX(0,F29-$Q$3-2)) -> 0 | K29: =IF(F29="","",IF(OR(WEEKDAY(A29,2)=7,COUNTIF($Q$6:$Q$8,A29)>0),F29,0)) -> 0 | L29: Iltavuoro – iltalisä TES:n mukaan | M29: =IF(OR(B29="",B29<>B28,C29="",C28="",D28=""),"",ROUND(((A29+C29)-(A28+C28+MOD(D28-C28,1)))*24,2)) -> 22.5 | N29: MK
A30: 46337 | B30: Mikko Laine | C30: 0.29166667 | D30: 0.64583333 | E30: 30 | F30: =IF(OR(C30="",D30=""),"",ROUND(MOD(D30-C30,1)*24-N(E30)/60,2)) -> 8 | G30: 8 | H30: =IF(F30="","",MAX(0,MIN(F30,$Q$3)-N(G30))) -> 0 | I30: =IF(F30="","",MIN(2,MAX(0,F30-$Q$3))) -> 0 | J30: =IF(F30="","",MAX(0,F30-$Q$3-2)) -> 0 | K30: =IF(F30="","",IF(OR(WEEKDAY(A30,2)=7,COUNTIF($Q$6:$Q$8,A30)>0),F30,0)) -> 0 | L30: Lepo 8,5 h – alle 11 h (25 §), tarkista peruste | M30: =IF(OR(B30="",B30<>B29,C30="",C29="",D29=""),"",ROUND(((A30+C30)-(A29+C29+MOD(D29-C29,1)))*24,2)) -> 8.5 | N30: MK
A31: 46338 | B31: Mikko Laine | C31: 0.29166667 | D31: 0.64583333 | E31: 30 | F31: =IF(OR(C31="",D31=""),"",ROUND(MOD(D31-C31,1)*24-N(E31)/60,2)) -> 8 | G31: 8 | H31: =IF(F31="","",MAX(0,MIN(F31,$Q$3)-N(G31))) -> 0 | I31: =IF(F31="","",MIN(2,MAX(0,F31-$Q$3))) -> 0 | J31: =IF(F31="","",MAX(0,F31-$Q$3-2)) -> 0 | K31: =IF(F31="","",IF(OR(WEEKDAY(A31,2)=7,COUNTIF($Q$6:$Q$8,A31)>0),F31,0)) -> 0 | M31: =IF(OR(B31="",B31<>B30,C31="",C30="",D30=""),"",ROUND(((A31+C31)-(A30+C30+MOD(D30-C30,1)))*24,2)) -> 15.5 | N31: MK
A32: 46339 | B32: Mikko Laine | C32: 0.29166667 | D32: 0.64583333 | E32: 30 | F32: =IF(OR(C32="",D32=""),"",ROUND(MOD(D32-C32,1)*24-N(E32)/60,2)) -> 8 | G32: 8 | H32: =IF(F32="","",MAX(0,MIN(F32,$Q$3)-N(G32))) -> 0 | I32: =IF(F32="","",MIN(2,MAX(0,F32-$Q$3))) -> 0 | J32: =IF(F32="","",MAX(0,F32-$Q$3-2)) -> 0 | K32: =IF(F32="","",IF(OR(WEEKDAY(A32,2)=7,COUNTIF($Q$6:$Q$8,A32)>0),F32,0)) -> 0 | M32: =IF(OR(B32="",B32<>B31,C32="",C31="",D31=""),"",ROUND(((A32+C32)-(A31+C31+MOD(D31-C31,1)))*24,2)) -> 15.5 | N32: MK
A33: 46340 | B33: Mikko Laine | C33: 0.33333333 | D33: 0.60416667 | E33: 30 | F33: =IF(OR(C33="",D33=""),"",ROUND(MOD(D33-C33,1)*24-N(E33)/60,2)) -> 6 | G33: 0 | H33: =IF(F33="","",MAX(0,MIN(F33,$Q$3)-N(G33))) -> 6 | I33: =IF(F33="","",MIN(2,MAX(0,F33-$Q$3))) -> 0 | J33: =IF(F33="","",MAX(0,F33-$Q$3-2)) -> 0 | K33: =IF(F33="","",IF(OR(WEEKDAY(A33,2)=7,COUNTIF($Q$6:$Q$8,A33)>0),F33,0)) -> 0 | L33: Lauantai esihenkilön pyynnöstä: viikon 40 h ylittyy | M33: =IF(OR(B33="",B33<>B32,C33="",C32="",D32=""),"",ROUND(((A33+C33)-(A32+C32+MOD(D32-C32,1)))*24,2)) -> 16.5 | N33: MK
A34: 46342 | B34: Mikko Laine | C34: 0.29166667 | D34: 0.64583333 | E34: 30 | F34: =IF(OR(C34="",D34=""),"",ROUND(MOD(D34-C34,1)*24-N(E34)/60,2)) -> 8 | G34: 8 | H34: =IF(F34="","",MAX(0,MIN(F34,$Q$3)-N(G34))) -> 0 | I34: =IF(F34="","",MIN(2,MAX(0,F34-$Q$3))) -> 0 | J34: =IF(F34="","",MAX(0,F34-$Q$3-2)) -> 0 | K34: =IF(F34="","",IF(OR(WEEKDAY(A34,2)=7,COUNTIF($Q$6:$Q$8,A34)>0),F34,0)) -> 0 | M34: =IF(OR(B34="",B34<>B33,C34="",C33="",D33=""),"",ROUND(((A34+C34)-(A33+C33+MOD(D33-C33,1)))*24,2)) -> 40.5 | N34: MK
A35: 46343 | B35: Mikko Laine | C35: 0.29166667 | D35: 0.64583333 | E35: 30 | F35: =IF(OR(C35="",D35=""),"",ROUND(MOD(D35-C35,1)*24-N(E35)/60,2)) -> 8 | G35: 8 | H35: =IF(F35="","",MAX(0,MIN(F35,$Q$3)-N(G35))) -> 0 | I35: =IF(F35="","",MIN(2,MAX(0,F35-$Q$3))) -> 0 | J35: =IF(F35="","",MAX(0,F35-$Q$3-2)) -> 0 | K35: =IF(F35="","",IF(OR(WEEKDAY(A35,2)=7,COUNTIF($Q$6:$Q$8,A35)>0),F35,0)) -> 0 | M35: =IF(OR(B35="",B35<>B34,C35="",C34="",D34=""),"",ROUND(((A35+C35)-(A34+C34+MOD(D34-C34,1)))*24,2)) -> 15.5 | N35: MK
A36: 46344 | B36: Mikko Laine | C36: 0.29166667 | D36: 0.64583333 | E36: 30 | F36: =IF(OR(C36="",D36=""),"",ROUND(MOD(D36-C36,1)*24-N(E36)/60,2)) -> 8 | G36: 8 | H36: =IF(F36="","",MAX(0,MIN(F36,$Q$3)-N(G36))) -> 0 | I36: =IF(F36="","",MIN(2,MAX(0,F36-$Q$3))) -> 0 | J36: =IF(F36="","",MAX(0,F36-$Q$3-2)) -> 0 | K36: =IF(F36="","",IF(OR(WEEKDAY(A36,2)=7,COUNTIF($Q$6:$Q$8,A36)>0),F36,0)) -> 0 | M36: =IF(OR(B36="",B36<>B35,C36="",C35="",D35=""),"",ROUND(((A36+C36)-(A35+C35+MOD(D35-C35,1)))*24,2)) -> 15.5 | N36: MK
A37: 46345 | B37: Mikko Laine | C37: 0.29166667 | D37: 0.64583333 | E37: 30 | F37: =IF(OR(C37="",D37=""),"",ROUND(MOD(D37-C37,1)*24-N(E37)/60,2)) -> 8 | G37: 8 | H37: =IF(F37="","",MAX(0,MIN(F37,$Q$3)-N(G37))) -> 0 | I37: =IF(F37="","",MIN(2,MAX(0,F37-$Q$3))) -> 0 | J37: =IF(F37="","",MAX(0,F37-$Q$3-2)) -> 0 | K37: =IF(F37="","",IF(OR(WEEKDAY(A37,2)=7,COUNTIF($Q$6:$Q$8,A37)>0),F37,0)) -> 0 | M37: =IF(OR(B37="",B37<>B36,C37="",C36="",D36=""),"",ROUND(((A37+C37)-(A36+C36+MOD(D36-C36,1)))*24,2)) -> 15.5 | N37: MK
A38: 46348 | B38: Mikko Laine | C38: 0.41666667 | D38: 0.6875 | E38: 30 | F38: =IF(OR(C38="",D38=""),"",ROUND(MOD(D38-C38,1)*24-N(E38)/60,2)) -> 6 | G38: 6 | H38: =IF(F38="","",MAX(0,MIN(F38,$Q$3)-N(G38))) -> 0 | I38: =IF(F38="","",MIN(2,MAX(0,F38-$Q$3))) -> 0 | J38: =IF(F38="","",MAX(0,F38-$Q$3-2)) -> 0 | K38: =IF(F38="","",IF(OR(WEEKDAY(A38,2)=7,COUNTIF($Q$6:$Q$8,A38)>0),F38,0)) -> 6 | L38: Sunnuntaivuoro työvuoroluettelon mukaan (20 §) | M38: =IF(OR(B38="",B38<>B37,C38="",C37="",D37=""),"",ROUND(((A38+C38)-(A37+C37+MOD(D37-C37,1)))*24,2)) -> 66.5 | N38: MK
A39: 46349 | B39: Mikko Laine | C39: 0.29166667 | D39: 0.64583333 | E39: 30 | F39: =IF(OR(C39="",D39=""),"",ROUND(MOD(D39-C39,1)*24-N(E39)/60,2)) -> 8 | G39: 8 | H39: =IF(F39="","",MAX(0,MIN(F39,$Q$3)-N(G39))) -> 0 | I39: =IF(F39="","",MIN(2,MAX(0,F39-$Q$3))) -> 0 | J39: =IF(F39="","",MAX(0,F39-$Q$3-2)) -> 0 | K39: =IF(F39="","",IF(OR(WEEKDAY(A39,2)=7,COUNTIF($Q$6:$Q$8,A39)>0),F39,0)) -> 0 | M39: =IF(OR(B39="",B39<>B38,C39="",C38="",D38=""),"",ROUND(((A39+C39)-(A38+C38+MOD(D38-C38,1)))*24,2)) -> 14.5 | N39: MK
A40: 46350 | B40: Mikko Laine | C40: 0.29166667 | D40: 0.64583333 | E40: 30 | F40: =IF(OR(C40="",D40=""),"",ROUND(MOD(D40-C40,1)*24-N(E40)/60,2)) -> 8 | G40: 8 | H40: =IF(F40="","",MAX(0,MIN(F40,$Q$3)-N(G40))) -> 0 | I40: =IF(F40="","",MIN(2,MAX(0,F40-$Q$3))) -> 0 | J40: =IF(F40="","",MAX(0,F40-$Q$3-2)) -> 0 | K40: =IF(F40="","",IF(OR(WEEKDAY(A40,2)=7,COUNTIF($Q$6:$Q$8,A40)>0),F40,0)) -> 0 | M40: =IF(OR(B40="",B40<>B39,C40="",C39="",D39=""),"",ROUND(((A40+C40)-(A39+C39+MOD(D39-C39,1)))*24,2)) -> 15.5 | N40: MK
...

Sheet Kuukausikooste ja hyväksyntä
A1: Kuukausikooste ja hyväksyntä – työntekijöittäin | J1: Kuvitteellinen esimerkki — orova.vn
A3: Kuukausi: | D3: =Työaikakirjanpito!Q2 -> 46327
A4: Viikoittaisen ylityön raja (h): | D4: 40 | E4: 16 § – viikko alkaa maanantaista (42 §)
A5: Min. vuorokausilepo (h): | D5: =Työaikakirjanpito!Q4 -> 11 | E5: 25 § – muutetaan Työaikakirjanpito-välilehden solussa Q4
A7: 1 | B7: 2 | C7: 3 | D7: 4 | E7: 5 | F7: 6 | G7: 7 | H7: 8 | I7: 9 | J7: 10 | K7: 11 | L7: 12 | M7: 13
A8: Työntekijä | B8: Työpäivät | C8: Tehdyt tunnit | D8: Lisätyö (h) | E8: Vuorokaut. ylityö +50 % (h) | F8: Vuorokaut. ylityö +100 % (h) | G8: Viikoittainen ylityö +50 % (h) | H8: Sunnuntai- työ (h) | I8: Lepo < 11 h (kpl) | J8: Rivejä ilman hyväksyntää | K8: Työntekijän kuittaus | L8: Esihenkilön hyväksyntä | M8: Pvm
A9: Aino Virtanen | B9: =IF($A9="","",COUNTIFS(Työaikakirjanpito!$B$2:$B$71,$A9,Työaikakirjanpito!$F$2:$F$71,">0")) -> 21 | C9: =IF($A9="","",SUMIFS(Työaikakirjanpito!$F$2:$F$71,Työaikakirjanpito!$B$2:$B$71,$A9)) -> 171 | D9: =IF($A9="","",H30) -> 0 | E9: =IF($A9="","",SUMIFS(Työaikakirjanpito!$I$2:$I$71,Työaikakirjanpito!$B$2:$B$71,$A9)) -> 2 | F9: =IF($A9="","",SUMIFS(Työaikakirjanpito!$J$2:$J$71,Työaikakirjanpito!$B$2:$B$71,$A9)) -> 1 | G9: =IF($A9="","",H20) -> 0 | H9: =IF($A9="","",SUMIFS(Työaikakirjanpito!$K$2:$K$71,Työaikakirjanpito!$B$2:$B$71,$A9)) -> 0 | I9: =IF($A9="","",COUNTIFS(Työaikakirjanpito!$B$2:$B$71,$A9,Työaikakirjanpito!$M$2:$M$71,"<"&$D$5)) -> 0 | J9: =IF($A9="","",COUNTIFS(Työaikakirjanpito!$B$2:$B$71,$A9,Työaikakirjanpito!$N$2:$N$71,"")) -> 1
A10: Mikko Laine | B10: =IF($A10="","",COUNTIFS(Työaikakirjanpito!$B$2:$B$71,$A10,Työaikakirjanpito!$F$2:$F$71,">0")) -> 22 | C10: =IF($A10="","",SUMIFS(Työaikakirjanpito!$F$2:$F$71,Työaikakirjanpito!$B$2:$B$71,$A10)) -> 172 | D10: =IF($A10="","",H31) -> 0 | E10: =IF($A10="","",SUMIFS(Työaikakirjanpito!$I$2:$I$71,Työaikakirjanpito!$B$2:$B$71,$A10)) -> 0 | F10: =IF($A10="","",SUMIFS(Työaikakirjanpito!$J$2:$J$71,Työaikakirjanpito!$B$2:$B$71,$A10)) -> 0 | G10: =IF($A10="","",H21) -> 6 | H10: =IF($A10="","",SUMIFS(Työaikakirjanpito!$K$2:$K$71,Työaikakirjanpito!$B$2:$B$71,$A10)) -> 6 | I10: =IF($A10="","",COUNTIFS(Työaikakirjanpito!$B$2:$B$71,$A10,Työaikakirjanpito!$M$2:$M$71,"<"&$D$5)) -> 1 | J10: =IF($A10="","",COUNTIFS(Työaikakirjanpito!$B$2:$B$71,$A10,Työaikakirjanpito!$N$2:$N$71,"")) -> 1
A11: Liisa Korhonen | B11: =IF($A11="","",COUNTIFS(Työaikakirjanpito!$B$2:$B$71,$A11,Työaikakirjanpito!$F$2:$F$71,">0")) -> 17 | C11: =IF($A11="","",SUMIFS(Työaikakirjanpito!$F$2:$F$71,Työaikakirjanpito!$B$2:$B$71,$A11)) -> 106 | D11: =IF($A11="","",H32) -> 4 | E11: =IF($A11="","",SUMIFS(Työaikakirjanpito!$I$2:$I$71,Työaikakirjanpito!$B$2:$B$71,$A11)) -> 0 | F11: =IF($A11="","",SUMIFS(Työaikakirjanpito!$J$2:$J$71,Työaikakirjanpito!$B$2:$B$71,$A11)) -> 0 | G11: =IF($A11="","",H22) -> 0 | H11: =IF($A11="","",SUMIFS(Työaikakirjanpito!$K$2:$K$71,Työaikakirjanpito!$B$2:$B$71,$A11)) -> 0 | I11: =IF($A11="","",COUNTIFS(Työaikakirjanpito!$B$2:$B$71,$A11,Työaikakirjanpito!$M$2:$M$71,"<"&$D$5)) -> 0 | J11: =IF($A11="","",COUNTIFS(Työaikakirjanpito!$B$2:$B$71,$A11,Työaikakirjanpito!$N$2:$N$71,"")) -> 1
B12: =IF($A12="","",COUNTIFS(Työaikakirjanpito!$B$2:$B$71,$A12,Työaikakirjanpito!$F$2:$F$71,">0")) | C12: =IF($A12="","",SUMIFS(Työaikakirjanpito!$F$2:$F$71,Työaikakirjanpito!$B$2:$B$71,$A12)) | D12: =IF($A12="","",H33) | E12: =IF($A12="","",SUMIFS(Työaikakirjanpito!$I$2:$I$71,Työaikakirjanpito!$B$2:$B$71,$A12)) | F12: =IF($A12="","",SUMIFS(Työaikakirjanpito!$J$2:$J$71,Työaikakirjanpito!$B$2:$B$71,$A12)) | G12: =IF($A12="","",H23) | H12: =IF($A12="","",SUMIFS(Työaikakirjanpito!$K$2:$K$71,Työaikakirjanpito!$B$2:$B$71,$A12)) | I12: =IF($A12="","",COUNTIFS(Työaikakirjanpito!$B$2:$B$71,$A12,Työaikakirjanpito!$M$2:$M$71,"<"&$D$5)) | J12: =IF($A12="","",COUNTIFS(Työaikakirjanpito!$B$2:$B$71,$A12,Työaikakirjanpito!$N$2:$N$71,""))
B13: =IF($A13="","",COUNTIFS(Työaikakirjanpito!$B$2:$B$71,$A13,Työaikakirjanpito!$F$2:$F$71,">0")) | C13: =IF($A13="","",SUMIFS(Työaikakirjanpito!$F$2:$F$71,Työaikakirjanpito!$B$2:$B$71,$A13)) | D13: =IF($A13="","",H34) | E13: =IF($A13="","",SUMIFS(Työaikakirjanpito!$I$2:$I$71,Työaikakirjanpito!$B$2:$B$71,$A13)) | F13: =IF($A13="","",SUMIFS(Työaikakirjanpito!$J$2:$J$71,Työaikakirjanpito!$B$2:$B$71,$A13)) | G13: =IF($A13="","",H24) | H13: =IF($A13="","",SUMIFS(Työaikakirjanpito!$K$2:$K$71,Työaikakirjanpito!$B$2:$B$71,$A13)) | I13: =IF($A13="","",COUNTIFS(Työaikakirjanpito!$B$2:$B$71,$A13,Työaikakirjanpito!$M$2:$M$71,"<"&$D$5)) | J13: =IF($A13="","",COUNTIFS(Työaikakirjanpito!$B$2:$B$71,$A13,Työaikakirjanpito!$N$2:$N$71,""))
A14: Yhteensä | B14: =SUM(B9:B13) -> 60 | C14: =SUM(C9:C13) -> 449 | D14: =SUM(D9:D13) -> 4 | E14: =SUM(E9:E13) -> 2 | F14: =SUM(F9:F13) -> 1 | G14: =SUM(G9:G13) -> 6 | H14: =SUM(H9:H13) -> 6 | I14: =SUM(I9:I13) -> 1 | J14: =SUM(J9:J13) -> 3
A15: Tarkistus: tehdyt tunnit | C15: =SUMIF(Työaikakirjanpito!$B$2:$B$71,"?*",Työaikakirjanpito!$F$2:$F$71) -> 449 | D15: =IF(ROUND(C15-C14,2)=0,"täsmää","EROTUS") -> täsmää
A17: Säännöllinen työ ja lisätyö viikoittain (tehdyt − vuorokautinen ylityö) – raja 40 h (16 §)
A18: Työntekijä | B18: =WEEKNUM(B19,21) -> 44 | C18: =WEEKNUM(C19,21) -> 45 | D18: =WEEKNUM(D19,21) -> 46 | E18: =WEEKNUM(E19,21) -> 47 | F18: =WEEKNUM(F19,21) -> 48 | G18: =WEEKNUM(G19,21) -> 49 | H18: Viikoittainen ylityö (h)
A19: Viikko alkaa (ma) | B19: =$D$3-WEEKDAY($D$3,3) -> 46321 | C19: =B19+7 -> 46328 | D19: =C19+7 -> 46335 | E19: =D19+7 -> 46342 | F19: =E19+7 -> 46349 | G19: =F19+7 -> 46356
A20: =IF(A9="","",A9) -> Aino Virtanen | B20: =IF($A20="","",SUMIFS(Työaikakirjanpito!$F$2:$F$71,Työaikakirjanpito!$B$2:$B$71,$A20,Työaikakirjanpito!$A$2:$A$71,">="&B$19,Työaikakirjanpito!$A$2:$A$71,"<"&B$19+7)-SUMIFS(Työaikakirjanpito!$I$2:$I$71,Työaikakirjanpito!$B$2:$B$71,$A20,Työaikakirjanpito!$A$2:$A$71,">="&B$19,Työaikakirjanpito!$A$2:$A$71,"<"&B$19+7)-SUMIFS(Työaikakirjanpito!$J$2:$J$71,Työaikakirjanpito!$B$2:$B$71,$A20,Työaikakirjanpito!$A$2:$A$71,">="&B$19,Työaikakirjanpito!$A$2:$A$71,"<"&B$19+7)) -> 0 | C20: =IF($A20="","",SUMIFS(Työaikakirjanpito!$F$2:$F$71,Työaikakirjanpito!$B$2:$B$71,$A20,Työaikakirjanpito!$A$2:$A$71,">="&C$19,Työaikakirjanpito!$A$2:$A$71,"<"&C$19+7)-SUMIFS(Työaikakirjanpito!$I$2:$I$71,Työaikakirjanpito!$B$2:$B$71,$A20,Työaikakirjanpito!$A$2:$A$71,">="&C$19,Työaikakirjanpito!$A$2:$A$71,"<"&C$19+7)-SUMIFS(Työaikakirjanpito!$J$2:$J$71,Työaikakirjanpito!$B$2:$B$71,$A20,Työaikakirjanpito!$A$2:$A$71,">="&C$19,Työaikakirjanpito!$A$2:$A$71,"<"&C$19+7)) -> 40 | D20: =IF($A20="","",SUMIFS(Työaikakirjanpito!$F$2:$F$71,Työaikakirjanpito!$B$2:$B$71,$A20,Työaikakirjanpito!$A$2:$A$71,">="&D$19,Työaikakirjanpito!$A$2:$A$71,"<"&D$19+7)-SUMIFS(Työaikakirjanpito!$I$2:$I$71,Työaikakirjanpito!$B$2:$B$71,$A20,Työaikakirjanpito!$A$2:$A$71,">="&D$19,Työaikakirjanpito!$A$2:$A$71,"<"&D$19+7)-SUMIFS(Työaikakirjanpito!$J$2:$J$71,Työaikakirjanpito!$B$2:$B$71,$A20,Työaikakirjanpito!$A$2:$A$71,">="&D$19,Työaikakirjanpito!$A$2:$A$71,"<"&D$19+7)) -> 40 | E20: =IF($A20="","",SUMIFS(Työaikakirjanpito!$F$2:$F$71,Työaikakirjanpito!$B$2:$B$71,$A20,Työaikakirjanpito!$A$2:$A$71,">="&E$19,Työaikakirjanpito!$A$2:$A$71,"<"&E$19+7)-SUMIFS(Työaikakirjanpito!$I$2:$I$71,Työaikakirjanpito!$B$2:$B$71,$A20,Työaikakirjanpito!$A$2:$A$71,">="&E$19,Työaikakirjanpito!$A$2:$A$71,"<"&E$19+7)-SUMIFS(Työaikakirjanpito!$J$2:$J$71,Työaikakirjanpito!$B$2:$B$71,$A20,Työaikakirjanpito!$A$2:$A$71,">="&E$19,Työaikakirjanpito!$A$2:$A$71,"<"&E$19+7)) -> 40 | F20: =IF($A20="","",SUMIFS(Työaikakirjanpito!$F$2:$F$71,Työaikakirjanpito!$B$2:$B$71,$A20,Työaikakirjanpito!$A$2:$A$71,">="&F$19,Työaikakirjanpito!$A$2:$A$71,"<"&F$19+7)-SUMIFS(Työaikakirjanpito!$I$2:$I$71,Työaikakirjanpito!$B$2:$B$71,$A20,Työaikakirjanpito!$A$2:$A$71,">="&F$19,Työaikakirjanpito!$A$2:$A$71,"<"&F$19+7)-SUMIFS(Työaikakirjanpito!$J$2:$J$71,Työaikakirjanpito!$B$2:$B$71,$A20,Työaikakirjanpito!$A$2:$A$71,">="&F$19,Työaikakirjanpito!$A$2:$A$71,"<"&F$19+7)) -> 40 | G20: =IF($A20="","",SUMIFS(Työaikakirjanpito!$F$2:$F$71,Työaikakirjanpito!$B$2:$B$71,$A20,Työaikakirjanpito!$A$2:$A$71,">="&G$19,Työaikakirjanpito!$A$2:$A$71,"<"&G$19+7)-SUMIFS(Työaikakirjanpito!$I$2:$I$71,Työaikakirjanpito!$B$2:$B$71,$A20,Työaikakirjanpito!$A$2:$A$71,">="&G$19,Työaikakirjanpito!$A$2:$A$71,"<"&G$19+7)-SUMIFS(Työaikakirjanpito!$J$2:$J$71,Työaikakirjanpito!$B$2:$B$71,$A20,Työaikakirjanpito!$A$2:$A$71,">="&G$19,Työaikakirjanpito!$A$2:$A$71,"<"&G$19+7)) -> 8 | H20: =IF($A20="","",SUMPRODUCT((B20:G20>$D$4)*(B20:G20-$D$4))) -> 0
A21: =IF(A10="","",A10) -> Mikko Laine | B21: =IF($A21="","",SUMIFS(Työaikakirjanpito!$F$2:$F$71,Työaikakirjanpito!$B$2:$B$71,$A21,Työaikakirjanpito!$A$2:$A$71,">="&B$19,Työaikakirjanpito!$A$2:$A$71,"<"&B$19+7)-SUMIFS(Työaikakirjanpito!$I$2:$I$71,Työaikakirjanpito!$B$2:$B$71,$A21,Työaikakirjanpito!$A$2:$A$71,">="&B$19,Työaikakirjanpito!$A$2:$A$71,"<"&B$19+7)-SUMIFS(Työaikakirjanpito!$J$2:$J$71,Työaikakirjanpito!$B$2:$B$71,$A21,Työaikakirjanpito!$A$2:$A$71,">="&B$19,Työaikakirjanpito!$A$2:$A$71,"<"&B$19+7)) -> 0 | C21: =IF($A21="","",SUMIFS(Työaikakirjanpito!$F$2:$F$71,Työaikakirjanpito!$B$2:$B$71,$A21,Työaikakirjanpito!$A$2:$A$71,">="&C$19,Työaikakirjanpito!$A$2:$A$71,"<"&C$19+7)-SUMIFS(Työaikakirjanpito!$I$2:$I$71,Työaikakirjanpito!$B$2:$B$71,$A21,Työaikakirjanpito!$A$2:$A$71,">="&C$19,Työaikakirjanpito!$A$2:$A$71,"<"&C$19+7)-SUMIFS(Työaikakirjanpito!$J$2:$J$71,Työaikakirjanpito!$B$2:$B$71,$A21,Työaikakirjanpito!$A$2:$A$71,">="&C$19,Työaikakirjanpito!$A$2:$A$71,"<"&C$19+7)) -> 40 | D21: =IF($A21="","",SUMIFS(Työaikakirjanpito!$F$2:$F$71,Työaikakirjanpito!$B$2:$B$71,$A21,Työaikakirjanpito!$A$2:$A$71,">="&D$19,Työaikakirjanpito!$A$2:$A$71,"<"&D$19+7)-SUMIFS(Työaikakirjanpito!$I$2:$I$71,Työaikakirjanpito!$B$2:$B$71,$A21,Työaikakirjanpito!$A$2:$A$71,">="&D$19,Työaikakirjanpito!$A$2:$A$71,"<"&D$19+7)-SUMIFS(Työaikakirjanpito!$J$2:$J$71,Työaikakirjanpito!$B$2:$B$71,$A21,Työaikakirjanpito!$A$2:$A$71,">="&D$19,Työaikakirjanpito!$A$2:$A$71,"<"&D$19+7)) -> 46 | E21: =IF($A21="","",SUMIFS(Työaikakirjanpito!$F$2:$F$71,Työaikakirjanpito!$B$2:$B$71,$A21,Työaikakirjanpito!$A$2:$A$71,">="&E$19,Työaikakirjanpito!$A$2:$A$71,"<"&E$19+7)-SUMIFS(Työaikakirjanpito!$I$2:$I$71,Työaikakirjanpito!$B$2:$B$71,$A21,Työaikakirjanpito!$A$2:$A$71,">="&E$19,Työaikakirjanpito!$A$2:$A$71,"<"&E$19+7)-SUMIFS(Työaikakirjanpito!$J$2:$J$71,Työaikakirjanpito!$B$2:$B$71,$A21,Työaikakirjanpito!$A$2:$A$71,">="&E$19,Työaikakirjanpito!$A$2:$A$71,"<"&E$19+7)) -> 38 | F21: =IF($A21="","",SUMIFS(Työaikakirjanpito!$F$2:$F$71,Työaikakirjanpito!$B$2:$B$71,$A21,Työaikakirjanpito!$A$2:$A$71,">="&F$19,Työaikakirjanpito!$A$2:$A$71,"<"&F$19+7)-SUMIFS(Työaikakirjanpito!$I$2:$I$71,Työaikakirjanpito!$B$2:$B$71,$A21,Työaikakirjanpito!$A$2:$A$71,">="&F$19,Työaikakirjanpito!$A$2:$A$71,"<"&F$19+7)-SUMIFS(Työaikakirjanpito!$J$2:$J$71,Työaikakirjanpito!$B$2:$B$71,$A21,Työaikakirjanpito!$A$2:$A$71,">="&F$19,Työaikakirjanpito!$A$2:$A$71,"<"&F$19+7)) -> 40 | G21: =IF($A21="","",SUMIFS(Työaikakirjanpito!$F$2:$F$71,Työaikakirjanpito!$B$2:$B$71,$A21,Työaikakirjanpito!$A$2:$A$71,">="&G$19,Työaikakirjanpito!$A$2:$A$71,"<"&G$19+7)-SUMIFS(Työaikakirjanpito!$I$2:$I$71,Työaikakirjanpito!$B$2:$B$71,$A21,Työaikakirjanpito!$A$2:$A$71,">="&G$19,Työaikakirjanpito!$A$2:$A$71,"<"&G$19+7)-SUMIFS(Työaikakirjanpito!$J$2:$J$71,Työaikakirjanpito!$B$2:$B$71,$A21,Työaikakirjanpito!$A$2:$A$71,">="&G$19,Työaikakirjanpito!$A$2:$A$71,"<"&G$19+7)) -> 8 | H21: =IF($A21="","",SUMPRODUCT((B21:G21>$D$4)*(B21:G21-$D$4))) -> 6
A22: =IF(A11="","",A11) -> Liisa Korhonen | B22: =IF($A22="","",SUMIFS(Työaikakirjanpito!$F$2:$F$71,Työaikakirjanpito!$B$2:$B$71,$A22,Työaikakirjanpito!$A$2:$A$71,">="&B$19,Työaikakirjanpito!$A$2:$A$71,"<"&B$19+7)-SUMIFS(Työaikakirjanpito!$I$2:$I$71,Työaikakirjanpito!$B$2:$B$71,$A22,Työaikakirjanpito!$A$2:$A$71,">="&B$19,Työaikakirjanpito!$A$2:$A$71,"<"&B$19+7)-SUMIFS(Työaikakirjanpito!$J$2:$J$71,Työaikakirjanpito!$B$2:$B$71,$A22,Työaikakirjanpito!$A$2:$A$71,">="&B$19,Työaikakirjanpito!$A$2:$A$71,"<"&B$19+7)) -> 0 | C22: =IF($A22="","",SUMIFS(Työaikakirjanpito!$F$2:$F$71,Työaikakirjanpito!$B$2:$B$71,$A22,Työaikakirjanpito!$A$2:$A$71,">="&C$19,Työaikakirjanpito!$A$2:$A$71,"<"&C$19+7)-SUMIFS(Työaikakirjanpito!$I$2:$I$71,Työaikakirjanpito!$B$2:$B$71,$A22,Työaikakirjanpito!$A$2:$A$71,">="&C$19,Työaikakirjanpito!$A$2:$A$71,"<"&C$19+7)-SUMIFS(Työaikakirjanpito!$J$2:$J$71,Työaikakirjanpito!$B$2:$B$71,$A22,Työaikakirjanpito!$A$2:$A$71,">="&C$19,Työaikakirjanpito!$A$2:$A$71,"<"&C$19+7)) -> 24 | D22: =IF($A22="","",SUMIFS(Työaikakirjanpito!$F$2:$F$71,Työaikakirjanpito!$B$2:$B$71,$A22,Työaikakirjanpito!$A$2:$A$71,">="&D$19,Työaikakirjanpito!$A$2:$A$71,"<"&D$19+7)-SUMIFS(Työaikakirjanpito!$I$2:$I$71,Työaikakirjanpito!$B$2:$B$71,$A22,Työaikakirjanpito!$A$2:$A$71,">="&D$19,Työaikakirjanpito!$A$2:$A$71,"<"&D$19+7)-SUMIFS(Työaikakirjanpito!$J$2:$J$71,Työaikakirjanpito!$B$2:$B$71,$A22,Työaikakirjanpito!$A$2:$A$71,">="&D$19,Työaikakirjanpito!$A$2:$A$71,"<"&D$19+7)) -> 26 | E22: =IF($A22="","",SUMIFS(Työaikakirjanpito!$F$2:$F$71,Työaikakirjanpito!$B$2:$B$71,$A22,Työaikakirjanpito!$A$2:$A$71,">="&E$19,Työaikakirjanpito!$A$2:$A$71,"<"&E$19+7)-SUMIFS(Työaikakirjanpito!$I$2:$I$71,Työaikakirjanpito!$B$2:$B$71,$A22,Työaikakirjanpito!$A$2:$A$71,">="&E$19,Työaikakirjanpito!$A$2:$A$71,"<"&E$19+7)-SUMIFS(Työaikakirjanpito!$J$2:$J$71,Työaikakirjanpito!$B$2:$B$71,$A22,Työaikakirjanpito!$A$2:$A$71,">="&E$19,Työaikakirjanpito!$A$2:$A$71,"<"&E$19+7)) -> 26 | F22: =IF($A22="","",SUMIFS(Työaikakirjanpito!$F$2:$F$71,Työaikakirjanpito!$B$2:$B$71,$A22,Työaikakirjanpito!$A$2:$A$71,">="&F$19,Työaikakirjanpito!$A$2:$A$71,"<"&F$19+7)-SUMIFS(Työaikakirjanpito!$I$2:$I$71,Työaikakirjanpito!$B$2:$B$71,$A22,Työaikakirjanpito!$A$2:$A$71,">="&F$19,Työaikakirjanpito!$A$2:$A$71,"<"&F$19+7)-SUMIFS(Työaikakirjanpito!$J$2:$J$71,Työaikakirjanpito!$B$2:$B$71,$A22,Työaikakirjanpito!$A$2:$A$71,">="&F$19,Työaikakirjanpito!$A$2:$A$71,"<"&F$19+7)) -> 24 | G22: =IF($A22="","",SUMIFS(Työaikakirjanpito!$F$2:$F$71,Työaikakirjanpito!$B$2:$B$71,$A22,Työaikakirjanpito!$A$2:$A$71,">="&G$19,Työaikakirjanpito!$A$2:$A$71,"<"&G$19+7)-SUMIFS(Työaikakirjanpito!$I$2:$I$71,Työaikakirjanpito!$B$2:$B$71,$A22,Työaikakirjanpito!$A$2:$A$71,">="&G$19,Työaikakirjanpito!$A$2:$A$71,"<"&G$19+7)-SUMIFS(Työaikakirjanpito!$J$2:$J$71,Työaikakirjanpito!$B$2:$B$71,$A22,Työaikakirjanpito!$A$2:$A$71,">="&G$19,Työaikakirjanpito!$A$2:$A$71,"<"&G$19+7)) -> 6 | H22: =IF($A22="","",SUMPRODUCT((B22:G22>$D$4)*(B22:G22-$D$4))) -> 0
A23: =IF(A12="","",A12) | B23: =IF($A23="","",SUMIFS(Työaikakirjanpito!$F$2:$F$71,Työaikakirjanpito!$B$2:$B$71,$A23,Työaikakirjanpito!$A$2:$A$71,">="&B$19,Työaikakirjanpito!$A$2:$A$71,"<"&B$19+7)-SUMIFS(Työaikakirjanpito!$I$2:$I$71,Työaikakirjanpito!$B$2:$B$71,$A23,Työaikakirjanpito!$A$2:$A$71,">="&B$19,Työaikakirjanpito!$A$2:$A$71,"<"&B$19+7)-SUMIFS(Työaikakirjanpito!$J$2:$J$71,Työaikakirjanpito!$B$2:$B$71,$A23,Työaikakirjanpito!$A$2:$A$71,">="&B$19,Työaikakirjanpito!$A$2:$A$71,"<"&B$19+7)) | C23: =IF($A23="","",SUMIFS(Työaikakirjanpito!$F$2:$F$71,Työaikakirjanpito!$B$2:$B$71,$A23,Työaikakirjanpito!$A$2:$A$71,">="&C$19,Työaikakirjanpito!$A$2:$A$71,"<"&C$19+7)-SUMIFS(Työaikakirjanpito!$I$2:$I$71,Työaikakirjanpito!$B$2:$B$71,$A23,Työaikakirjanpito!$A$2:$A$71,">="&C$19,Työaikakirjanpito!$A$2:$A$71,"<"&C$19+7)-SUMIFS(Työaikakirjanpito!$J$2:$J$71,Työaikakirjanpito!$B$2:$B$71,$A23,Työaikakirjanpito!$A$2:$A$71,">="&C$19,Työaikakirjanpito!$A$2:$A$71,"<"&C$19+7)) | D23: =IF($A23="","",SUMIFS(Työaikakirjanpito!$F$2:$F$71,Työaikakirjanpito!$B$2:$B$71,$A23,Työaikakirjanpito!$A$2:$A$71,">="&D$19,Työaikakirjanpito!$A$2:$A$71,"<"&D$19+7)-SUMIFS(Työaikakirjanpito!$I$2:$I$71,Työaikakirjanpito!$B$2:$B$71,$A23,Työaikakirjanpito!$A$2:$A$71,">="&D$19,Työaikakirjanpito!$A$2:$A$71,"<"&D$19+7)-SUMIFS(Työaikakirjanpito!$J$2:$J$71,Työaikakirjanpito!$B$2:$B$71,$A23,Työaikakirjanpito!$A$2:$A$71,">="&D$19,Työaikakirjanpito!$A$2:$A$71,"<"&D$19+7)) | E23: =IF($A23="","",SUMIFS(Työaikakirjanpito!$F$2:$F$71,Työaikakirjanpito!$B$2:$B$71,$A23,Työaikakirjanpito!$A$2:$A$71,">="&E$19,Työaikakirjanpito!$A$2:$A$71,"<"&E$19+7)-SUMIFS(Työaikakirjanpito!$I$2:$I$71,Työaikakirjanpito!$B$2:$B$71,$A23,Työaikakirjanpito!$A$2:$A$71,">="&E$19,Työaikakirjanpito!$A$2:$A$71,"<"&E$19+7)-SUMIFS(Työaikakirjanpito!$J$2:$J$71,Työaikakirjanpito!$B$2:$B$71,$A23,Työaikakirjanpito!$A$2:$A$71,">="&E$19,Työaikakirjanpito!$A$2:$A$71,"<"&E$19+7)) | F23: =IF($A23="","",SUMIFS(Työaikakirjanpito!$F$2:$F$71,Työaikakirjanpito!$B$2:$B$71,$A23,Työaikakirjanpito!$A$2:$A$71,">="&F$19,Työaikakirjanpito!$A$2:$A$71,"<"&F$19+7)-SUMIFS(Työaikakirjanpito!$I$2:$I$71,Työaikakirjanpito!$B$2:$B$71,$A23,Työaikakirjanpito!$A$2:$A$71,">="&F$19,Työaikakirjanpito!$A$2:$A$71,"<"&F$19+7)-SUMIFS(Työaikakirjanpito!$J$2:$J$71,Työaikakirjanpito!$B$2:$B$71,$A23,Työaikakirjanpito!$A$2:$A$71,">="&F$19,Työaikakirjanpito!$A$2:$A$71,"<"&F$19+7)) | G23: =IF($A23="","",SUMIFS(Työaikakirjanpito!$F$2:$F$71,Työaikakirjanpito!$B$2:$B$71,$A23,Työaikakirjanpito!$A$2:$A$71,">="&G$19,Työaikakirjanpito!$A$2:$A$71,"<"&G$19+7)-SUMIFS(Työaikakirjanpito!$I$2:$I$71,Työaikakirjanpito!$B$2:$B$71,$A23,Työaikakirjanpito!$A$2:$A$71,">="&G$19,Työaikakirjanpito!$A$2:$A$71,"<"&G$19+7)-SUMIFS(Työaikakirjanpito!$J$2:$J$71,Työaikakirjanpito!$B$2:$B$71,$A23,Työaikakirjanpito!$A$2:$A$71,">="&G$19,Työaikakirjanpito!$A$2:$A$71,"<"&G$19+7)) | H23: =IF($A23="","",SUMPRODUCT((B23:G23>$D$4)*(B23:G23-$D$4)))
A24: =IF(A13="","",A13) | B24: =IF($A24="","",SUMIFS(Työaikakirjanpito!$F$2:$F$71,Työaikakirjanpito!$B$2:$B$71,$A24,Työaikakirjanpito!$A$2:$A$71,">="&B$19,Työaikakirjanpito!$A$2:$A$71,"<"&B$19+7)-SUMIFS(Työaikakirjanpito!$I$2:$I$71,Työaikakirjanpito!$B$2:$B$71,$A24,Työaikakirjanpito!$A$2:$A$71,">="&B$19,Työaikakirjanpito!$A$2:$A$71,"<"&B$19+7)-SUMIFS(Työaikakirjanpito!$J$2:$J$71,Työaikakirjanpito!$B$2:$B$71,$A24,Työaikakirjanpito!$A$2:$A$71,">="&B$19,Työaikakirjanpito!$A$2:$A$71,"<"&B$19+7)) | C24: =IF($A24="","",SUMIFS(Työaikakirjanpito!$F$2:$F$71,Työaikakirjanpito!$B$2:$B$71,$A24,Työaikakirjanpito!$A$2:$A$71,">="&C$19,Työaikakirjanpito!$A$2:$A$71,"<"&C$19+7)-SUMIFS(Työaikakirjanpito!$I$2:$I$71,Työaikakirjanpito!$B$2:$B$71,$A24,Työaikakirjanpito!$A$2:$A$71,">="&C$19,Työaikakirjanpito!$A$2:$A$71,"<"&C$19+7)-SUMIFS(Työaikakirjanpito!$J$2:$J$71,Työaikakirjanpito!$B$2:$B$71,$A24,Työaikakirjanpito!$A$2:$A$71,">="&C$19,Työaikakirjanpito!$A$2:$A$71,"<"&C$19+7)) | D24: =IF($A24="","",SUMIFS(Työaikakirjanpito!$F$2:$F$71,Työaikakirjanpito!$B$2:$B$71,$A24,Työaikakirjanpito!$A$2:$A$71,">="&D$19,Työaikakirjanpito!$A$2:$A$71,"<"&D$19+7)-SUMIFS(Työaikakirjanpito!$I$2:$I$71,Työaikakirjanpito!$B$2:$B$71,$A24,Työaikakirjanpito!$A$2:$A$71,">="&D$19,Työaikakirjanpito!$A$2:$A$71,"<"&D$19+7)-SUMIFS(Työaikakirjanpito!$J$2:$J$71,Työaikakirjanpito!$B$2:$B$71,$A24,Työaikakirjanpito!$A$2:$A$71,">="&D$19,Työaikakirjanpito!$A$2:$A$71,"<"&D$19+7)) | E24: =IF($A24="","",SUMIFS(Työaikakirjanpito!$F$2:$F$71,Työaikakirjanpito!$B$2:$B$71,$A24,Työaikakirjanpito!$A$2:$A$71,">="&E$19,Työaikakirjanpito!$A$2:$A$71,"<"&E$19+7)-SUMIFS(Työaikakirjanpito!$I$2:$I$71,Työaikakirjanpito!$B$2:$B$71,$A24,Työaikakirjanpito!$A$2:$A$71,">="&E$19,Työaikakirjanpito!$A$2:$A$71,"<"&E$19+7)-SUMIFS(Työaikakirjanpito!$J$2:$J$71,Työaikakirjanpito!$B$2:$B$71,$A24,Työaikakirjanpito!$A$2:$A$71,">="&E$19,Työaikakirjanpito!$A$2:$A$71,"<"&E$19+7)) | F24: =IF($A24="","",SUMIFS(Työaikakirjanpito!$F$2:$F$71,Työaikakirjanpito!$B$2:$B$71,$A24,Työaikakirjanpito!$A$2:$A$71,">="&F$19,Työaikakirjanpito!$A$2:$A$71,"<"&F$19+7)-SUMIFS(Työaikakirjanpito!$I$2:$I$71,Työaikakirjanpito!$B$2:$B$71,$A24,Työaikakirjanpito!$A$2:$A$71,">="&F$19,Työaikakirjanpito!$A$2:$A$71,"<"&F$19+7)-SUMIFS(Työaikakirjanpito!$J$2:$J$71,Työaikakirjanpito!$B$2:$B$71,$A24,Työaikakirjanpito!$A$2:$A$71,">="&F$19,Työaikakirjanpito!$A$2:$A$71,"<"&F$19+7)) | G24: =IF($A24="","",SUMIFS(Työaikakirjanpito!$F$2:$F$71,Työaikakirjanpito!$B$2:$B$71,$A24,Työaikakirjanpito!$A$2:$A$71,">="&G$19,Työaikakirjanpito!$A$2:$A$71,"<"&G$19+7)-SUMIFS(Työaikakirjanpito!$I$2:$I$71,Työaikakirjanpito!$B$2:$B$71,$A24,Työaikakirjanpito!$A$2:$A$71,">="&G$19,Työaikakirjanpito!$A$2:$A$71,"<"&G$19+7)-SUMIFS(Työaikakirjanpito!$J$2:$J$71,Työaikakirjanpito!$B$2:$B$71,$A24,Työaikakirjanpito!$A$2:$A$71,">="&G$19,Työaikakirjanpito!$A$2:$A$71,"<"&G$19+7)) | H24: =IF($A24="","",SUMPRODUCT((B24:G24>$D$4)*(B24:G24-$D$4)))
A27: Lisätyö viikoittain – viikoittaiseksi ylityöksi luettu osuus vähennetään
A28: Työntekijä | B28: =WEEKNUM(B29,21) -> 44 | C28: =WEEKNUM(C29,21) -> 45 | D28: =WEEKNUM(D29,21) -> 46 | E28: =WEEKNUM(E29,21) -> 47 | F28: =WEEKNUM(F29,21) -> 48 | G28: =WEEKNUM(G29,21) -> 49 | H28: Lisätyö ilman viik. ylityötä (h)
A29: Viikko alkaa (ma) | B29: =$D$3-WEEKDAY($D$3,3) -> 46321 | C29: =B29+7 -> 46328 | D29: =C29+7 -> 46335 | E29: =D29+7 -> 46342 | F29: =E29+7 -> 46349 | G29: =F29+7 -> 46356
A30: =IF(A9="","",A9) -> Aino Virtanen | B30: =IF($A30="","",SUMIFS(Työaikakirjanpito!$H$2:$H$71,Työaikakirjanpito!$B$2:$B$71,$A30,Työaikakirjanpito!$A$2:$A$71,">="&B$29,Työaikakirjanpito!$A$2:$A$71,"<"&B$29+7)) -> 0 | C30: =IF($A30="","",SUMIFS(Työaikakirjanpito!$H$2:$H$71,Työaikakirjanpito!$B$2:$B$71,$A30,Työaikakirjanpito!$A$2:$A$71,">="&C$29,Työaikakirjanpito!$A$2:$A$71,"<"&C$29+7)) -> 0 | D30: =IF($A30="","",SUMIFS(Työaikakirjanpito!$H$2:$H$71,Työaikakirjanpito!$B$2:$B$71,$A30,Työaikakirjanpito!$A$2:$A$71,">="&D$29,Työaikakirjanpito!$A$2:$A$71,"<"&D$29+7)) -> 0 | E30: =IF($A30="","",SUMIFS(Työaikakirjanpito!$H$2:$H$71,Työaikakirjanpito!$B$2:$B$71,$A30,Työaikakirjanpito!$A$2:$A$71,">="&E$29,Työaikakirjanpito!$A$2:$A$71,"<"&E$29+7)) -> 0 | F30: =IF($A30="","",SUMIFS(Työaikakirjanpito!$H$2:$H$71,Työaikakirjanpito!$B$2:$B$71,$A30,Työaikakirjanpito!$A$2:$A$71,">="&F$29,Työaikakirjanpito!$A$2:$A$71,"<"&F$29+7)) -> 0 | G30: =IF($A30="","",SUMIFS(Työaikakirjanpito!$H$2:$H$71,Työaikakirjanpito!$B$2:$B$71,$A30,Työaikakirjanpito!$A$2:$A$71,">="&G$29,Työaikakirjanpito!$A$2:$A$71,"<"&G$29+7)) -> 0 | H30: =IF($A30="","",SUMPRODUCT(((B30:G30-((B20:G20>$D$4)*(B20:G20-$D$4)))>0)*(B30:G30-((B20:G20>$D$4)*(B20:G20-$D$4))))) -> 0
A31: =IF(A10="","",A10) -> Mikko Laine | B31: =IF($A31="","",SUMIFS(Työaikakirjanpito!$H$2:$H$71,Työaikakirjanpito!$B$2:$B$71,$A31,Työaikakirjanpito!$A$2:$A$71,">="&B$29,Työaikakirjanpito!$A$2:$A$71,"<"&B$29+7)) -> 0 | C31: =IF($A31="","",SUMIFS(Työaikakirjanpito!$H$2:$H$71,Työaikakirjanpito!$B$2:$B$71,$A31,Työaikakirjanpito!$A$2:$A$71,">="&C$29,Työaikakirjanpito!$A$2:$A$71,"<"&C$29+7)) -> 0 | D31: =IF($A31="","",SUMIFS(Työaikakirjanpito!$H$2:$H$71,Työaikakirjanpito!$B$2:$B$71,$A31,Työaikakirjanpito!$A$2:$A$71,">="&D$29,Työaikakirjanpito!$A$2:$A$71,"<"&D$29+7)) -> 6 | E31: =IF($A31="","",SUMIFS(Työaikakirjanpito!$H$2:$H$71,Työaikakirjanpito!$B$2:$B$71,$A31,Työaikakirjanpito!$A$2:$A$71,">="&E$29,Työaikakirjanpito!$A$2:$A$71,"<"&E$29+7)) -> 0 | F31: =IF($A31="","",SUMIFS(Työaikakirjanpito!$H$2:$H$71,Työaikakirjanpito!$B$2:$B$71,$A31,Työaikakirjanpito!$A$2:$A$71,">="&F$29,Työaikakirjanpito!$A$2:$A$71,"<"&F$29+7)) -> 0 | G31: =IF($A31="","",SUMIFS(Työaikakirjanpito!$H$2:$H$71,Työaikakirjanpito!$B$2:$B$71,$A31,Työaikakirjanpito!$A$2:$A$71,">="&G$29,Työaikakirjanpito!$A$2:$A$71,"<"&G$29+7)) -> 0 | H31: =IF($A31="","",SUMPRODUCT(((B31:G31-((B21:G21>$D$4)*(B21:G21-$D$4)))>0)*(B31:G31-((B21:G21>$D$4)*(B21:G21-$D$4))))) -> 0
A32: =IF(A11="","",A11) -> Liisa Korhonen | B32: =IF($A32="","",SUMIFS(Työaikakirjanpito!$H$2:$H$71,Työaikakirjanpito!$B$2:$B$71,$A32,Työaikakirjanpito!$A$2:$A$71,">="&B$29,Työaikakirjanpito!$A$2:$A$71,"<"&B$29+7)) -> 0 | C32: =IF($A32="","",SUMIFS(Työaikakirjanpito!$H$2:$H$71,Työaikakirjanpito!$B$2:$B$71,$A32,Työaikakirjanpito!$A$2:$A$71,">="&C$29,Työaikakirjanpito!$A$2:$A$71,"<"&C$29+7)) -> 0 | D32: =IF($A32="","",SUMIFS(Työaikakirjanpito!$H$2:$H$71,Työaikakirjanpito!$B$2:$B$71,$A32,Työaikakirjanpito!$A$2:$A$71,">="&D$29,Työaikakirjanpito!$A$2:$A$71,"<"&D$29+7)) -> 2 | E32: =IF($A32="","",SUMIFS(Työaikakirjanpito!$H$2:$H$71,Työaikakirjanpito!$B$2:$B$71,$A32,Työaikakirjanpito!$A$2:$A$71,">="&E$29,Työaikakirjanpito!$A$2:$A$71,"<"&E$29+7)) -> 2 | F32: =IF($A32="","",SUMIFS(Työaikakirjanpito!$H$2:$H$71,Työaikakirjanpito!$B$2:$B$71,$A32,Työaikakirjanpito!$A$2:$A$71,">="&F$29,Työaikakirjanpito!$A$2:$A$71,"<"&F$29+7)) -> 0 | G32: =IF($A32="","",SUMIFS(Työaikakirjanpito!$H$2:$H$71,Työaikakirjanpito!$B$2:$B$71,$A32,Työaikakirjanpito!$A$2:$A$71,">="&G$29,Työaikakirjanpito!$A$2:$A$71,"<"&G$29+7)) -> 0 | H32: =IF($A32="","",SUMPRODUCT(((B32:G32-((B22:G22>$D$4)*(B22:G22-$D$4)))>0)*(B32:G32-((B22:G22>$D$4)*(B22:G22-$D$4))))) -> 4
A33: =IF(A12="","",A12) | B33: =IF($A33="","",SUMIFS(Työaikakirjanpito!$H$2:$H$71,Työaikakirjanpito!$B$2:$B$71,$A33,Työaikakirjanpito!$A$2:$A$71,">="&B$29,Työaikakirjanpito!$A$2:$A$71,"<"&B$29+7)) | C33: =IF($A33="","",SUMIFS(Työaikakirjanpito!$H$2:$H$71,Työaikakirjanpito!$B$2:$B$71,$A33,Työaikakirjanpito!$A$2:$A$71,">="&C$29,Työaikakirjanpito!$A$2:$A$71,"<"&C$29+7)) | D33: =IF($A33="","",SUMIFS(Työaikakirjanpito!$H$2:$H$71,Työaikakirjanpito!$B$2:$B$71,$A33,Työaikakirjanpito!$A$2:$A$71,">="&D$29,Työaikakirjanpito!$A$2:$A$71,"<"&D$29+7)) | E33: =IF($A33="","",SUMIFS(Työaikakirjanpito!$H$2:$H$71,Työaikakirjanpito!$B$2:$B$71,$A33,Työaikakirjanpito!$A$2:$A$71,">="&E$29,Työaikakirjanpito!$A$2:$A$71,"<"&E$29+7)) | F33: =IF($A33="","",SUMIFS(Työaikakirjanpito!$H$2:$H$71,Työaikakirjanpito!$B$2:$B$71,$A33,Työaikakirjanpito!$A$2:$A$71,">="&F$29,Työaikakirjanpito!$A$2:$A$71,"<"&F$29+7)) | G33: =IF($A33="","",SUMIFS(Työaikakirjanpito!$H$2:$H$71,Työaikakirjanpito!$B$2:$B$71,$A33,Työaikakirjanpito!$A$2:$A$71,">="&G$29,Työaikakirjanpito!$A$2:$A$71,"<"&G$29+7)) | H33: =IF($A33="","",SUMPRODUCT(((B33:G33-((B23:G23>$D$4)*(B23:G23-$D$4)))>0)*(B33:G33-((B23:G23>$D$4)*(B23:G23-$D$4)))))
A34: =IF(A13="","",A13) | B34: =IF($A34="","",SUMIFS(Työaikakirjanpito!$H$2:$H$71,Työaikakirjanpito!$B$2:$B$71,$A34,Työaikakirjanpito!$A$2:$A$71,">="&B$29,Työaikakirjanpito!$A$2:$A$71,"<"&B$29+7)) | C34: =IF($A34="","",SUMIFS(Työaikakirjanpito!$H$2:$H$71,Työaikakirjanpito!$B$2:$B$71,$A34,Työaikakirjanpito!$A$2:$A$71,">="&C$29,Työaikakirjanpito!$A$2:$A$71,"<"&C$29+7)) | D34: =IF($A34="","",SUMIFS(Työaikakirjanpito!$H$2:$H$71,Työaikakirjanpito!$B$2:$B$71,$A34,Työaikakirjanpito!$A$2:$A$71,">="&D$29,Työaikakirjanpito!$A$2:$A$71,"<"&D$29+7)) | E34: =IF($A34="","",SUMIFS(Työaikakirjanpito!$H$2:$H$71,Työaikakirjanpito!$B$2:$B$71,$A34,Työaikakirjanpito!$A$2:$A$71,">="&E$29,Työaikakirjanpito!$A$2:$A$71,"<"&E$29+7)) | F34: =IF($A34="","",SUMIFS(Työaikakirjanpito!$H$2:$H$71,Työaikakirjanpito!$B$2:$B$71,$A34,Työaikakirjanpito!$A$2:$A$71,">="&F$29,Työaikakirjanpito!$A$2:$A$71,"<"&F$29+7)) | G34: =IF($A34="","",SUMIFS(Työaikakirjanpito!$H$2:$H$71,Työaikakirjanpito!$B$2:$B$71,$A34,Työaikakirjanpito!$A$2:$A$71,">="&G$29,Työaikakirjanpito!$A$2:$A$71,"<"&G$29+7)) | H34: =IF($A34="","",SUMPRODUCT(((B34:G34-((B24:G24>$D$4)*(B24:G24-$D$4)))>0)*(B34:G34-((B24:G24>$D$4)*(B24:G24-$D$4)))))
A36: Itsearviointi – 7 kohtaa ennen palkanlaskentaa (Vaihe 6)
A37: Tarkistuskohta | G37: Aineisto tiedostossa | L37: Tarkistettu (Kyllä/Ei)
A38: 1. Työvuoroluettelot on annettu tiedoksi vähintään viikkoa ennen jakson alkua (30 §). | G38: ="Tarkista erikseen: työvuoroluettelot" -> Tarkista erikseen: työvuoroluettelot
A39: 2. Tasoittumissuunnitelma on laadittu ennakkoon, jos käytössä on keskimääräinen työaika. | G39: ="Tarkista erikseen: tasoittumissuunnitelma" -> Tarkista erikseen: tasoittumissuunnitelma
A40: 3. Kaikki tehdyt tunnit on jaoteltu säännölliseen työhön, lisätyöhön ja ylityöhön korotusosineen. | G40: ="Tehdyt "&FIXED(C14,2)&" h · lisätyö "&FIXED(D14,2)&" · ylityö "&FIXED(E14+F14+G14,2)&" · sunnuntai "&FIXED(H14,2) -> Tehdyt 449,00 h · lisätyö 4,00 · ylityö 9,00 · sunnuntai 6,00
A41: 4. Aineistosta ilmenee työntekijän kuittaus tai aukoton leimausjälki. | G41: ="Kuittaus puuttuu: "&(COUNTA(A9:A13)-COUNTA(K9:K13))&" työntekijältä" -> Kuittaus puuttuu: 3 työntekijältä
A42: 5. Kaikkiin takautuviin muokkauksiin löytyy syy ja esihenkilön hyväksyntä. | G42: ="Rivejä ilman hyväksyntää: "&J14 -> Rivejä ilman hyväksyntää: 3
A43: 6. Arkistoidut tiedot ovat haettavissa kanneajan päättymiseen asti (32 § ja 40 §). | G43: ="Tarkista erikseen: arkistokopio" -> Tarkista erikseen: arkistokopio
A44: 7. Palkkalaskelmat täsmäävät työaikakirjanpidon korvaustunteihin. | G44: ="Vertaa palkanlaskentaan sarakkeet 4–8 (lepo < 11 h: "&I14&")" -> Vertaa palkanlaskentaan sarakkeet 4–8 (lepo < 11 h: 1)
A46: Tila: | D46: =IF(AND(COUNTIF(L38:L44,"Kyllä")=7,J14=0,COUNTA(K9:K13)=COUNTA(A9:A13),COUNTA(L9:L13)=COUNTA(A9:A13),COUNT(M9:M13)=COUNTA(A9:A13)),"Hyväksytty ja lukittu","Odottaa hyväksyntää") -> Odottaa hyväksyntää
A48: Yleistyöaika: vuorokautinen ylityö yli 8 h (kaksi ensimmäistä tuntia +50 %, seuraavat +100 %), viikoittainen ylityö yli 40 h ilman vuorokautista ylityötä +50 %, sunnuntaityö +100 % (työaikalaki 16 § ja 20 §).
...
