Workbook

Sheet Absensi
A1: Absensi & Jam Kerja Harian | H1: Contoh hipotetis — orova.vn
A2: Bulan: | B2: 46327 | D2: Satu baris per karyawan per hari. Kuning = diisi manual; abu-abu = rumus otomatis (sel terkunci, tanpa kata sandi).
D3: Kolom I memakai MOD(...;1) agar shift lewat tengah malam tidak negatif. Kolom K = MAX(0; I − 8): ganti 8 dengan batas jam harian yang berlaku.
A4: A | B4: B | C4: C | D4: D | E4: E | F4: F | G4: G | H4: H | I4: I | J4: J | K4: K
A5: Tanggal | B5: Nama Karyawan | C5: Kode Shift | D5: Sesi 1 Masuk | E5: Sesi 1 Keluar | F5: Sesi 2 Masuk | G5: Sesi 2 Keluar | H5: Durasi Istirahat (Jam) | I5: Total Jam Kerja Bersih | J5: Catatan / Validasi | K5: Jam Lembur
A6: 46328 | B6: Sari Wulandari | C6: SPLIT | D6: 0.41666667 | E6: 0.58333333 | F6: 0.70833333 | G6: 0.875 | H6: 0 | I6: =IF(OR(B6="",D6="",E6=""),"",ROUND(IF(C6="SPLIT",(MOD(E6-D6,1)+IF(OR(F6="",G6=""),0,MOD(G6-F6,1)))*24,MOD(E6-D6,1)*24-H6),2)) -> 8 | J6: Disetujui penyelia | K6: =IF(I6="","",MAX(0,I6-8)) -> 0
A7: 46329 | B7: Sari Wulandari | C7: SPLIT | D7: 0.41736111 | E7: 0.58402778 | F7: 0.70902778 | G7: 0.87569444 | H7: 0 | I7: =IF(OR(B7="",D7="",E7=""),"",ROUND(IF(C7="SPLIT",(MOD(E7-D7,1)+IF(OR(F7="",G7=""),0,MOD(G7-F7,1)))*24,MOD(E7-D7,1)*24-H7),2)) -> 8 | K7: =IF(I7="","",MAX(0,I7-8)) -> 0
A8: 46330 | B8: Sari Wulandari | C8: SPLIT | D8: 0.42222222 | E8: 0.58472222 | F8: 0.70972222 | G8: 0.88055556 | H8: 0 | I8: =IF(OR(B8="",D8="",E8=""),"",ROUND(IF(C8="SPLIT",(MOD(E8-D8,1)+IF(OR(F8="",G8=""),0,MOD(G8-F8,1)))*24,MOD(E8-D8,1)*24-H8),2)) -> 8 | K8: =IF(I8="","",MAX(0,I8-8)) -> 0
A9: 46331 | B9: Sari Wulandari | C9: SPLIT | D9: 0.42013889 | E9: 0.58402778 | F9: 0.70902778 | G9: 0.87847222 | H9: 0 | I9: =IF(OR(B9="",D9="",E9=""),"",ROUND(IF(C9="SPLIT",(MOD(E9-D9,1)+IF(OR(F9="",G9=""),0,MOD(G9-F9,1)))*24,MOD(E9-D9,1)*24-H9),2)) -> 8 | K9: =IF(I9="","",MAX(0,I9-8)) -> 0
A10: 46332 | B10: Sari Wulandari | C10: SPLIT | D10: 0.41805556 | E10: 0.58333333 | F10: 0.70833333 | G10: 0.87638889 | H10: 0 | I10: =IF(OR(B10="",D10="",E10=""),"",ROUND(IF(C10="SPLIT",(MOD(E10-D10,1)+IF(OR(F10="",G10=""),0,MOD(G10-F10,1)))*24,MOD(E10-D10,1)*24-H10),2)) -> 8 | K10: =IF(I10="","",MAX(0,I10-8)) -> 0
A11: 46335 | B11: Sari Wulandari | C11: SPLIT | D11: 0.41875 | E11: 0.58402778 | F11: 0.70902778 | G11: 0.87708333 | H11: 0 | I11: =IF(OR(B11="",D11="",E11=""),"",ROUND(IF(C11="SPLIT",(MOD(E11-D11,1)+IF(OR(F11="",G11=""),0,MOD(G11-F11,1)))*24,MOD(E11-D11,1)*24-H11),2)) -> 8 | K11: =IF(I11="","",MAX(0,I11-8)) -> 0
A12: 46336 | B12: Sari Wulandari | C12: SPLIT | D12: 0.41666667 | E12: 0.58333333 | F12: 0.70833333 | G12: 0.875 | H12: 0 | I12: =IF(OR(B12="",D12="",E12=""),"",ROUND(IF(C12="SPLIT",(MOD(E12-D12,1)+IF(OR(F12="",G12=""),0,MOD(G12-F12,1)))*24,MOD(E12-D12,1)*24-H12),2)) -> 8 | K12: =IF(I12="","",MAX(0,I12-8)) -> 0
A13: 46337 | B13: Sari Wulandari | C13: SPLIT | D13: 0.42152778 | E13: 0.58819444 | F13: 0.71319444 | G13: 0.87986111 | H13: 0 | I13: =IF(OR(B13="",D13="",E13=""),"",ROUND(IF(C13="SPLIT",(MOD(E13-D13,1)+IF(OR(F13="",G13=""),0,MOD(G13-F13,1)))*24,MOD(E13-D13,1)*24-H13),2)) -> 8 | K13: =IF(I13="","",MAX(0,I13-8)) -> 0
A14: 46338 | B14: Sari Wulandari | C14: SPLIT | D14: 0.41944444 | E14: 0.58333333 | F14: 0.70833333 | G14: 0.87777778 | H14: 0 | I14: =IF(OR(B14="",D14="",E14=""),"",ROUND(IF(C14="SPLIT",(MOD(E14-D14,1)+IF(OR(F14="",G14=""),0,MOD(G14-F14,1)))*24,MOD(E14-D14,1)*24-H14),2)) -> 8 | K14: =IF(I14="","",MAX(0,I14-8)) -> 0
A15: 46339 | B15: Sari Wulandari | C15: SPLIT | D15: 0.41736111 | E15: 0.58402778 | F15: 0.70902778 | G15: 0.87569444 | H15: 0 | I15: =IF(OR(B15="",D15="",E15=""),"",ROUND(IF(C15="SPLIT",(MOD(E15-D15,1)+IF(OR(F15="",G15=""),0,MOD(G15-F15,1)))*24,MOD(E15-D15,1)*24-H15),2)) -> 8 | K15: =IF(I15="","",MAX(0,I15-8)) -> 0
A16: 46342 | B16: Sari Wulandari | C16: SPLIT | D16: 0.41805556 | E16: 0.58472222 | F16: 0.70972222 | G16: 0.87638889 | H16: 0 | I16: =IF(OR(B16="",D16="",E16=""),"",ROUND(IF(C16="SPLIT",(MOD(E16-D16,1)+IF(OR(F16="",G16=""),0,MOD(G16-F16,1)))*24,MOD(E16-D16,1)*24-H16),2)) -> 8 | K16: =IF(I16="","",MAX(0,I16-8)) -> 0
A17: 46343 | B17: Sari Wulandari | C17: SPLIT | D17: 0.42291667 | E17: 0.58680556 | F17: 0.71180556 | G17: 0.88125 | H17: 0 | I17: =IF(OR(B17="",D17="",E17=""),"",ROUND(IF(C17="SPLIT",(MOD(E17-D17,1)+IF(OR(F17="",G17=""),0,MOD(G17-F17,1)))*24,MOD(E17-D17,1)*24-H17),2)) -> 8 | K17: =IF(I17="","",MAX(0,I17-8)) -> 0
A18: 46344 | B18: Sari Wulandari | C18: SPLIT | D18: 0.42083333 | E18: 0.5875 | F18: 0.7125 | G18: 0.87916667 | H18: 0 | I18: =IF(OR(B18="",D18="",E18=""),"",ROUND(IF(C18="SPLIT",(MOD(E18-D18,1)+IF(OR(F18="",G18=""),0,MOD(G18-F18,1)))*24,MOD(E18-D18,1)*24-H18),2)) -> 8 | J18: Tukar sesi dengan rekan, disetujui penyelia | K18: =IF(I18="","",MAX(0,I18-8)) -> 0
A19: 46345 | B19: Sari Wulandari | C19: SPLIT | D19: 0.41875 | E19: 0.58541667 | F19: 0.71041667 | G19: 0.87708333 | H19: 0 | I19: =IF(OR(B19="",D19="",E19=""),"",ROUND(IF(C19="SPLIT",(MOD(E19-D19,1)+IF(OR(F19="",G19=""),0,MOD(G19-F19,1)))*24,MOD(E19-D19,1)*24-H19),2)) -> 8 | K19: =IF(I19="","",MAX(0,I19-8)) -> 0
A20: 46346 | B20: Sari Wulandari | C20: SPLIT | D20: 0.41666667 | E20: 0.58333333 | F20: 0.70833333 | G20: 0.875 | H20: 0 | I20: =IF(OR(B20="",D20="",E20=""),"",ROUND(IF(C20="SPLIT",(MOD(E20-D20,1)+IF(OR(F20="",G20=""),0,MOD(G20-F20,1)))*24,MOD(E20-D20,1)*24-H20),2)) -> 8 | K20: =IF(I20="","",MAX(0,I20-8)) -> 0
A21: 46349 | B21: Sari Wulandari | C21: SPLIT | D21: 0.41736111 | E21: 0.58402778 | F21: 0.70902778 | G21: 0.87569444 | H21: 0 | I21: =IF(OR(B21="",D21="",E21=""),"",ROUND(IF(C21="SPLIT",(MOD(E21-D21,1)+IF(OR(F21="",G21=""),0,MOD(G21-F21,1)))*24,MOD(E21-D21,1)*24-H21),2)) -> 8 | K21: =IF(I21="","",MAX(0,I21-8)) -> 0
A22: 46350 | B22: Sari Wulandari | C22: SPLIT | D22: 0.42222222 | E22: 0.58541667 | F22: 0.71041667 | G22: 0.88055556 | H22: 0 | I22: =IF(OR(B22="",D22="",E22=""),"",ROUND(IF(C22="SPLIT",(MOD(E22-D22,1)+IF(OR(F22="",G22=""),0,MOD(G22-F22,1)))*24,MOD(E22-D22,1)*24-H22),2)) -> 8 | K22: =IF(I22="","",MAX(0,I22-8)) -> 0
A23: 46351 | B23: Sari Wulandari | C23: SPLIT | D23: 0.42013889 | E23: 0.58680556 | F23: 0.71180556 | G23: 0.87847222 | H23: 0 | I23: =IF(OR(B23="",D23="",E23=""),"",ROUND(IF(C23="SPLIT",(MOD(E23-D23,1)+IF(OR(F23="",G23=""),0,MOD(G23-F23,1)))*24,MOD(E23-D23,1)*24-H23),2)) -> 8 | K23: =IF(I23="","",MAX(0,I23-8)) -> 0
A24: 46352 | B24: Sari Wulandari | C24: SPLIT | D24: 0.41805556 | E24: 0.58402778 | F24: 0.70902778 | G24: 0.87638889 | H24: 0 | I24: =IF(OR(B24="",D24="",E24=""),"",ROUND(IF(C24="SPLIT",(MOD(E24-D24,1)+IF(OR(F24="",G24=""),0,MOD(G24-F24,1)))*24,MOD(E24-D24,1)*24-H24),2)) -> 8 | K24: =IF(I24="","",MAX(0,I24-8)) -> 0
A25: 46353 | B25: Sari Wulandari | C25: SPLIT | D25: 0.42291667 | E25: 0.58680556 | F25: 0.71180556 | G25: 0.88125 | H25: 0 | I25: =IF(OR(B25="",D25="",E25=""),"",ROUND(IF(C25="SPLIT",(MOD(E25-D25,1)+IF(OR(F25="",G25=""),0,MOD(G25-F25,1)))*24,MOD(E25-D25,1)*24-H25),2)) -> 8 | K25: =IF(I25="","",MAX(0,I25-8)) -> 0
A26: 46356 | B26: Sari Wulandari | C26: SPLIT | D26: 0.41666667 | E26: 0.58333333 | F26: 0.70833333 | G26: 0.875 | H26: 0 | I26: =IF(OR(B26="",D26="",E26=""),"",ROUND(IF(C26="SPLIT",(MOD(E26-D26,1)+IF(OR(F26="",G26=""),0,MOD(G26-F26,1)))*24,MOD(E26-D26,1)*24-H26),2)) -> 8 | K26: =IF(I26="","",MAX(0,I26-8)) -> 0
A27: 46328 | B27: Budi Santoso | C27: PAGI | D27: 0.33819444 | E27: 0.71041667 | H27: 1 | I27: =IF(OR(B27="",D27="",E27=""),"",ROUND(IF(C27="SPLIT",(MOD(E27-D27,1)+IF(OR(F27="",G27=""),0,MOD(G27-F27,1)))*24,MOD(E27-D27,1)*24-H27),2)) -> 7.93 | K27: =IF(I27="","",MAX(0,I27-8)) -> 0
A28: 46329 | B28: Budi Santoso | C28: PAGI | D28: 0.33333333 | E28: 0.77083333 | H28: 1 | I28: =IF(OR(B28="",D28="",E28=""),"",ROUND(IF(C28="SPLIT",(MOD(E28-D28,1)+IF(OR(F28="",G28=""),0,MOD(G28-F28,1)))*24,MOD(E28-D28,1)*24-H28),2)) -> 9.5 | J28: Lembur stok gudang, disetujui manajer | K28: =IF(I28="","",MAX(0,I28-8)) -> 1.5
A29: 46330 | B29: Budi Santoso | C29: PAGI | D29: 0.33402778 | E29: 0.70902778 | H29: 1 | I29: =IF(OR(B29="",D29="",E29=""),"",ROUND(IF(C29="SPLIT",(MOD(E29-D29,1)+IF(OR(F29="",G29=""),0,MOD(G29-F29,1)))*24,MOD(E29-D29,1)*24-H29),2)) -> 8 | K29: =IF(I29="","",MAX(0,I29-8)) -> 0
A30: 46331 | B30: Budi Santoso | C30: PAGI | D30: 0.33888889 | E30: 0.71388889 | H30: 1 | I30: =IF(OR(B30="",D30="",E30=""),"",ROUND(IF(C30="SPLIT",(MOD(E30-D30,1)+IF(OR(F30="",G30=""),0,MOD(G30-F30,1)))*24,MOD(E30-D30,1)*24-H30),2)) -> 8 | K30: =IF(I30="","",MAX(0,I30-8)) -> 0
A31: 46332 | B31: Budi Santoso | C31: PAGI | D31: 0.33680556 | E31: 0.70902778 | H31: 1 | I31: =IF(OR(B31="",D31="",E31=""),"",ROUND(IF(C31="SPLIT",(MOD(E31-D31,1)+IF(OR(F31="",G31=""),0,MOD(G31-F31,1)))*24,MOD(E31-D31,1)*24-H31),2)) -> 7.93 | K31: =IF(I31="","",MAX(0,I31-8)) -> 0
A32: 46335 | B32: Budi Santoso | C32: PAGI | D32: 0.3375 | E32: 0.71111111 | H32: 1 | I32: =IF(OR(B32="",D32="",E32=""),"",ROUND(IF(C32="SPLIT",(MOD(E32-D32,1)+IF(OR(F32="",G32=""),0,MOD(G32-F32,1)))*24,MOD(E32-D32,1)*24-H32),2)) -> 7.97 | K32: =IF(I32="","",MAX(0,I32-8)) -> 0
A33: 46336 | B33: Budi Santoso | C33: PAGI | D33: 0.34097222 | E33: 0.70833333 | H33: 1 | I33: =IF(OR(B33="",D33="",E33=""),"",ROUND(IF(C33="SPLIT",(MOD(E33-D33,1)+IF(OR(F33="",G33=""),0,MOD(G33-F33,1)))*24,MOD(E33-D33,1)*24-H33),2)) -> 7.82 | J33: Terlambat 11 menit (lewat toleransi 10 menit) | K33: =IF(I33="","",MAX(0,I33-8)) -> 0
A34: 46337 | B34: Budi Santoso | C34: PAGI | D34: 0.33333333 | E34: 0.70833333 | H34: 1 | I34: =IF(OR(B34="",D34="",E34=""),"",ROUND(IF(C34="SPLIT",(MOD(E34-D34,1)+IF(OR(F34="",G34=""),0,MOD(G34-F34,1)))*24,MOD(E34-D34,1)*24-H34),2)) -> 8 | K34: =IF(I34="","",MAX(0,I34-8)) -> 0
A35: 46338 | B35: Budi Santoso | C35: PAGI | D35: 0.33472222 | E35: 0.70833333 | H35: 1 | I35: =IF(OR(B35="",D35="",E35=""),"",ROUND(IF(C35="SPLIT",(MOD(E35-D35,1)+IF(OR(F35="",G35=""),0,MOD(G35-F35,1)))*24,MOD(E35-D35,1)*24-H35),2)) -> 7.97 | J35: Lupa absen pulang — ditutup sesuai jadwal, perlu koreksi | K35: =IF(I35="","",MAX(0,I35-8)) -> 0
A36: 46339 | B36: Budi Santoso | C36: PAGI | D36: 0.33611111 | E36: 0.70902778 | H36: 1 | I36: =IF(OR(B36="",D36="",E36=""),"",ROUND(IF(C36="SPLIT",(MOD(E36-D36,1)+IF(OR(F36="",G36=""),0,MOD(G36-F36,1)))*24,MOD(E36-D36,1)*24-H36),2)) -> 7.95 | K36: =IF(I36="","",MAX(0,I36-8)) -> 0
A37: 46342 | B37: Budi Santoso | C37: PAGI | D37: 0.33680556 | E37: 0.71041667 | H37: 1 | I37: =IF(OR(B37="",D37="",E37=""),"",ROUND(IF(C37="SPLIT",(MOD(E37-D37,1)+IF(OR(F37="",G37=""),0,MOD(G37-F37,1)))*24,MOD(E37-D37,1)*24-H37),2)) -> 7.97 | K37: =IF(I37="","",MAX(0,I37-8)) -> 0
A38: 46343 | B38: Budi Santoso | C38: PAGI | D38: 0.33472222 | E38: 0.70972222 | H38: 1 | I38: =IF(OR(B38="",D38="",E38=""),"",ROUND(IF(C38="SPLIT",(MOD(E38-D38,1)+IF(OR(F38="",G38=""),0,MOD(G38-F38,1)))*24,MOD(E38-D38,1)*24-H38),2)) -> 8 | K38: =IF(I38="","",MAX(0,I38-8)) -> 0
A39: 46344 | B39: Budi Santoso | C39: PAGI | D39: 0.33958333 | E39: 0.70902778 | H39: 1 | I39: =IF(OR(B39="",D39="",E39=""),"",ROUND(IF(C39="SPLIT",(MOD(E39-D39,1)+IF(OR(F39="",G39=""),0,MOD(G39-F39,1)))*24,MOD(E39-D39,1)*24-H39),2)) -> 7.87 | K39: =IF(I39="","",MAX(0,I39-8)) -> 0
A40: 46345 | B40: Budi Santoso | C40: PAGI | D40: 0.33333333 | E40: 0.6875 | H40: 1 | I40: =IF(OR(B40="",D40="",E40=""),"",ROUND(IF(C40="SPLIT",(MOD(E40-D40,1)+IF(OR(F40="",G40=""),0,MOD(G40-F40,1)))*24,MOD(E40-D40,1)*24-H40),2)) -> 7.5 | J40: Izin pulang lebih awal, disetujui | K40: =IF(I40="","",MAX(0,I40-8)) -> 0
...

Sheet Rekap
A1: Rekap Jam Kerja per Karyawan | E1: Contoh hipotetis — orova.vn
A3: Bulan: | B3: =Absensi!B2 -> 46327 | C3: Dihitung dari lembar Absensi (SUMIF / COUNTIFS).
A5: Nama Karyawan | B5: Total Hari Hadir | C5: Total Jam Kerja Reguler | D5: Total Jam Lembur | E5: Total Jam Kerja Bersih | F5: Jumlah Izin/Sakit | G5: Baris Perlu Koreksi
A6: Sari Wulandari | B6: =IF(A6="","",COUNTIFS(Absensi!$B$6:$B$80,A6,Absensi!$I$6:$I$80,">0")) -> 21 | C6: =IF(A6="","",E6-D6) -> 168 | D6: =IF(A6="","",SUMIF(Absensi!$B$6:$B$80,A6,Absensi!$K$6:$K$80)) -> 0 | E6: =IF(A6="","",SUMIF(Absensi!$B$6:$B$80,A6,Absensi!$I$6:$I$80)) -> 168 | F6: =IF(A6="","",COUNTIFS(Absensi!$B$6:$B$80,A6,Absensi!$C$6:$C$80,"IZIN")+COUNTIFS(Absensi!$B$6:$B$80,A6,Absensi!$C$6:$C$80,"SAKIT")) -> 0 | G6: =IF(A6="","",SUMPRODUCT((Absensi!$B$6:$B$80=A6)*ISNUMBER(SEARCH("koreksi",Absensi!$J$6:$J$80)))) -> 0
A7: Budi Santoso | B7: =IF(A7="","",COUNTIFS(Absensi!$B$6:$B$80,A7,Absensi!$I$6:$I$80,">0")) -> 21 | C7: =IF(A7="","",E7-D7) -> 164.21 | D7: =IF(A7="","",SUMIF(Absensi!$B$6:$B$80,A7,Absensi!$K$6:$K$80)) -> 1.5 | E7: =IF(A7="","",SUMIF(Absensi!$B$6:$B$80,A7,Absensi!$I$6:$I$80)) -> 165.71 | F7: =IF(A7="","",COUNTIFS(Absensi!$B$6:$B$80,A7,Absensi!$C$6:$C$80,"IZIN")+COUNTIFS(Absensi!$B$6:$B$80,A7,Absensi!$C$6:$C$80,"SAKIT")) -> 1 | G7: =IF(A7="","",SUMPRODUCT((Absensi!$B$6:$B$80=A7)*ISNUMBER(SEARCH("koreksi",Absensi!$J$6:$J$80)))) -> 1
A8: Dewi Lestari | B8: =IF(A8="","",COUNTIFS(Absensi!$B$6:$B$80,A8,Absensi!$I$6:$I$80,">0")) -> 20 | C8: =IF(A8="","",E8-D8) -> 145.12 | D8: =IF(A8="","",SUMIF(Absensi!$B$6:$B$80,A8,Absensi!$K$6:$K$80)) -> 1.75 | E8: =IF(A8="","",SUMIF(Absensi!$B$6:$B$80,A8,Absensi!$I$6:$I$80)) -> 146.87 | F8: =IF(A8="","",COUNTIFS(Absensi!$B$6:$B$80,A8,Absensi!$C$6:$C$80,"IZIN")+COUNTIFS(Absensi!$B$6:$B$80,A8,Absensi!$C$6:$C$80,"SAKIT")) -> 1 | G8: =IF(A8="","",SUMPRODUCT((Absensi!$B$6:$B$80=A8)*ISNUMBER(SEARCH("koreksi",Absensi!$J$6:$J$80)))) -> 0
B9: =IF(A9="","",COUNTIFS(Absensi!$B$6:$B$80,A9,Absensi!$I$6:$I$80,">0")) | C9: =IF(A9="","",E9-D9) | D9: =IF(A9="","",SUMIF(Absensi!$B$6:$B$80,A9,Absensi!$K$6:$K$80)) | E9: =IF(A9="","",SUMIF(Absensi!$B$6:$B$80,A9,Absensi!$I$6:$I$80)) | F9: =IF(A9="","",COUNTIFS(Absensi!$B$6:$B$80,A9,Absensi!$C$6:$C$80,"IZIN")+COUNTIFS(Absensi!$B$6:$B$80,A9,Absensi!$C$6:$C$80,"SAKIT")) | G9: =IF(A9="","",SUMPRODUCT((Absensi!$B$6:$B$80=A9)*ISNUMBER(SEARCH("koreksi",Absensi!$J$6:$J$80))))
B10: =IF(A10="","",COUNTIFS(Absensi!$B$6:$B$80,A10,Absensi!$I$6:$I$80,">0")) | C10: =IF(A10="","",E10-D10) | D10: =IF(A10="","",SUMIF(Absensi!$B$6:$B$80,A10,Absensi!$K$6:$K$80)) | E10: =IF(A10="","",SUMIF(Absensi!$B$6:$B$80,A10,Absensi!$I$6:$I$80)) | F10: =IF(A10="","",COUNTIFS(Absensi!$B$6:$B$80,A10,Absensi!$C$6:$C$80,"IZIN")+COUNTIFS(Absensi!$B$6:$B$80,A10,Absensi!$C$6:$C$80,"SAKIT")) | G10: =IF(A10="","",SUMPRODUCT((Absensi!$B$6:$B$80=A10)*ISNUMBER(SEARCH("koreksi",Absensi!$J$6:$J$80))))
B11: =IF(A11="","",COUNTIFS(Absensi!$B$6:$B$80,A11,Absensi!$I$6:$I$80,">0")) | C11: =IF(A11="","",E11-D11) | D11: =IF(A11="","",SUMIF(Absensi!$B$6:$B$80,A11,Absensi!$K$6:$K$80)) | E11: =IF(A11="","",SUMIF(Absensi!$B$6:$B$80,A11,Absensi!$I$6:$I$80)) | F11: =IF(A11="","",COUNTIFS(Absensi!$B$6:$B$80,A11,Absensi!$C$6:$C$80,"IZIN")+COUNTIFS(Absensi!$B$6:$B$80,A11,Absensi!$C$6:$C$80,"SAKIT")) | G11: =IF(A11="","",SUMPRODUCT((Absensi!$B$6:$B$80=A11)*ISNUMBER(SEARCH("koreksi",Absensi!$J$6:$J$80))))
A12: Total | B12: =SUM(B6:B11) -> 62 | C12: =SUM(C6:C11) -> 477.33 | D12: =SUM(D6:D11) -> 3.25 | E12: =SUM(E6:E11) -> 480.58 | F12: =SUM(F6:F11) -> 2 | G12: =SUM(G6:G11) -> 1
A14: Total Jam Kerja Reguler = Total Jam Kerja Bersih − Total Jam Lembur. Hari hadir = baris dengan jam kerja bersih > 0.
A15: Selesaikan semua «Baris Perlu Koreksi» sebelum tanggal tutup rekap, lalu kunci lembar Absensi (Read Only) bagi karyawan.
A16: Menit terlambat dan nilai bobot hari kerja bisa ditambahkan sebagai kolom sesuai kebijakan internal usaha Anda.
A17: Bisa juga pakai PivotTable dari lembar Absensi (baris: Nama Karyawan; nilai: jumlah kolom I dan K).
A18: Jam lembur di sini bukan perhitungan upah lembur: syarat, batas, dan cara menghitung upahnya
A19: mengikuti PP Nomor 35 Tahun 2021 — periksa aturan resmi di Kemnaker.
A20: Contoh hipotetis: nama dan jam rekaan. File ini tidak menghitung gaji; teruskan rekap ke proses penggajian Anda.
A22: Diperiksa oleh: ______________ Tanggal: __/__/____ Tanda tangan: ______________
