Workbook

Sheet 근태대장
A1: 월간 근태대장 (세무대리인 전달용 8컬럼) | H1: 가상 예시 — orova.vn
A2: 기준 월(1일): | B2: 46327 | C2: ~ | D2: =EOMONTH(B2,0) -> 46356 | E2: 모든 값은 '출퇴근 기록'과 '직원명부'에서 자동 계산됩니다(잠금).
A4: 사번/성명 | B4: 소정근로일수 | C4: 실출근일수 | D4: 주휴수당 대상 | E4: 연장근로시간 | F4: 야간근로시간 | G4: 휴일근로시간 | H4: 휴가/결근내역
A5: =IF(직원명부!$A$5="","",직원명부!$A$5&" / "&직원명부!$B$5) -> KR-0104 / 김민준 | B5: =IF(직원명부!$A$5="","",COUNTIFS(R_ID,직원명부!$A$5,R_DATE,">="&$B$2,R_DATE,"<="&$D$2,R_TYPE,"근무일")+COUNTIFS(R_ID,직원명부!$A$5,R_DATE,">="&$B$2,R_DATE,"<="&$D$2,R_TYPE,"연차")+COUNTIFS(R_ID,직원명부!$A$5,R_DATE,">="&$B$2,R_DATE,"<="&$D$2,R_TYPE,"결근")) -> 21 | C5: =IF(직원명부!$A$5="","",SUMPRODUCT((R_ID=직원명부!$A$5)*(R_DATE>=$B$2)*(R_DATE<=$D$2)*(R_TYPE="근무일")*ISNUMBER(R_IN))) -> 20 | D5: =IF(직원명부!$A$5="","",IF(N(직원명부!$D$5)<15,"비대상",IF(COUNTIFS(R_ID,직원명부!$A$5,R_DATE,">="&$B$2,R_DATE,"<="&$D$2,R_TYPE,"결근")=0,"대상","대상(결근 주 제외)"))) -> 대상 | E5: =IF(직원명부!$A$5="","",ROUND(SUMIFS(R_OT,R_ID,직원명부!$A$5,R_DATE,">="&$B$2,R_DATE,"<="&$D$2)*24,2)) -> 8.5 | F5: =IF(직원명부!$A$5="","",ROUND(SUMIFS(R_NIGHT,R_ID,직원명부!$A$5,R_DATE,">="&$B$2,R_DATE,"<="&$D$2)*24,2)) -> 3 | G5: =IF(직원명부!$A$5="","",ROUND(SUMIFS(R_HOL,R_ID,직원명부!$A$5,R_DATE,">="&$B$2,R_DATE,"<="&$D$2)*24,2)) -> 4 | H5: =IF(직원명부!$A$5="","","연차 "&COUNTIFS(R_ID,직원명부!$A$5,R_DATE,">="&$B$2,R_DATE,"<="&$D$2,R_TYPE,"연차")&"일 사용 / 결근 "&COUNTIFS(R_ID,직원명부!$A$5,R_DATE,">="&$B$2,R_DATE,"<="&$D$2,R_TYPE,"결근")&"일") -> 연차 1일 사용 / 결근 0일
A6: =IF(직원명부!$A$6="","",직원명부!$A$6&" / "&직원명부!$B$6) -> KR-0107 / 이서연 | B6: =IF(직원명부!$A$6="","",COUNTIFS(R_ID,직원명부!$A$6,R_DATE,">="&$B$2,R_DATE,"<="&$D$2,R_TYPE,"근무일")+COUNTIFS(R_ID,직원명부!$A$6,R_DATE,">="&$B$2,R_DATE,"<="&$D$2,R_TYPE,"연차")+COUNTIFS(R_ID,직원명부!$A$6,R_DATE,">="&$B$2,R_DATE,"<="&$D$2,R_TYPE,"결근")) -> 21 | C6: =IF(직원명부!$A$6="","",SUMPRODUCT((R_ID=직원명부!$A$6)*(R_DATE>=$B$2)*(R_DATE<=$D$2)*(R_TYPE="근무일")*ISNUMBER(R_IN))) -> 20 | D6: =IF(직원명부!$A$6="","",IF(N(직원명부!$D$6)<15,"비대상",IF(COUNTIFS(R_ID,직원명부!$A$6,R_DATE,">="&$B$2,R_DATE,"<="&$D$2,R_TYPE,"결근")=0,"대상","대상(결근 주 제외)"))) -> 대상(결근 주 제외) | E6: =IF(직원명부!$A$6="","",ROUND(SUMIFS(R_OT,R_ID,직원명부!$A$6,R_DATE,">="&$B$2,R_DATE,"<="&$D$2)*24,2)) -> 1.5 | F6: =IF(직원명부!$A$6="","",ROUND(SUMIFS(R_NIGHT,R_ID,직원명부!$A$6,R_DATE,">="&$B$2,R_DATE,"<="&$D$2)*24,2)) -> 2.5 | G6: =IF(직원명부!$A$6="","",ROUND(SUMIFS(R_HOL,R_ID,직원명부!$A$6,R_DATE,">="&$B$2,R_DATE,"<="&$D$2)*24,2)) -> 0 | H6: =IF(직원명부!$A$6="","","연차 "&COUNTIFS(R_ID,직원명부!$A$6,R_DATE,">="&$B$2,R_DATE,"<="&$D$2,R_TYPE,"연차")&"일 사용 / 결근 "&COUNTIFS(R_ID,직원명부!$A$6,R_DATE,">="&$B$2,R_DATE,"<="&$D$2,R_TYPE,"결근")&"일") -> 연차 0일 사용 / 결근 1일
A7: =IF(직원명부!$A$7="","",직원명부!$A$7&" / "&직원명부!$B$7) -> KR-0112 / 박지훈 | B7: =IF(직원명부!$A$7="","",COUNTIFS(R_ID,직원명부!$A$7,R_DATE,">="&$B$2,R_DATE,"<="&$D$2,R_TYPE,"근무일")+COUNTIFS(R_ID,직원명부!$A$7,R_DATE,">="&$B$2,R_DATE,"<="&$D$2,R_TYPE,"연차")+COUNTIFS(R_ID,직원명부!$A$7,R_DATE,">="&$B$2,R_DATE,"<="&$D$2,R_TYPE,"결근")) -> 13 | C7: =IF(직원명부!$A$7="","",SUMPRODUCT((R_ID=직원명부!$A$7)*(R_DATE>=$B$2)*(R_DATE<=$D$2)*(R_TYPE="근무일")*ISNUMBER(R_IN))) -> 13 | D7: =IF(직원명부!$A$7="","",IF(N(직원명부!$D$7)<15,"비대상",IF(COUNTIFS(R_ID,직원명부!$A$7,R_DATE,">="&$B$2,R_DATE,"<="&$D$2,R_TYPE,"결근")=0,"대상","대상(결근 주 제외)"))) -> 비대상 | E7: =IF(직원명부!$A$7="","",ROUND(SUMIFS(R_OT,R_ID,직원명부!$A$7,R_DATE,">="&$B$2,R_DATE,"<="&$D$2)*24,2)) -> 0 | F7: =IF(직원명부!$A$7="","",ROUND(SUMIFS(R_NIGHT,R_ID,직원명부!$A$7,R_DATE,">="&$B$2,R_DATE,"<="&$D$2)*24,2)) -> 0 | G7: =IF(직원명부!$A$7="","",ROUND(SUMIFS(R_HOL,R_ID,직원명부!$A$7,R_DATE,">="&$B$2,R_DATE,"<="&$D$2)*24,2)) -> 0 | H7: =IF(직원명부!$A$7="","","연차 "&COUNTIFS(R_ID,직원명부!$A$7,R_DATE,">="&$B$2,R_DATE,"<="&$D$2,R_TYPE,"연차")&"일 사용 / 결근 "&COUNTIFS(R_ID,직원명부!$A$7,R_DATE,">="&$B$2,R_DATE,"<="&$D$2,R_TYPE,"결근")&"일") -> 연차 0일 사용 / 결근 0일
A8: =IF(직원명부!$A$8="","",직원명부!$A$8&" / "&직원명부!$B$8) | B8: =IF(직원명부!$A$8="","",COUNTIFS(R_ID,직원명부!$A$8,R_DATE,">="&$B$2,R_DATE,"<="&$D$2,R_TYPE,"근무일")+COUNTIFS(R_ID,직원명부!$A$8,R_DATE,">="&$B$2,R_DATE,"<="&$D$2,R_TYPE,"연차")+COUNTIFS(R_ID,직원명부!$A$8,R_DATE,">="&$B$2,R_DATE,"<="&$D$2,R_TYPE,"결근")) | C8: =IF(직원명부!$A$8="","",SUMPRODUCT((R_ID=직원명부!$A$8)*(R_DATE>=$B$2)*(R_DATE<=$D$2)*(R_TYPE="근무일")*ISNUMBER(R_IN))) | D8: =IF(직원명부!$A$8="","",IF(N(직원명부!$D$8)<15,"비대상",IF(COUNTIFS(R_ID,직원명부!$A$8,R_DATE,">="&$B$2,R_DATE,"<="&$D$2,R_TYPE,"결근")=0,"대상","대상(결근 주 제외)"))) | E8: =IF(직원명부!$A$8="","",ROUND(SUMIFS(R_OT,R_ID,직원명부!$A$8,R_DATE,">="&$B$2,R_DATE,"<="&$D$2)*24,2)) | F8: =IF(직원명부!$A$8="","",ROUND(SUMIFS(R_NIGHT,R_ID,직원명부!$A$8,R_DATE,">="&$B$2,R_DATE,"<="&$D$2)*24,2)) | G8: =IF(직원명부!$A$8="","",ROUND(SUMIFS(R_HOL,R_ID,직원명부!$A$8,R_DATE,">="&$B$2,R_DATE,"<="&$D$2)*24,2)) | H8: =IF(직원명부!$A$8="","","연차 "&COUNTIFS(R_ID,직원명부!$A$8,R_DATE,">="&$B$2,R_DATE,"<="&$D$2,R_TYPE,"연차")&"일 사용 / 결근 "&COUNTIFS(R_ID,직원명부!$A$8,R_DATE,">="&$B$2,R_DATE,"<="&$D$2,R_TYPE,"결근")&"일")
A9: =IF(직원명부!$A$9="","",직원명부!$A$9&" / "&직원명부!$B$9) | B9: =IF(직원명부!$A$9="","",COUNTIFS(R_ID,직원명부!$A$9,R_DATE,">="&$B$2,R_DATE,"<="&$D$2,R_TYPE,"근무일")+COUNTIFS(R_ID,직원명부!$A$9,R_DATE,">="&$B$2,R_DATE,"<="&$D$2,R_TYPE,"연차")+COUNTIFS(R_ID,직원명부!$A$9,R_DATE,">="&$B$2,R_DATE,"<="&$D$2,R_TYPE,"결근")) | C9: =IF(직원명부!$A$9="","",SUMPRODUCT((R_ID=직원명부!$A$9)*(R_DATE>=$B$2)*(R_DATE<=$D$2)*(R_TYPE="근무일")*ISNUMBER(R_IN))) | D9: =IF(직원명부!$A$9="","",IF(N(직원명부!$D$9)<15,"비대상",IF(COUNTIFS(R_ID,직원명부!$A$9,R_DATE,">="&$B$2,R_DATE,"<="&$D$2,R_TYPE,"결근")=0,"대상","대상(결근 주 제외)"))) | E9: =IF(직원명부!$A$9="","",ROUND(SUMIFS(R_OT,R_ID,직원명부!$A$9,R_DATE,">="&$B$2,R_DATE,"<="&$D$2)*24,2)) | F9: =IF(직원명부!$A$9="","",ROUND(SUMIFS(R_NIGHT,R_ID,직원명부!$A$9,R_DATE,">="&$B$2,R_DATE,"<="&$D$2)*24,2)) | G9: =IF(직원명부!$A$9="","",ROUND(SUMIFS(R_HOL,R_ID,직원명부!$A$9,R_DATE,">="&$B$2,R_DATE,"<="&$D$2)*24,2)) | H9: =IF(직원명부!$A$9="","","연차 "&COUNTIFS(R_ID,직원명부!$A$9,R_DATE,">="&$B$2,R_DATE,"<="&$D$2,R_TYPE,"연차")&"일 사용 / 결근 "&COUNTIFS(R_ID,직원명부!$A$9,R_DATE,">="&$B$2,R_DATE,"<="&$D$2,R_TYPE,"결근")&"일")
A10: =IF(직원명부!$A$10="","",직원명부!$A$10&" / "&직원명부!$B$10) | B10: =IF(직원명부!$A$10="","",COUNTIFS(R_ID,직원명부!$A$10,R_DATE,">="&$B$2,R_DATE,"<="&$D$2,R_TYPE,"근무일")+COUNTIFS(R_ID,직원명부!$A$10,R_DATE,">="&$B$2,R_DATE,"<="&$D$2,R_TYPE,"연차")+COUNTIFS(R_ID,직원명부!$A$10,R_DATE,">="&$B$2,R_DATE,"<="&$D$2,R_TYPE,"결근")) | C10: =IF(직원명부!$A$10="","",SUMPRODUCT((R_ID=직원명부!$A$10)*(R_DATE>=$B$2)*(R_DATE<=$D$2)*(R_TYPE="근무일")*ISNUMBER(R_IN))) | D10: =IF(직원명부!$A$10="","",IF(N(직원명부!$D$10)<15,"비대상",IF(COUNTIFS(R_ID,직원명부!$A$10,R_DATE,">="&$B$2,R_DATE,"<="&$D$2,R_TYPE,"결근")=0,"대상","대상(결근 주 제외)"))) | E10: =IF(직원명부!$A$10="","",ROUND(SUMIFS(R_OT,R_ID,직원명부!$A$10,R_DATE,">="&$B$2,R_DATE,"<="&$D$2)*24,2)) | F10: =IF(직원명부!$A$10="","",ROUND(SUMIFS(R_NIGHT,R_ID,직원명부!$A$10,R_DATE,">="&$B$2,R_DATE,"<="&$D$2)*24,2)) | G10: =IF(직원명부!$A$10="","",ROUND(SUMIFS(R_HOL,R_ID,직원명부!$A$10,R_DATE,">="&$B$2,R_DATE,"<="&$D$2)*24,2)) | H10: =IF(직원명부!$A$10="","","연차 "&COUNTIFS(R_ID,직원명부!$A$10,R_DATE,">="&$B$2,R_DATE,"<="&$D$2,R_TYPE,"연차")&"일 사용 / 결근 "&COUNTIFS(R_ID,직원명부!$A$10,R_DATE,">="&$B$2,R_DATE,"<="&$D$2,R_TYPE,"결근")&"일")
A11: =IF(직원명부!$A$11="","",직원명부!$A$11&" / "&직원명부!$B$11) | B11: =IF(직원명부!$A$11="","",COUNTIFS(R_ID,직원명부!$A$11,R_DATE,">="&$B$2,R_DATE,"<="&$D$2,R_TYPE,"근무일")+COUNTIFS(R_ID,직원명부!$A$11,R_DATE,">="&$B$2,R_DATE,"<="&$D$2,R_TYPE,"연차")+COUNTIFS(R_ID,직원명부!$A$11,R_DATE,">="&$B$2,R_DATE,"<="&$D$2,R_TYPE,"결근")) | C11: =IF(직원명부!$A$11="","",SUMPRODUCT((R_ID=직원명부!$A$11)*(R_DATE>=$B$2)*(R_DATE<=$D$2)*(R_TYPE="근무일")*ISNUMBER(R_IN))) | D11: =IF(직원명부!$A$11="","",IF(N(직원명부!$D$11)<15,"비대상",IF(COUNTIFS(R_ID,직원명부!$A$11,R_DATE,">="&$B$2,R_DATE,"<="&$D$2,R_TYPE,"결근")=0,"대상","대상(결근 주 제외)"))) | E11: =IF(직원명부!$A$11="","",ROUND(SUMIFS(R_OT,R_ID,직원명부!$A$11,R_DATE,">="&$B$2,R_DATE,"<="&$D$2)*24,2)) | F11: =IF(직원명부!$A$11="","",ROUND(SUMIFS(R_NIGHT,R_ID,직원명부!$A$11,R_DATE,">="&$B$2,R_DATE,"<="&$D$2)*24,2)) | G11: =IF(직원명부!$A$11="","",ROUND(SUMIFS(R_HOL,R_ID,직원명부!$A$11,R_DATE,">="&$B$2,R_DATE,"<="&$D$2)*24,2)) | H11: =IF(직원명부!$A$11="","","연차 "&COUNTIFS(R_ID,직원명부!$A$11,R_DATE,">="&$B$2,R_DATE,"<="&$D$2,R_TYPE,"연차")&"일 사용 / 결근 "&COUNTIFS(R_ID,직원명부!$A$11,R_DATE,">="&$B$2,R_DATE,"<="&$D$2,R_TYPE,"결근")&"일")
A12: =IF(직원명부!$A$12="","",직원명부!$A$12&" / "&직원명부!$B$12) | B12: =IF(직원명부!$A$12="","",COUNTIFS(R_ID,직원명부!$A$12,R_DATE,">="&$B$2,R_DATE,"<="&$D$2,R_TYPE,"근무일")+COUNTIFS(R_ID,직원명부!$A$12,R_DATE,">="&$B$2,R_DATE,"<="&$D$2,R_TYPE,"연차")+COUNTIFS(R_ID,직원명부!$A$12,R_DATE,">="&$B$2,R_DATE,"<="&$D$2,R_TYPE,"결근")) | C12: =IF(직원명부!$A$12="","",SUMPRODUCT((R_ID=직원명부!$A$12)*(R_DATE>=$B$2)*(R_DATE<=$D$2)*(R_TYPE="근무일")*ISNUMBER(R_IN))) | D12: =IF(직원명부!$A$12="","",IF(N(직원명부!$D$12)<15,"비대상",IF(COUNTIFS(R_ID,직원명부!$A$12,R_DATE,">="&$B$2,R_DATE,"<="&$D$2,R_TYPE,"결근")=0,"대상","대상(결근 주 제외)"))) | E12: =IF(직원명부!$A$12="","",ROUND(SUMIFS(R_OT,R_ID,직원명부!$A$12,R_DATE,">="&$B$2,R_DATE,"<="&$D$2)*24,2)) | F12: =IF(직원명부!$A$12="","",ROUND(SUMIFS(R_NIGHT,R_ID,직원명부!$A$12,R_DATE,">="&$B$2,R_DATE,"<="&$D$2)*24,2)) | G12: =IF(직원명부!$A$12="","",ROUND(SUMIFS(R_HOL,R_ID,직원명부!$A$12,R_DATE,">="&$B$2,R_DATE,"<="&$D$2)*24,2)) | H12: =IF(직원명부!$A$12="","","연차 "&COUNTIFS(R_ID,직원명부!$A$12,R_DATE,">="&$B$2,R_DATE,"<="&$D$2,R_TYPE,"연차")&"일 사용 / 결근 "&COUNTIFS(R_ID,직원명부!$A$12,R_DATE,">="&$B$2,R_DATE,"<="&$D$2,R_TYPE,"결근")&"일")
A14: 내보내기 전 점검
A15: 퇴근 미체크 건수 (0이어야 함) | B15: =COUNTIFS(R_WORK,"미체크",R_DATE,">="&$B$2,R_DATE,"<="&$D$2) -> 0
A16: 승인 없이 8시간을 넘긴 근무일 수 (연장 미인정) | B16: =SUMPRODUCT((R_DATE>=$B$2)*(R_DATE<=$D$2)*(R_TYPE="근무일")*ISNUMBER(R_WORK)*(R_WORK>8/24)*(R_APPR<>"승인")) -> 2
A17: 직원 전체 연장근로시간 합계 | B17: =SUM(E5:E12) -> 10
A18: 내보내기 가능 여부 | B18: =IF(B15=0,"가능","미체크 건부터 확정") -> 가능
A20: 연장 = 근무일의 1일 8시간 초과분 중 사전 승인('승인')된 시간. 휴무일(토) 근로는 승인 시 전부 연장으로 셉니다. 주 40시간 기준 점검은 별도로 하세요.
A21: 야간 = 오후 10시~다음 날 오전 6시 근로. 휴일근로 = 휴일(주휴일·공휴일)로 표시한 날의 근로시간 전부.
A22: 주휴수당 대상 = 주 소정근로시간 15시간 이상 + 결근 없음. 결근한 주는 그 주만 제외되는지 따로 확인하세요.
A23: 이 파일은 시간만 셉니다(가산수당 금액·5인 미만 사업장 적용 여부는 계산하지 않음). 법정 기준은 고용노동부·law.go.kr에서 확인하세요.

Sheet 출퇴근 기록
A1: 출퇴근 기록 (2026-11) | J1: 가상 예시 — orova.vn
A2: 노란 칸 = 입력(구분·출근·퇴근·휴게·연장 승인·비고). 회색 칸 = 자동 계산(잠금). 시간은 08:00처럼 hh:mm으로 입력.
A3: 근로시간 = 퇴근 − 출근 − 휴게 (퇴근이 비면 '미체크') · 연장 = 근무일 8시간 초과분 중 '승인'만 (휴무일은 승인 시 전부) · 야간 = 22:00~06:00 구간 · 휴일근로 = 구분 '휴일'의 근로시간. 금액은 계산하지 않습니다.
A4: 사번 | B4: 성명 | C4: 날짜 | D4: 요일 | E4: 구분 | F4: 출근 | G4: 퇴근 | H4: 휴게 | I4: 근로시간 | J4: 연장 승인 | K4: 연장 | L4: 야간 (22:00~06:00) | M4: 휴일근로 | N4: 비고
A5: KR-0104 | B5: =IF(A5="","",IFERROR(VLOOKUP(A5,직원명부!$A$5:$B$12,2,0),"?")) -> 김민준 | C5: 46327 | D5: =IF(C5="","",CHOOSE(WEEKDAY(C5),"일","월","화","수","목","금","토")) -> 일 | E5: 휴일 | I5: =IF(AND(ISNUMBER(F5),ISNUMBER(G5)),(MOD(G5-F5,1)-N(H5)),IF(AND(ISNUMBER(F5),G5=""),"미체크","")) | K5: =IF(AND(ISNUMBER(F5),ISNUMBER(G5)),IF(J5="승인",IF(E5="근무일",MAX(0,(MOD(G5-F5,1)-N(H5))-8/24),IF(E5="휴무일",(MOD(G5-F5,1)-N(H5)),0)),0),"") | L5: =IF(AND(ISNUMBER(F5),ISNUMBER(G5)),MAX(0,MIN(F5+MOD(G5-F5,1),30/24)-MAX(F5,22/24))+MAX(0,MIN(F5+MOD(G5-F5,1),6/24)-F5),"") | M5: =IF(AND(ISNUMBER(F5),ISNUMBER(G5)),IF(E5="휴일",(MOD(G5-F5,1)-N(H5)),0),"") | N5: 주휴일
A6: KR-0104 | B6: =IF(A6="","",IFERROR(VLOOKUP(A6,직원명부!$A$5:$B$12,2,0),"?")) -> 김민준 | C6: 46328 | D6: =IF(C6="","",CHOOSE(WEEKDAY(C6),"일","월","화","수","목","금","토")) -> 월 | E6: 근무일 | F6: 0.375 | G6: 0.75 | H6: 0.041666667 | I6: =IF(AND(ISNUMBER(F6),ISNUMBER(G6)),(MOD(G6-F6,1)-N(H6)),IF(AND(ISNUMBER(F6),G6=""),"미체크","")) -> 0.33333333 | K6: =IF(AND(ISNUMBER(F6),ISNUMBER(G6)),IF(J6="승인",IF(E6="근무일",MAX(0,(MOD(G6-F6,1)-N(H6))-8/24),IF(E6="휴무일",(MOD(G6-F6,1)-N(H6)),0)),0),"") -> 0 | L6: =IF(AND(ISNUMBER(F6),ISNUMBER(G6)),MAX(0,MIN(F6+MOD(G6-F6,1),30/24)-MAX(F6,22/24))+MAX(0,MIN(F6+MOD(G6-F6,1),6/24)-F6),"") -> 0 | M6: =IF(AND(ISNUMBER(F6),ISNUMBER(G6)),IF(E6="휴일",(MOD(G6-F6,1)-N(H6)),0),"") -> 0
A7: KR-0104 | B7: =IF(A7="","",IFERROR(VLOOKUP(A7,직원명부!$A$5:$B$12,2,0),"?")) -> 김민준 | C7: 46329 | D7: =IF(C7="","",CHOOSE(WEEKDAY(C7),"일","월","화","수","목","금","토")) -> 화 | E7: 근무일 | F7: 0.375 | G7: 0.75 | H7: 0.041666667 | I7: =IF(AND(ISNUMBER(F7),ISNUMBER(G7)),(MOD(G7-F7,1)-N(H7)),IF(AND(ISNUMBER(F7),G7=""),"미체크","")) -> 0.33333333 | K7: =IF(AND(ISNUMBER(F7),ISNUMBER(G7)),IF(J7="승인",IF(E7="근무일",MAX(0,(MOD(G7-F7,1)-N(H7))-8/24),IF(E7="휴무일",(MOD(G7-F7,1)-N(H7)),0)),0),"") -> 0 | L7: =IF(AND(ISNUMBER(F7),ISNUMBER(G7)),MAX(0,MIN(F7+MOD(G7-F7,1),30/24)-MAX(F7,22/24))+MAX(0,MIN(F7+MOD(G7-F7,1),6/24)-F7),"") -> 0 | M7: =IF(AND(ISNUMBER(F7),ISNUMBER(G7)),IF(E7="휴일",(MOD(G7-F7,1)-N(H7)),0),"") -> 0
A8: KR-0104 | B8: =IF(A8="","",IFERROR(VLOOKUP(A8,직원명부!$A$5:$B$12,2,0),"?")) -> 김민준 | C8: 46330 | D8: =IF(C8="","",CHOOSE(WEEKDAY(C8),"일","월","화","수","목","금","토")) -> 수 | E8: 근무일 | F8: 0.375 | G8: 0.85416667 | H8: 0.041666667 | I8: =IF(AND(ISNUMBER(F8),ISNUMBER(G8)),(MOD(G8-F8,1)-N(H8)),IF(AND(ISNUMBER(F8),G8=""),"미체크","")) -> 0.4375 | J8: 승인 | K8: =IF(AND(ISNUMBER(F8),ISNUMBER(G8)),IF(J8="승인",IF(E8="근무일",MAX(0,(MOD(G8-F8,1)-N(H8))-8/24),IF(E8="휴무일",(MOD(G8-F8,1)-N(H8)),0)),0),"") -> 0.10416667 | L8: =IF(AND(ISNUMBER(F8),ISNUMBER(G8)),MAX(0,MIN(F8+MOD(G8-F8,1),30/24)-MAX(F8,22/24))+MAX(0,MIN(F8+MOD(G8-F8,1),6/24)-F8),"") -> 0 | M8: =IF(AND(ISNUMBER(F8),ISNUMBER(G8)),IF(E8="휴일",(MOD(G8-F8,1)-N(H8)),0),"") -> 0 | N8: 사전 승인 연장근로
A9: KR-0104 | B9: =IF(A9="","",IFERROR(VLOOKUP(A9,직원명부!$A$5:$B$12,2,0),"?")) -> 김민준 | C9: 46331 | D9: =IF(C9="","",CHOOSE(WEEKDAY(C9),"일","월","화","수","목","금","토")) -> 목 | E9: 근무일 | F9: 0.375 | G9: 0.75 | H9: 0.041666667 | I9: =IF(AND(ISNUMBER(F9),ISNUMBER(G9)),(MOD(G9-F9,1)-N(H9)),IF(AND(ISNUMBER(F9),G9=""),"미체크","")) -> 0.33333333 | K9: =IF(AND(ISNUMBER(F9),ISNUMBER(G9)),IF(J9="승인",IF(E9="근무일",MAX(0,(MOD(G9-F9,1)-N(H9))-8/24),IF(E9="휴무일",(MOD(G9-F9,1)-N(H9)),0)),0),"") -> 0 | L9: =IF(AND(ISNUMBER(F9),ISNUMBER(G9)),MAX(0,MIN(F9+MOD(G9-F9,1),30/24)-MAX(F9,22/24))+MAX(0,MIN(F9+MOD(G9-F9,1),6/24)-F9),"") -> 0 | M9: =IF(AND(ISNUMBER(F9),ISNUMBER(G9)),IF(E9="휴일",(MOD(G9-F9,1)-N(H9)),0),"") -> 0
A10: KR-0104 | B10: =IF(A10="","",IFERROR(VLOOKUP(A10,직원명부!$A$5:$B$12,2,0),"?")) -> 김민준 | C10: 46332 | D10: =IF(C10="","",CHOOSE(WEEKDAY(C10),"일","월","화","수","목","금","토")) -> 금 | E10: 근무일 | F10: 0.375 | G10: 0.75 | H10: 0.041666667 | I10: =IF(AND(ISNUMBER(F10),ISNUMBER(G10)),(MOD(G10-F10,1)-N(H10)),IF(AND(ISNUMBER(F10),G10=""),"미체크","")) -> 0.33333333 | K10: =IF(AND(ISNUMBER(F10),ISNUMBER(G10)),IF(J10="승인",IF(E10="근무일",MAX(0,(MOD(G10-F10,1)-N(H10))-8/24),IF(E10="휴무일",(MOD(G10-F10,1)-N(H10)),0)),0),"") -> 0 | L10: =IF(AND(ISNUMBER(F10),ISNUMBER(G10)),MAX(0,MIN(F10+MOD(G10-F10,1),30/24)-MAX(F10,22/24))+MAX(0,MIN(F10+MOD(G10-F10,1),6/24)-F10),"") -> 0 | M10: =IF(AND(ISNUMBER(F10),ISNUMBER(G10)),IF(E10="휴일",(MOD(G10-F10,1)-N(H10)),0),"") -> 0
A11: KR-0104 | B11: =IF(A11="","",IFERROR(VLOOKUP(A11,직원명부!$A$5:$B$12,2,0),"?")) -> 김민준 | C11: 46333 | D11: =IF(C11="","",CHOOSE(WEEKDAY(C11),"일","월","화","수","목","금","토")) -> 토 | E11: 휴무일 | I11: =IF(AND(ISNUMBER(F11),ISNUMBER(G11)),(MOD(G11-F11,1)-N(H11)),IF(AND(ISNUMBER(F11),G11=""),"미체크","")) | K11: =IF(AND(ISNUMBER(F11),ISNUMBER(G11)),IF(J11="승인",IF(E11="근무일",MAX(0,(MOD(G11-F11,1)-N(H11))-8/24),IF(E11="휴무일",(MOD(G11-F11,1)-N(H11)),0)),0),"") | L11: =IF(AND(ISNUMBER(F11),ISNUMBER(G11)),MAX(0,MIN(F11+MOD(G11-F11,1),30/24)-MAX(F11,22/24))+MAX(0,MIN(F11+MOD(G11-F11,1),6/24)-F11),"") | M11: =IF(AND(ISNUMBER(F11),ISNUMBER(G11)),IF(E11="휴일",(MOD(G11-F11,1)-N(H11)),0),"")
A12: KR-0104 | B12: =IF(A12="","",IFERROR(VLOOKUP(A12,직원명부!$A$5:$B$12,2,0),"?")) -> 김민준 | C12: 46334 | D12: =IF(C12="","",CHOOSE(WEEKDAY(C12),"일","월","화","수","목","금","토")) -> 일 | E12: 휴일 | I12: =IF(AND(ISNUMBER(F12),ISNUMBER(G12)),(MOD(G12-F12,1)-N(H12)),IF(AND(ISNUMBER(F12),G12=""),"미체크","")) | K12: =IF(AND(ISNUMBER(F12),ISNUMBER(G12)),IF(J12="승인",IF(E12="근무일",MAX(0,(MOD(G12-F12,1)-N(H12))-8/24),IF(E12="휴무일",(MOD(G12-F12,1)-N(H12)),0)),0),"") | L12: =IF(AND(ISNUMBER(F12),ISNUMBER(G12)),MAX(0,MIN(F12+MOD(G12-F12,1),30/24)-MAX(F12,22/24))+MAX(0,MIN(F12+MOD(G12-F12,1),6/24)-F12),"") | M12: =IF(AND(ISNUMBER(F12),ISNUMBER(G12)),IF(E12="휴일",(MOD(G12-F12,1)-N(H12)),0),"") | N12: 주휴일
A13: KR-0104 | B13: =IF(A13="","",IFERROR(VLOOKUP(A13,직원명부!$A$5:$B$12,2,0),"?")) -> 김민준 | C13: 46335 | D13: =IF(C13="","",CHOOSE(WEEKDAY(C13),"일","월","화","수","목","금","토")) -> 월 | E13: 근무일 | F13: 0.375 | G13: 0.75 | H13: 0.041666667 | I13: =IF(AND(ISNUMBER(F13),ISNUMBER(G13)),(MOD(G13-F13,1)-N(H13)),IF(AND(ISNUMBER(F13),G13=""),"미체크","")) -> 0.33333333 | K13: =IF(AND(ISNUMBER(F13),ISNUMBER(G13)),IF(J13="승인",IF(E13="근무일",MAX(0,(MOD(G13-F13,1)-N(H13))-8/24),IF(E13="휴무일",(MOD(G13-F13,1)-N(H13)),0)),0),"") -> 0 | L13: =IF(AND(ISNUMBER(F13),ISNUMBER(G13)),MAX(0,MIN(F13+MOD(G13-F13,1),30/24)-MAX(F13,22/24))+MAX(0,MIN(F13+MOD(G13-F13,1),6/24)-F13),"") -> 0 | M13: =IF(AND(ISNUMBER(F13),ISNUMBER(G13)),IF(E13="휴일",(MOD(G13-F13,1)-N(H13)),0),"") -> 0
A14: KR-0104 | B14: =IF(A14="","",IFERROR(VLOOKUP(A14,직원명부!$A$5:$B$12,2,0),"?")) -> 김민준 | C14: 46336 | D14: =IF(C14="","",CHOOSE(WEEKDAY(C14),"일","월","화","수","목","금","토")) -> 화 | E14: 근무일 | F14: 0.375 | G14: 0.75 | H14: 0.041666667 | I14: =IF(AND(ISNUMBER(F14),ISNUMBER(G14)),(MOD(G14-F14,1)-N(H14)),IF(AND(ISNUMBER(F14),G14=""),"미체크","")) -> 0.33333333 | K14: =IF(AND(ISNUMBER(F14),ISNUMBER(G14)),IF(J14="승인",IF(E14="근무일",MAX(0,(MOD(G14-F14,1)-N(H14))-8/24),IF(E14="휴무일",(MOD(G14-F14,1)-N(H14)),0)),0),"") -> 0 | L14: =IF(AND(ISNUMBER(F14),ISNUMBER(G14)),MAX(0,MIN(F14+MOD(G14-F14,1),30/24)-MAX(F14,22/24))+MAX(0,MIN(F14+MOD(G14-F14,1),6/24)-F14),"") -> 0 | M14: =IF(AND(ISNUMBER(F14),ISNUMBER(G14)),IF(E14="휴일",(MOD(G14-F14,1)-N(H14)),0),"") -> 0
A15: KR-0104 | B15: =IF(A15="","",IFERROR(VLOOKUP(A15,직원명부!$A$5:$B$12,2,0),"?")) -> 김민준 | C15: 46337 | D15: =IF(C15="","",CHOOSE(WEEKDAY(C15),"일","월","화","수","목","금","토")) -> 수 | E15: 근무일 | F15: 0.375 | G15: 0.875 | H15: 0.041666667 | I15: =IF(AND(ISNUMBER(F15),ISNUMBER(G15)),(MOD(G15-F15,1)-N(H15)),IF(AND(ISNUMBER(F15),G15=""),"미체크","")) -> 0.45833333 | J15: 승인 | K15: =IF(AND(ISNUMBER(F15),ISNUMBER(G15)),IF(J15="승인",IF(E15="근무일",MAX(0,(MOD(G15-F15,1)-N(H15))-8/24),IF(E15="휴무일",(MOD(G15-F15,1)-N(H15)),0)),0),"") -> 0.125 | L15: =IF(AND(ISNUMBER(F15),ISNUMBER(G15)),MAX(0,MIN(F15+MOD(G15-F15,1),30/24)-MAX(F15,22/24))+MAX(0,MIN(F15+MOD(G15-F15,1),6/24)-F15),"") -> 0 | M15: =IF(AND(ISNUMBER(F15),ISNUMBER(G15)),IF(E15="휴일",(MOD(G15-F15,1)-N(H15)),0),"") -> 0 | N15: 사전 승인 연장근로
A16: KR-0104 | B16: =IF(A16="","",IFERROR(VLOOKUP(A16,직원명부!$A$5:$B$12,2,0),"?")) -> 김민준 | C16: 46338 | D16: =IF(C16="","",CHOOSE(WEEKDAY(C16),"일","월","화","수","목","금","토")) -> 목 | E16: 근무일 | F16: 0.375 | G16: 0.75 | H16: 0.041666667 | I16: =IF(AND(ISNUMBER(F16),ISNUMBER(G16)),(MOD(G16-F16,1)-N(H16)),IF(AND(ISNUMBER(F16),G16=""),"미체크","")) -> 0.33333333 | K16: =IF(AND(ISNUMBER(F16),ISNUMBER(G16)),IF(J16="승인",IF(E16="근무일",MAX(0,(MOD(G16-F16,1)-N(H16))-8/24),IF(E16="휴무일",(MOD(G16-F16,1)-N(H16)),0)),0),"") -> 0 | L16: =IF(AND(ISNUMBER(F16),ISNUMBER(G16)),MAX(0,MIN(F16+MOD(G16-F16,1),30/24)-MAX(F16,22/24))+MAX(0,MIN(F16+MOD(G16-F16,1),6/24)-F16),"") -> 0 | M16: =IF(AND(ISNUMBER(F16),ISNUMBER(G16)),IF(E16="휴일",(MOD(G16-F16,1)-N(H16)),0),"") -> 0
A17: KR-0104 | B17: =IF(A17="","",IFERROR(VLOOKUP(A17,직원명부!$A$5:$B$12,2,0),"?")) -> 김민준 | C17: 46339 | D17: =IF(C17="","",CHOOSE(WEEKDAY(C17),"일","월","화","수","목","금","토")) -> 금 | E17: 연차 | I17: =IF(AND(ISNUMBER(F17),ISNUMBER(G17)),(MOD(G17-F17,1)-N(H17)),IF(AND(ISNUMBER(F17),G17=""),"미체크","")) | K17: =IF(AND(ISNUMBER(F17),ISNUMBER(G17)),IF(J17="승인",IF(E17="근무일",MAX(0,(MOD(G17-F17,1)-N(H17))-8/24),IF(E17="휴무일",(MOD(G17-F17,1)-N(H17)),0)),0),"") | L17: =IF(AND(ISNUMBER(F17),ISNUMBER(G17)),MAX(0,MIN(F17+MOD(G17-F17,1),30/24)-MAX(F17,22/24))+MAX(0,MIN(F17+MOD(G17-F17,1),6/24)-F17),"") | M17: =IF(AND(ISNUMBER(F17),ISNUMBER(G17)),IF(E17="휴일",(MOD(G17-F17,1)-N(H17)),0),"") | N17: 연차 1일 (결재 승인)
A18: KR-0104 | B18: =IF(A18="","",IFERROR(VLOOKUP(A18,직원명부!$A$5:$B$12,2,0),"?")) -> 김민준 | C18: 46340 | D18: =IF(C18="","",CHOOSE(WEEKDAY(C18),"일","월","화","수","목","금","토")) -> 토 | E18: 휴무일 | I18: =IF(AND(ISNUMBER(F18),ISNUMBER(G18)),(MOD(G18-F18,1)-N(H18)),IF(AND(ISNUMBER(F18),G18=""),"미체크","")) | K18: =IF(AND(ISNUMBER(F18),ISNUMBER(G18)),IF(J18="승인",IF(E18="근무일",MAX(0,(MOD(G18-F18,1)-N(H18))-8/24),IF(E18="휴무일",(MOD(G18-F18,1)-N(H18)),0)),0),"") | L18: =IF(AND(ISNUMBER(F18),ISNUMBER(G18)),MAX(0,MIN(F18+MOD(G18-F18,1),30/24)-MAX(F18,22/24))+MAX(0,MIN(F18+MOD(G18-F18,1),6/24)-F18),"") | M18: =IF(AND(ISNUMBER(F18),ISNUMBER(G18)),IF(E18="휴일",(MOD(G18-F18,1)-N(H18)),0),"")
A19: KR-0104 | B19: =IF(A19="","",IFERROR(VLOOKUP(A19,직원명부!$A$5:$B$12,2,0),"?")) -> 김민준 | C19: 46341 | D19: =IF(C19="","",CHOOSE(WEEKDAY(C19),"일","월","화","수","목","금","토")) -> 일 | E19: 휴일 | F19: 0.54166667 | G19: 0.72916667 | H19: 0.020833333 | I19: =IF(AND(ISNUMBER(F19),ISNUMBER(G19)),(MOD(G19-F19,1)-N(H19)),IF(AND(ISNUMBER(F19),G19=""),"미체크","")) -> 0.16666667 | K19: =IF(AND(ISNUMBER(F19),ISNUMBER(G19)),IF(J19="승인",IF(E19="근무일",MAX(0,(MOD(G19-F19,1)-N(H19))-8/24),IF(E19="휴무일",(MOD(G19-F19,1)-N(H19)),0)),0),"") -> 0 | L19: =IF(AND(ISNUMBER(F19),ISNUMBER(G19)),MAX(0,MIN(F19+MOD(G19-F19,1),30/24)-MAX(F19,22/24))+MAX(0,MIN(F19+MOD(G19-F19,1),6/24)-F19),"") -> 0 | M19: =IF(AND(ISNUMBER(F19),ISNUMBER(G19)),IF(E19="휴일",(MOD(G19-F19,1)-N(H19)),0),"") -> 0.16666667 | N19: 일요일 특근 (휴게 30분)
A20: KR-0104 | B20: =IF(A20="","",IFERROR(VLOOKUP(A20,직원명부!$A$5:$B$12,2,0),"?")) -> 김민준 | C20: 46342 | D20: =IF(C20="","",CHOOSE(WEEKDAY(C20),"일","월","화","수","목","금","토")) -> 월 | E20: 근무일 | F20: 0.375 | G20: 0.75 | H20: 0.041666667 | I20: =IF(AND(ISNUMBER(F20),ISNUMBER(G20)),(MOD(G20-F20,1)-N(H20)),IF(AND(ISNUMBER(F20),G20=""),"미체크","")) -> 0.33333333 | K20: =IF(AND(ISNUMBER(F20),ISNUMBER(G20)),IF(J20="승인",IF(E20="근무일",MAX(0,(MOD(G20-F20,1)-N(H20))-8/24),IF(E20="휴무일",(MOD(G20-F20,1)-N(H20)),0)),0),"") -> 0 | L20: =IF(AND(ISNUMBER(F20),ISNUMBER(G20)),MAX(0,MIN(F20+MOD(G20-F20,1),30/24)-MAX(F20,22/24))+MAX(0,MIN(F20+MOD(G20-F20,1),6/24)-F20),"") -> 0 | M20: =IF(AND(ISNUMBER(F20),ISNUMBER(G20)),IF(E20="휴일",(MOD(G20-F20,1)-N(H20)),0),"") -> 0
A21: KR-0104 | B21: =IF(A21="","",IFERROR(VLOOKUP(A21,직원명부!$A$5:$B$12,2,0),"?")) -> 김민준 | C21: 46343 | D21: =IF(C21="","",CHOOSE(WEEKDAY(C21),"일","월","화","수","목","금","토")) -> 화 | E21: 근무일 | F21: 0.375 | G21: 0.75 | H21: 0.041666667 | I21: =IF(AND(ISNUMBER(F21),ISNUMBER(G21)),(MOD(G21-F21,1)-N(H21)),IF(AND(ISNUMBER(F21),G21=""),"미체크","")) -> 0.33333333 | K21: =IF(AND(ISNUMBER(F21),ISNUMBER(G21)),IF(J21="승인",IF(E21="근무일",MAX(0,(MOD(G21-F21,1)-N(H21))-8/24),IF(E21="휴무일",(MOD(G21-F21,1)-N(H21)),0)),0),"") -> 0 | L21: =IF(AND(ISNUMBER(F21),ISNUMBER(G21)),MAX(0,MIN(F21+MOD(G21-F21,1),30/24)-MAX(F21,22/24))+MAX(0,MIN(F21+MOD(G21-F21,1),6/24)-F21),"") -> 0 | M21: =IF(AND(ISNUMBER(F21),ISNUMBER(G21)),IF(E21="휴일",(MOD(G21-F21,1)-N(H21)),0),"") -> 0
A22: KR-0104 | B22: =IF(A22="","",IFERROR(VLOOKUP(A22,직원명부!$A$5:$B$12,2,0),"?")) -> 김민준 | C22: 46344 | D22: =IF(C22="","",CHOOSE(WEEKDAY(C22),"일","월","화","수","목","금","토")) -> 수 | E22: 근무일 | F22: 0.375 | G22: 0.77777778 | H22: 0.041666667 | I22: =IF(AND(ISNUMBER(F22),ISNUMBER(G22)),(MOD(G22-F22,1)-N(H22)),IF(AND(ISNUMBER(F22),G22=""),"미체크","")) -> 0.36111111 | J22: 미승인 | K22: =IF(AND(ISNUMBER(F22),ISNUMBER(G22)),IF(J22="승인",IF(E22="근무일",MAX(0,(MOD(G22-F22,1)-N(H22))-8/24),IF(E22="휴무일",(MOD(G22-F22,1)-N(H22)),0)),0),"") -> 0 | L22: =IF(AND(ISNUMBER(F22),ISNUMBER(G22)),MAX(0,MIN(F22+MOD(G22-F22,1),30/24)-MAX(F22,22/24))+MAX(0,MIN(F22+MOD(G22-F22,1),6/24)-F22),"") -> 0 | M22: =IF(AND(ISNUMBER(F22),ISNUMBER(G22)),IF(E22="휴일",(MOD(G22-F22,1)-N(H22)),0),"") -> 0 | N22: 사전 승인 없음 → 연장 미인정 (규정 6조)
A23: KR-0104 | B23: =IF(A23="","",IFERROR(VLOOKUP(A23,직원명부!$A$5:$B$12,2,0),"?")) -> 김민준 | C23: 46345 | D23: =IF(C23="","",CHOOSE(WEEKDAY(C23),"일","월","화","수","목","금","토")) -> 목 | E23: 근무일 | F23: 0.54166667 | G23: 0.95833333 | H23: 0.041666667 | I23: =IF(AND(ISNUMBER(F23),ISNUMBER(G23)),(MOD(G23-F23,1)-N(H23)),IF(AND(ISNUMBER(F23),G23=""),"미체크","")) -> 0.375 | J23: 승인 | K23: =IF(AND(ISNUMBER(F23),ISNUMBER(G23)),IF(J23="승인",IF(E23="근무일",MAX(0,(MOD(G23-F23,1)-N(H23))-8/24),IF(E23="휴무일",(MOD(G23-F23,1)-N(H23)),0)),0),"") -> 0.041666667 | L23: =IF(AND(ISNUMBER(F23),ISNUMBER(G23)),MAX(0,MIN(F23+MOD(G23-F23,1),30/24)-MAX(F23,22/24))+MAX(0,MIN(F23+MOD(G23-F23,1),6/24)-F23),"") -> 0.041666667 | M23: =IF(AND(ISNUMBER(F23),ISNUMBER(G23)),IF(E23="휴일",(MOD(G23-F23,1)-N(H23)),0),"") -> 0 | N23: 저녁 교대 대체 근무
A24: KR-0104 | B24: =IF(A24="","",IFERROR(VLOOKUP(A24,직원명부!$A$5:$B$12,2,0),"?")) -> 김민준 | C24: 46346 | D24: =IF(C24="","",CHOOSE(WEEKDAY(C24),"일","월","화","수","목","금","토")) -> 금 | E24: 근무일 | F24: 0.375 | G24: 0.75347222 | H24: 0.041666667 | I24: =IF(AND(ISNUMBER(F24),ISNUMBER(G24)),(MOD(G24-F24,1)-N(H24)),IF(AND(ISNUMBER(F24),G24=""),"미체크","")) -> 0.33680556 | K24: =IF(AND(ISNUMBER(F24),ISNUMBER(G24)),IF(J24="승인",IF(E24="근무일",MAX(0,(MOD(G24-F24,1)-N(H24))-8/24),IF(E24="휴무일",(MOD(G24-F24,1)-N(H24)),0)),0),"") -> 0 | L24: =IF(AND(ISNUMBER(F24),ISNUMBER(G24)),MAX(0,MIN(F24+MOD(G24-F24,1),30/24)-MAX(F24,22/24))+MAX(0,MIN(F24+MOD(G24-F24,1),6/24)-F24),"") -> 0 | M24: =IF(AND(ISNUMBER(F24),ISNUMBER(G24)),IF(E24="휴일",(MOD(G24-F24,1)-N(H24)),0),"") -> 0 | N24: 퇴근 미체크 → 수정 승인 (원기록 보존)
A25: KR-0104 | B25: =IF(A25="","",IFERROR(VLOOKUP(A25,직원명부!$A$5:$B$12,2,0),"?")) -> 김민준 | C25: 46347 | D25: =IF(C25="","",CHOOSE(WEEKDAY(C25),"일","월","화","수","목","금","토")) -> 토 | E25: 휴무일 | I25: =IF(AND(ISNUMBER(F25),ISNUMBER(G25)),(MOD(G25-F25,1)-N(H25)),IF(AND(ISNUMBER(F25),G25=""),"미체크","")) | K25: =IF(AND(ISNUMBER(F25),ISNUMBER(G25)),IF(J25="승인",IF(E25="근무일",MAX(0,(MOD(G25-F25,1)-N(H25))-8/24),IF(E25="휴무일",(MOD(G25-F25,1)-N(H25)),0)),0),"") | L25: =IF(AND(ISNUMBER(F25),ISNUMBER(G25)),MAX(0,MIN(F25+MOD(G25-F25,1),30/24)-MAX(F25,22/24))+MAX(0,MIN(F25+MOD(G25-F25,1),6/24)-F25),"") | M25: =IF(AND(ISNUMBER(F25),ISNUMBER(G25)),IF(E25="휴일",(MOD(G25-F25,1)-N(H25)),0),"")
A26: KR-0104 | B26: =IF(A26="","",IFERROR(VLOOKUP(A26,직원명부!$A$5:$B$12,2,0),"?")) -> 김민준 | C26: 46348 | D26: =IF(C26="","",CHOOSE(WEEKDAY(C26),"일","월","화","수","목","금","토")) -> 일 | E26: 휴일 | I26: =IF(AND(ISNUMBER(F26),ISNUMBER(G26)),(MOD(G26-F26,1)-N(H26)),IF(AND(ISNUMBER(F26),G26=""),"미체크","")) | K26: =IF(AND(ISNUMBER(F26),ISNUMBER(G26)),IF(J26="승인",IF(E26="근무일",MAX(0,(MOD(G26-F26,1)-N(H26))-8/24),IF(E26="휴무일",(MOD(G26-F26,1)-N(H26)),0)),0),"") | L26: =IF(AND(ISNUMBER(F26),ISNUMBER(G26)),MAX(0,MIN(F26+MOD(G26-F26,1),30/24)-MAX(F26,22/24))+MAX(0,MIN(F26+MOD(G26-F26,1),6/24)-F26),"") | M26: =IF(AND(ISNUMBER(F26),ISNUMBER(G26)),IF(E26="휴일",(MOD(G26-F26,1)-N(H26)),0),"") | N26: 주휴일
A27: KR-0104 | B27: =IF(A27="","",IFERROR(VLOOKUP(A27,직원명부!$A$5:$B$12,2,0),"?")) -> 김민준 | C27: 46349 | D27: =IF(C27="","",CHOOSE(WEEKDAY(C27),"일","월","화","수","목","금","토")) -> 월 | E27: 근무일 | F27: 0.375 | G27: 0.75 | H27: 0.041666667 | I27: =IF(AND(ISNUMBER(F27),ISNUMBER(G27)),(MOD(G27-F27,1)-N(H27)),IF(AND(ISNUMBER(F27),G27=""),"미체크","")) -> 0.33333333 | K27: =IF(AND(ISNUMBER(F27),ISNUMBER(G27)),IF(J27="승인",IF(E27="근무일",MAX(0,(MOD(G27-F27,1)-N(H27))-8/24),IF(E27="휴무일",(MOD(G27-F27,1)-N(H27)),0)),0),"") -> 0 | L27: =IF(AND(ISNUMBER(F27),ISNUMBER(G27)),MAX(0,MIN(F27+MOD(G27-F27,1),30/24)-MAX(F27,22/24))+MAX(0,MIN(F27+MOD(G27-F27,1),6/24)-F27),"") -> 0 | M27: =IF(AND(ISNUMBER(F27),ISNUMBER(G27)),IF(E27="휴일",(MOD(G27-F27,1)-N(H27)),0),"") -> 0
A28: KR-0104 | B28: =IF(A28="","",IFERROR(VLOOKUP(A28,직원명부!$A$5:$B$12,2,0),"?")) -> 김민준 | C28: 46350 | D28: =IF(C28="","",CHOOSE(WEEKDAY(C28),"일","월","화","수","목","금","토")) -> 화 | E28: 근무일 | F28: 0.375 | G28: 0.75 | H28: 0.041666667 | I28: =IF(AND(ISNUMBER(F28),ISNUMBER(G28)),(MOD(G28-F28,1)-N(H28)),IF(AND(ISNUMBER(F28),G28=""),"미체크","")) -> 0.33333333 | K28: =IF(AND(ISNUMBER(F28),ISNUMBER(G28)),IF(J28="승인",IF(E28="근무일",MAX(0,(MOD(G28-F28,1)-N(H28))-8/24),IF(E28="휴무일",(MOD(G28-F28,1)-N(H28)),0)),0),"") -> 0 | L28: =IF(AND(ISNUMBER(F28),ISNUMBER(G28)),MAX(0,MIN(F28+MOD(G28-F28,1),30/24)-MAX(F28,22/24))+MAX(0,MIN(F28+MOD(G28-F28,1),6/24)-F28),"") -> 0 | M28: =IF(AND(ISNUMBER(F28),ISNUMBER(G28)),IF(E28="휴일",(MOD(G28-F28,1)-N(H28)),0),"") -> 0
A29: KR-0104 | B29: =IF(A29="","",IFERROR(VLOOKUP(A29,직원명부!$A$5:$B$12,2,0),"?")) -> 김민준 | C29: 46351 | D29: =IF(C29="","",CHOOSE(WEEKDAY(C29),"일","월","화","수","목","금","토")) -> 수 | E29: 근무일 | F29: 0.58333333 | G29: 0 | H29: 0.041666667 | I29: =IF(AND(ISNUMBER(F29),ISNUMBER(G29)),(MOD(G29-F29,1)-N(H29)),IF(AND(ISNUMBER(F29),G29=""),"미체크","")) -> 0.375 | J29: 승인 | K29: =IF(AND(ISNUMBER(F29),ISNUMBER(G29)),IF(J29="승인",IF(E29="근무일",MAX(0,(MOD(G29-F29,1)-N(H29))-8/24),IF(E29="휴무일",(MOD(G29-F29,1)-N(H29)),0)),0),"") -> 0.041666667 | L29: =IF(AND(ISNUMBER(F29),ISNUMBER(G29)),MAX(0,MIN(F29+MOD(G29-F29,1),30/24)-MAX(F29,22/24))+MAX(0,MIN(F29+MOD(G29-F29,1),6/24)-F29),"") -> 0.083333333 | M29: =IF(AND(ISNUMBER(F29),ISNUMBER(G29)),IF(E29="휴일",(MOD(G29-F29,1)-N(H29)),0),"") -> 0 | N29: 저녁 교대 + 연장, 자정 퇴근
A30: KR-0104 | B30: =IF(A30="","",IFERROR(VLOOKUP(A30,직원명부!$A$5:$B$12,2,0),"?")) -> 김민준 | C30: 46352 | D30: =IF(C30="","",CHOOSE(WEEKDAY(C30),"일","월","화","수","목","금","토")) -> 목 | E30: 근무일 | F30: 0.375 | G30: 0.75 | H30: 0.041666667 | I30: =IF(AND(ISNUMBER(F30),ISNUMBER(G30)),(MOD(G30-F30,1)-N(H30)),IF(AND(ISNUMBER(F30),G30=""),"미체크","")) -> 0.33333333 | K30: =IF(AND(ISNUMBER(F30),ISNUMBER(G30)),IF(J30="승인",IF(E30="근무일",MAX(0,(MOD(G30-F30,1)-N(H30))-8/24),IF(E30="휴무일",(MOD(G30-F30,1)-N(H30)),0)),0),"") -> 0 | L30: =IF(AND(ISNUMBER(F30),ISNUMBER(G30)),MAX(0,MIN(F30+MOD(G30-F30,1),30/24)-MAX(F30,22/24))+MAX(0,MIN(F30+MOD(G30-F30,1),6/24)-F30),"") -> 0 | M30: =IF(AND(ISNUMBER(F30),ISNUMBER(G30)),IF(E30="휴일",(MOD(G30-F30,1)-N(H30)),0),"") -> 0
A31: KR-0104 | B31: =IF(A31="","",IFERROR(VLOOKUP(A31,직원명부!$A$5:$B$12,2,0),"?")) -> 김민준 | C31: 46353 | D31: =IF(C31="","",CHOOSE(WEEKDAY(C31),"일","월","화","수","목","금","토")) -> 금 | E31: 근무일 | F31: 0.375 | G31: 0.79166667 | H31: 0.041666667 | I31: =IF(AND(ISNUMBER(F31),ISNUMBER(G31)),(MOD(G31-F31,1)-N(H31)),IF(AND(ISNUMBER(F31),G31=""),"미체크","")) -> 0.375 | J31: 승인 | K31: =IF(AND(ISNUMBER(F31),ISNUMBER(G31)),IF(J31="승인",IF(E31="근무일",MAX(0,(MOD(G31-F31,1)-N(H31))-8/24),IF(E31="휴무일",(MOD(G31-F31,1)-N(H31)),0)),0),"") -> 0.041666667 | L31: =IF(AND(ISNUMBER(F31),ISNUMBER(G31)),MAX(0,MIN(F31+MOD(G31-F31,1),30/24)-MAX(F31,22/24))+MAX(0,MIN(F31+MOD(G31-F31,1),6/24)-F31),"") -> 0 | M31: =IF(AND(ISNUMBER(F31),ISNUMBER(G31)),IF(E31="휴일",(MOD(G31-F31,1)-N(H31)),0),"") -> 0 | N31: 사전 승인 연장근로
A32: KR-0104 | B32: =IF(A32="","",IFERROR(VLOOKUP(A32,직원명부!$A$5:$B$12,2,0),"?")) -> 김민준 | C32: 46354 | D32: =IF(C32="","",CHOOSE(WEEKDAY(C32),"일","월","화","수","목","금","토")) -> 토 | E32: 휴무일 | I32: =IF(AND(ISNUMBER(F32),ISNUMBER(G32)),(MOD(G32-F32,1)-N(H32)),IF(AND(ISNUMBER(F32),G32=""),"미체크","")) | K32: =IF(AND(ISNUMBER(F32),ISNUMBER(G32)),IF(J32="승인",IF(E32="근무일",MAX(0,(MOD(G32-F32,1)-N(H32))-8/24),IF(E32="휴무일",(MOD(G32-F32,1)-N(H32)),0)),0),"") | L32: =IF(AND(ISNUMBER(F32),ISNUMBER(G32)),MAX(0,MIN(F32+MOD(G32-F32,1),30/24)-MAX(F32,22/24))+MAX(0,MIN(F32+MOD(G32-F32,1),6/24)-F32),"") | M32: =IF(AND(ISNUMBER(F32),ISNUMBER(G32)),IF(E32="휴일",(MOD(G32-F32,1)-N(H32)),0),"")
A33: KR-0104 | B33: =IF(A33="","",IFERROR(VLOOKUP(A33,직원명부!$A$5:$B$12,2,0),"?")) -> 김민준 | C33: 46355 | D33: =IF(C33="","",CHOOSE(WEEKDAY(C33),"일","월","화","수","목","금","토")) -> 일 | E33: 휴일 | I33: =IF(AND(ISNUMBER(F33),ISNUMBER(G33)),(MOD(G33-F33,1)-N(H33)),IF(AND(ISNUMBER(F33),G33=""),"미체크","")) | K33: =IF(AND(ISNUMBER(F33),ISNUMBER(G33)),IF(J33="승인",IF(E33="근무일",MAX(0,(MOD(G33-F33,1)-N(H33))-8/24),IF(E33="휴무일",(MOD(G33-F33,1)-N(H33)),0)),0),"") | L33: =IF(AND(ISNUMBER(F33),ISNUMBER(G33)),MAX(0,MIN(F33+MOD(G33-F33,1),30/24)-MAX(F33,22/24))+MAX(0,MIN(F33+MOD(G33-F33,1),6/24)-F33),"") | M33: =IF(AND(ISNUMBER(F33),ISNUMBER(G33)),IF(E33="휴일",(MOD(G33-F33,1)-N(H33)),0),"") | N33: 주휴일
A34: KR-0104 | B34: =IF(A34="","",IFERROR(VLOOKUP(A34,직원명부!$A$5:$B$12,2,0),"?")) -> 김민준 | C34: 46356 | D34: =IF(C34="","",CHOOSE(WEEKDAY(C34),"일","월","화","수","목","금","토")) -> 월 | E34: 근무일 | F34: 0.375 | G34: 0.75 | H34: 0.041666667 | I34: =IF(AND(ISNUMBER(F34),ISNUMBER(G34)),(MOD(G34-F34,1)-N(H34)),IF(AND(ISNUMBER(F34),G34=""),"미체크","")) -> 0.33333333 | K34: =IF(AND(ISNUMBER(F34),ISNUMBER(G34)),IF(J34="승인",IF(E34="근무일",MAX(0,(MOD(G34-F34,1)-N(H34))-8/24),IF(E34="휴무일",(MOD(G34-F34,1)-N(H34)),0)),0),"") -> 0 | L34: =IF(AND(ISNUMBER(F34),ISNUMBER(G34)),MAX(0,MIN(F34+MOD(G34-F34,1),30/24)-MAX(F34,22/24))+MAX(0,MIN(F34+MOD(G34-F34,1),6/24)-F34),"") -> 0 | M34: =IF(AND(ISNUMBER(F34),ISNUMBER(G34)),IF(E34="휴일",(MOD(G34-F34,1)-N(H34)),0),"") -> 0
A35: KR-0107 | B35: =IF(A35="","",IFERROR(VLOOKUP(A35,직원명부!$A$5:$B$12,2,0),"?")) -> 이서연 | C35: 46327 | D35: =IF(C35="","",CHOOSE(WEEKDAY(C35),"일","월","화","수","목","금","토")) -> 일 | E35: 휴일 | I35: =IF(AND(ISNUMBER(F35),ISNUMBER(G35)),(MOD(G35-F35,1)-N(H35)),IF(AND(ISNUMBER(F35),G35=""),"미체크","")) | K35: =IF(AND(ISNUMBER(F35),ISNUMBER(G35)),IF(J35="승인",IF(E35="근무일",MAX(0,(MOD(G35-F35,1)-N(H35))-8/24),IF(E35="휴무일",(MOD(G35-F35,1)-N(H35)),0)),0),"") | L35: =IF(AND(ISNUMBER(F35),ISNUMBER(G35)),MAX(0,MIN(F35+MOD(G35-F35,1),30/24)-MAX(F35,22/24))+MAX(0,MIN(F35+MOD(G35-F35,1),6/24)-F35),"") | M35: =IF(AND(ISNUMBER(F35),ISNUMBER(G35)),IF(E35="휴일",(MOD(G35-F35,1)-N(H35)),0),"") | N35: 주휴일
A36: KR-0107 | B36: =IF(A36="","",IFERROR(VLOOKUP(A36,직원명부!$A$5:$B$12,2,0),"?")) -> 이서연 | C36: 46328 | D36: =IF(C36="","",CHOOSE(WEEKDAY(C36),"일","월","화","수","목","금","토")) -> 월 | E36: 근무일 | F36: 0.54166667 | G36: 0.91666667 | H36: 0.041666667 | I36: =IF(AND(ISNUMBER(F36),ISNUMBER(G36)),(MOD(G36-F36,1)-N(H36)),IF(AND(ISNUMBER(F36),G36=""),"미체크","")) -> 0.33333333 | K36: =IF(AND(ISNUMBER(F36),ISNUMBER(G36)),IF(J36="승인",IF(E36="근무일",MAX(0,(MOD(G36-F36,1)-N(H36))-8/24),IF(E36="휴무일",(MOD(G36-F36,1)-N(H36)),0)),0),"") -> 0 | L36: =IF(AND(ISNUMBER(F36),ISNUMBER(G36)),MAX(0,MIN(F36+MOD(G36-F36,1),30/24)-MAX(F36,22/24))+MAX(0,MIN(F36+MOD(G36-F36,1),6/24)-F36),"") -> 0 | M36: =IF(AND(ISNUMBER(F36),ISNUMBER(G36)),IF(E36="휴일",(MOD(G36-F36,1)-N(H36)),0),"") -> 0
A37: KR-0107 | B37: =IF(A37="","",IFERROR(VLOOKUP(A37,직원명부!$A$5:$B$12,2,0),"?")) -> 이서연 | C37: 46329 | D37: =IF(C37="","",CHOOSE(WEEKDAY(C37),"일","월","화","수","목","금","토")) -> 화 | E37: 근무일 | F37: 0.54166667 | G37: 0.91666667 | H37: 0.041666667 | I37: =IF(AND(ISNUMBER(F37),ISNUMBER(G37)),(MOD(G37-F37,1)-N(H37)),IF(AND(ISNUMBER(F37),G37=""),"미체크","")) -> 0.33333333 | K37: =IF(AND(ISNUMBER(F37),ISNUMBER(G37)),IF(J37="승인",IF(E37="근무일",MAX(0,(MOD(G37-F37,1)-N(H37))-8/24),IF(E37="휴무일",(MOD(G37-F37,1)-N(H37)),0)),0),"") -> 0 | L37: =IF(AND(ISNUMBER(F37),ISNUMBER(G37)),MAX(0,MIN(F37+MOD(G37-F37,1),30/24)-MAX(F37,22/24))+MAX(0,MIN(F37+MOD(G37-F37,1),6/24)-F37),"") -> 0 | M37: =IF(AND(ISNUMBER(F37),ISNUMBER(G37)),IF(E37="휴일",(MOD(G37-F37,1)-N(H37)),0),"") -> 0
A38: KR-0107 | B38: =IF(A38="","",IFERROR(VLOOKUP(A38,직원명부!$A$5:$B$12,2,0),"?")) -> 이서연 | C38: 46330 | D38: =IF(C38="","",CHOOSE(WEEKDAY(C38),"일","월","화","수","목","금","토")) -> 수 | E38: 근무일 | F38: 0.54166667 | G38: 0.91666667 | H38: 0.041666667 | I38: =IF(AND(ISNUMBER(F38),ISNUMBER(G38)),(MOD(G38-F38,1)-N(H38)),IF(AND(ISNUMBER(F38),G38=""),"미체크","")) -> 0.33333333 | K38: =IF(AND(ISNUMBER(F38),ISNUMBER(G38)),IF(J38="승인",IF(E38="근무일",MAX(0,(MOD(G38-F38,1)-N(H38))-8/24),IF(E38="휴무일",(MOD(G38-F38,1)-N(H38)),0)),0),"") -> 0 | L38: =IF(AND(ISNUMBER(F38),ISNUMBER(G38)),MAX(0,MIN(F38+MOD(G38-F38,1),30/24)-MAX(F38,22/24))+MAX(0,MIN(F38+MOD(G38-F38,1),6/24)-F38),"") -> 0 | M38: =IF(AND(ISNUMBER(F38),ISNUMBER(G38)),IF(E38="휴일",(MOD(G38-F38,1)-N(H38)),0),"") -> 0
A39: KR-0107 | B39: =IF(A39="","",IFERROR(VLOOKUP(A39,직원명부!$A$5:$B$12,2,0),"?")) -> 이서연 | C39: 46331 | D39: =IF(C39="","",CHOOSE(WEEKDAY(C39),"일","월","화","수","목","금","토")) -> 목 | E39: 근무일 | F39: 0.54166667 | G39: 0.91666667 | H39: 0.041666667 | I39: =IF(AND(ISNUMBER(F39),ISNUMBER(G39)),(MOD(G39-F39,1)-N(H39)),IF(AND(ISNUMBER(F39),G39=""),"미체크","")) -> 0.33333333 | K39: =IF(AND(ISNUMBER(F39),ISNUMBER(G39)),IF(J39="승인",IF(E39="근무일",MAX(0,(MOD(G39-F39,1)-N(H39))-8/24),IF(E39="휴무일",(MOD(G39-F39,1)-N(H39)),0)),0),"") -> 0 | L39: =IF(AND(ISNUMBER(F39),ISNUMBER(G39)),MAX(0,MIN(F39+MOD(G39-F39,1),30/24)-MAX(F39,22/24))+MAX(0,MIN(F39+MOD(G39-F39,1),6/24)-F39),"") -> 0 | M39: =IF(AND(ISNUMBER(F39),ISNUMBER(G39)),IF(E39="휴일",(MOD(G39-F39,1)-N(H39)),0),"") -> 0
A40: KR-0107 | B40: =IF(A40="","",IFERROR(VLOOKUP(A40,직원명부!$A$5:$B$12,2,0),"?")) -> 이서연 | C40: 46332 | D40: =IF(C40="","",CHOOSE(WEEKDAY(C40),"일","월","화","수","목","금","토")) -> 금 | E40: 근무일 | F40: 0.54166667 | G40: 0.97916667 | H40: 0.041666667 | I40: =IF(AND(ISNUMBER(F40),ISNUMBER(G40)),(MOD(G40-F40,1)-N(H40)),IF(AND(ISNUMBER(F40),G40=""),"미체크","")) -> 0.39583333 | J40: 승인 | K40: =IF(AND(ISNUMBER(F40),ISNUMBER(G40)),IF(J40="승인",IF(E40="근무일",MAX(0,(MOD(G40-F40,1)-N(H40))-8/24),IF(E40="휴무일",(MOD(G40-F40,1)-N(H40)),0)),0),"") -> 0.0625 | L40: =IF(AND(ISNUMBER(F40),ISNUMBER(G40)),MAX(0,MIN(F40+MOD(G40-F40,1),30/24)-MAX(F40,22/24))+MAX(0,MIN(F40+MOD(G40-F40,1),6/24)-F40),"") -> 0.0625 | M40: =IF(AND(ISNUMBER(F40),ISNUMBER(G40)),IF(E40="휴일",(MOD(G40-F40,1)-N(H40)),0),"") -> 0 | N40: 사전 승인 연장근로
A41: KR-0107 | B41: =IF(A41="","",IFERROR(VLOOKUP(A41,직원명부!$A$5:$B$12,2,0),"?")) -> 이서연 | C41: 46333 | D41: =IF(C41="","",CHOOSE(WEEKDAY(C41),"일","월","화","수","목","금","토")) -> 토 | E41: 휴무일 | I41: =IF(AND(ISNUMBER(F41),ISNUMBER(G41)),(MOD(G41-F41,1)-N(H41)),IF(AND(ISNUMBER(F41),G41=""),"미체크","")) | K41: =IF(AND(ISNUMBER(F41),ISNUMBER(G41)),IF(J41="승인",IF(E41="근무일",MAX(0,(MOD(G41-F41,1)-N(H41))-8/24),IF(E41="휴무일",(MOD(G41-F41,1)-N(H41)),0)),0),"") | L41: =IF(AND(ISNUMBER(F41),ISNUMBER(G41)),MAX(0,MIN(F41+MOD(G41-F41,1),30/24)-MAX(F41,22/24))+MAX(0,MIN(F41+MOD(G41-F41,1),6/24)-F41),"") | M41: =IF(AND(ISNUMBER(F41),ISNUMBER(G41)),IF(E41="휴일",(MOD(G41-F41,1)-N(H41)),0),"")
A42: KR-0107 | B42: =IF(A42="","",IFERROR(VLOOKUP(A42,직원명부!$A$5:$B$12,2,0),"?")) -> 이서연 | C42: 46334 | D42: =IF(C42="","",CHOOSE(WEEKDAY(C42),"일","월","화","수","목","금","토")) -> 일 | E42: 휴일 | I42: =IF(AND(ISNUMBER(F42),ISNUMBER(G42)),(MOD(G42-F42,1)-N(H42)),IF(AND(ISNUMBER(F42),G42=""),"미체크","")) | K42: =IF(AND(ISNUMBER(F42),ISNUMBER(G42)),IF(J42="승인",IF(E42="근무일",MAX(0,(MOD(G42-F42,1)-N(H42))-8/24),IF(E42="휴무일",(MOD(G42-F42,1)-N(H42)),0)),0),"") | L42: =IF(AND(ISNUMBER(F42),ISNUMBER(G42)),MAX(0,MIN(F42+MOD(G42-F42,1),30/24)-MAX(F42,22/24))+MAX(0,MIN(F42+MOD(G42-F42,1),6/24)-F42),"") | M42: =IF(AND(ISNUMBER(F42),ISNUMBER(G42)),IF(E42="휴일",(MOD(G42-F42,1)-N(H42)),0),"") | N42: 주휴일
A43: KR-0107 | B43: =IF(A43="","",IFERROR(VLOOKUP(A43,직원명부!$A$5:$B$12,2,0),"?")) -> 이서연 | C43: 46335 | D43: =IF(C43="","",CHOOSE(WEEKDAY(C43),"일","월","화","수","목","금","토")) -> 월 | E43: 근무일 | F43: 0.54166667 | G43: 0.91666667 | H43: 0.041666667 | I43: =IF(AND(ISNUMBER(F43),ISNUMBER(G43)),(MOD(G43-F43,1)-N(H43)),IF(AND(ISNUMBER(F43),G43=""),"미체크","")) -> 0.33333333 | K43: =IF(AND(ISNUMBER(F43),ISNUMBER(G43)),IF(J43="승인",IF(E43="근무일",MAX(0,(MOD(G43-F43,1)-N(H43))-8/24),IF(E43="휴무일",(MOD(G43-F43,1)-N(H43)),0)),0),"") -> 0 | L43: =IF(AND(ISNUMBER(F43),ISNUMBER(G43)),MAX(0,MIN(F43+MOD(G43-F43,1),30/24)-MAX(F43,22/24))+MAX(0,MIN(F43+MOD(G43-F43,1),6/24)-F43),"") -> 0 | M43: =IF(AND(ISNUMBER(F43),ISNUMBER(G43)),IF(E43="휴일",(MOD(G43-F43,1)-N(H43)),0),"") -> 0
A44: KR-0107 | B44: =IF(A44="","",IFERROR(VLOOKUP(A44,직원명부!$A$5:$B$12,2,0),"?")) -> 이서연 | C44: 46336 | D44: =IF(C44="","",CHOOSE(WEEKDAY(C44),"일","월","화","수","목","금","토")) -> 화 | E44: 결근 | I44: =IF(AND(ISNUMBER(F44),ISNUMBER(G44)),(MOD(G44-F44,1)-N(H44)),IF(AND(ISNUMBER(F44),G44=""),"미체크","")) | K44: =IF(AND(ISNUMBER(F44),ISNUMBER(G44)),IF(J44="승인",IF(E44="근무일",MAX(0,(MOD(G44-F44,1)-N(H44))-8/24),IF(E44="휴무일",(MOD(G44-F44,1)-N(H44)),0)),0),"") | L44: =IF(AND(ISNUMBER(F44),ISNUMBER(G44)),MAX(0,MIN(F44+MOD(G44-F44,1),30/24)-MAX(F44,22/24))+MAX(0,MIN(F44+MOD(G44-F44,1),6/24)-F44),"") | M44: =IF(AND(ISNUMBER(F44),ISNUMBER(G44)),IF(E44="휴일",(MOD(G44-F44,1)-N(H44)),0),"") | N44: 무단 결근 1일
A45: KR-0107 | B45: =IF(A45="","",IFERROR(VLOOKUP(A45,직원명부!$A$5:$B$12,2,0),"?")) -> 이서연 | C45: 46337 | D45: =IF(C45="","",CHOOSE(WEEKDAY(C45),"일","월","화","수","목","금","토")) -> 수 | E45: 근무일 | F45: 0.54166667 | G45: 0.91666667 | H45: 0.041666667 | I45: =IF(AND(ISNUMBER(F45),ISNUMBER(G45)),(MOD(G45-F45,1)-N(H45)),IF(AND(ISNUMBER(F45),G45=""),"미체크","")) -> 0.33333333 | K45: =IF(AND(ISNUMBER(F45),ISNUMBER(G45)),IF(J45="승인",IF(E45="근무일",MAX(0,(MOD(G45-F45,1)-N(H45))-8/24),IF(E45="휴무일",(MOD(G45-F45,1)-N(H45)),0)),0),"") -> 0 | L45: =IF(AND(ISNUMBER(F45),ISNUMBER(G45)),MAX(0,MIN(F45+MOD(G45-F45,1),30/24)-MAX(F45,22/24))+MAX(0,MIN(F45+MOD(G45-F45,1),6/24)-F45),"") -> 0 | M45: =IF(AND(ISNUMBER(F45),ISNUMBER(G45)),IF(E45="휴일",(MOD(G45-F45,1)-N(H45)),0),"") -> 0
A46: KR-0107 | B46: =IF(A46="","",IFERROR(VLOOKUP(A46,직원명부!$A$5:$B$12,2,0),"?")) -> 이서연 | C46: 46338 | D46: =IF(C46="","",CHOOSE(WEEKDAY(C46),"일","월","화","수","목","금","토")) -> 목 | E46: 근무일 | F46: 0.54166667 | G46: 0.91666667 | H46: 0.041666667 | I46: =IF(AND(ISNUMBER(F46),ISNUMBER(G46)),(MOD(G46-F46,1)-N(H46)),IF(AND(ISNUMBER(F46),G46=""),"미체크","")) -> 0.33333333 | K46: =IF(AND(ISNUMBER(F46),ISNUMBER(G46)),IF(J46="승인",IF(E46="근무일",MAX(0,(MOD(G46-F46,1)-N(H46))-8/24),IF(E46="휴무일",(MOD(G46-F46,1)-N(H46)),0)),0),"") -> 0 | L46: =IF(AND(ISNUMBER(F46),ISNUMBER(G46)),MAX(0,MIN(F46+MOD(G46-F46,1),30/24)-MAX(F46,22/24))+MAX(0,MIN(F46+MOD(G46-F46,1),6/24)-F46),"") -> 0 | M46: =IF(AND(ISNUMBER(F46),ISNUMBER(G46)),IF(E46="휴일",(MOD(G46-F46,1)-N(H46)),0),"") -> 0
A47: KR-0107 | B47: =IF(A47="","",IFERROR(VLOOKUP(A47,직원명부!$A$5:$B$12,2,0),"?")) -> 이서연 | C47: 46339 | D47: =IF(C47="","",CHOOSE(WEEKDAY(C47),"일","월","화","수","목","금","토")) -> 금 | E47: 근무일 | F47: 0.54166667 | G47: 0.91666667 | H47: 0.041666667 | I47: =IF(AND(ISNUMBER(F47),ISNUMBER(G47)),(MOD(G47-F47,1)-N(H47)),IF(AND(ISNUMBER(F47),G47=""),"미체크","")) -> 0.33333333 | K47: =IF(AND(ISNUMBER(F47),ISNUMBER(G47)),IF(J47="승인",IF(E47="근무일",MAX(0,(MOD(G47-F47,1)-N(H47))-8/24),IF(E47="휴무일",(MOD(G47-F47,1)-N(H47)),0)),0),"") -> 0 | L47: =IF(AND(ISNUMBER(F47),ISNUMBER(G47)),MAX(0,MIN(F47+MOD(G47-F47,1),30/24)-MAX(F47,22/24))+MAX(0,MIN(F47+MOD(G47-F47,1),6/24)-F47),"") -> 0 | M47: =IF(AND(ISNUMBER(F47),ISNUMBER(G47)),IF(E47="휴일",(MOD(G47-F47,1)-N(H47)),0),"") -> 0
A48: KR-0107 | B48: =IF(A48="","",IFERROR(VLOOKUP(A48,직원명부!$A$5:$B$12,2,0),"?")) -> 이서연 | C48: 46340 | D48: =IF(C48="","",CHOOSE(WEEKDAY(C48),"일","월","화","수","목","금","토")) -> 토 | E48: 휴무일 | I48: =IF(AND(ISNUMBER(F48),ISNUMBER(G48)),(MOD(G48-F48,1)-N(H48)),IF(AND(ISNUMBER(F48),G48=""),"미체크","")) | K48: =IF(AND(ISNUMBER(F48),ISNUMBER(G48)),IF(J48="승인",IF(E48="근무일",MAX(0,(MOD(G48-F48,1)-N(H48))-8/24),IF(E48="휴무일",(MOD(G48-F48,1)-N(H48)),0)),0),"") | L48: =IF(AND(ISNUMBER(F48),ISNUMBER(G48)),MAX(0,MIN(F48+MOD(G48-F48,1),30/24)-MAX(F48,22/24))+MAX(0,MIN(F48+MOD(G48-F48,1),6/24)-F48),"") | M48: =IF(AND(ISNUMBER(F48),ISNUMBER(G48)),IF(E48="휴일",(MOD(G48-F48,1)-N(H48)),0),"")
A49: KR-0107 | B49: =IF(A49="","",IFERROR(VLOOKUP(A49,직원명부!$A$5:$B$12,2,0),"?")) -> 이서연 | C49: 46341 | D49: =IF(C49="","",CHOOSE(WEEKDAY(C49),"일","월","화","수","목","금","토")) -> 일 | E49: 휴일 | I49: =IF(AND(ISNUMBER(F49),ISNUMBER(G49)),(MOD(G49-F49,1)-N(H49)),IF(AND(ISNUMBER(F49),G49=""),"미체크","")) | K49: =IF(AND(ISNUMBER(F49),ISNUMBER(G49)),IF(J49="승인",IF(E49="근무일",MAX(0,(MOD(G49-F49,1)-N(H49))-8/24),IF(E49="휴무일",(MOD(G49-F49,1)-N(H49)),0)),0),"") | L49: =IF(AND(ISNUMBER(F49),ISNUMBER(G49)),MAX(0,MIN(F49+MOD(G49-F49,1),30/24)-MAX(F49,22/24))+MAX(0,MIN(F49+MOD(G49-F49,1),6/24)-F49),"") | M49: =IF(AND(ISNUMBER(F49),ISNUMBER(G49)),IF(E49="휴일",(MOD(G49-F49,1)-N(H49)),0),"") | N49: 주휴일
A50: KR-0107 | B50: =IF(A50="","",IFERROR(VLOOKUP(A50,직원명부!$A$5:$B$12,2,0),"?")) -> 이서연 | C50: 46342 | D50: =IF(C50="","",CHOOSE(WEEKDAY(C50),"일","월","화","수","목","금","토")) -> 월 | E50: 근무일 | F50: 0.54166667 | G50: 0.91666667 | H50: 0.041666667 | I50: =IF(AND(ISNUMBER(F50),ISNUMBER(G50)),(MOD(G50-F50,1)-N(H50)),IF(AND(ISNUMBER(F50),G50=""),"미체크","")) -> 0.33333333 | K50: =IF(AND(ISNUMBER(F50),ISNUMBER(G50)),IF(J50="승인",IF(E50="근무일",MAX(0,(MOD(G50-F50,1)-N(H50))-8/24),IF(E50="휴무일",(MOD(G50-F50,1)-N(H50)),0)),0),"") -> 0 | L50: =IF(AND(ISNUMBER(F50),ISNUMBER(G50)),MAX(0,MIN(F50+MOD(G50-F50,1),30/24)-MAX(F50,22/24))+MAX(0,MIN(F50+MOD(G50-F50,1),6/24)-F50),"") -> 0 | M50: =IF(AND(ISNUMBER(F50),ISNUMBER(G50)),IF(E50="휴일",(MOD(G50-F50,1)-N(H50)),0),"") -> 0
A51: KR-0107 | B51: =IF(A51="","",IFERROR(VLOOKUP(A51,직원명부!$A$5:$B$12,2,0),"?")) -> 이서연 | C51: 46343 | D51: =IF(C51="","",CHOOSE(WEEKDAY(C51),"일","월","화","수","목","금","토")) -> 화 | E51: 근무일 | F51: 0.54166667 | G51: 0.91666667 | H51: 0.041666667 | I51: =IF(AND(ISNUMBER(F51),ISNUMBER(G51)),(MOD(G51-F51,1)-N(H51)),IF(AND(ISNUMBER(F51),G51=""),"미체크","")) -> 0.33333333 | K51: =IF(AND(ISNUMBER(F51),ISNUMBER(G51)),IF(J51="승인",IF(E51="근무일",MAX(0,(MOD(G51-F51,1)-N(H51))-8/24),IF(E51="휴무일",(MOD(G51-F51,1)-N(H51)),0)),0),"") -> 0 | L51: =IF(AND(ISNUMBER(F51),ISNUMBER(G51)),MAX(0,MIN(F51+MOD(G51-F51,1),30/24)-MAX(F51,22/24))+MAX(0,MIN(F51+MOD(G51-F51,1),6/24)-F51),"") -> 0 | M51: =IF(AND(ISNUMBER(F51),ISNUMBER(G51)),IF(E51="휴일",(MOD(G51-F51,1)-N(H51)),0),"") -> 0
A52: KR-0107 | B52: =IF(A52="","",IFERROR(VLOOKUP(A52,직원명부!$A$5:$B$12,2,0),"?")) -> 이서연 | C52: 46344 | D52: =IF(C52="","",CHOOSE(WEEKDAY(C52),"일","월","화","수","목","금","토")) -> 수 | E52: 근무일 | F52: 0.54166667 | G52: 0.91666667 | H52: 0.041666667 | I52: =IF(AND(ISNUMBER(F52),ISNUMBER(G52)),(MOD(G52-F52,1)-N(H52)),IF(AND(ISNUMBER(F52),G52=""),"미체크","")) -> 0.33333333 | K52: =IF(AND(ISNUMBER(F52),ISNUMBER(G52)),IF(J52="승인",IF(E52="근무일",MAX(0,(MOD(G52-F52,1)-N(H52))-8/24),IF(E52="휴무일",(MOD(G52-F52,1)-N(H52)),0)),0),"") -> 0 | L52: =IF(AND(ISNUMBER(F52),ISNUMBER(G52)),MAX(0,MIN(F52+MOD(G52-F52,1),30/24)-MAX(F52,22/24))+MAX(0,MIN(F52+MOD(G52-F52,1),6/24)-F52),"") -> 0 | M52: =IF(AND(ISNUMBER(F52),ISNUMBER(G52)),IF(E52="휴일",(MOD(G52-F52,1)-N(H52)),0),"") -> 0
A53: KR-0107 | B53: =IF(A53="","",IFERROR(VLOOKUP(A53,직원명부!$A$5:$B$12,2,0),"?")) -> 이서연 | C53: 46345 | D53: =IF(C53="","",CHOOSE(WEEKDAY(C53),"일","월","화","수","목","금","토")) -> 목 | E53: 근무일 | F53: 0.54166667 | G53: 0.91666667 | H53: 0.041666667 | I53: =IF(AND(ISNUMBER(F53),ISNUMBER(G53)),(MOD(G53-F53,1)-N(H53)),IF(AND(ISNUMBER(F53),G53=""),"미체크","")) -> 0.33333333 | K53: =IF(AND(ISNUMBER(F53),ISNUMBER(G53)),IF(J53="승인",IF(E53="근무일",MAX(0,(MOD(G53-F53,1)-N(H53))-8/24),IF(E53="휴무일",(MOD(G53-F53,1)-N(H53)),0)),0),"") -> 0 | L53: =IF(AND(ISNUMBER(F53),ISNUMBER(G53)),MAX(0,MIN(F53+MOD(G53-F53,1),30/24)-MAX(F53,22/24))+MAX(0,MIN(F53+MOD(G53-F53,1),6/24)-F53),"") -> 0 | M53: =IF(AND(ISNUMBER(F53),ISNUMBER(G53)),IF(E53="휴일",(MOD(G53-F53,1)-N(H53)),0),"") -> 0
A54: KR-0107 | B54: =IF(A54="","",IFERROR(VLOOKUP(A54,직원명부!$A$5:$B$12,2,0),"?")) -> 이서연 | C54: 46346 | D54: =IF(C54="","",CHOOSE(WEEKDAY(C54),"일","월","화","수","목","금","토")) -> 금 | E54: 근무일 | F54: 0.54166667 | G54: 0.91666667 | H54: 0.041666667 | I54: =IF(AND(ISNUMBER(F54),ISNUMBER(G54)),(MOD(G54-F54,1)-N(H54)),IF(AND(ISNUMBER(F54),G54=""),"미체크","")) -> 0.33333333 | K54: =IF(AND(ISNUMBER(F54),ISNUMBER(G54)),IF(J54="승인",IF(E54="근무일",MAX(0,(MOD(G54-F54,1)-N(H54))-8/24),IF(E54="휴무일",(MOD(G54-F54,1)-N(H54)),0)),0),"") -> 0 | L54: =IF(AND(ISNUMBER(F54),ISNUMBER(G54)),MAX(0,MIN(F54+MOD(G54-F54,1),30/24)-MAX(F54,22/24))+MAX(0,MIN(F54+MOD(G54-F54,1),6/24)-F54),"") -> 0 | M54: =IF(AND(ISNUMBER(F54),ISNUMBER(G54)),IF(E54="휴일",(MOD(G54-F54,1)-N(H54)),0),"") -> 0
A55: KR-0107 | B55: =IF(A55="","",IFERROR(VLOOKUP(A55,직원명부!$A$5:$B$12,2,0),"?")) -> 이서연 | C55: 46347 | D55: =IF(C55="","",CHOOSE(WEEKDAY(C55),"일","월","화","수","목","금","토")) -> 토 | E55: 휴무일 | I55: =IF(AND(ISNUMBER(F55),ISNUMBER(G55)),(MOD(G55-F55,1)-N(H55)),IF(AND(ISNUMBER(F55),G55=""),"미체크","")) | K55: =IF(AND(ISNUMBER(F55),ISNUMBER(G55)),IF(J55="승인",IF(E55="근무일",MAX(0,(MOD(G55-F55,1)-N(H55))-8/24),IF(E55="휴무일",(MOD(G55-F55,1)-N(H55)),0)),0),"") | L55: =IF(AND(ISNUMBER(F55),ISNUMBER(G55)),MAX(0,MIN(F55+MOD(G55-F55,1),30/24)-MAX(F55,22/24))+MAX(0,MIN(F55+MOD(G55-F55,1),6/24)-F55),"") | M55: =IF(AND(ISNUMBER(F55),ISNUMBER(G55)),IF(E55="휴일",(MOD(G55-F55,1)-N(H55)),0),"")
A56: KR-0107 | B56: =IF(A56="","",IFERROR(VLOOKUP(A56,직원명부!$A$5:$B$12,2,0),"?")) -> 이서연 | C56: 46348 | D56: =IF(C56="","",CHOOSE(WEEKDAY(C56),"일","월","화","수","목","금","토")) -> 일 | E56: 휴일 | I56: =IF(AND(ISNUMBER(F56),ISNUMBER(G56)),(MOD(G56-F56,1)-N(H56)),IF(AND(ISNUMBER(F56),G56=""),"미체크","")) | K56: =IF(AND(ISNUMBER(F56),ISNUMBER(G56)),IF(J56="승인",IF(E56="근무일",MAX(0,(MOD(G56-F56,1)-N(H56))-8/24),IF(E56="휴무일",(MOD(G56-F56,1)-N(H56)),0)),0),"") | L56: =IF(AND(ISNUMBER(F56),ISNUMBER(G56)),MAX(0,MIN(F56+MOD(G56-F56,1),30/24)-MAX(F56,22/24))+MAX(0,MIN(F56+MOD(G56-F56,1),6/24)-F56),"") | M56: =IF(AND(ISNUMBER(F56),ISNUMBER(G56)),IF(E56="휴일",(MOD(G56-F56,1)-N(H56)),0),"") | N56: 주휴일
A57: KR-0107 | B57: =IF(A57="","",IFERROR(VLOOKUP(A57,직원명부!$A$5:$B$12,2,0),"?")) -> 이서연 | C57: 46349 | D57: =IF(C57="","",CHOOSE(WEEKDAY(C57),"일","월","화","수","목","금","토")) -> 월 | E57: 근무일 | F57: 0.54166667 | G57: 0.91666667 | H57: 0.041666667 | I57: =IF(AND(ISNUMBER(F57),ISNUMBER(G57)),(MOD(G57-F57,1)-N(H57)),IF(AND(ISNUMBER(F57),G57=""),"미체크","")) -> 0.33333333 | K57: =IF(AND(ISNUMBER(F57),ISNUMBER(G57)),IF(J57="승인",IF(E57="근무일",MAX(0,(MOD(G57-F57,1)-N(H57))-8/24),IF(E57="휴무일",(MOD(G57-F57,1)-N(H57)),0)),0),"") -> 0 | L57: =IF(AND(ISNUMBER(F57),ISNUMBER(G57)),MAX(0,MIN(F57+MOD(G57-F57,1),30/24)-MAX(F57,22/24))+MAX(0,MIN(F57+MOD(G57-F57,1),6/24)-F57),"") -> 0 | M57: =IF(AND(ISNUMBER(F57),ISNUMBER(G57)),IF(E57="휴일",(MOD(G57-F57,1)-N(H57)),0),"") -> 0
A58: KR-0107 | B58: =IF(A58="","",IFERROR(VLOOKUP(A58,직원명부!$A$5:$B$12,2,0),"?")) -> 이서연 | C58: 46350 | D58: =IF(C58="","",CHOOSE(WEEKDAY(C58),"일","월","화","수","목","금","토")) -> 화 | E58: 근무일 | F58: 0.54166667 | G58: 0.91666667 | H58: 0.041666667 | I58: =IF(AND(ISNUMBER(F58),ISNUMBER(G58)),(MOD(G58-F58,1)-N(H58)),IF(AND(ISNUMBER(F58),G58=""),"미체크","")) -> 0.33333333 | K58: =IF(AND(ISNUMBER(F58),ISNUMBER(G58)),IF(J58="승인",IF(E58="근무일",MAX(0,(MOD(G58-F58,1)-N(H58))-8/24),IF(E58="휴무일",(MOD(G58-F58,1)-N(H58)),0)),0),"") -> 0 | L58: =IF(AND(ISNUMBER(F58),ISNUMBER(G58)),MAX(0,MIN(F58+MOD(G58-F58,1),30/24)-MAX(F58,22/24))+MAX(0,MIN(F58+MOD(G58-F58,1),6/24)-F58),"") -> 0 | M58: =IF(AND(ISNUMBER(F58),ISNUMBER(G58)),IF(E58="휴일",(MOD(G58-F58,1)-N(H58)),0),"") -> 0
A59: KR-0107 | B59: =IF(A59="","",IFERROR(VLOOKUP(A59,직원명부!$A$5:$B$12,2,0),"?")) -> 이서연 | C59: 46351 | D59: =IF(C59="","",CHOOSE(WEEKDAY(C59),"일","월","화","수","목","금","토")) -> 수 | E59: 근무일 | F59: 0.54166667 | G59: 0.91666667 | H59: 0.041666667 | I59: =IF(AND(ISNUMBER(F59),ISNUMBER(G59)),(MOD(G59-F59,1)-N(H59)),IF(AND(ISNUMBER(F59),G59=""),"미체크","")) -> 0.33333333 | K59: =IF(AND(ISNUMBER(F59),ISNUMBER(G59)),IF(J59="승인",IF(E59="근무일",MAX(0,(MOD(G59-F59,1)-N(H59))-8/24),IF(E59="휴무일",(MOD(G59-F59,1)-N(H59)),0)),0),"") -> 0 | L59: =IF(AND(ISNUMBER(F59),ISNUMBER(G59)),MAX(0,MIN(F59+MOD(G59-F59,1),30/24)-MAX(F59,22/24))+MAX(0,MIN(F59+MOD(G59-F59,1),6/24)-F59),"") -> 0 | M59: =IF(AND(ISNUMBER(F59),ISNUMBER(G59)),IF(E59="휴일",(MOD(G59-F59,1)-N(H59)),0),"") -> 0
A60: KR-0107 | B60: =IF(A60="","",IFERROR(VLOOKUP(A60,직원명부!$A$5:$B$12,2,0),"?")) -> 이서연 | C60: 46352 | D60: =IF(C60="","",CHOOSE(WEEKDAY(C60),"일","월","화","수","목","금","토")) -> 목 | E60: 근무일 | F60: 0.58333333 | G60: 0.95833333 | H60: 0.041666667 | I60: =IF(AND(ISNUMBER(F60),ISNUMBER(G60)),(MOD(G60-F60,1)-N(H60)),IF(AND(ISNUMBER(F60),G60=""),"미체크","")) -> 0.33333333 | K60: =IF(AND(ISNUMBER(F60),ISNUMBER(G60)),IF(J60="승인",IF(E60="근무일",MAX(0,(MOD(G60-F60,1)-N(H60))-8/24),IF(E60="휴무일",(MOD(G60-F60,1)-N(H60)),0)),0),"") -> 0 | L60: =IF(AND(ISNUMBER(F60),ISNUMBER(G60)),MAX(0,MIN(F60+MOD(G60-F60,1),30/24)-MAX(F60,22/24))+MAX(0,MIN(F60+MOD(G60-F60,1),6/24)-F60),"") -> 0.041666667 | M60: =IF(AND(ISNUMBER(F60),ISNUMBER(G60)),IF(E60="휴일",(MOD(G60-F60,1)-N(H60)),0),"") -> 0 | N60: 시작 1시간 늦춤 (야간 1시간)
A61: KR-0107 | B61: =IF(A61="","",IFERROR(VLOOKUP(A61,직원명부!$A$5:$B$12,2,0),"?")) -> 이서연 | C61: 46353 | D61: =IF(C61="","",CHOOSE(WEEKDAY(C61),"일","월","화","수","목","금","토")) -> 금 | E61: 근무일 | F61: 0.54166667 | G61: 0.91666667 | H61: 0.041666667 | I61: =IF(AND(ISNUMBER(F61),ISNUMBER(G61)),(MOD(G61-F61,1)-N(H61)),IF(AND(ISNUMBER(F61),G61=""),"미체크","")) -> 0.33333333 | K61: =IF(AND(ISNUMBER(F61),ISNUMBER(G61)),IF(J61="승인",IF(E61="근무일",MAX(0,(MOD(G61-F61,1)-N(H61))-8/24),IF(E61="휴무일",(MOD(G61-F61,1)-N(H61)),0)),0),"") -> 0 | L61: =IF(AND(ISNUMBER(F61),ISNUMBER(G61)),MAX(0,MIN(F61+MOD(G61-F61,1),30/24)-MAX(F61,22/24))+MAX(0,MIN(F61+MOD(G61-F61,1),6/24)-F61),"") -> 0 | M61: =IF(AND(ISNUMBER(F61),ISNUMBER(G61)),IF(E61="휴일",(MOD(G61-F61,1)-N(H61)),0),"") -> 0
A62: KR-0107 | B62: =IF(A62="","",IFERROR(VLOOKUP(A62,직원명부!$A$5:$B$12,2,0),"?")) -> 이서연 | C62: 46354 | D62: =IF(C62="","",CHOOSE(WEEKDAY(C62),"일","월","화","수","목","금","토")) -> 토 | E62: 휴무일 | I62: =IF(AND(ISNUMBER(F62),ISNUMBER(G62)),(MOD(G62-F62,1)-N(H62)),IF(AND(ISNUMBER(F62),G62=""),"미체크","")) | K62: =IF(AND(ISNUMBER(F62),ISNUMBER(G62)),IF(J62="승인",IF(E62="근무일",MAX(0,(MOD(G62-F62,1)-N(H62))-8/24),IF(E62="휴무일",(MOD(G62-F62,1)-N(H62)),0)),0),"") | L62: =IF(AND(ISNUMBER(F62),ISNUMBER(G62)),MAX(0,MIN(F62+MOD(G62-F62,1),30/24)-MAX(F62,22/24))+MAX(0,MIN(F62+MOD(G62-F62,1),6/24)-F62),"") | M62: =IF(AND(ISNUMBER(F62),ISNUMBER(G62)),IF(E62="휴일",(MOD(G62-F62,1)-N(H62)),0),"")
A63: KR-0107 | B63: =IF(A63="","",IFERROR(VLOOKUP(A63,직원명부!$A$5:$B$12,2,0),"?")) -> 이서연 | C63: 46355 | D63: =IF(C63="","",CHOOSE(WEEKDAY(C63),"일","월","화","수","목","금","토")) -> 일 | E63: 휴일 | I63: =IF(AND(ISNUMBER(F63),ISNUMBER(G63)),(MOD(G63-F63,1)-N(H63)),IF(AND(ISNUMBER(F63),G63=""),"미체크","")) | K63: =IF(AND(ISNUMBER(F63),ISNUMBER(G63)),IF(J63="승인",IF(E63="근무일",MAX(0,(MOD(G63-F63,1)-N(H63))-8/24),IF(E63="휴무일",(MOD(G63-F63,1)-N(H63)),0)),0),"") | L63: =IF(AND(ISNUMBER(F63),ISNUMBER(G63)),MAX(0,MIN(F63+MOD(G63-F63,1),30/24)-MAX(F63,22/24))+MAX(0,MIN(F63+MOD(G63-F63,1),6/24)-F63),"") | M63: =IF(AND(ISNUMBER(F63),ISNUMBER(G63)),IF(E63="휴일",(MOD(G63-F63,1)-N(H63)),0),"") | N63: 주휴일
A64: KR-0107 | B64: =IF(A64="","",IFERROR(VLOOKUP(A64,직원명부!$A$5:$B$12,2,0),"?")) -> 이서연 | C64: 46356 | D64: =IF(C64="","",CHOOSE(WEEKDAY(C64),"일","월","화","수","목","금","토")) -> 월 | E64: 근무일 | F64: 0.54166667 | G64: 0.91666667 | H64: 0.041666667 | I64: =IF(AND(ISNUMBER(F64),ISNUMBER(G64)),(MOD(G64-F64,1)-N(H64)),IF(AND(ISNUMBER(F64),G64=""),"미체크","")) -> 0.33333333 | K64: =IF(AND(ISNUMBER(F64),ISNUMBER(G64)),IF(J64="승인",IF(E64="근무일",MAX(0,(MOD(G64-F64,1)-N(H64))-8/24),IF(E64="휴무일",(MOD(G64-F64,1)-N(H64)),0)),0),"") -> 0 | L64: =IF(AND(ISNUMBER(F64),ISNUMBER(G64)),MAX(0,MIN(F64+MOD(G64-F64,1),30/24)-MAX(F64,22/24))+MAX(0,MIN(F64+MOD(G64-F64,1),6/24)-F64),"") -> 0 | M64: =IF(AND(ISNUMBER(F64),ISNUMBER(G64)),IF(E64="휴일",(MOD(G64-F64,1)-N(H64)),0),"") -> 0
A65: KR-0112 | B65: =IF(A65="","",IFERROR(VLOOKUP(A65,직원명부!$A$5:$B$12,2,0),"?")) -> 박지훈 | C65: 46327 | D65: =IF(C65="","",CHOOSE(WEEKDAY(C65),"일","월","화","수","목","금","토")) -> 일 | E65: 휴일 | I65: =IF(AND(ISNUMBER(F65),ISNUMBER(G65)),(MOD(G65-F65,1)-N(H65)),IF(AND(ISNUMBER(F65),G65=""),"미체크","")) | K65: =IF(AND(ISNUMBER(F65),ISNUMBER(G65)),IF(J65="승인",IF(E65="근무일",MAX(0,(MOD(G65-F65,1)-N(H65))-8/24),IF(E65="휴무일",(MOD(G65-F65,1)-N(H65)),0)),0),"") | L65: =IF(AND(ISNUMBER(F65),ISNUMBER(G65)),MAX(0,MIN(F65+MOD(G65-F65,1),30/24)-MAX(F65,22/24))+MAX(0,MIN(F65+MOD(G65-F65,1),6/24)-F65),"") | M65: =IF(AND(ISNUMBER(F65),ISNUMBER(G65)),IF(E65="휴일",(MOD(G65-F65,1)-N(H65)),0),"") | N65: 주휴일
A66: KR-0112 | B66: =IF(A66="","",IFERROR(VLOOKUP(A66,직원명부!$A$5:$B$12,2,0),"?")) -> 박지훈 | C66: 46328 | D66: =IF(C66="","",CHOOSE(WEEKDAY(C66),"일","월","화","수","목","금","토")) -> 월 | E66: 근무일 | F66: 0.41666667 | G66: 0.60416667 | H66: 0.020833333 | I66: =IF(AND(ISNUMBER(F66),ISNUMBER(G66)),(MOD(G66-F66,1)-N(H66)),IF(AND(ISNUMBER(F66),G66=""),"미체크","")) -> 0.16666667 | K66: =IF(AND(ISNUMBER(F66),ISNUMBER(G66)),IF(J66="승인",IF(E66="근무일",MAX(0,(MOD(G66-F66,1)-N(H66))-8/24),IF(E66="휴무일",(MOD(G66-F66,1)-N(H66)),0)),0),"") -> 0 | L66: =IF(AND(ISNUMBER(F66),ISNUMBER(G66)),MAX(0,MIN(F66+MOD(G66-F66,1),30/24)-MAX(F66,22/24))+MAX(0,MIN(F66+MOD(G66-F66,1),6/24)-F66),"") -> 0 | M66: =IF(AND(ISNUMBER(F66),ISNUMBER(G66)),IF(E66="휴일",(MOD(G66-F66,1)-N(H66)),0),"") -> 0
A67: KR-0112 | B67: =IF(A67="","",IFERROR(VLOOKUP(A67,직원명부!$A$5:$B$12,2,0),"?")) -> 박지훈 | C67: 46329 | D67: =IF(C67="","",CHOOSE(WEEKDAY(C67),"일","월","화","수","목","금","토")) -> 화 | E67: 휴무일 | I67: =IF(AND(ISNUMBER(F67),ISNUMBER(G67)),(MOD(G67-F67,1)-N(H67)),IF(AND(ISNUMBER(F67),G67=""),"미체크","")) | K67: =IF(AND(ISNUMBER(F67),ISNUMBER(G67)),IF(J67="승인",IF(E67="근무일",MAX(0,(MOD(G67-F67,1)-N(H67))-8/24),IF(E67="휴무일",(MOD(G67-F67,1)-N(H67)),0)),0),"") | L67: =IF(AND(ISNUMBER(F67),ISNUMBER(G67)),MAX(0,MIN(F67+MOD(G67-F67,1),30/24)-MAX(F67,22/24))+MAX(0,MIN(F67+MOD(G67-F67,1),6/24)-F67),"") | M67: =IF(AND(ISNUMBER(F67),ISNUMBER(G67)),IF(E67="휴일",(MOD(G67-F67,1)-N(H67)),0),"") | N67: 소정근로일 아님
A68: KR-0112 | B68: =IF(A68="","",IFERROR(VLOOKUP(A68,직원명부!$A$5:$B$12,2,0),"?")) -> 박지훈 | C68: 46330 | D68: =IF(C68="","",CHOOSE(WEEKDAY(C68),"일","월","화","수","목","금","토")) -> 수 | E68: 근무일 | F68: 0.41666667 | G68: 0.60416667 | H68: 0.020833333 | I68: =IF(AND(ISNUMBER(F68),ISNUMBER(G68)),(MOD(G68-F68,1)-N(H68)),IF(AND(ISNUMBER(F68),G68=""),"미체크","")) -> 0.16666667 | K68: =IF(AND(ISNUMBER(F68),ISNUMBER(G68)),IF(J68="승인",IF(E68="근무일",MAX(0,(MOD(G68-F68,1)-N(H68))-8/24),IF(E68="휴무일",(MOD(G68-F68,1)-N(H68)),0)),0),"") -> 0 | L68: =IF(AND(ISNUMBER(F68),ISNUMBER(G68)),MAX(0,MIN(F68+MOD(G68-F68,1),30/24)-MAX(F68,22/24))+MAX(0,MIN(F68+MOD(G68-F68,1),6/24)-F68),"") -> 0 | M68: =IF(AND(ISNUMBER(F68),ISNUMBER(G68)),IF(E68="휴일",(MOD(G68-F68,1)-N(H68)),0),"") -> 0
A69: KR-0112 | B69: =IF(A69="","",IFERROR(VLOOKUP(A69,직원명부!$A$5:$B$12,2,0),"?")) -> 박지훈 | C69: 46331 | D69: =IF(C69="","",CHOOSE(WEEKDAY(C69),"일","월","화","수","목","금","토")) -> 목 | E69: 휴무일 | I69: =IF(AND(ISNUMBER(F69),ISNUMBER(G69)),(MOD(G69-F69,1)-N(H69)),IF(AND(ISNUMBER(F69),G69=""),"미체크","")) | K69: =IF(AND(ISNUMBER(F69),ISNUMBER(G69)),IF(J69="승인",IF(E69="근무일",MAX(0,(MOD(G69-F69,1)-N(H69))-8/24),IF(E69="휴무일",(MOD(G69-F69,1)-N(H69)),0)),0),"") | L69: =IF(AND(ISNUMBER(F69),ISNUMBER(G69)),MAX(0,MIN(F69+MOD(G69-F69,1),30/24)-MAX(F69,22/24))+MAX(0,MIN(F69+MOD(G69-F69,1),6/24)-F69),"") | M69: =IF(AND(ISNUMBER(F69),ISNUMBER(G69)),IF(E69="휴일",(MOD(G69-F69,1)-N(H69)),0),"") | N69: 소정근로일 아님
A70: KR-0112 | B70: =IF(A70="","",IFERROR(VLOOKUP(A70,직원명부!$A$5:$B$12,2,0),"?")) -> 박지훈 | C70: 46332 | D70: =IF(C70="","",CHOOSE(WEEKDAY(C70),"일","월","화","수","목","금","토")) -> 금 | E70: 근무일 | F70: 0.41666667 | G70: 0.60416667 | H70: 0.020833333 | I70: =IF(AND(ISNUMBER(F70),ISNUMBER(G70)),(MOD(G70-F70,1)-N(H70)),IF(AND(ISNUMBER(F70),G70=""),"미체크","")) -> 0.16666667 | K70: =IF(AND(ISNUMBER(F70),ISNUMBER(G70)),IF(J70="승인",IF(E70="근무일",MAX(0,(MOD(G70-F70,1)-N(H70))-8/24),IF(E70="휴무일",(MOD(G70-F70,1)-N(H70)),0)),0),"") -> 0 | L70: =IF(AND(ISNUMBER(F70),ISNUMBER(G70)),MAX(0,MIN(F70+MOD(G70-F70,1),30/24)-MAX(F70,22/24))+MAX(0,MIN(F70+MOD(G70-F70,1),6/24)-F70),"") -> 0 | M70: =IF(AND(ISNUMBER(F70),ISNUMBER(G70)),IF(E70="휴일",(MOD(G70-F70,1)-N(H70)),0),"") -> 0
A71: KR-0112 | B71: =IF(A71="","",IFERROR(VLOOKUP(A71,직원명부!$A$5:$B$12,2,0),"?")) -> 박지훈 | C71: 46333 | D71: =IF(C71="","",CHOOSE(WEEKDAY(C71),"일","월","화","수","목","금","토")) -> 토 | E71: 휴무일 | I71: =IF(AND(ISNUMBER(F71),ISNUMBER(G71)),(MOD(G71-F71,1)-N(H71)),IF(AND(ISNUMBER(F71),G71=""),"미체크","")) | K71: =IF(AND(ISNUMBER(F71),ISNUMBER(G71)),IF(J71="승인",IF(E71="근무일",MAX(0,(MOD(G71-F71,1)-N(H71))-8/24),IF(E71="휴무일",(MOD(G71-F71,1)-N(H71)),0)),0),"") | L71: =IF(AND(ISNUMBER(F71),ISNUMBER(G71)),MAX(0,MIN(F71+MOD(G71-F71,1),30/24)-MAX(F71,22/24))+MAX(0,MIN(F71+MOD(G71-F71,1),6/24)-F71),"") | M71: =IF(AND(ISNUMBER(F71),ISNUMBER(G71)),IF(E71="휴일",(MOD(G71-F71,1)-N(H71)),0),"")
A72: KR-0112 | B72: =IF(A72="","",IFERROR(VLOOKUP(A72,직원명부!$A$5:$B$12,2,0),"?")) -> 박지훈 | C72: 46334 | D72: =IF(C72="","",CHOOSE(WEEKDAY(C72),"일","월","화","수","목","금","토")) -> 일 | E72: 휴일 | I72: =IF(AND(ISNUMBER(F72),ISNUMBER(G72)),(MOD(G72-F72,1)-N(H72)),IF(AND(ISNUMBER(F72),G72=""),"미체크","")) | K72: =IF(AND(ISNUMBER(F72),ISNUMBER(G72)),IF(J72="승인",IF(E72="근무일",MAX(0,(MOD(G72-F72,1)-N(H72))-8/24),IF(E72="휴무일",(MOD(G72-F72,1)-N(H72)),0)),0),"") | L72: =IF(AND(ISNUMBER(F72),ISNUMBER(G72)),MAX(0,MIN(F72+MOD(G72-F72,1),30/24)-MAX(F72,22/24))+MAX(0,MIN(F72+MOD(G72-F72,1),6/24)-F72),"") | M72: =IF(AND(ISNUMBER(F72),ISNUMBER(G72)),IF(E72="휴일",(MOD(G72-F72,1)-N(H72)),0),"") | N72: 주휴일
A73: KR-0112 | B73: =IF(A73="","",IFERROR(VLOOKUP(A73,직원명부!$A$5:$B$12,2,0),"?")) -> 박지훈 | C73: 46335 | D73: =IF(C73="","",CHOOSE(WEEKDAY(C73),"일","월","화","수","목","금","토")) -> 월 | E73: 근무일 | F73: 0.41666667 | G73: 0.60416667 | H73: 0.020833333 | I73: =IF(AND(ISNUMBER(F73),ISNUMBER(G73)),(MOD(G73-F73,1)-N(H73)),IF(AND(ISNUMBER(F73),G73=""),"미체크","")) -> 0.16666667 | K73: =IF(AND(ISNUMBER(F73),ISNUMBER(G73)),IF(J73="승인",IF(E73="근무일",MAX(0,(MOD(G73-F73,1)-N(H73))-8/24),IF(E73="휴무일",(MOD(G73-F73,1)-N(H73)),0)),0),"") -> 0 | L73: =IF(AND(ISNUMBER(F73),ISNUMBER(G73)),MAX(0,MIN(F73+MOD(G73-F73,1),30/24)-MAX(F73,22/24))+MAX(0,MIN(F73+MOD(G73-F73,1),6/24)-F73),"") -> 0 | M73: =IF(AND(ISNUMBER(F73),ISNUMBER(G73)),IF(E73="휴일",(MOD(G73-F73,1)-N(H73)),0),"") -> 0
A74: KR-0112 | B74: =IF(A74="","",IFERROR(VLOOKUP(A74,직원명부!$A$5:$B$12,2,0),"?")) -> 박지훈 | C74: 46336 | D74: =IF(C74="","",CHOOSE(WEEKDAY(C74),"일","월","화","수","목","금","토")) -> 화 | E74: 휴무일 | I74: =IF(AND(ISNUMBER(F74),ISNUMBER(G74)),(MOD(G74-F74,1)-N(H74)),IF(AND(ISNUMBER(F74),G74=""),"미체크","")) | K74: =IF(AND(ISNUMBER(F74),ISNUMBER(G74)),IF(J74="승인",IF(E74="근무일",MAX(0,(MOD(G74-F74,1)-N(H74))-8/24),IF(E74="휴무일",(MOD(G74-F74,1)-N(H74)),0)),0),"") | L74: =IF(AND(ISNUMBER(F74),ISNUMBER(G74)),MAX(0,MIN(F74+MOD(G74-F74,1),30/24)-MAX(F74,22/24))+MAX(0,MIN(F74+MOD(G74-F74,1),6/24)-F74),"") | M74: =IF(AND(ISNUMBER(F74),ISNUMBER(G74)),IF(E74="휴일",(MOD(G74-F74,1)-N(H74)),0),"") | N74: 소정근로일 아님
A75: KR-0112 | B75: =IF(A75="","",IFERROR(VLOOKUP(A75,직원명부!$A$5:$B$12,2,0),"?")) -> 박지훈 | C75: 46337 | D75: =IF(C75="","",CHOOSE(WEEKDAY(C75),"일","월","화","수","목","금","토")) -> 수 | E75: 근무일 | F75: 0.41666667 | G75: 0.60416667 | H75: 0.020833333 | I75: =IF(AND(ISNUMBER(F75),ISNUMBER(G75)),(MOD(G75-F75,1)-N(H75)),IF(AND(ISNUMBER(F75),G75=""),"미체크","")) -> 0.16666667 | K75: =IF(AND(ISNUMBER(F75),ISNUMBER(G75)),IF(J75="승인",IF(E75="근무일",MAX(0,(MOD(G75-F75,1)-N(H75))-8/24),IF(E75="휴무일",(MOD(G75-F75,1)-N(H75)),0)),0),"") -> 0 | L75: =IF(AND(ISNUMBER(F75),ISNUMBER(G75)),MAX(0,MIN(F75+MOD(G75-F75,1),30/24)-MAX(F75,22/24))+MAX(0,MIN(F75+MOD(G75-F75,1),6/24)-F75),"") -> 0 | M75: =IF(AND(ISNUMBER(F75),ISNUMBER(G75)),IF(E75="휴일",(MOD(G75-F75,1)-N(H75)),0),"") -> 0
A76: KR-0112 | B76: =IF(A76="","",IFERROR(VLOOKUP(A76,직원명부!$A$5:$B$12,2,0),"?")) -> 박지훈 | C76: 46338 | D76: =IF(C76="","",CHOOSE(WEEKDAY(C76),"일","월","화","수","목","금","토")) -> 목 | E76: 휴무일 | I76: =IF(AND(ISNUMBER(F76),ISNUMBER(G76)),(MOD(G76-F76,1)-N(H76)),IF(AND(ISNUMBER(F76),G76=""),"미체크","")) | K76: =IF(AND(ISNUMBER(F76),ISNUMBER(G76)),IF(J76="승인",IF(E76="근무일",MAX(0,(MOD(G76-F76,1)-N(H76))-8/24),IF(E76="휴무일",(MOD(G76-F76,1)-N(H76)),0)),0),"") | L76: =IF(AND(ISNUMBER(F76),ISNUMBER(G76)),MAX(0,MIN(F76+MOD(G76-F76,1),30/24)-MAX(F76,22/24))+MAX(0,MIN(F76+MOD(G76-F76,1),6/24)-F76),"") | M76: =IF(AND(ISNUMBER(F76),ISNUMBER(G76)),IF(E76="휴일",(MOD(G76-F76,1)-N(H76)),0),"") | N76: 소정근로일 아님
A77: KR-0112 | B77: =IF(A77="","",IFERROR(VLOOKUP(A77,직원명부!$A$5:$B$12,2,0),"?")) -> 박지훈 | C77: 46339 | D77: =IF(C77="","",CHOOSE(WEEKDAY(C77),"일","월","화","수","목","금","토")) -> 금 | E77: 근무일 | F77: 0.41666667 | G77: 0.60416667 | H77: 0.020833333 | I77: =IF(AND(ISNUMBER(F77),ISNUMBER(G77)),(MOD(G77-F77,1)-N(H77)),IF(AND(ISNUMBER(F77),G77=""),"미체크","")) -> 0.16666667 | K77: =IF(AND(ISNUMBER(F77),ISNUMBER(G77)),IF(J77="승인",IF(E77="근무일",MAX(0,(MOD(G77-F77,1)-N(H77))-8/24),IF(E77="휴무일",(MOD(G77-F77,1)-N(H77)),0)),0),"") -> 0 | L77: =IF(AND(ISNUMBER(F77),ISNUMBER(G77)),MAX(0,MIN(F77+MOD(G77-F77,1),30/24)-MAX(F77,22/24))+MAX(0,MIN(F77+MOD(G77-F77,1),6/24)-F77),"") -> 0 | M77: =IF(AND(ISNUMBER(F77),ISNUMBER(G77)),IF(E77="휴일",(MOD(G77-F77,1)-N(H77)),0),"") -> 0
A78: KR-0112 | B78: =IF(A78="","",IFERROR(VLOOKUP(A78,직원명부!$A$5:$B$12,2,0),"?")) -> 박지훈 | C78: 46340 | D78: =IF(C78="","",CHOOSE(WEEKDAY(C78),"일","월","화","수","목","금","토")) -> 토 | E78: 휴무일 | I78: =IF(AND(ISNUMBER(F78),ISNUMBER(G78)),(MOD(G78-F78,1)-N(H78)),IF(AND(ISNUMBER(F78),G78=""),"미체크","")) | K78: =IF(AND(ISNUMBER(F78),ISNUMBER(G78)),IF(J78="승인",IF(E78="근무일",MAX(0,(MOD(G78-F78,1)-N(H78))-8/24),IF(E78="휴무일",(MOD(G78-F78,1)-N(H78)),0)),0),"") | L78: =IF(AND(ISNUMBER(F78),ISNUMBER(G78)),MAX(0,MIN(F78+MOD(G78-F78,1),30/24)-MAX(F78,22/24))+MAX(0,MIN(F78+MOD(G78-F78,1),6/24)-F78),"") | M78: =IF(AND(ISNUMBER(F78),ISNUMBER(G78)),IF(E78="휴일",(MOD(G78-F78,1)-N(H78)),0),"")
A79: KR-0112 | B79: =IF(A79="","",IFERROR(VLOOKUP(A79,직원명부!$A$5:$B$12,2,0),"?")) -> 박지훈 | C79: 46341 | D79: =IF(C79="","",CHOOSE(WEEKDAY(C79),"일","월","화","수","목","금","토")) -> 일 | E79: 휴일 | I79: =IF(AND(ISNUMBER(F79),ISNUMBER(G79)),(MOD(G79-F79,1)-N(H79)),IF(AND(ISNUMBER(F79),G79=""),"미체크","")) | K79: =IF(AND(ISNUMBER(F79),ISNUMBER(G79)),IF(J79="승인",IF(E79="근무일",MAX(0,(MOD(G79-F79,1)-N(H79))-8/24),IF(E79="휴무일",(MOD(G79-F79,1)-N(H79)),0)),0),"") | L79: =IF(AND(ISNUMBER(F79),ISNUMBER(G79)),MAX(0,MIN(F79+MOD(G79-F79,1),30/24)-MAX(F79,22/24))+MAX(0,MIN(F79+MOD(G79-F79,1),6/24)-F79),"") | M79: =IF(AND(ISNUMBER(F79),ISNUMBER(G79)),IF(E79="휴일",(MOD(G79-F79,1)-N(H79)),0),"") | N79: 주휴일
A80: KR-0112 | B80: =IF(A80="","",IFERROR(VLOOKUP(A80,직원명부!$A$5:$B$12,2,0),"?")) -> 박지훈 | C80: 46342 | D80: =IF(C80="","",CHOOSE(WEEKDAY(C80),"일","월","화","수","목","금","토")) -> 월 | E80: 근무일 | F80: 0.41666667 | G80: 0.60416667 | H80: 0.020833333 | I80: =IF(AND(ISNUMBER(F80),ISNUMBER(G80)),(MOD(G80-F80,1)-N(H80)),IF(AND(ISNUMBER(F80),G80=""),"미체크","")) -> 0.16666667 | K80: =IF(AND(ISNUMBER(F80),ISNUMBER(G80)),IF(J80="승인",IF(E80="근무일",MAX(0,(MOD(G80-F80,1)-N(H80))-8/24),IF(E80="휴무일",(MOD(G80-F80,1)-N(H80)),0)),0),"") -> 0 | L80: =IF(AND(ISNUMBER(F80),ISNUMBER(G80)),MAX(0,MIN(F80+MOD(G80-F80,1),30/24)-MAX(F80,22/24))+MAX(0,MIN(F80+MOD(G80-F80,1),6/24)-F80),"") -> 0 | M80: =IF(AND(ISNUMBER(F80),ISNUMBER(G80)),IF(E80="휴일",(MOD(G80-F80,1)-N(H80)),0),"") -> 0
A81: KR-0112 | B81: =IF(A81="","",IFERROR(VLOOKUP(A81,직원명부!$A$5:$B$12,2,0),"?")) -> 박지훈 | C81: 46343 | D81: =IF(C81="","",CHOOSE(WEEKDAY(C81),"일","월","화","수","목","금","토")) -> 화 | E81: 휴무일 | I81: =IF(AND(ISNUMBER(F81),ISNUMBER(G81)),(MOD(G81-F81,1)-N(H81)),IF(AND(ISNUMBER(F81),G81=""),"미체크","")) | K81: =IF(AND(ISNUMBER(F81),ISNUMBER(G81)),IF(J81="승인",IF(E81="근무일",MAX(0,(MOD(G81-F81,1)-N(H81))-8/24),IF(E81="휴무일",(MOD(G81-F81,1)-N(H81)),0)),0),"") | L81: =IF(AND(ISNUMBER(F81),ISNUMBER(G81)),MAX(0,MIN(F81+MOD(G81-F81,1),30/24)-MAX(F81,22/24))+MAX(0,MIN(F81+MOD(G81-F81,1),6/24)-F81),"") | M81: =IF(AND(ISNUMBER(F81),ISNUMBER(G81)),IF(E81="휴일",(MOD(G81-F81,1)-N(H81)),0),"") | N81: 소정근로일 아님
A82: KR-0112 | B82: =IF(A82="","",IFERROR(VLOOKUP(A82,직원명부!$A$5:$B$12,2,0),"?")) -> 박지훈 | C82: 46344 | D82: =IF(C82="","",CHOOSE(WEEKDAY(C82),"일","월","화","수","목","금","토")) -> 수 | E82: 근무일 | F82: 0.41666667 | G82: 0.60416667 | H82: 0.020833333 | I82: =IF(AND(ISNUMBER(F82),ISNUMBER(G82)),(MOD(G82-F82,1)-N(H82)),IF(AND(ISNUMBER(F82),G82=""),"미체크","")) -> 0.16666667 | K82: =IF(AND(ISNUMBER(F82),ISNUMBER(G82)),IF(J82="승인",IF(E82="근무일",MAX(0,(MOD(G82-F82,1)-N(H82))-8/24),IF(E82="휴무일",(MOD(G82-F82,1)-N(H82)),0)),0),"") -> 0 | L82: =IF(AND(ISNUMBER(F82),ISNUMBER(G82)),MAX(0,MIN(F82+MOD(G82-F82,1),30/24)-MAX(F82,22/24))+MAX(0,MIN(F82+MOD(G82-F82,1),6/24)-F82),"") -> 0 | M82: =IF(AND(ISNUMBER(F82),ISNUMBER(G82)),IF(E82="휴일",(MOD(G82-F82,1)-N(H82)),0),"") -> 0
A83: KR-0112 | B83: =IF(A83="","",IFERROR(VLOOKUP(A83,직원명부!$A$5:$B$12,2,0),"?")) -> 박지훈 | C83: 46345 | D83: =IF(C83="","",CHOOSE(WEEKDAY(C83),"일","월","화","수","목","금","토")) -> 목 | E83: 휴무일 | I83: =IF(AND(ISNUMBER(F83),ISNUMBER(G83)),(MOD(G83-F83,1)-N(H83)),IF(AND(ISNUMBER(F83),G83=""),"미체크","")) | K83: =IF(AND(ISNUMBER(F83),ISNUMBER(G83)),IF(J83="승인",IF(E83="근무일",MAX(0,(MOD(G83-F83,1)-N(H83))-8/24),IF(E83="휴무일",(MOD(G83-F83,1)-N(H83)),0)),0),"") | L83: =IF(AND(ISNUMBER(F83),ISNUMBER(G83)),MAX(0,MIN(F83+MOD(G83-F83,1),30/24)-MAX(F83,22/24))+MAX(0,MIN(F83+MOD(G83-F83,1),6/24)-F83),"") | M83: =IF(AND(ISNUMBER(F83),ISNUMBER(G83)),IF(E83="휴일",(MOD(G83-F83,1)-N(H83)),0),"") | N83: 소정근로일 아님
A84: KR-0112 | B84: =IF(A84="","",IFERROR(VLOOKUP(A84,직원명부!$A$5:$B$12,2,0),"?")) -> 박지훈 | C84: 46346 | D84: =IF(C84="","",CHOOSE(WEEKDAY(C84),"일","월","화","수","목","금","토")) -> 금 | E84: 근무일 | F84: 0.41666667 | G84: 0.60416667 | H84: 0.020833333 | I84: =IF(AND(ISNUMBER(F84),ISNUMBER(G84)),(MOD(G84-F84,1)-N(H84)),IF(AND(ISNUMBER(F84),G84=""),"미체크","")) -> 0.16666667 | K84: =IF(AND(ISNUMBER(F84),ISNUMBER(G84)),IF(J84="승인",IF(E84="근무일",MAX(0,(MOD(G84-F84,1)-N(H84))-8/24),IF(E84="휴무일",(MOD(G84-F84,1)-N(H84)),0)),0),"") -> 0 | L84: =IF(AND(ISNUMBER(F84),ISNUMBER(G84)),MAX(0,MIN(F84+MOD(G84-F84,1),30/24)-MAX(F84,22/24))+MAX(0,MIN(F84+MOD(G84-F84,1),6/24)-F84),"") -> 0 | M84: =IF(AND(ISNUMBER(F84),ISNUMBER(G84)),IF(E84="휴일",(MOD(G84-F84,1)-N(H84)),0),"") -> 0
A85: KR-0112 | B85: =IF(A85="","",IFERROR(VLOOKUP(A85,직원명부!$A$5:$B$12,2,0),"?")) -> 박지훈 | C85: 46347 | D85: =IF(C85="","",CHOOSE(WEEKDAY(C85),"일","월","화","수","목","금","토")) -> 토 | E85: 휴무일 | I85: =IF(AND(ISNUMBER(F85),ISNUMBER(G85)),(MOD(G85-F85,1)-N(H85)),IF(AND(ISNUMBER(F85),G85=""),"미체크","")) | K85: =IF(AND(ISNUMBER(F85),ISNUMBER(G85)),IF(J85="승인",IF(E85="근무일",MAX(0,(MOD(G85-F85,1)-N(H85))-8/24),IF(E85="휴무일",(MOD(G85-F85,1)-N(H85)),0)),0),"") | L85: =IF(AND(ISNUMBER(F85),ISNUMBER(G85)),MAX(0,MIN(F85+MOD(G85-F85,1),30/24)-MAX(F85,22/24))+MAX(0,MIN(F85+MOD(G85-F85,1),6/24)-F85),"") | M85: =IF(AND(ISNUMBER(F85),ISNUMBER(G85)),IF(E85="휴일",(MOD(G85-F85,1)-N(H85)),0),"")
A86: KR-0112 | B86: =IF(A86="","",IFERROR(VLOOKUP(A86,직원명부!$A$5:$B$12,2,0),"?")) -> 박지훈 | C86: 46348 | D86: =IF(C86="","",CHOOSE(WEEKDAY(C86),"일","월","화","수","목","금","토")) -> 일 | E86: 휴일 | I86: =IF(AND(ISNUMBER(F86),ISNUMBER(G86)),(MOD(G86-F86,1)-N(H86)),IF(AND(ISNUMBER(F86),G86=""),"미체크","")) | K86: =IF(AND(ISNUMBER(F86),ISNUMBER(G86)),IF(J86="승인",IF(E86="근무일",MAX(0,(MOD(G86-F86,1)-N(H86))-8/24),IF(E86="휴무일",(MOD(G86-F86,1)-N(H86)),0)),0),"") | L86: =IF(AND(ISNUMBER(F86),ISNUMBER(G86)),MAX(0,MIN(F86+MOD(G86-F86,1),30/24)-MAX(F86,22/24))+MAX(0,MIN(F86+MOD(G86-F86,1),6/24)-F86),"") | M86: =IF(AND(ISNUMBER(F86),ISNUMBER(G86)),IF(E86="휴일",(MOD(G86-F86,1)-N(H86)),0),"") | N86: 주휴일
A87: KR-0112 | B87: =IF(A87="","",IFERROR(VLOOKUP(A87,직원명부!$A$5:$B$12,2,0),"?")) -> 박지훈 | C87: 46349 | D87: =IF(C87="","",CHOOSE(WEEKDAY(C87),"일","월","화","수","목","금","토")) -> 월 | E87: 근무일 | F87: 0.41666667 | G87: 0.60416667 | H87: 0.020833333 | I87: =IF(AND(ISNUMBER(F87),ISNUMBER(G87)),(MOD(G87-F87,1)-N(H87)),IF(AND(ISNUMBER(F87),G87=""),"미체크","")) -> 0.16666667 | K87: =IF(AND(ISNUMBER(F87),ISNUMBER(G87)),IF(J87="승인",IF(E87="근무일",MAX(0,(MOD(G87-F87,1)-N(H87))-8/24),IF(E87="휴무일",(MOD(G87-F87,1)-N(H87)),0)),0),"") -> 0 | L87: =IF(AND(ISNUMBER(F87),ISNUMBER(G87)),MAX(0,MIN(F87+MOD(G87-F87,1),30/24)-MAX(F87,22/24))+MAX(0,MIN(F87+MOD(G87-F87,1),6/24)-F87),"") -> 0 | M87: =IF(AND(ISNUMBER(F87),ISNUMBER(G87)),IF(E87="휴일",(MOD(G87-F87,1)-N(H87)),0),"") -> 0
A88: KR-0112 | B88: =IF(A88="","",IFERROR(VLOOKUP(A88,직원명부!$A$5:$B$12,2,0),"?")) -> 박지훈 | C88: 46350 | D88: =IF(C88="","",CHOOSE(WEEKDAY(C88),"일","월","화","수","목","금","토")) -> 화 | E88: 휴무일 | I88: =IF(AND(ISNUMBER(F88),ISNUMBER(G88)),(MOD(G88-F88,1)-N(H88)),IF(AND(ISNUMBER(F88),G88=""),"미체크","")) | K88: =IF(AND(ISNUMBER(F88),ISNUMBER(G88)),IF(J88="승인",IF(E88="근무일",MAX(0,(MOD(G88-F88,1)-N(H88))-8/24),IF(E88="휴무일",(MOD(G88-F88,1)-N(H88)),0)),0),"") | L88: =IF(AND(ISNUMBER(F88),ISNUMBER(G88)),MAX(0,MIN(F88+MOD(G88-F88,1),30/24)-MAX(F88,22/24))+MAX(0,MIN(F88+MOD(G88-F88,1),6/24)-F88),"") | M88: =IF(AND(ISNUMBER(F88),ISNUMBER(G88)),IF(E88="휴일",(MOD(G88-F88,1)-N(H88)),0),"") | N88: 소정근로일 아님
A89: KR-0112 | B89: =IF(A89="","",IFERROR(VLOOKUP(A89,직원명부!$A$5:$B$12,2,0),"?")) -> 박지훈 | C89: 46351 | D89: =IF(C89="","",CHOOSE(WEEKDAY(C89),"일","월","화","수","목","금","토")) -> 수 | E89: 근무일 | F89: 0.41666667 | G89: 0.60416667 | H89: 0.020833333 | I89: =IF(AND(ISNUMBER(F89),ISNUMBER(G89)),(MOD(G89-F89,1)-N(H89)),IF(AND(ISNUMBER(F89),G89=""),"미체크","")) -> 0.16666667 | K89: =IF(AND(ISNUMBER(F89),ISNUMBER(G89)),IF(J89="승인",IF(E89="근무일",MAX(0,(MOD(G89-F89,1)-N(H89))-8/24),IF(E89="휴무일",(MOD(G89-F89,1)-N(H89)),0)),0),"") -> 0 | L89: =IF(AND(ISNUMBER(F89),ISNUMBER(G89)),MAX(0,MIN(F89+MOD(G89-F89,1),30/24)-MAX(F89,22/24))+MAX(0,MIN(F89+MOD(G89-F89,1),6/24)-F89),"") -> 0 | M89: =IF(AND(ISNUMBER(F89),ISNUMBER(G89)),IF(E89="휴일",(MOD(G89-F89,1)-N(H89)),0),"") -> 0
A90: KR-0112 | B90: =IF(A90="","",IFERROR(VLOOKUP(A90,직원명부!$A$5:$B$12,2,0),"?")) -> 박지훈 | C90: 46352 | D90: =IF(C90="","",CHOOSE(WEEKDAY(C90),"일","월","화","수","목","금","토")) -> 목 | E90: 휴무일 | I90: =IF(AND(ISNUMBER(F90),ISNUMBER(G90)),(MOD(G90-F90,1)-N(H90)),IF(AND(ISNUMBER(F90),G90=""),"미체크","")) | K90: =IF(AND(ISNUMBER(F90),ISNUMBER(G90)),IF(J90="승인",IF(E90="근무일",MAX(0,(MOD(G90-F90,1)-N(H90))-8/24),IF(E90="휴무일",(MOD(G90-F90,1)-N(H90)),0)),0),"") | L90: =IF(AND(ISNUMBER(F90),ISNUMBER(G90)),MAX(0,MIN(F90+MOD(G90-F90,1),30/24)-MAX(F90,22/24))+MAX(0,MIN(F90+MOD(G90-F90,1),6/24)-F90),"") | M90: =IF(AND(ISNUMBER(F90),ISNUMBER(G90)),IF(E90="휴일",(MOD(G90-F90,1)-N(H90)),0),"") | N90: 소정근로일 아님
A91: KR-0112 | B91: =IF(A91="","",IFERROR(VLOOKUP(A91,직원명부!$A$5:$B$12,2,0),"?")) -> 박지훈 | C91: 46353 | D91: =IF(C91="","",CHOOSE(WEEKDAY(C91),"일","월","화","수","목","금","토")) -> 금 | E91: 근무일 | F91: 0.41666667 | G91: 0.60416667 | H91: 0.020833333 | I91: =IF(AND(ISNUMBER(F91),ISNUMBER(G91)),(MOD(G91-F91,1)-N(H91)),IF(AND(ISNUMBER(F91),G91=""),"미체크","")) -> 0.16666667 | K91: =IF(AND(ISNUMBER(F91),ISNUMBER(G91)),IF(J91="승인",IF(E91="근무일",MAX(0,(MOD(G91-F91,1)-N(H91))-8/24),IF(E91="휴무일",(MOD(G91-F91,1)-N(H91)),0)),0),"") -> 0 | L91: =IF(AND(ISNUMBER(F91),ISNUMBER(G91)),MAX(0,MIN(F91+MOD(G91-F91,1),30/24)-MAX(F91,22/24))+MAX(0,MIN(F91+MOD(G91-F91,1),6/24)-F91),"") -> 0 | M91: =IF(AND(ISNUMBER(F91),ISNUMBER(G91)),IF(E91="휴일",(MOD(G91-F91,1)-N(H91)),0),"") -> 0
A92: KR-0112 | B92: =IF(A92="","",IFERROR(VLOOKUP(A92,직원명부!$A$5:$B$12,2,0),"?")) -> 박지훈 | C92: 46354 | D92: =IF(C92="","",CHOOSE(WEEKDAY(C92),"일","월","화","수","목","금","토")) -> 토 | E92: 휴무일 | I92: =IF(AND(ISNUMBER(F92),ISNUMBER(G92)),(MOD(G92-F92,1)-N(H92)),IF(AND(ISNUMBER(F92),G92=""),"미체크","")) | K92: =IF(AND(ISNUMBER(F92),ISNUMBER(G92)),IF(J92="승인",IF(E92="근무일",MAX(0,(MOD(G92-F92,1)-N(H92))-8/24),IF(E92="휴무일",(MOD(G92-F92,1)-N(H92)),0)),0),"") | L92: =IF(AND(ISNUMBER(F92),ISNUMBER(G92)),MAX(0,MIN(F92+MOD(G92-F92,1),30/24)-MAX(F92,22/24))+MAX(0,MIN(F92+MOD(G92-F92,1),6/24)-F92),"") | M92: =IF(AND(ISNUMBER(F92),ISNUMBER(G92)),IF(E92="휴일",(MOD(G92-F92,1)-N(H92)),0),"")
A93: KR-0112 | B93: =IF(A93="","",IFERROR(VLOOKUP(A93,직원명부!$A$5:$B$12,2,0),"?")) -> 박지훈 | C93: 46355 | D93: =IF(C93="","",CHOOSE(WEEKDAY(C93),"일","월","화","수","목","금","토")) -> 일 | E93: 휴일 | I93: =IF(AND(ISNUMBER(F93),ISNUMBER(G93)),(MOD(G93-F93,1)-N(H93)),IF(AND(ISNUMBER(F93),G93=""),"미체크","")) | K93: =IF(AND(ISNUMBER(F93),ISNUMBER(G93)),IF(J93="승인",IF(E93="근무일",MAX(0,(MOD(G93-F93,1)-N(H93))-8/24),IF(E93="휴무일",(MOD(G93-F93,1)-N(H93)),0)),0),"") | L93: =IF(AND(ISNUMBER(F93),ISNUMBER(G93)),MAX(0,MIN(F93+MOD(G93-F93,1),30/24)-MAX(F93,22/24))+MAX(0,MIN(F93+MOD(G93-F93,1),6/24)-F93),"") | M93: =IF(AND(ISNUMBER(F93),ISNUMBER(G93)),IF(E93="휴일",(MOD(G93-F93,1)-N(H93)),0),"") | N93: 주휴일
A94: KR-0112 | B94: =IF(A94="","",IFERROR(VLOOKUP(A94,직원명부!$A$5:$B$12,2,0),"?")) -> 박지훈 | C94: 46356 | D94: =IF(C94="","",CHOOSE(WEEKDAY(C94),"일","월","화","수","목","금","토")) -> 월 | E94: 근무일 | F94: 0.41666667 | G94: 0.60416667 | H94: 0.020833333 | I94: =IF(AND(ISNUMBER(F94),ISNUMBER(G94)),(MOD(G94-F94,1)-N(H94)),IF(AND(ISNUMBER(F94),G94=""),"미체크","")) -> 0.16666667 | K94: =IF(AND(ISNUMBER(F94),ISNUMBER(G94)),IF(J94="승인",IF(E94="근무일",MAX(0,(MOD(G94-F94,1)-N(H94))-8/24),IF(E94="휴무일",(MOD(G94-F94,1)-N(H94)),0)),0),"") -> 0 | L94: =IF(AND(ISNUMBER(F94),ISNUMBER(G94)),MAX(0,MIN(F94+MOD(G94-F94,1),30/24)-MAX(F94,22/24))+MAX(0,MIN(F94+MOD(G94-F94,1),6/24)-F94),"") -> 0 | M94: =IF(AND(ISNUMBER(F94),ISNUMBER(G94)),IF(E94="휴일",(MOD(G94-F94,1)-N(H94)),0),"") -> 0

Sheet 직원명부
A1: 직원명부 | F1: 가상 예시 — orova.vn
A2: 노란 칸 = 직접 입력. 사번은 출퇴근 기록과 같은 표기로 적습니다. 이름은 모두 가상입니다.
A4: 사번 | B4: 성명 | C4: 근무 형태 | D4: 주 소정근로시간 | E4: 기본 근무시간 | F4: 비고
A5: KR-0104 | B5: 김민준 | C5: 사무직 정규 | D5: 40 | E5: 월~금 09:00~18:00 (휴게 1시간)
A6: KR-0107 | B6: 이서연 | C6: 저녁 교대 정규 | D6: 40 | E6: 월~금 13:00~22:00 (휴게 1시간)
A7: KR-0112 | B7: 박지훈 | C7: 단시간(파트타임) | D7: 12 | E7: 월·수·금 10:00~14:30 (휴게 30분)
A14: 주 소정근로시간 15시간 미만이면 근태대장의 '주휴수당 대상'이 '비대상'으로 표시됩니다. 법정 기준은 고용노동부·law.go.kr에서 확인하세요.

Sheet 체크리스트
A1: 취업규칙 근태 10대 조항 체크리스트 | D1: 가상 예시 — orova.vn
A2: 1단계 규정 수립용. 노란 칸에 우리 사업장 기준을 적고 '작성 여부'를 고릅니다. 법정 기준은 고용노동부·law.go.kr에서 확인하세요.
A4: # | B4: 조항 | C4: 규정에 담을 내용 | D4: 우리 사업장 기준 | E4: 작성 여부
A5: 1 | B5: 소정근로시간 | C5: 1일 8시간, 주 40시간(또는 파트타임 계약시간)을 초과하지 않는 기본 틀 명시 | D5: 예: 1일 8시간, 주 40시간 | E5: 미작성
A6: 2 | B6: 시업 및 종업 | C6: 공식 업무 개시 시각과 종료 시각, 준비 시간 인정 여부 명시 | D6: 예: 09:00 ~ 18:00 | E6: 미작성
A7: 3 | B7: 휴게시간 | C7: 12:00~13:00 등 구체적 시각을 지정하고 완전한 자유 이용 보장 명시 (근로기준법 제54조: 4시간이면 30분 이상, 8시간이면 1시간 이상) | D7: 예: 12:00 ~ 13:00 | E7: 미작성
A8: 4 | B8: 지각·조퇴 | C8: 정규 시업 시각 이후 도착 시 분 단위 처리 기준 및 누적 시 페널티 조항 | E8: 미작성
A9: 5 | B9: 결근 통보 | C9: 당일 유선 연락 원칙 및 증빙(진단서 등) 제출 시한 설정 | E9: 미작성
A10: 6 | B10: 사전 연장근로 승인제 | C10: 업무 개시 전 업무 필요성과 예상 시간을 적은 승인 요청 필수화 | D10: 예: 당일 17:00 이전 승인 | E10: 미작성
A11: 7 | B11: 휴일근로 사전 대체 | C11: 주말 근무 시 평일 대체 휴일 부여 기준 사전 동의 조항 | E11: 미작성
A12: 8 | B12: 연차휴가 신청 시한 | C12: 휴가 개시 최소 3일 전 전산 신청 및 부서장 승인 원칙 | D12: 예: 3일 전 | E12: 미작성
A13: 9 | B13: 퇴근 미체크 소명 | C13: 시스템 미체크 시 기본 근로시간 자동 종결 및 48시간 내 수정 기한 | D13: 예: 48시간 이내 | E13: 미작성
A14: 10 | B14: 허위 기록 처리 | C14: 대리 체크 및 고의적 허위 수정 시 적용할 징계 기준 | E14: 미작성
A16: 근태관리 규정 확인서
A17: 위 근태관리 규정을 읽고 내용을 확인했습니다.
B18: 대표자 성명·서명:
B19: 근로자(또는 근로자 대표) 성명·서명:
B20: 작성일 (yyyy-mm-dd):
A22: 근로기준법 제93조: 상시 10명 이상 사업장은 취업규칙을 작성해 신고해야 합니다. 10명 미만도 서면 규정이 있으면 다툼이 줄어듭니다. 법정 기준은 고용노동부·law.go.kr에서 확인하세요.

Sheet 사용법
A1: 사용법
A3: 가상 예시 — orova.vn. 이름·사번·날짜·시간은 실제가 아닙니다.
A4: 1. '직원명부'에 사번·성명·근무 형태·주 소정근로시간을 적습니다.
A5: 2. '출퇴근 기록'에 직원별로 한 달 날짜를 한 줄씩 넣고 구분(근무일·휴무일·휴일·연차·결근)을 고릅니다.
A6: 3. 출근·퇴근·휴게를 hh:mm으로 적습니다. 자정 넘어 퇴근하면 00:30처럼 그대로 적으면 됩니다.
A7: 4. 8시간을 넘긴 날은 '연장 승인'에 승인/미승인을 고릅니다. 승인한 시간만 연장으로 셉니다.
A8: 5. 퇴근을 비워 두면 '미체크'로 표시됩니다. 수정 신청을 승인한 뒤 실제 퇴근 시각을 적고 비고에 사유를 남기세요.
A9: 6. '근태대장'의 기준 월(B2)을 고르면 8개 컬럼이 자동으로 채워집니다. 날짜는 yyyy-mm-dd 형식입니다.
A10: 7. '내보내기 전 점검'에서 미체크 0건, '가능'을 확인한 뒤 세무대리인에게 보냅니다. 열 이름·순서는 사무소 양식에 맞추세요.
A11: 8. '체크리스트'로 10대 조항을 정리하고 확인서에 서명을 받습니다.
A13: 이 파일은 시간만 셉니다. 연장·야간·휴일 가산수당 금액은 급여 계산 단계에서 다룹니다.
A14: 법정 기준은 고용노동부·law.go.kr에서 확인하세요 (근로기준법 제11조·제50조·제54조·제55조·제56조·제60조).
... A22: 결근 — 소정근로일에 출근하지 않은 날.
