Workbook

Sheet Žiniaraštis
A1: Darbo laiko apskaitos žiniaraštis | I1: Hipotetinis pavyzdys — orova.vn
A2: Darbdavys: | C2: UAB „Pavyzdys“ | G2: Nakties laikas nuo: | J2: įrašykite pagal DK –
A3: Darbuotojas: | C3: Rūta Petrauskienė | G3: Nakties laikas iki: | J3: tuščia = naktinės valandos 0
A4: Mėnuo: | C4: 46082 | F4: =EOMONTH(C4,0) -> 46112
A5: Darbo laiko režimas: | C5: Suminė apskaita | G5: Režimą pasirinkite sąraše; žymėjimai – lape Žymėjimai.
A8: Data | B8: Savaitės diena | C8: Pradžia | D8: Pabaiga | E8: Pertrauka (min.) | F8: Faktiškai dirbta (val.) | G8: Iš jų naktį | H8: Viršvalan- džiai | I8: Darbas poilsio dieną | J8: Darbas švenčių dieną | K8: Žymė- jimas | L8: Pastaba
A9: =C4 -> 46082 | B9: =IF(A9="","",CHOOSE(WEEKDAY(A9,2),"Pr","An","Tr","Kt","Pn","Št","Sk")) -> Sk | F9: =IF(OR(C9="",D9=""),"",ROUND(MOD(D9-C9,1)*24-N(E9)/60,2)) | G9: =IF(OR(C9="",D9=""),"",IF(OR($I$2="",$I$3=""),0,ROUND(24*IF($I$2>$I$3,MAX(0,MIN((C9+MOD(D9-C9,1)),$I$3)-C9)+MAX(0,MIN((C9+MOD(D9-C9,1)),1+$I$3)-MAX(C9,$I$2))+MAX(0,(C9+MOD(D9-C9,1))-MAX(C9,1+$I$2)),MAX(0,MIN((C9+MOD(D9-C9,1)),$I$3)-MAX(C9,$I$2))+MAX(0,MIN((C9+MOD(D9-C9,1)),1+$I$3)-MAX(C9,1+$I$2))),2))) | I9: =IF(F9="","",IF(AND(K9="DP",N(J9)=0),F9,0)) | J9: =IF(F9="","",IF(OR(K9="ŠD",COUNTIF(Žymėjimai!$A$16:$A$35,A9)>0),F9,0))
A10: =IF(A9="","",IF(A9+1>$F$4,"",A9+1)) -> 46083 | B10: =IF(A10="","",CHOOSE(WEEKDAY(A10,2),"Pr","An","Tr","Kt","Pn","Št","Sk")) -> Pr | C10: 0.33333333 | D10: 0.70833333 | E10: 60 | F10: =IF(OR(C10="",D10=""),"",ROUND(MOD(D10-C10,1)*24-N(E10)/60,2)) -> 8 | G10: =IF(OR(C10="",D10=""),"",IF(OR($I$2="",$I$3=""),0,ROUND(24*IF($I$2>$I$3,MAX(0,MIN((C10+MOD(D10-C10,1)),$I$3)-C10)+MAX(0,MIN((C10+MOD(D10-C10,1)),1+$I$3)-MAX(C10,$I$2))+MAX(0,(C10+MOD(D10-C10,1))-MAX(C10,1+$I$2)),MAX(0,MIN((C10+MOD(D10-C10,1)),$I$3)-MAX(C10,$I$2))+MAX(0,MIN((C10+MOD(D10-C10,1)),1+$I$3)-MAX(C10,1+$I$2))),2))) -> 0 | I10: =IF(F10="","",IF(AND(K10="DP",N(J10)=0),F10,0)) -> 0 | J10: =IF(F10="","",IF(OR(K10="ŠD",COUNTIF(Žymėjimai!$A$16:$A$35,A10)>0),F10,0)) -> 0 | K10: FD
A11: =IF(A10="","",IF(A10+1>$F$4,"",A10+1)) -> 46084 | B11: =IF(A11="","",CHOOSE(WEEKDAY(A11,2),"Pr","An","Tr","Kt","Pn","Št","Sk")) -> An | C11: 0.33333333 | D11: 0.70833333 | E11: 60 | F11: =IF(OR(C11="",D11=""),"",ROUND(MOD(D11-C11,1)*24-N(E11)/60,2)) -> 8 | G11: =IF(OR(C11="",D11=""),"",IF(OR($I$2="",$I$3=""),0,ROUND(24*IF($I$2>$I$3,MAX(0,MIN((C11+MOD(D11-C11,1)),$I$3)-C11)+MAX(0,MIN((C11+MOD(D11-C11,1)),1+$I$3)-MAX(C11,$I$2))+MAX(0,(C11+MOD(D11-C11,1))-MAX(C11,1+$I$2)),MAX(0,MIN((C11+MOD(D11-C11,1)),$I$3)-MAX(C11,$I$2))+MAX(0,MIN((C11+MOD(D11-C11,1)),1+$I$3)-MAX(C11,1+$I$2))),2))) -> 0 | I11: =IF(F11="","",IF(AND(K11="DP",N(J11)=0),F11,0)) -> 0 | J11: =IF(F11="","",IF(OR(K11="ŠD",COUNTIF(Žymėjimai!$A$16:$A$35,A11)>0),F11,0)) -> 0 | K11: FD
A12: =IF(A11="","",IF(A11+1>$F$4,"",A11+1)) -> 46085 | B12: =IF(A12="","",CHOOSE(WEEKDAY(A12,2),"Pr","An","Tr","Kt","Pn","Št","Sk")) -> Tr | C12: 0.33333333 | D12: 0.70833333 | E12: 60 | F12: =IF(OR(C12="",D12=""),"",ROUND(MOD(D12-C12,1)*24-N(E12)/60,2)) -> 8 | G12: =IF(OR(C12="",D12=""),"",IF(OR($I$2="",$I$3=""),0,ROUND(24*IF($I$2>$I$3,MAX(0,MIN((C12+MOD(D12-C12,1)),$I$3)-C12)+MAX(0,MIN((C12+MOD(D12-C12,1)),1+$I$3)-MAX(C12,$I$2))+MAX(0,(C12+MOD(D12-C12,1))-MAX(C12,1+$I$2)),MAX(0,MIN((C12+MOD(D12-C12,1)),$I$3)-MAX(C12,$I$2))+MAX(0,MIN((C12+MOD(D12-C12,1)),1+$I$3)-MAX(C12,1+$I$2))),2))) -> 0 | I12: =IF(F12="","",IF(AND(K12="DP",N(J12)=0),F12,0)) -> 0 | J12: =IF(F12="","",IF(OR(K12="ŠD",COUNTIF(Žymėjimai!$A$16:$A$35,A12)>0),F12,0)) -> 0 | K12: FD
A13: =IF(A12="","",IF(A12+1>$F$4,"",A12+1)) -> 46086 | B13: =IF(A13="","",CHOOSE(WEEKDAY(A13,2),"Pr","An","Tr","Kt","Pn","Št","Sk")) -> Kt | C13: 0.33333333 | D13: 0.70833333 | E13: 60 | F13: =IF(OR(C13="",D13=""),"",ROUND(MOD(D13-C13,1)*24-N(E13)/60,2)) -> 8 | G13: =IF(OR(C13="",D13=""),"",IF(OR($I$2="",$I$3=""),0,ROUND(24*IF($I$2>$I$3,MAX(0,MIN((C13+MOD(D13-C13,1)),$I$3)-C13)+MAX(0,MIN((C13+MOD(D13-C13,1)),1+$I$3)-MAX(C13,$I$2))+MAX(0,(C13+MOD(D13-C13,1))-MAX(C13,1+$I$2)),MAX(0,MIN((C13+MOD(D13-C13,1)),$I$3)-MAX(C13,$I$2))+MAX(0,MIN((C13+MOD(D13-C13,1)),1+$I$3)-MAX(C13,1+$I$2))),2))) -> 0 | I13: =IF(F13="","",IF(AND(K13="DP",N(J13)=0),F13,0)) -> 0 | J13: =IF(F13="","",IF(OR(K13="ŠD",COUNTIF(Žymėjimai!$A$16:$A$35,A13)>0),F13,0)) -> 0 | K13: FD
A14: =IF(A13="","",IF(A13+1>$F$4,"",A13+1)) -> 46087 | B14: =IF(A14="","",CHOOSE(WEEKDAY(A14,2),"Pr","An","Tr","Kt","Pn","Št","Sk")) -> Pn | C14: 0.33333333 | D14: 0.70833333 | E14: 60 | F14: =IF(OR(C14="",D14=""),"",ROUND(MOD(D14-C14,1)*24-N(E14)/60,2)) -> 8 | G14: =IF(OR(C14="",D14=""),"",IF(OR($I$2="",$I$3=""),0,ROUND(24*IF($I$2>$I$3,MAX(0,MIN((C14+MOD(D14-C14,1)),$I$3)-C14)+MAX(0,MIN((C14+MOD(D14-C14,1)),1+$I$3)-MAX(C14,$I$2))+MAX(0,(C14+MOD(D14-C14,1))-MAX(C14,1+$I$2)),MAX(0,MIN((C14+MOD(D14-C14,1)),$I$3)-MAX(C14,$I$2))+MAX(0,MIN((C14+MOD(D14-C14,1)),1+$I$3)-MAX(C14,1+$I$2))),2))) -> 0 | I14: =IF(F14="","",IF(AND(K14="DP",N(J14)=0),F14,0)) -> 0 | J14: =IF(F14="","",IF(OR(K14="ŠD",COUNTIF(Žymėjimai!$A$16:$A$35,A14)>0),F14,0)) -> 0 | K14: FD
A15: =IF(A14="","",IF(A14+1>$F$4,"",A14+1)) -> 46088 | B15: =IF(A15="","",CHOOSE(WEEKDAY(A15,2),"Pr","An","Tr","Kt","Pn","Št","Sk")) -> Št | F15: =IF(OR(C15="",D15=""),"",ROUND(MOD(D15-C15,1)*24-N(E15)/60,2)) | G15: =IF(OR(C15="",D15=""),"",IF(OR($I$2="",$I$3=""),0,ROUND(24*IF($I$2>$I$3,MAX(0,MIN((C15+MOD(D15-C15,1)),$I$3)-C15)+MAX(0,MIN((C15+MOD(D15-C15,1)),1+$I$3)-MAX(C15,$I$2))+MAX(0,(C15+MOD(D15-C15,1))-MAX(C15,1+$I$2)),MAX(0,MIN((C15+MOD(D15-C15,1)),$I$3)-MAX(C15,$I$2))+MAX(0,MIN((C15+MOD(D15-C15,1)),1+$I$3)-MAX(C15,1+$I$2))),2))) | I15: =IF(F15="","",IF(AND(K15="DP",N(J15)=0),F15,0)) | J15: =IF(F15="","",IF(OR(K15="ŠD",COUNTIF(Žymėjimai!$A$16:$A$35,A15)>0),F15,0))
A16: =IF(A15="","",IF(A15+1>$F$4,"",A15+1)) -> 46089 | B16: =IF(A16="","",CHOOSE(WEEKDAY(A16,2),"Pr","An","Tr","Kt","Pn","Št","Sk")) -> Sk | F16: =IF(OR(C16="",D16=""),"",ROUND(MOD(D16-C16,1)*24-N(E16)/60,2)) | G16: =IF(OR(C16="",D16=""),"",IF(OR($I$2="",$I$3=""),0,ROUND(24*IF($I$2>$I$3,MAX(0,MIN((C16+MOD(D16-C16,1)),$I$3)-C16)+MAX(0,MIN((C16+MOD(D16-C16,1)),1+$I$3)-MAX(C16,$I$2))+MAX(0,(C16+MOD(D16-C16,1))-MAX(C16,1+$I$2)),MAX(0,MIN((C16+MOD(D16-C16,1)),$I$3)-MAX(C16,$I$2))+MAX(0,MIN((C16+MOD(D16-C16,1)),1+$I$3)-MAX(C16,1+$I$2))),2))) | I16: =IF(F16="","",IF(AND(K16="DP",N(J16)=0),F16,0)) | J16: =IF(F16="","",IF(OR(K16="ŠD",COUNTIF(Žymėjimai!$A$16:$A$35,A16)>0),F16,0))
A17: =IF(A16="","",IF(A16+1>$F$4,"",A16+1)) -> 46090 | B17: =IF(A17="","",CHOOSE(WEEKDAY(A17,2),"Pr","An","Tr","Kt","Pn","Št","Sk")) -> Pr | C17: 0.33333333 | D17: 0.70833333 | E17: 60 | F17: =IF(OR(C17="",D17=""),"",ROUND(MOD(D17-C17,1)*24-N(E17)/60,2)) -> 8 | G17: =IF(OR(C17="",D17=""),"",IF(OR($I$2="",$I$3=""),0,ROUND(24*IF($I$2>$I$3,MAX(0,MIN((C17+MOD(D17-C17,1)),$I$3)-C17)+MAX(0,MIN((C17+MOD(D17-C17,1)),1+$I$3)-MAX(C17,$I$2))+MAX(0,(C17+MOD(D17-C17,1))-MAX(C17,1+$I$2)),MAX(0,MIN((C17+MOD(D17-C17,1)),$I$3)-MAX(C17,$I$2))+MAX(0,MIN((C17+MOD(D17-C17,1)),1+$I$3)-MAX(C17,1+$I$2))),2))) -> 0 | I17: =IF(F17="","",IF(AND(K17="DP",N(J17)=0),F17,0)) -> 0 | J17: =IF(F17="","",IF(OR(K17="ŠD",COUNTIF(Žymėjimai!$A$16:$A$35,A17)>0),F17,0)) -> 0 | K17: FD
A18: =IF(A17="","",IF(A17+1>$F$4,"",A17+1)) -> 46091 | B18: =IF(A18="","",CHOOSE(WEEKDAY(A18,2),"Pr","An","Tr","Kt","Pn","Št","Sk")) -> An | C18: 0.33333333 | D18: 0.70833333 | E18: 60 | F18: =IF(OR(C18="",D18=""),"",ROUND(MOD(D18-C18,1)*24-N(E18)/60,2)) -> 8 | G18: =IF(OR(C18="",D18=""),"",IF(OR($I$2="",$I$3=""),0,ROUND(24*IF($I$2>$I$3,MAX(0,MIN((C18+MOD(D18-C18,1)),$I$3)-C18)+MAX(0,MIN((C18+MOD(D18-C18,1)),1+$I$3)-MAX(C18,$I$2))+MAX(0,(C18+MOD(D18-C18,1))-MAX(C18,1+$I$2)),MAX(0,MIN((C18+MOD(D18-C18,1)),$I$3)-MAX(C18,$I$2))+MAX(0,MIN((C18+MOD(D18-C18,1)),1+$I$3)-MAX(C18,1+$I$2))),2))) -> 0 | I18: =IF(F18="","",IF(AND(K18="DP",N(J18)=0),F18,0)) -> 0 | J18: =IF(F18="","",IF(OR(K18="ŠD",COUNTIF(Žymėjimai!$A$16:$A$35,A18)>0),F18,0)) -> 0 | K18: FD
A19: =IF(A18="","",IF(A18+1>$F$4,"",A18+1)) -> 46092 | B19: =IF(A19="","",CHOOSE(WEEKDAY(A19,2),"Pr","An","Tr","Kt","Pn","Št","Sk")) -> Tr | C19: 0.33333333 | D19: 0.6875 | E19: 30 | F19: =IF(OR(C19="",D19=""),"",ROUND(MOD(D19-C19,1)*24-N(E19)/60,2)) -> 8 | G19: =IF(OR(C19="",D19=""),"",IF(OR($I$2="",$I$3=""),0,ROUND(24*IF($I$2>$I$3,MAX(0,MIN((C19+MOD(D19-C19,1)),$I$3)-C19)+MAX(0,MIN((C19+MOD(D19-C19,1)),1+$I$3)-MAX(C19,$I$2))+MAX(0,(C19+MOD(D19-C19,1))-MAX(C19,1+$I$2)),MAX(0,MIN((C19+MOD(D19-C19,1)),$I$3)-MAX(C19,$I$2))+MAX(0,MIN((C19+MOD(D19-C19,1)),1+$I$3)-MAX(C19,1+$I$2))),2))) -> 0 | I19: =IF(F19="","",IF(AND(K19="DP",N(J19)=0),F19,0)) -> 0 | J19: =IF(F19="","",IF(OR(K19="ŠD",COUNTIF(Žymėjimai!$A$16:$A$35,A19)>0),F19,0)) -> 8 | K19: ŠD | L19: Darbas švenčių dieną pagal grafiką
A20: =IF(A19="","",IF(A19+1>$F$4,"",A19+1)) -> 46093 | B20: =IF(A20="","",CHOOSE(WEEKDAY(A20,2),"Pr","An","Tr","Kt","Pn","Št","Sk")) -> Kt | C20: 0.33333333 | D20: 0.70833333 | E20: 60 | F20: =IF(OR(C20="",D20=""),"",ROUND(MOD(D20-C20,1)*24-N(E20)/60,2)) -> 8 | G20: =IF(OR(C20="",D20=""),"",IF(OR($I$2="",$I$3=""),0,ROUND(24*IF($I$2>$I$3,MAX(0,MIN((C20+MOD(D20-C20,1)),$I$3)-C20)+MAX(0,MIN((C20+MOD(D20-C20,1)),1+$I$3)-MAX(C20,$I$2))+MAX(0,(C20+MOD(D20-C20,1))-MAX(C20,1+$I$2)),MAX(0,MIN((C20+MOD(D20-C20,1)),$I$3)-MAX(C20,$I$2))+MAX(0,MIN((C20+MOD(D20-C20,1)),1+$I$3)-MAX(C20,1+$I$2))),2))) -> 0 | I20: =IF(F20="","",IF(AND(K20="DP",N(J20)=0),F20,0)) -> 0 | J20: =IF(F20="","",IF(OR(K20="ŠD",COUNTIF(Žymėjimai!$A$16:$A$35,A20)>0),F20,0)) -> 0 | K20: FD | L20: Pataisyta 08:35 → 08:00, žr. lapą Korekcijos
A21: =IF(A20="","",IF(A20+1>$F$4,"",A20+1)) -> 46094 | B21: =IF(A21="","",CHOOSE(WEEKDAY(A21,2),"Pr","An","Tr","Kt","Pn","Št","Sk")) -> Pn | C21: 0.33333333 | D21: 0.70833333 | E21: 60 | F21: =IF(OR(C21="",D21=""),"",ROUND(MOD(D21-C21,1)*24-N(E21)/60,2)) -> 8 | G21: =IF(OR(C21="",D21=""),"",IF(OR($I$2="",$I$3=""),0,ROUND(24*IF($I$2>$I$3,MAX(0,MIN((C21+MOD(D21-C21,1)),$I$3)-C21)+MAX(0,MIN((C21+MOD(D21-C21,1)),1+$I$3)-MAX(C21,$I$2))+MAX(0,(C21+MOD(D21-C21,1))-MAX(C21,1+$I$2)),MAX(0,MIN((C21+MOD(D21-C21,1)),$I$3)-MAX(C21,$I$2))+MAX(0,MIN((C21+MOD(D21-C21,1)),1+$I$3)-MAX(C21,1+$I$2))),2))) -> 0 | I21: =IF(F21="","",IF(AND(K21="DP",N(J21)=0),F21,0)) -> 0 | J21: =IF(F21="","",IF(OR(K21="ŠD",COUNTIF(Žymėjimai!$A$16:$A$35,A21)>0),F21,0)) -> 0 | K21: FD
A22: =IF(A21="","",IF(A21+1>$F$4,"",A21+1)) -> 46095 | B22: =IF(A22="","",CHOOSE(WEEKDAY(A22,2),"Pr","An","Tr","Kt","Pn","Št","Sk")) -> Št | C22: 0.33333333 | D22: 0.6875 | E22: 30 | F22: =IF(OR(C22="",D22=""),"",ROUND(MOD(D22-C22,1)*24-N(E22)/60,2)) -> 8 | G22: =IF(OR(C22="",D22=""),"",IF(OR($I$2="",$I$3=""),0,ROUND(24*IF($I$2>$I$3,MAX(0,MIN((C22+MOD(D22-C22,1)),$I$3)-C22)+MAX(0,MIN((C22+MOD(D22-C22,1)),1+$I$3)-MAX(C22,$I$2))+MAX(0,(C22+MOD(D22-C22,1))-MAX(C22,1+$I$2)),MAX(0,MIN((C22+MOD(D22-C22,1)),$I$3)-MAX(C22,$I$2))+MAX(0,MIN((C22+MOD(D22-C22,1)),1+$I$3)-MAX(C22,1+$I$2))),2))) -> 0 | I22: =IF(F22="","",IF(AND(K22="DP",N(J22)=0),F22,0)) -> 8 | J22: =IF(F22="","",IF(OR(K22="ŠD",COUNTIF(Žymėjimai!$A$16:$A$35,A22)>0),F22,0)) -> 0 | K22: DP | L22: Darbas poilsio dieną (šeštadienis) pagal grafiką
A23: =IF(A22="","",IF(A22+1>$F$4,"",A22+1)) -> 46096 | B23: =IF(A23="","",CHOOSE(WEEKDAY(A23,2),"Pr","An","Tr","Kt","Pn","Št","Sk")) -> Sk | F23: =IF(OR(C23="",D23=""),"",ROUND(MOD(D23-C23,1)*24-N(E23)/60,2)) | G23: =IF(OR(C23="",D23=""),"",IF(OR($I$2="",$I$3=""),0,ROUND(24*IF($I$2>$I$3,MAX(0,MIN((C23+MOD(D23-C23,1)),$I$3)-C23)+MAX(0,MIN((C23+MOD(D23-C23,1)),1+$I$3)-MAX(C23,$I$2))+MAX(0,(C23+MOD(D23-C23,1))-MAX(C23,1+$I$2)),MAX(0,MIN((C23+MOD(D23-C23,1)),$I$3)-MAX(C23,$I$2))+MAX(0,MIN((C23+MOD(D23-C23,1)),1+$I$3)-MAX(C23,1+$I$2))),2))) | I23: =IF(F23="","",IF(AND(K23="DP",N(J23)=0),F23,0)) | J23: =IF(F23="","",IF(OR(K23="ŠD",COUNTIF(Žymėjimai!$A$16:$A$35,A23)>0),F23,0))
A24: =IF(A23="","",IF(A23+1>$F$4,"",A23+1)) -> 46097 | B24: =IF(A24="","",CHOOSE(WEEKDAY(A24,2),"Pr","An","Tr","Kt","Pn","Št","Sk")) -> Pr | C24: 0.33333333 | D24: 0.70833333 | E24: 60 | F24: =IF(OR(C24="",D24=""),"",ROUND(MOD(D24-C24,1)*24-N(E24)/60,2)) -> 8 | G24: =IF(OR(C24="",D24=""),"",IF(OR($I$2="",$I$3=""),0,ROUND(24*IF($I$2>$I$3,MAX(0,MIN((C24+MOD(D24-C24,1)),$I$3)-C24)+MAX(0,MIN((C24+MOD(D24-C24,1)),1+$I$3)-MAX(C24,$I$2))+MAX(0,(C24+MOD(D24-C24,1))-MAX(C24,1+$I$2)),MAX(0,MIN((C24+MOD(D24-C24,1)),$I$3)-MAX(C24,$I$2))+MAX(0,MIN((C24+MOD(D24-C24,1)),1+$I$3)-MAX(C24,1+$I$2))),2))) -> 0 | I24: =IF(F24="","",IF(AND(K24="DP",N(J24)=0),F24,0)) -> 0 | J24: =IF(F24="","",IF(OR(K24="ŠD",COUNTIF(Žymėjimai!$A$16:$A$35,A24)>0),F24,0)) -> 0 | K24: FD
A25: =IF(A24="","",IF(A24+1>$F$4,"",A24+1)) -> 46098 | B25: =IF(A25="","",CHOOSE(WEEKDAY(A25,2),"Pr","An","Tr","Kt","Pn","Št","Sk")) -> An | C25: 0.33333333 | D25: 0.70833333 | E25: 60 | F25: =IF(OR(C25="",D25=""),"",ROUND(MOD(D25-C25,1)*24-N(E25)/60,2)) -> 8 | G25: =IF(OR(C25="",D25=""),"",IF(OR($I$2="",$I$3=""),0,ROUND(24*IF($I$2>$I$3,MAX(0,MIN((C25+MOD(D25-C25,1)),$I$3)-C25)+MAX(0,MIN((C25+MOD(D25-C25,1)),1+$I$3)-MAX(C25,$I$2))+MAX(0,(C25+MOD(D25-C25,1))-MAX(C25,1+$I$2)),MAX(0,MIN((C25+MOD(D25-C25,1)),$I$3)-MAX(C25,$I$2))+MAX(0,MIN((C25+MOD(D25-C25,1)),1+$I$3)-MAX(C25,1+$I$2))),2))) -> 0 | I25: =IF(F25="","",IF(AND(K25="DP",N(J25)=0),F25,0)) -> 0 | J25: =IF(F25="","",IF(OR(K25="ŠD",COUNTIF(Žymėjimai!$A$16:$A$35,A25)>0),F25,0)) -> 0 | K25: FD
A26: =IF(A25="","",IF(A25+1>$F$4,"",A25+1)) -> 46099 | B26: =IF(A26="","",CHOOSE(WEEKDAY(A26,2),"Pr","An","Tr","Kt","Pn","Št","Sk")) -> Tr | C26: 0.58333333 | D26: 0.9375 | E26: 30 | F26: =IF(OR(C26="",D26=""),"",ROUND(MOD(D26-C26,1)*24-N(E26)/60,2)) -> 8 | G26: =IF(OR(C26="",D26=""),"",IF(OR($I$2="",$I$3=""),0,ROUND(24*IF($I$2>$I$3,MAX(0,MIN((C26+MOD(D26-C26,1)),$I$3)-C26)+MAX(0,MIN((C26+MOD(D26-C26,1)),1+$I$3)-MAX(C26,$I$2))+MAX(0,(C26+MOD(D26-C26,1))-MAX(C26,1+$I$2)),MAX(0,MIN((C26+MOD(D26-C26,1)),$I$3)-MAX(C26,$I$2))+MAX(0,MIN((C26+MOD(D26-C26,1)),1+$I$3)-MAX(C26,1+$I$2))),2))) -> 0 | I26: =IF(F26="","",IF(AND(K26="DP",N(J26)=0),F26,0)) -> 0 | J26: =IF(F26="","",IF(OR(K26="ŠD",COUNTIF(Žymėjimai!$A$16:$A$35,A26)>0),F26,0)) -> 0 | K26: FD | L26: Vakarinė pamaina
A27: =IF(A26="","",IF(A26+1>$F$4,"",A26+1)) -> 46100 | B27: =IF(A27="","",CHOOSE(WEEKDAY(A27,2),"Pr","An","Tr","Kt","Pn","Št","Sk")) -> Kt | C27: 0.29166667 | D27: 0.66666667 | E27: 60 | F27: =IF(OR(C27="",D27=""),"",ROUND(MOD(D27-C27,1)*24-N(E27)/60,2)) -> 8 | G27: =IF(OR(C27="",D27=""),"",IF(OR($I$2="",$I$3=""),0,ROUND(24*IF($I$2>$I$3,MAX(0,MIN((C27+MOD(D27-C27,1)),$I$3)-C27)+MAX(0,MIN((C27+MOD(D27-C27,1)),1+$I$3)-MAX(C27,$I$2))+MAX(0,(C27+MOD(D27-C27,1))-MAX(C27,1+$I$2)),MAX(0,MIN((C27+MOD(D27-C27,1)),$I$3)-MAX(C27,$I$2))+MAX(0,MIN((C27+MOD(D27-C27,1)),1+$I$3)-MAX(C27,1+$I$2))),2))) -> 0 | I27: =IF(F27="","",IF(AND(K27="DP",N(J27)=0),F27,0)) -> 0 | J27: =IF(F27="","",IF(OR(K27="ŠD",COUNTIF(Žymėjimai!$A$16:$A$35,A27)>0),F27,0)) -> 0 | K27: FD | L27: Poilsis po vakarinės pamainos 8,5 val. – žr. Kontrolė
A28: =IF(A27="","",IF(A27+1>$F$4,"",A27+1)) -> 46101 | B28: =IF(A28="","",CHOOSE(WEEKDAY(A28,2),"Pr","An","Tr","Kt","Pn","Št","Sk")) -> Pn | C28: 0.75 | D28: 0.083333333 | E28: 0 | F28: =IF(OR(C28="",D28=""),"",ROUND(MOD(D28-C28,1)*24-N(E28)/60,2)) -> 8 | G28: =IF(OR(C28="",D28=""),"",IF(OR($I$2="",$I$3=""),0,ROUND(24*IF($I$2>$I$3,MAX(0,MIN((C28+MOD(D28-C28,1)),$I$3)-C28)+MAX(0,MIN((C28+MOD(D28-C28,1)),1+$I$3)-MAX(C28,$I$2))+MAX(0,(C28+MOD(D28-C28,1))-MAX(C28,1+$I$2)),MAX(0,MIN((C28+MOD(D28-C28,1)),$I$3)-MAX(C28,$I$2))+MAX(0,MIN((C28+MOD(D28-C28,1)),1+$I$3)-MAX(C28,1+$I$2))),2))) -> 0 | I28: =IF(F28="","",IF(AND(K28="DP",N(J28)=0),F28,0)) -> 0 | J28: =IF(F28="","",IF(OR(K28="ŠD",COUNTIF(Žymėjimai!$A$16:$A$35,A28)>0),F28,0)) -> 0 | K28: FD | L28: Pamaina per vidurnaktį (baigiasi 03-21 02:00)
A29: =IF(A28="","",IF(A28+1>$F$4,"",A28+1)) -> 46102 | B29: =IF(A29="","",CHOOSE(WEEKDAY(A29,2),"Pr","An","Tr","Kt","Pn","Št","Sk")) -> Št | F29: =IF(OR(C29="",D29=""),"",ROUND(MOD(D29-C29,1)*24-N(E29)/60,2)) | G29: =IF(OR(C29="",D29=""),"",IF(OR($I$2="",$I$3=""),0,ROUND(24*IF($I$2>$I$3,MAX(0,MIN((C29+MOD(D29-C29,1)),$I$3)-C29)+MAX(0,MIN((C29+MOD(D29-C29,1)),1+$I$3)-MAX(C29,$I$2))+MAX(0,(C29+MOD(D29-C29,1))-MAX(C29,1+$I$2)),MAX(0,MIN((C29+MOD(D29-C29,1)),$I$3)-MAX(C29,$I$2))+MAX(0,MIN((C29+MOD(D29-C29,1)),1+$I$3)-MAX(C29,1+$I$2))),2))) | I29: =IF(F29="","",IF(AND(K29="DP",N(J29)=0),F29,0)) | J29: =IF(F29="","",IF(OR(K29="ŠD",COUNTIF(Žymėjimai!$A$16:$A$35,A29)>0),F29,0))
A30: =IF(A29="","",IF(A29+1>$F$4,"",A29+1)) -> 46103 | B30: =IF(A30="","",CHOOSE(WEEKDAY(A30,2),"Pr","An","Tr","Kt","Pn","Št","Sk")) -> Sk | F30: =IF(OR(C30="",D30=""),"",ROUND(MOD(D30-C30,1)*24-N(E30)/60,2)) | G30: =IF(OR(C30="",D30=""),"",IF(OR($I$2="",$I$3=""),0,ROUND(24*IF($I$2>$I$3,MAX(0,MIN((C30+MOD(D30-C30,1)),$I$3)-C30)+MAX(0,MIN((C30+MOD(D30-C30,1)),1+$I$3)-MAX(C30,$I$2))+MAX(0,(C30+MOD(D30-C30,1))-MAX(C30,1+$I$2)),MAX(0,MIN((C30+MOD(D30-C30,1)),$I$3)-MAX(C30,$I$2))+MAX(0,MIN((C30+MOD(D30-C30,1)),1+$I$3)-MAX(C30,1+$I$2))),2))) | I30: =IF(F30="","",IF(AND(K30="DP",N(J30)=0),F30,0)) | J30: =IF(F30="","",IF(OR(K30="ŠD",COUNTIF(Žymėjimai!$A$16:$A$35,A30)>0),F30,0))
A31: =IF(A30="","",IF(A30+1>$F$4,"",A30+1)) -> 46104 | B31: =IF(A31="","",CHOOSE(WEEKDAY(A31,2),"Pr","An","Tr","Kt","Pn","Št","Sk")) -> Pr | C31: 0.33333333 | D31: 0.70833333 | E31: 60 | F31: =IF(OR(C31="",D31=""),"",ROUND(MOD(D31-C31,1)*24-N(E31)/60,2)) -> 8 | G31: =IF(OR(C31="",D31=""),"",IF(OR($I$2="",$I$3=""),0,ROUND(24*IF($I$2>$I$3,MAX(0,MIN((C31+MOD(D31-C31,1)),$I$3)-C31)+MAX(0,MIN((C31+MOD(D31-C31,1)),1+$I$3)-MAX(C31,$I$2))+MAX(0,(C31+MOD(D31-C31,1))-MAX(C31,1+$I$2)),MAX(0,MIN((C31+MOD(D31-C31,1)),$I$3)-MAX(C31,$I$2))+MAX(0,MIN((C31+MOD(D31-C31,1)),1+$I$3)-MAX(C31,1+$I$2))),2))) -> 0 | I31: =IF(F31="","",IF(AND(K31="DP",N(J31)=0),F31,0)) -> 0 | J31: =IF(F31="","",IF(OR(K31="ŠD",COUNTIF(Žymėjimai!$A$16:$A$35,A31)>0),F31,0)) -> 0 | K31: FD
A32: =IF(A31="","",IF(A31+1>$F$4,"",A31+1)) -> 46105 | B32: =IF(A32="","",CHOOSE(WEEKDAY(A32,2),"Pr","An","Tr","Kt","Pn","Št","Sk")) -> An | C32: 0.33333333 | D32: 0.70833333 | E32: 60 | F32: =IF(OR(C32="",D32=""),"",ROUND(MOD(D32-C32,1)*24-N(E32)/60,2)) -> 8 | G32: =IF(OR(C32="",D32=""),"",IF(OR($I$2="",$I$3=""),0,ROUND(24*IF($I$2>$I$3,MAX(0,MIN((C32+MOD(D32-C32,1)),$I$3)-C32)+MAX(0,MIN((C32+MOD(D32-C32,1)),1+$I$3)-MAX(C32,$I$2))+MAX(0,(C32+MOD(D32-C32,1))-MAX(C32,1+$I$2)),MAX(0,MIN((C32+MOD(D32-C32,1)),$I$3)-MAX(C32,$I$2))+MAX(0,MIN((C32+MOD(D32-C32,1)),1+$I$3)-MAX(C32,1+$I$2))),2))) -> 0 | I32: =IF(F32="","",IF(AND(K32="DP",N(J32)=0),F32,0)) -> 0 | J32: =IF(F32="","",IF(OR(K32="ŠD",COUNTIF(Žymėjimai!$A$16:$A$35,A32)>0),F32,0)) -> 0 | K32: FD
A33: =IF(A32="","",IF(A32+1>$F$4,"",A32+1)) -> 46106 | B33: =IF(A33="","",CHOOSE(WEEKDAY(A33,2),"Pr","An","Tr","Kt","Pn","Št","Sk")) -> Tr | C33: 0.33333333 | D33: 0.70833333 | E33: 60 | F33: =IF(OR(C33="",D33=""),"",ROUND(MOD(D33-C33,1)*24-N(E33)/60,2)) -> 8 | G33: =IF(OR(C33="",D33=""),"",IF(OR($I$2="",$I$3=""),0,ROUND(24*IF($I$2>$I$3,MAX(0,MIN((C33+MOD(D33-C33,1)),$I$3)-C33)+MAX(0,MIN((C33+MOD(D33-C33,1)),1+$I$3)-MAX(C33,$I$2))+MAX(0,(C33+MOD(D33-C33,1))-MAX(C33,1+$I$2)),MAX(0,MIN((C33+MOD(D33-C33,1)),$I$3)-MAX(C33,$I$2))+MAX(0,MIN((C33+MOD(D33-C33,1)),1+$I$3)-MAX(C33,1+$I$2))),2))) -> 0 | I33: =IF(F33="","",IF(AND(K33="DP",N(J33)=0),F33,0)) -> 0 | J33: =IF(F33="","",IF(OR(K33="ŠD",COUNTIF(Žymėjimai!$A$16:$A$35,A33)>0),F33,0)) -> 0 | K33: FD
A34: =IF(A33="","",IF(A33+1>$F$4,"",A33+1)) -> 46107 | B34: =IF(A34="","",CHOOSE(WEEKDAY(A34,2),"Pr","An","Tr","Kt","Pn","Št","Sk")) -> Kt | C34: 0.33333333 | D34: 0.70833333 | E34: 60 | F34: =IF(OR(C34="",D34=""),"",ROUND(MOD(D34-C34,1)*24-N(E34)/60,2)) -> 8 | G34: =IF(OR(C34="",D34=""),"",IF(OR($I$2="",$I$3=""),0,ROUND(24*IF($I$2>$I$3,MAX(0,MIN((C34+MOD(D34-C34,1)),$I$3)-C34)+MAX(0,MIN((C34+MOD(D34-C34,1)),1+$I$3)-MAX(C34,$I$2))+MAX(0,(C34+MOD(D34-C34,1))-MAX(C34,1+$I$2)),MAX(0,MIN((C34+MOD(D34-C34,1)),$I$3)-MAX(C34,$I$2))+MAX(0,MIN((C34+MOD(D34-C34,1)),1+$I$3)-MAX(C34,1+$I$2))),2))) -> 0 | I34: =IF(F34="","",IF(AND(K34="DP",N(J34)=0),F34,0)) -> 0 | J34: =IF(F34="","",IF(OR(K34="ŠD",COUNTIF(Žymėjimai!$A$16:$A$35,A34)>0),F34,0)) -> 0 | K34: K | L34: Komandiruotė į Kauną; pabaiga pataisyta, žr. Korekcijos
A35: =IF(A34="","",IF(A34+1>$F$4,"",A34+1)) -> 46108 | B35: =IF(A35="","",CHOOSE(WEEKDAY(A35,2),"Pr","An","Tr","Kt","Pn","Št","Sk")) -> Pn | C35: 0.33333333 | D35: 0.70833333 | E35: 60 | F35: =IF(OR(C35="",D35=""),"",ROUND(MOD(D35-C35,1)*24-N(E35)/60,2)) -> 8 | G35: =IF(OR(C35="",D35=""),"",IF(OR($I$2="",$I$3=""),0,ROUND(24*IF($I$2>$I$3,MAX(0,MIN((C35+MOD(D35-C35,1)),$I$3)-C35)+MAX(0,MIN((C35+MOD(D35-C35,1)),1+$I$3)-MAX(C35,$I$2))+MAX(0,(C35+MOD(D35-C35,1))-MAX(C35,1+$I$2)),MAX(0,MIN((C35+MOD(D35-C35,1)),$I$3)-MAX(C35,$I$2))+MAX(0,MIN((C35+MOD(D35-C35,1)),1+$I$3)-MAX(C35,1+$I$2))),2))) -> 0 | I35: =IF(F35="","",IF(AND(K35="DP",N(J35)=0),F35,0)) -> 0 | J35: =IF(F35="","",IF(OR(K35="ŠD",COUNTIF(Žymėjimai!$A$16:$A$35,A35)>0),F35,0)) -> 0 | K35: FD
A36: =IF(A35="","",IF(A35+1>$F$4,"",A35+1)) -> 46109 | B36: =IF(A36="","",CHOOSE(WEEKDAY(A36,2),"Pr","An","Tr","Kt","Pn","Št","Sk")) -> Št | F36: =IF(OR(C36="",D36=""),"",ROUND(MOD(D36-C36,1)*24-N(E36)/60,2)) | G36: =IF(OR(C36="",D36=""),"",IF(OR($I$2="",$I$3=""),0,ROUND(24*IF($I$2>$I$3,MAX(0,MIN((C36+MOD(D36-C36,1)),$I$3)-C36)+MAX(0,MIN((C36+MOD(D36-C36,1)),1+$I$3)-MAX(C36,$I$2))+MAX(0,(C36+MOD(D36-C36,1))-MAX(C36,1+$I$2)),MAX(0,MIN((C36+MOD(D36-C36,1)),$I$3)-MAX(C36,$I$2))+MAX(0,MIN((C36+MOD(D36-C36,1)),1+$I$3)-MAX(C36,1+$I$2))),2))) | I36: =IF(F36="","",IF(AND(K36="DP",N(J36)=0),F36,0)) | J36: =IF(F36="","",IF(OR(K36="ŠD",COUNTIF(Žymėjimai!$A$16:$A$35,A36)>0),F36,0))
A37: =IF(A36="","",IF(A36+1>$F$4,"",A36+1)) -> 46110 | B37: =IF(A37="","",CHOOSE(WEEKDAY(A37,2),"Pr","An","Tr","Kt","Pn","Št","Sk")) -> Sk | F37: =IF(OR(C37="",D37=""),"",ROUND(MOD(D37-C37,1)*24-N(E37)/60,2)) | G37: =IF(OR(C37="",D37=""),"",IF(OR($I$2="",$I$3=""),0,ROUND(24*IF($I$2>$I$3,MAX(0,MIN((C37+MOD(D37-C37,1)),$I$3)-C37)+MAX(0,MIN((C37+MOD(D37-C37,1)),1+$I$3)-MAX(C37,$I$2))+MAX(0,(C37+MOD(D37-C37,1))-MAX(C37,1+$I$2)),MAX(0,MIN((C37+MOD(D37-C37,1)),$I$3)-MAX(C37,$I$2))+MAX(0,MIN((C37+MOD(D37-C37,1)),1+$I$3)-MAX(C37,1+$I$2))),2))) | I37: =IF(F37="","",IF(AND(K37="DP",N(J37)=0),F37,0)) | J37: =IF(F37="","",IF(OR(K37="ŠD",COUNTIF(Žymėjimai!$A$16:$A$35,A37)>0),F37,0))
A38: =IF(A37="","",IF(A37+1>$F$4,"",A37+1)) -> 46111 | B38: =IF(A38="","",CHOOSE(WEEKDAY(A38,2),"Pr","An","Tr","Kt","Pn","Št","Sk")) -> Pr | F38: =IF(OR(C38="",D38=""),"",ROUND(MOD(D38-C38,1)*24-N(E38)/60,2)) | G38: =IF(OR(C38="",D38=""),"",IF(OR($I$2="",$I$3=""),0,ROUND(24*IF($I$2>$I$3,MAX(0,MIN((C38+MOD(D38-C38,1)),$I$3)-C38)+MAX(0,MIN((C38+MOD(D38-C38,1)),1+$I$3)-MAX(C38,$I$2))+MAX(0,(C38+MOD(D38-C38,1))-MAX(C38,1+$I$2)),MAX(0,MIN((C38+MOD(D38-C38,1)),$I$3)-MAX(C38,$I$2))+MAX(0,MIN((C38+MOD(D38-C38,1)),1+$I$3)-MAX(C38,1+$I$2))),2))) | I38: =IF(F38="","",IF(AND(K38="DP",N(J38)=0),F38,0)) | J38: =IF(F38="","",IF(OR(K38="ŠD",COUNTIF(Žymėjimai!$A$16:$A$35,A38)>0),F38,0)) | K38: A | L38: Kasmetinės atostogos (įsakymas)
A39: =IF(A38="","",IF(A38+1>$F$4,"",A38+1)) -> 46112 | B39: =IF(A39="","",CHOOSE(WEEKDAY(A39,2),"Pr","An","Tr","Kt","Pn","Št","Sk")) -> An | C39: 0.33333333 | D39: 0.70833333 | E39: 60 | F39: =IF(OR(C39="",D39=""),"",ROUND(MOD(D39-C39,1)*24-N(E39)/60,2)) -> 8 | G39: =IF(OR(C39="",D39=""),"",IF(OR($I$2="",$I$3=""),0,ROUND(24*IF($I$2>$I$3,MAX(0,MIN((C39+MOD(D39-C39,1)),$I$3)-C39)+MAX(0,MIN((C39+MOD(D39-C39,1)),1+$I$3)-MAX(C39,$I$2))+MAX(0,(C39+MOD(D39-C39,1))-MAX(C39,1+$I$2)),MAX(0,MIN((C39+MOD(D39-C39,1)),$I$3)-MAX(C39,$I$2))+MAX(0,MIN((C39+MOD(D39-C39,1)),1+$I$3)-MAX(C39,1+$I$2))),2))) -> 0 | I39: =IF(F39="","",IF(AND(K39="DP",N(J39)=0),F39,0)) -> 0 | J39: =IF(F39="","",IF(OR(K39="ŠD",COUNTIF(Žymėjimai!$A$16:$A$35,A39)>0),F39,0)) -> 0 | K39: FD
A40: Iš viso per mėnesį | F40: =SUM(F9:F39) -> 176 | G40: =SUM(G9:G39) -> 0 | H40: =SUM(H9:H39) -> 0 | I40: =SUM(I9:I39) -> 8 | J40: =SUM(J9:J39) -> 8 | K40: =COUNTIF(F9:F39,">0") -> 22 | L40: ← dienų su dirbtomis valandomis
A42: Faktiškai dirbta = ROUND(MOD(Pabaiga − Pradžia; 1) × 24 − Pertrauka/60; 2). Pamaina per vidurnaktį skaičiuojama teisingai (24:00 rašykite 00:00).
A43: Iš jų naktį = Pradžia–Pabaiga dalis, patenkanti į nakties laiką (I2–I3, pertrauka neatimama). Kol I2–I3 tušti, rodoma 0.
...

Sheet Žymėjimai
A1: Žymėjimai ir švenčių dienos | E1: Hipotetinis pavyzdys — orova.vn
A2: Įmonės pasirinkti ženklai – aprašykite juos apskaitos tvarkoje ir taikykite vienodai. Galite pakeisti savais.
A3: Kodas | B3: Reikšmė | C3: Įskaitoma į faktiškai dirbtą | D3: Dienų šį mėnesį
A4: FD | B4: Faktiškai dirbtas laikas | C4: Taip | D4: =COUNTIF(Žiniaraštis!$K$9:$K$39,A4) -> 19
A5: V | B5: Viršvalandžiai | C5: Taip | D5: =COUNTIF(Žiniaraštis!$K$9:$K$39,A5) -> 0
A6: N | B6: Darbas naktį | C6: Taip | D6: =COUNTIF(Žiniaraštis!$K$9:$K$39,A6) -> 0
A7: DP | B7: Darbas poilsio dieną | C7: Taip | D7: =COUNTIF(Žiniaraštis!$K$9:$K$39,A7) -> 1
A8: ŠD | B8: Darbas švenčių dieną | C8: Taip | D8: =COUNTIF(Žiniaraštis!$K$9:$K$39,A8) -> 1
A9: A | B9: Kasmetinės atostogos | C9: Ne | D9: =COUNTIF(Žiniaraštis!$K$9:$K$39,A9) -> 1
A10: L | B10: Nedarbingumas dėl ligos | C10: Ne | D10: =COUNTIF(Žiniaraštis!$K$9:$K$39,A10) -> 0
A11: NA | B11: Neatvykimas administracijai leidus | C11: Ne | D11: =COUNTIF(Žiniaraštis!$K$9:$K$39,A11) -> 0
A12: K | B12: Komandiruotė | C12: Taip, jei dirbta | D12: =COUNTIF(Žiniaraštis!$K$9:$K$39,A12) -> 1
A14: Švenčių dienos (įrašykite patys pagal DK – sąrašas automatiškai nepildomas)
A15: Data | B15: Pavadinimas / pastaba
A16: 46092 | B16: Pavyzdys: kovo 11-oji – sąrašą pasitikrinkite DK
A37: Žiniaraštyje Žymėjimas pasirenkamas iš šio sąrašo (A4:A12). Pakeitus kodą čia, sąrašas atsinaujina.
A38: Data iš švenčių sąrašo žiniaraštyje nuspalvinama ir jos valandos patenka į skiltį „Darbas švenčių dieną“.

Sheet Koeficientai
A1: Koeficientai ir apmokėtinos valandos | H1: Hipotetinis pavyzdys — orova.vn
A3: Naktinio darbo priedas: | E3: pagal DK ar kolektyvinę sutartį — įrašykite
A4: Poilsio dienos priedas: | E4: pagal DK ar kolektyvinę sutartį — įrašykite
A5: Švenčių dienos priedas: | E5: pagal DK ar kolektyvinę sutartį — įrašykite
A6: Viršvalandžių priedas: | E6: pagal DK ar kolektyvinę sutartį — įrašykite
A7: Priedas – dalis, kuria didinamas valandinis tarifas. Tuščias langelis laikomas 0, todėl rodomos tik faktinės valandos.
A8: Hipotetinis pavyzdys (darbuotojai išgalvoti)
A9: Darbuotojas | B9: Pamainos tipas | C9: Data | D9: Pradžia | E9: Pabaiga | F9: Pertrauka (min.) | G9: Faktinės valandos | H9: Iš jų naktį | I9: Iš jų poilsio dieną | J9: Iš jų švenčių dieną | K9: Viršvalan- džiai | L9: Apmokėtinos valandos
A10: Darbuotojas A (Tomas Kazlauskas) | B10: Dieninė pamaina | C10: 46084 | D10: 0.33333333 | E10: 0.70833333 | F10: 60 | G10: =IF(OR(D10="",E10=""),"",ROUND(MOD(E10-D10,1)*24-N(F10)/60,2)) -> 8 | H10: =IF(OR(D10="",E10=""),"",IF(OR(Žiniaraštis!$I$2="",Žiniaraštis!$I$3=""),0,ROUND(24*IF(Žiniaraštis!$I$2>Žiniaraštis!$I$3,MAX(0,MIN((D10+MOD(E10-D10,1)),Žiniaraštis!$I$3)-D10)+MAX(0,MIN((D10+MOD(E10-D10,1)),1+Žiniaraštis!$I$3)-MAX(D10,Žiniaraštis!$I$2))+MAX(0,(D10+MOD(E10-D10,1))-MAX(D10,1+Žiniaraštis!$I$2)),MAX(0,MIN((D10+MOD(E10-D10,1)),Žiniaraštis!$I$3)-MAX(D10,Žiniaraštis!$I$2))+MAX(0,MIN((D10+MOD(E10-D10,1)),1+Žiniaraštis!$I$3)-MAX(D10,1+Žiniaraštis!$I$2))),2))) -> 0 | I10: =IF(G10="","",IF(AND(WEEKDAY(C10,2)>5,COUNTIF(Žymėjimai!$A$16:$A$35,C10)=0),G10,0)) -> 0 | J10: =IF(G10="","",IF(COUNTIF(Žymėjimai!$A$16:$A$35,C10)>0,G10,0)) -> 0 | L10: =IF(G10="","",ROUND(G10+N(H10)*N($D$3)+N(I10)*N($D$4)+N(J10)*N($D$5)+N(K10)*N($D$6),2)) -> 8
A11: Darbuotojas B (Eglė Jankauskaitė) | B11: Pamaina per vidurnaktį | C11: 46086 | D11: 0.75 | E11: 0.083333333 | F11: 0 | G11: =IF(OR(D11="",E11=""),"",ROUND(MOD(E11-D11,1)*24-N(F11)/60,2)) -> 8 | H11: =IF(OR(D11="",E11=""),"",IF(OR(Žiniaraštis!$I$2="",Žiniaraštis!$I$3=""),0,ROUND(24*IF(Žiniaraštis!$I$2>Žiniaraštis!$I$3,MAX(0,MIN((D11+MOD(E11-D11,1)),Žiniaraštis!$I$3)-D11)+MAX(0,MIN((D11+MOD(E11-D11,1)),1+Žiniaraštis!$I$3)-MAX(D11,Žiniaraštis!$I$2))+MAX(0,(D11+MOD(E11-D11,1))-MAX(D11,1+Žiniaraštis!$I$2)),MAX(0,MIN((D11+MOD(E11-D11,1)),Žiniaraštis!$I$3)-MAX(D11,Žiniaraštis!$I$2))+MAX(0,MIN((D11+MOD(E11-D11,1)),1+Žiniaraštis!$I$3)-MAX(D11,1+Žiniaraštis!$I$2))),2))) -> 0 | I11: =IF(G11="","",IF(AND(WEEKDAY(C11,2)>5,COUNTIF(Žymėjimai!$A$16:$A$35,C11)=0),G11,0)) -> 0 | J11: =IF(G11="","",IF(COUNTIF(Žymėjimai!$A$16:$A$35,C11)>0,G11,0)) -> 0 | L11: =IF(G11="","",ROUND(G11+N(H11)*N($D$3)+N(I11)*N($D$4)+N(J11)*N($D$5)+N(K11)*N($D$6),2)) -> 8
A12: Darbuotojas C (Rūta Petrauskienė) | B12: Darbas poilsio dieną (šeštadienį) | C12: 46095 | D12: 0.33333333 | E12: 0.6875 | F12: 30 | G12: =IF(OR(D12="",E12=""),"",ROUND(MOD(E12-D12,1)*24-N(F12)/60,2)) -> 8 | H12: =IF(OR(D12="",E12=""),"",IF(OR(Žiniaraštis!$I$2="",Žiniaraštis!$I$3=""),0,ROUND(24*IF(Žiniaraštis!$I$2>Žiniaraštis!$I$3,MAX(0,MIN((D12+MOD(E12-D12,1)),Žiniaraštis!$I$3)-D12)+MAX(0,MIN((D12+MOD(E12-D12,1)),1+Žiniaraštis!$I$3)-MAX(D12,Žiniaraštis!$I$2))+MAX(0,(D12+MOD(E12-D12,1))-MAX(D12,1+Žiniaraštis!$I$2)),MAX(0,MIN((D12+MOD(E12-D12,1)),Žiniaraštis!$I$3)-MAX(D12,Žiniaraštis!$I$2))+MAX(0,MIN((D12+MOD(E12-D12,1)),1+Žiniaraštis!$I$3)-MAX(D12,1+Žiniaraštis!$I$2))),2))) -> 0 | I12: =IF(G12="","",IF(AND(WEEKDAY(C12,2)>5,COUNTIF(Žymėjimai!$A$16:$A$35,C12)=0),G12,0)) -> 8 | J12: =IF(G12="","",IF(COUNTIF(Žymėjimai!$A$16:$A$35,C12)>0,G12,0)) -> 0 | L12: =IF(G12="","",ROUND(G12+N(H12)*N($D$3)+N(I12)*N($D$4)+N(J12)*N($D$5)+N(K12)*N($D$6),2)) -> 8
A13: Rūta Petrauskienė – visas mėnuo | B13: Iš lapo Žiniaraštis | G13: =Žiniaraštis!F40 -> 176 | H13: =Žiniaraštis!G40 -> 0 | I13: =Žiniaraštis!I40 -> 8 | J13: =Žiniaraštis!J40 -> 8 | K13: =Žiniaraštis!H40 -> 0 | L13: =IF(G13="","",ROUND(G13+N(H13)*N($D$3)+N(I13)*N($D$4)+N(J13)*N($D$5)+N(K13)*N($D$6),2)) -> 176
A15: Apmokėtinos valandos = Faktinės + Naktinės × naktinio darbo priedas + Poilsio dienos val. × poilsio dienos priedas + Švenčių dienos val. × švenčių dienos priedas + Viršvalandžiai × viršvalandžių priedas.
A17: Suminė darbo laiko apskaita – balansas (hipotetinis pavyzdys)
A18: Faktinės valandos (Žiniaraštis): | D18: =Žiniaraštis!F40 -> 176
A19: Norma pagal grafiką (val.): | D19: 168 | E19: 21 darbo diena × 8 val. (03-11 – švenčių diena)
A20: Balansas = Faktinės − Norma: | D20: =D18-D19 -> 8 | E20: Teigiamas balansas – valandos virš normos; ar tai viršvalandžiai, nustatoma apskaitinio laikotarpio pabaigoje pagal DK.
A23: Failas skaičiuoja tik valandas. Atlyginimą ir mokesčius skaičiuoja algų sistema.

Sheet Kontrolė
A1: Kontrolė prieš užrakinant žiniaraštį | J1: Hipotetinis pavyzdys — orova.vn
A2: ="Darbuotojas: "&Žiniaraštis!C3 -> Darbuotojas: Rūta Petrauskienė
H3: Didžiausias vidutinis laikas per 7 dienas (val.): | L3: 48 | M3: Direktyvos 2003/88/EB 6 str.
H4: Paros poilsis ne mažiau kaip (val.): | L4: 11 | M4: Direktyvos 2003/88/EB 3 str.
H5: Savaitės poilsis ne mažiau kaip (val.): | L5: 24 | M5: + paros poilsis = 35 val. (5 str.)
A7: Paros poilsis | H7: Savaitės (pirmadienis–sekmadienis)
A8: Data | B8: Diena | C8: Pradžia | D8: Pabaiga | E8: Ankstesnės pamainos pabaiga | F8: Paros poilsis (val.) | H8: Savaitė nuo | I8: Savaitė iki | J8: Valandų per savaitę | K8: Ilgiausias poilsis (val.) | L8: Poilsis ≥ 24 + 11 val.
A9: =IF(Žiniaraštis!A9="","",Žiniaraštis!A9) -> 46082 | B9: =IF(Žiniaraštis!B9="","",Žiniaraštis!B9) -> Sk | C9: =IF(Žiniaraštis!C9="","",Žiniaraštis!C9) | D9: =IF(Žiniaraštis!D9="","",Žiniaraštis!D9) | F9: =IF(OR(E9="",C9=""),"",ROUND((A9+C9-E9)*24,2)) | G9: =IF(OR(A9="",C9="",D9=""),"",A9+C9+MOD(D9-C9,1)) | H9: =Žiniaraštis!$C$4-WEEKDAY(Žiniaraštis!$C$4,2)+1 -> 46076 | I9: =H9+6 -> 46082 | J9: =SUMIFS(Žiniaraštis!$F$9:$F$39,Žiniaraštis!$A$9:$A$39,">="&H9,Žiniaraštis!$A$9:$A$39,"<="&I9) -> 0 | K9: =IF(SUMPRODUCT(($Q$9:$Q$39>=H9)*($Q$9:$Q$39<I9+1)*($P$9:$P$39>0))=0,"",SUMPRODUCT(MAX(($Q$9:$Q$39>=H9)*($Q$9:$Q$39<I9+1)*$P$9:$P$39))) | L9: =IF(K9="","nėra duomenų",IF(K9>=$L$5+$L$4,"Taip","Ne")) -> nėra duomenų | P9: =IF(ISNUMBER(F9),F9,0) -> 0 | Q9: =IF(ISNUMBER(F9),E9,0) -> 0
A10: =IF(Žiniaraštis!A10="","",Žiniaraštis!A10) -> 46083 | B10: =IF(Žiniaraštis!B10="","",Žiniaraštis!B10) -> Pr | C10: =IF(Žiniaraštis!C10="","",Žiniaraštis!C10) -> 0.33333333 | D10: =IF(Žiniaraštis!D10="","",Žiniaraštis!D10) -> 0.70833333 | E10: =IF(OR(C10="",G9=""),"",G9) | F10: =IF(OR(E10="",C10=""),"",ROUND((A10+C10-E10)*24,2)) | G10: =IF(OR(A10="",C10="",D10=""),G9,A10+C10+MOD(D10-C10,1)) -> 46083.708 | H10: =H9+7 -> 46083 | I10: =H10+6 -> 46089 | J10: =SUMIFS(Žiniaraštis!$F$9:$F$39,Žiniaraštis!$A$9:$A$39,">="&H10,Žiniaraštis!$A$9:$A$39,"<="&I10) -> 40 | K10: =IF(SUMPRODUCT(($Q$9:$Q$39>=H10)*($Q$9:$Q$39<I10+1)*($P$9:$P$39>0))=0,"",SUMPRODUCT(MAX(($Q$9:$Q$39>=H10)*($Q$9:$Q$39<I10+1)*$P$9:$P$39))) -> 63 | L10: =IF(K10="","nėra duomenų",IF(K10>=$L$5+$L$4,"Taip","Ne")) -> Taip | P10: =IF(ISNUMBER(F10),F10,0) -> 0 | Q10: =IF(ISNUMBER(F10),E10,0) -> 0
A11: =IF(Žiniaraštis!A11="","",Žiniaraštis!A11) -> 46084 | B11: =IF(Žiniaraštis!B11="","",Žiniaraštis!B11) -> An | C11: =IF(Žiniaraštis!C11="","",Žiniaraštis!C11) -> 0.33333333 | D11: =IF(Žiniaraštis!D11="","",Žiniaraštis!D11) -> 0.70833333 | E11: =IF(OR(C11="",G10=""),"",G10) -> 46083.708 | F11: =IF(OR(E11="",C11=""),"",ROUND((A11+C11-E11)*24,2)) -> 15 | G11: =IF(OR(A11="",C11="",D11=""),G10,A11+C11+MOD(D11-C11,1)) -> 46084.708 | H11: =H10+7 -> 46090 | I11: =H11+6 -> 46096 | J11: =SUMIFS(Žiniaraštis!$F$9:$F$39,Žiniaraštis!$A$9:$A$39,">="&H11,Žiniaraštis!$A$9:$A$39,"<="&I11) -> 48 | K11: =IF(SUMPRODUCT(($Q$9:$Q$39>=H11)*($Q$9:$Q$39<I11+1)*($P$9:$P$39>0))=0,"",SUMPRODUCT(MAX(($Q$9:$Q$39>=H11)*($Q$9:$Q$39<I11+1)*$P$9:$P$39))) -> 39.5 | L11: =IF(K11="","nėra duomenų",IF(K11>=$L$5+$L$4,"Taip","Ne")) -> Taip | P11: =IF(ISNUMBER(F11),F11,0) -> 15 | Q11: =IF(ISNUMBER(F11),E11,0) -> 46083.708
A12: =IF(Žiniaraštis!A12="","",Žiniaraštis!A12) -> 46085 | B12: =IF(Žiniaraštis!B12="","",Žiniaraštis!B12) -> Tr | C12: =IF(Žiniaraštis!C12="","",Žiniaraštis!C12) -> 0.33333333 | D12: =IF(Žiniaraštis!D12="","",Žiniaraštis!D12) -> 0.70833333 | E12: =IF(OR(C12="",G11=""),"",G11) -> 46084.708 | F12: =IF(OR(E12="",C12=""),"",ROUND((A12+C12-E12)*24,2)) -> 15 | G12: =IF(OR(A12="",C12="",D12=""),G11,A12+C12+MOD(D12-C12,1)) -> 46085.708 | H12: =H11+7 -> 46097 | I12: =H12+6 -> 46103 | J12: =SUMIFS(Žiniaraštis!$F$9:$F$39,Žiniaraštis!$A$9:$A$39,">="&H12,Žiniaraštis!$A$9:$A$39,"<="&I12) -> 40 | K12: =IF(SUMPRODUCT(($Q$9:$Q$39>=H12)*($Q$9:$Q$39<I12+1)*($P$9:$P$39>0))=0,"",SUMPRODUCT(MAX(($Q$9:$Q$39>=H12)*($Q$9:$Q$39<I12+1)*$P$9:$P$39))) -> 54 | L12: =IF(K12="","nėra duomenų",IF(K12>=$L$5+$L$4,"Taip","Ne")) -> Taip | P12: =IF(ISNUMBER(F12),F12,0) -> 15 | Q12: =IF(ISNUMBER(F12),E12,0) -> 46084.708
A13: =IF(Žiniaraštis!A13="","",Žiniaraštis!A13) -> 46086 | B13: =IF(Žiniaraštis!B13="","",Žiniaraštis!B13) -> Kt | C13: =IF(Žiniaraštis!C13="","",Žiniaraštis!C13) -> 0.33333333 | D13: =IF(Žiniaraštis!D13="","",Žiniaraštis!D13) -> 0.70833333 | E13: =IF(OR(C13="",G12=""),"",G12) -> 46085.708 | F13: =IF(OR(E13="",C13=""),"",ROUND((A13+C13-E13)*24,2)) -> 15 | G13: =IF(OR(A13="",C13="",D13=""),G12,A13+C13+MOD(D13-C13,1)) -> 46086.708 | H13: =H12+7 -> 46104 | I13: =H13+6 -> 46110 | J13: =SUMIFS(Žiniaraštis!$F$9:$F$39,Žiniaraštis!$A$9:$A$39,">="&H13,Žiniaraštis!$A$9:$A$39,"<="&I13) -> 40 | K13: =IF(SUMPRODUCT(($Q$9:$Q$39>=H13)*($Q$9:$Q$39<I13+1)*($P$9:$P$39>0))=0,"",SUMPRODUCT(MAX(($Q$9:$Q$39>=H13)*($Q$9:$Q$39<I13+1)*$P$9:$P$39))) -> 87 | L13: =IF(K13="","nėra duomenų",IF(K13>=$L$5+$L$4,"Taip","Ne")) -> Taip | P13: =IF(ISNUMBER(F13),F13,0) -> 15 | Q13: =IF(ISNUMBER(F13),E13,0) -> 46085.708
A14: =IF(Žiniaraštis!A14="","",Žiniaraštis!A14) -> 46087 | B14: =IF(Žiniaraštis!B14="","",Žiniaraštis!B14) -> Pn | C14: =IF(Žiniaraštis!C14="","",Žiniaraštis!C14) -> 0.33333333 | D14: =IF(Žiniaraštis!D14="","",Žiniaraštis!D14) -> 0.70833333 | E14: =IF(OR(C14="",G13=""),"",G13) -> 46086.708 | F14: =IF(OR(E14="",C14=""),"",ROUND((A14+C14-E14)*24,2)) -> 15 | G14: =IF(OR(A14="",C14="",D14=""),G13,A14+C14+MOD(D14-C14,1)) -> 46087.708 | H14: =H13+7 -> 46111 | I14: =H14+6 -> 46117 | J14: =SUMIFS(Žiniaraštis!$F$9:$F$39,Žiniaraštis!$A$9:$A$39,">="&H14,Žiniaraštis!$A$9:$A$39,"<="&I14) -> 8 | K14: =IF(SUMPRODUCT(($Q$9:$Q$39>=H14)*($Q$9:$Q$39<I14+1)*($P$9:$P$39>0))=0,"",SUMPRODUCT(MAX(($Q$9:$Q$39>=H14)*($Q$9:$Q$39<I14+1)*$P$9:$P$39))) | L14: =IF(K14="","nėra duomenų",IF(K14>=$L$5+$L$4,"Taip","Ne")) -> nėra duomenų | P14: =IF(ISNUMBER(F14),F14,0) -> 15 | Q14: =IF(ISNUMBER(F14),E14,0) -> 46086.708
A15: =IF(Žiniaraštis!A15="","",Žiniaraštis!A15) -> 46088 | B15: =IF(Žiniaraštis!B15="","",Žiniaraštis!B15) -> Št | C15: =IF(Žiniaraštis!C15="","",Žiniaraštis!C15) | D15: =IF(Žiniaraštis!D15="","",Žiniaraštis!D15) | E15: =IF(OR(C15="",G14=""),"",G14) | F15: =IF(OR(E15="",C15=""),"",ROUND((A15+C15-E15)*24,2)) | G15: =IF(OR(A15="",C15="",D15=""),G14,A15+C15+MOD(D15-C15,1)) -> 46087.708 | H15: Vidurkis per 7 dienas (mėnuo): | J15: =ROUND(Žiniaraštis!F40/(DAY(Žiniaraštis!$F$4)/7),2) -> 39.74 | K15: =IF(J15>$L$3,"viršija "&$L$3&" val.","neviršija "&$L$3&" val.") -> neviršija 48 val. | P15: =IF(ISNUMBER(F15),F15,0) -> 0 | Q15: =IF(ISNUMBER(F15),E15,0) -> 0
A16: =IF(Žiniaraštis!A16="","",Žiniaraštis!A16) -> 46089 | B16: =IF(Žiniaraštis!B16="","",Žiniaraštis!B16) -> Sk | C16: =IF(Žiniaraštis!C16="","",Žiniaraštis!C16) | D16: =IF(Žiniaraštis!D16="","",Žiniaraštis!D16) | E16: =IF(OR(C16="",G15=""),"",G15) | F16: =IF(OR(E16="",C16=""),"",ROUND((A16+C16-E16)*24,2)) | G16: =IF(OR(A16="",C16="",D16=""),G15,A16+C16+MOD(D16-C16,1)) -> 46087.708 | H16: Savaitė virš 48 val. pažymima geltonai; raudonai – kai viršijamas vidurkis. | P16: =IF(ISNUMBER(F16),F16,0) -> 0 | Q16: =IF(ISNUMBER(F16),E16,0) -> 0
A17: =IF(Žiniaraštis!A17="","",Žiniaraštis!A17) -> 46090 | B17: =IF(Žiniaraštis!B17="","",Žiniaraštis!B17) -> Pr | C17: =IF(Žiniaraštis!C17="","",Žiniaraštis!C17) -> 0.33333333 | D17: =IF(Žiniaraštis!D17="","",Žiniaraštis!D17) -> 0.70833333 | E17: =IF(OR(C17="",G16=""),"",G16) -> 46087.708 | F17: =IF(OR(E17="",C17=""),"",ROUND((A17+C17-E17)*24,2)) -> 63 | G17: =IF(OR(A17="",C17="",D17=""),G16,A17+C17+MOD(D17-C17,1)) -> 46090.708 | P17: =IF(ISNUMBER(F17),F17,0) -> 63 | Q17: =IF(ISNUMBER(F17),E17,0) -> 46087.708
A18: =IF(Žiniaraštis!A18="","",Žiniaraštis!A18) -> 46091 | B18: =IF(Žiniaraštis!B18="","",Žiniaraštis!B18) -> An | C18: =IF(Žiniaraštis!C18="","",Žiniaraštis!C18) -> 0.33333333 | D18: =IF(Žiniaraštis!D18="","",Žiniaraštis!D18) -> 0.70833333 | E18: =IF(OR(C18="",G17=""),"",G17) -> 46090.708 | F18: =IF(OR(E18="",C18=""),"",ROUND((A18+C18-E18)*24,2)) -> 15 | G18: =IF(OR(A18="",C18="",D18=""),G17,A18+C18+MOD(D18-C18,1)) -> 46091.708 | H18: 7 punktų kontrolinis sąrašas | P18: =IF(ISNUMBER(F18),F18,0) -> 15 | Q18: =IF(ISNUMBER(F18),E18,0) -> 46090.708
A19: =IF(Žiniaraštis!A19="","",Žiniaraštis!A19) -> 46092 | B19: =IF(Žiniaraštis!B19="","",Žiniaraštis!B19) -> Tr | C19: =IF(Žiniaraštis!C19="","",Žiniaraštis!C19) -> 0.33333333 | D19: =IF(Žiniaraštis!D19="","",Žiniaraštis!D19) -> 0.6875 | E19: =IF(OR(C19="",G18=""),"",G18) -> 46091.708 | F19: =IF(OR(E19="",C19=""),"",ROUND((A19+C19-E19)*24,2)) -> 15 | G19: =IF(OR(A19="",C19="",D19=""),G18,A19+C19+MOD(D19-C19,1)) -> 46092.688 | H19: Punktas | I19: Ką tikrinti | K19: Duomenys faile | N19: Patikrinta (Taip/Ne) | P19: =IF(ISNUMBER(F19),F19,0) -> 15 | Q19: =IF(ISNUMBER(F19),E19,0) -> 46091.708
A20: =IF(Žiniaraštis!A20="","",Žiniaraštis!A20) -> 46093 | B20: =IF(Žiniaraštis!B20="","",Žiniaraštis!B20) -> Kt | C20: =IF(Žiniaraštis!C20="","",Žiniaraštis!C20) -> 0.33333333 | D20: =IF(Žiniaraštis!D20="","",Žiniaraštis!D20) -> 0.70833333 | E20: =IF(OR(C20="",G19=""),"",G19) -> 46092.688 | F20: =IF(OR(E20="",C20=""),"",ROUND((A20+C20-E20)*24,2)) -> 15.5 | G20: =IF(OR(A20="",C20="",D20=""),G19,A20+C20+MOD(D20-C20,1)) -> 46093.708 | H20: 1. 48 val. | I20: Vidutinis laikas per 7 dienas su viršvalandžiais | K20: ="Vidurkis: "&FIXED(J15,2)&" val." -> Vidurkis: 39,74 val. | P20: =IF(ISNUMBER(F20),F20,0) -> 15.5 | Q20: =IF(ISNUMBER(F20),E20,0) -> 46092.688
A21: =IF(Žiniaraštis!A21="","",Žiniaraštis!A21) -> 46094 | B21: =IF(Žiniaraštis!B21="","",Žiniaraštis!B21) -> Pn | C21: =IF(Žiniaraštis!C21="","",Žiniaraštis!C21) -> 0.33333333 | D21: =IF(Žiniaraštis!D21="","",Žiniaraštis!D21) -> 0.70833333 | E21: =IF(OR(C21="",G20=""),"",G20) -> 46093.708 | F21: =IF(OR(E21="",C21=""),"",ROUND((A21+C21-E21)*24,2)) -> 15 | G21: =IF(OR(A21="",C21="",D21=""),G20,A21+C21+MOD(D21-C21,1)) -> 46094.708 | H21: 2. 11 val. | I21: Paros nepertraukiamas poilsis | K21: ="Dienų su poilsiu < "&$L$4&" val.: "&COUNTIF($F$9:$F$39,"<"&$L$4) -> Dienų su poilsiu < 11 val.: 1 | P21: =IF(ISNUMBER(F21),F21,0) -> 15 | Q21: =IF(ISNUMBER(F21),E21,0) -> 46093.708
A22: =IF(Žiniaraštis!A22="","",Žiniaraštis!A22) -> 46095 | B22: =IF(Žiniaraštis!B22="","",Žiniaraštis!B22) -> Št | C22: =IF(Žiniaraštis!C22="","",Žiniaraštis!C22) -> 0.33333333 | D22: =IF(Žiniaraštis!D22="","",Žiniaraštis!D22) -> 0.6875 | E22: =IF(OR(C22="",G21=""),"",G21) -> 46094.708 | F22: =IF(OR(E22="",C22=""),"",ROUND((A22+C22-E22)*24,2)) -> 15 | G22: =IF(OR(A22="",C22="",D22=""),G21,A22+C22+MOD(D22-C22,1)) -> 46095.688 | H22: 3. 24 + 11 val. | I22: Savaitės nepertraukiamas poilsis | K22: ="Savaičių be 24 + 11 val.: "&COUNTIF(L9:L14,"Ne") -> Savaičių be 24 + 11 val.: 0 | P22: =IF(ISNUMBER(F22),F22,0) -> 15 | Q22: =IF(ISNUMBER(F22),E22,0) -> 46094.708
A23: =IF(Žiniaraštis!A23="","",Žiniaraštis!A23) -> 46096 | B23: =IF(Žiniaraštis!B23="","",Žiniaraštis!B23) -> Sk | C23: =IF(Žiniaraštis!C23="","",Žiniaraštis!C23) | D23: =IF(Žiniaraštis!D23="","",Žiniaraštis!D23) | E23: =IF(OR(C23="",G22=""),"",G22) | F23: =IF(OR(E23="",C23=""),"",ROUND((A23+C23-E23)*24,2)) | G23: =IF(OR(A23="",C23="",D23=""),G22,A23+C23+MOD(D23-C23,1)) -> 46095.688 | H23: 4. Atostogos | I23: Žymos A atitinka vadovo įsakymus | K23: ="Dienų su žyma A: "&COUNTIF(Žiniaraštis!$K$9:$K$39,"A") -> Dienų su žyma A: 1 | P23: =IF(ISNUMBER(F23),F23,0) -> 0 | Q23: =IF(ISNUMBER(F23),E23,0) -> 0
A24: =IF(Žiniaraštis!A24="","",Žiniaraštis!A24) -> 46097 | B24: =IF(Žiniaraštis!B24="","",Žiniaraštis!B24) -> Pr | C24: =IF(Žiniaraštis!C24="","",Žiniaraštis!C24) -> 0.33333333 | D24: =IF(Žiniaraštis!D24="","",Žiniaraštis!D24) -> 0.70833333 | E24: =IF(OR(C24="",G23=""),"",G23) -> 46095.688 | F24: =IF(OR(E24="",C24=""),"",ROUND((A24+C24-E24)*24,2)) -> 39.5 | G24: =IF(OR(A24="",C24="",D24=""),G23,A24+C24+MOD(D24-C24,1)) -> 46097.708 | H24: 5. Nedarbingumas | I24: Žymos L sutampa su „Sodros“ duomenimis | K24: ="Dienų su žyma L: "&COUNTIF(Žiniaraštis!$K$9:$K$39,"L") -> Dienų su žyma L: 0 | P24: =IF(ISNUMBER(F24),F24,0) -> 39.5 | Q24: =IF(ISNUMBER(F24),E24,0) -> 46095.688
A25: =IF(Žiniaraštis!A25="","",Žiniaraštis!A25) -> 46098 | B25: =IF(Žiniaraštis!B25="","",Žiniaraštis!B25) -> An | C25: =IF(Žiniaraštis!C25="","",Žiniaraštis!C25) -> 0.33333333 | D25: =IF(Žiniaraštis!D25="","",Žiniaraštis!D25) -> 0.70833333 | E25: =IF(OR(C25="",G24=""),"",G24) -> 46097.708 | F25: =IF(OR(E25="",C25=""),"",ROUND((A25+C25-E25)*24,2)) -> 15 | G25: =IF(OR(A25="",C25="",D25=""),G24,A25+C25+MOD(D25-C25,1)) -> 46098.708 | H25: 6. Viršvalandžiai | I25: Suderintas kompensavimas pagal DK ir tvarką | K25: ="Viršvalandžių: "&FIXED(SUM(Žiniaraštis!$H$9:$H$39),2)&" val.; balansas "&FIXED(Koeficientai!D20,2) -> Viršvalandžių: 0,00 val.; balansas 8,00 | P25: =IF(ISNUMBER(F25),F25,0) -> 15 | Q25: =IF(ISNUMBER(F25),E25,0) -> 46097.708
A26: =IF(Žiniaraštis!A26="","",Žiniaraštis!A26) -> 46099 | B26: =IF(Žiniaraštis!B26="","",Žiniaraštis!B26) -> Tr | C26: =IF(Žiniaraštis!C26="","",Žiniaraštis!C26) -> 0.58333333 | D26: =IF(Žiniaraštis!D26="","",Žiniaraštis!D26) -> 0.9375 | E26: =IF(OR(C26="",G25=""),"",G25) -> 46098.708 | F26: =IF(OR(E26="",C26=""),"",ROUND((A26+C26-E26)*24,2)) -> 21 | G26: =IF(OR(A26="",C26="",D26=""),G25,A26+C26+MOD(D26-C26,1)) -> 46099.938 | H26: 7. Korekcijos | I26: Visi taisymai patvirtinti ir turi įrašą | K26: ="Korekcijų: "&COUNTA(Korekcijos!$A$5:$A$40)&", be patvirtinimo: "&(COUNTA(Korekcijos!$A$5:$A$40)-COUNTIFS(Korekcijos!$A$5:$A$40,"<>",Korekcijos!$F$5:$F$40,"<>",Korekcijos!$G$5:$G$40,"<>")) -> Korekcijų: 2, be patvirtinimo: 0 | P26: =IF(ISNUMBER(F26),F26,0) -> 21 | Q26: =IF(ISNUMBER(F26),E26,0) -> 46098.708
A27: =IF(Žiniaraštis!A27="","",Žiniaraštis!A27) -> 46100 | B27: =IF(Žiniaraštis!B27="","",Žiniaraštis!B27) -> Kt | C27: =IF(Žiniaraštis!C27="","",Žiniaraštis!C27) -> 0.29166667 | D27: =IF(Žiniaraštis!D27="","",Žiniaraštis!D27) -> 0.66666667 | E27: =IF(OR(C27="",G26=""),"",G26) -> 46099.938 | F27: =IF(OR(E27="",C27=""),"",ROUND((A27+C27-E27)*24,2)) -> 8.5 | G27: =IF(OR(A27="",C27="",D27=""),G26,A27+C27+MOD(D27-C27,1)) -> 46100.667 | P27: =IF(ISNUMBER(F27),F27,0) -> 8.5 | Q27: =IF(ISNUMBER(F27),E27,0) -> 46099.938
A28: =IF(Žiniaraštis!A28="","",Žiniaraštis!A28) -> 46101 | B28: =IF(Žiniaraštis!B28="","",Žiniaraštis!B28) -> Pn | C28: =IF(Žiniaraštis!C28="","",Žiniaraštis!C28) -> 0.75 | D28: =IF(Žiniaraštis!D28="","",Žiniaraštis!D28) -> 0.083333333 | E28: =IF(OR(C28="",G27=""),"",G27) -> 46100.667 | F28: =IF(OR(E28="",C28=""),"",ROUND((A28+C28-E28)*24,2)) -> 26 | G28: =IF(OR(A28="",C28="",D28=""),G27,A28+C28+MOD(D28-C28,1)) -> 46102.083 | H28: Patikrino: | P28: =IF(ISNUMBER(F28),F28,0) -> 26 | Q28: =IF(ISNUMBER(F28),E28,0) -> 46100.667
A29: =IF(Žiniaraštis!A29="","",Žiniaraštis!A29) -> 46102 | B29: =IF(Žiniaraštis!B29="","",Žiniaraštis!B29) -> Št | C29: =IF(Žiniaraštis!C29="","",Žiniaraštis!C29) | D29: =IF(Žiniaraštis!D29="","",Žiniaraštis!D29) | E29: =IF(OR(C29="",G28=""),"",G28) | F29: =IF(OR(E29="",C29=""),"",ROUND((A29+C29-E29)*24,2)) | G29: =IF(OR(A29="",C29="",D29=""),G28,A29+C29+MOD(D29-C29,1)) -> 46102.083 | H29: Data: | P29: =IF(ISNUMBER(F29),F29,0) -> 0 | Q29: =IF(ISNUMBER(F29),E29,0) -> 0
A30: =IF(Žiniaraštis!A30="","",Žiniaraštis!A30) -> 46103 | B30: =IF(Žiniaraštis!B30="","",Žiniaraštis!B30) -> Sk | C30: =IF(Žiniaraštis!C30="","",Žiniaraštis!C30) | D30: =IF(Žiniaraštis!D30="","",Žiniaraštis!D30) | E30: =IF(OR(C30="",G29=""),"",G29) | F30: =IF(OR(E30="",C30=""),"",ROUND((A30+C30-E30)*24,2)) | G30: =IF(OR(A30="",C30="",D30=""),G29,A30+C30+MOD(D30-C30,1)) -> 46102.083 | H30: Būsena: | J30: =IF(AND(COUNTIF(N20:N26,"Taip")=7,J28<>"",J29<>""),"Užrakinta","Neužrakinta – tikrinama") -> Neužrakinta – tikrinama | P30: =IF(ISNUMBER(F30),F30,0) -> 0 | Q30: =IF(ISNUMBER(F30),E30,0) -> 0
A31: =IF(Žiniaraštis!A31="","",Žiniaraštis!A31) -> 46104 | B31: =IF(Žiniaraštis!B31="","",Žiniaraštis!B31) -> Pr | C31: =IF(Žiniaraštis!C31="","",Žiniaraštis!C31) -> 0.33333333 | D31: =IF(Žiniaraštis!D31="","",Žiniaraštis!D31) -> 0.70833333 | E31: =IF(OR(C31="",G30=""),"",G30) -> 46102.083 | F31: =IF(OR(E31="",C31=""),"",ROUND((A31+C31-E31)*24,2)) -> 54 | G31: =IF(OR(A31="",C31="",D31=""),G30,A31+C31+MOD(D31-C31,1)) -> 46104.708 | P31: =IF(ISNUMBER(F31),F31,0) -> 54 | Q31: =IF(ISNUMBER(F31),E31,0) -> 46102.083
A32: =IF(Žiniaraštis!A32="","",Žiniaraštis!A32) -> 46105 | B32: =IF(Žiniaraštis!B32="","",Žiniaraštis!B32) -> An | C32: =IF(Žiniaraštis!C32="","",Žiniaraštis!C32) -> 0.33333333 | D32: =IF(Žiniaraštis!D32="","",Žiniaraštis!D32) -> 0.70833333 | E32: =IF(OR(C32="",G31=""),"",G31) -> 46104.708 | F32: =IF(OR(E32="",C32=""),"",ROUND((A32+C32-E32)*24,2)) -> 15 | G32: =IF(OR(A32="",C32="",D32=""),G31,A32+C32+MOD(D32-C32,1)) -> 46105.708 | H32: Paros poilsis = nuo ankstesnės pamainos pabaigos iki šios pamainos pradžios (pirmą dieną – žr. praėjusį mėnesį). | P32: =IF(ISNUMBER(F32),F32,0) -> 15 | Q32: =IF(ISNUMBER(F32),E32,0) -> 46104.708
A33: =IF(Žiniaraštis!A33="","",Žiniaraštis!A33) -> 46106 | B33: =IF(Žiniaraštis!B33="","",Žiniaraštis!B33) -> Tr | C33: =IF(Žiniaraštis!C33="","",Žiniaraštis!C33) -> 0.33333333 | D33: =IF(Žiniaraštis!D33="","",Žiniaraštis!D33) -> 0.70833333 | E33: =IF(OR(C33="",G32=""),"",G32) -> 46105.708 | F33: =IF(OR(E33="",C33=""),"",ROUND((A33+C33-E33)*24,2)) -> 15 | G33: =IF(OR(A33="",C33="",D33=""),G32,A33+C33+MOD(D33-C33,1)) -> 46106.708 | H33: Ilgiausias poilsis savaitėje = didžiausias tarpas tarp pamainų, prasidedantis tą savaitę (pr. 00:00 – sk. 24:00). | P33: =IF(ISNUMBER(F33),F33,0) -> 15 | Q33: =IF(ISNUMBER(F33),E33,0) -> 46105.708
A34: =IF(Žiniaraštis!A34="","",Žiniaraštis!A34) -> 46107 | B34: =IF(Žiniaraštis!B34="","",Žiniaraštis!B34) -> Kt | C34: =IF(Žiniaraštis!C34="","",Žiniaraštis!C34) -> 0.33333333 | D34: =IF(Žiniaraštis!D34="","",Žiniaraštis!D34) -> 0.70833333 | E34: =IF(OR(C34="",G33=""),"",G33) -> 46106.708 | F34: =IF(OR(E34="",C34=""),"",ROUND((A34+C34-E34)*24,2)) -> 15 | G34: =IF(OR(A34="",C34="",D34=""),G33,A34+C34+MOD(D34-C34,1)) -> 46107.708 | H34: Ribos – ES Darbo laiko direktyvos 2003/88/EB minimumai; DK ir kolektyvinė sutartis gali nustatyti savas taisykles. | P34: =IF(ISNUMBER(F34),F34,0) -> 15 | Q34: =IF(ISNUMBER(F34),E34,0) -> 46106.708
A35: =IF(Žiniaraštis!A35="","",Žiniaraštis!A35) -> 46108 | B35: =IF(Žiniaraštis!B35="","",Žiniaraštis!B35) -> Pn | C35: =IF(Žiniaraštis!C35="","",Žiniaraštis!C35) -> 0.33333333 | D35: =IF(Žiniaraštis!D35="","",Žiniaraštis!D35) -> 0.70833333 | E35: =IF(OR(C35="",G34=""),"",G34) -> 46107.708 | F35: =IF(OR(E35="",C35=""),"",ROUND((A35+C35-E35)*24,2)) -> 15 | G35: =IF(OR(A35="",C35="",D35=""),G34,A35+C35+MOD(D35-C35,1)) -> 46108.708 | H35: Kai visi 7 punktai „Taip“ ir įrašyti tikrintojas bei data, būsena tampa „Užrakinta“: po to taisoma tik per lapą Korekcijos. | P35: =IF(ISNUMBER(F35),F35,0) -> 15 | Q35: =IF(ISNUMBER(F35),E35,0) -> 46107.708
A36: =IF(Žiniaraštis!A36="","",Žiniaraštis!A36) -> 46109 | B36: =IF(Žiniaraštis!B36="","",Žiniaraštis!B36) -> Št | C36: =IF(Žiniaraštis!C36="","",Žiniaraštis!C36) | D36: =IF(Žiniaraštis!D36="","",Žiniaraštis!D36) | E36: =IF(OR(C36="",G35=""),"",G35) | F36: =IF(OR(E36="",C36=""),"",ROUND((A36+C36-E36)*24,2)) | G36: =IF(OR(A36="",C36="",D36=""),G35,A36+C36+MOD(D36-C36,1)) -> 46108.708 | P36: =IF(ISNUMBER(F36),F36,0) -> 0 | Q36: =IF(ISNUMBER(F36),E36,0) -> 0
A37: =IF(Žiniaraštis!A37="","",Žiniaraštis!A37) -> 46110 | B37: =IF(Žiniaraštis!B37="","",Žiniaraštis!B37) -> Sk | C37: =IF(Žiniaraštis!C37="","",Žiniaraštis!C37) | D37: =IF(Žiniaraštis!D37="","",Žiniaraštis!D37) | E37: =IF(OR(C37="",G36=""),"",G36) | F37: =IF(OR(E37="",C37=""),"",ROUND((A37+C37-E37)*24,2)) | G37: =IF(OR(A37="",C37="",D37=""),G36,A37+C37+MOD(D37-C37,1)) -> 46108.708 | P37: =IF(ISNUMBER(F37),F37,0) -> 0 | Q37: =IF(ISNUMBER(F37),E37,0) -> 0
A38: =IF(Žiniaraštis!A38="","",Žiniaraštis!A38) -> 46111 | B38: =IF(Žiniaraštis!B38="","",Žiniaraštis!B38) -> Pr | C38: =IF(Žiniaraštis!C38="","",Žiniaraštis!C38) | D38: =IF(Žiniaraštis!D38="","",Žiniaraštis!D38) | E38: =IF(OR(C38="",G37=""),"",G37) | F38: =IF(OR(E38="",C38=""),"",ROUND((A38+C38-E38)*24,2)) | G38: =IF(OR(A38="",C38="",D38=""),G37,A38+C38+MOD(D38-C38,1)) -> 46108.708 | P38: =IF(ISNUMBER(F38),F38,0) -> 0 | Q38: =IF(ISNUMBER(F38),E38,0) -> 0
A39: =IF(Žiniaraštis!A39="","",Žiniaraštis!A39) -> 46112 | B39: =IF(Žiniaraštis!B39="","",Žiniaraštis!B39) -> An | C39: =IF(Žiniaraštis!C39="","",Žiniaraštis!C39) -> 0.33333333 | D39: =IF(Žiniaraštis!D39="","",Žiniaraštis!D39) -> 0.70833333 | E39: =IF(OR(C39="",G38=""),"",G38) -> 46108.708 | F39: =IF(OR(E39="",C39=""),"",ROUND((A39+C39-E39)*24,2)) -> 87 | G39: =IF(OR(A39="",C39="",D39=""),G38,A39+C39+MOD(D39-C39,1)) -> 46112.708 | P39: =IF(ISNUMBER(F39),F39,0) -> 87 | Q39: =IF(ISNUMBER(F39),E39,0) -> 46108.708

Sheet Korekcijos
A1: Korekcijų žurnalas (audito seka) | F1: Hipotetinis pavyzdys — orova.vn
A2: Kiekvienas pataisymas – nauja eilutė. Pirminės reikšmės neištrinkite; patvirtinimą įrašo vadovas.
A4: Data | B4: Darbuotojas | C4: Pirminis laikas | D4: Naujas laikas | E4: Priežastis | F4: Patvirtino | G4: Patvirtinimo data ir laikas
A5: 46093 | B5: Rūta Petrauskienė | C5: Pradžia 08:35 | D5: Pradžia 08:00 | E5: Dėl biuro tinklo trikdžių prisijungė 08:35; atvykimą 08:00 patvirtina praėjimo kontrolės žurnalas Nr. 412 | F5: J. Jonaitis | G5: 46093.385
A6: 46107 | B6: Rūta Petrauskienė | C6: Pabaiga 18:40 | D6: Pabaiga 17:00 | E6: Komandiruotėje pamiršo pažymėti išvykimą; laiką patvirtina komandiruotės ataskaita | F6: J. Jonaitis | G6: 46108.361
A42: Raudonai – pataisymas be patvirtinimo. Lape Kontrolė (7 punktas) skaičiuojami tokie įrašai.
A43: Hipotetinis pavyzdys: vardai, laikas ir žurnalo numeris išgalvoti.
