Workbook

Sheet Rekap_Bulanan
A1: Rekap Kehadiran Bulanan | AK1: Contoh hipotetikal — orova.vn
B2: Bulan | C2: 46296 | D2: =TEXT(BulanMula,"mmmm yyyy") -> Oktober 2026 | F2: Kod: H Hadir · S Cuti Sakit · I Kebenaran · C Cuti Tahunan · A Tidak Hadir · PH Cuti Umum · kelabu = hari rehat
F3: =TEXT(BulanMula+F4-1,"ddd") -> Kha | G3: =TEXT(BulanMula+G4-1,"ddd") -> Jum | H3: =TEXT(BulanMula+H4-1,"ddd") -> Sab | I3: =TEXT(BulanMula+I4-1,"ddd") -> Ahd | J3: =TEXT(BulanMula+J4-1,"ddd") -> Isn | K3: =TEXT(BulanMula+K4-1,"ddd") -> Sel | L3: =TEXT(BulanMula+L4-1,"ddd") -> Rab | M3: =TEXT(BulanMula+M4-1,"ddd") -> Kha | ... AJ3: =TEXT(BulanMula+AJ4-1,"ddd") -> Sab | AK3: Rumusan bulan (formula, dikunci)
A4: No | B4: ID Pekerja | C4: Nama Penuh | D4: Jabatan | E4: Jawatan | F4: 1 | G4: 2 | H4: 3 | I4: 4 | J4: 5 | K4: 6 | L4: 7 | M4: 8 | N4: 9 | O4: 10 | P4: 11 | Q4: 12 | R4: 13 | S4: 14 | T4: 15 | U4: 16 | V4: 17 | W4: 18 | X4: 19 | Y4: 20 | Z4: 21 | AA4: 22 | AB4: 23 | AC4: 24 | AD4: 25 | AE4: 26 | AF4: 27 | AG4: 28 | AH4: 29 | AI4: 30 | AJ4: 31 | AK4: Hadir (H) | AL4: Cuti Sakit (S) | AM4: Kebenaran (I) | AN4: Cuti Tahunan (C) | AO4: Tidak Hadir (A) | AP4: Cuti Umum (PH) | AQ4: Minit Lewat | AR4: Jam OT | AS4: Peratus Kehadiran | AT4: Baki Cuti Tahunan
A5: 1 | B5: P001 | C5: Ahmad Faizal Rosli | D5: Operasi | E5: Penyelia | F5: H | G5: H | J5: H | K5: H | L5: H | M5: H | N5: H | Q5: H | R5: H | S5: H | T5: H | U5: H | X5: H | Y5: H | Z5: H | AA5: H | AB5: H | AE5: H | AF5: H | AG5: H | AH5: C | AI5: C | AK5: =IF(B5="","",COUNTIF(F5:AJ5,"H")) -> 20 | AL5: =IF(B5="","",COUNTIF(F5:AJ5,"S")) -> 0 | AM5: =IF(B5="","",COUNTIF(F5:AJ5,"I")) -> 0 | AN5: =IF(B5="","",COUNTIF(F5:AJ5,"C")) -> 2 | AO5: =IF(B5="","",COUNTIF(F5:AJ5,"A")) -> 0 | AP5: =IF(B5="","",COUNTIF(F5:AJ5,"PH")) -> 0 | AQ5: =IF(B5="","",SUMIFS(Log_Masa!I:I,Log_Masa!B:B,B5,Log_Masa!A:A,">="&BulanMula,Log_Masa!A:A,"<"&EDATE(BulanMula,1))) -> 0 | AR5: =IF(B5="","",SUMIFS(Log_Masa!J:J,Log_Masa!B:B,B5,Log_Masa!A:A,">="&BulanMula,Log_Masa!A:A,"<"&EDATE(BulanMula,1))) -> 0.5 | AS5: =IF(B5="","",IFERROR(COUNTIF(F5:AJ5,"H")/(COUNTIF(F5:AJ5,"H")+COUNTIF(F5:AJ5,"A")),0)) -> 1 | AT5: =IF(B5="","",IFERROR(VLOOKUP(B5,KelayakanCuti,3,FALSE())-SUMIFS(Permohonan_Cuti!$E:$E,Permohonan_Cuti!$A:$A,B5,Permohonan_Cuti!$B:$B,"Cuti Tahunan"),"")) -> 14
A6: 2 | B6: P002 | C6: Nur Farhana Azmi | D6: Kewangan | E6: Eksekutif | F6: H | G6: H | J6: H | K6: H | L6: H | M6: H | N6: H | Q6: H | R6: H | S6: S | T6: H | U6: H | X6: H | Y6: H | Z6: H | AA6: H | AB6: H | AE6: H | AF6: H | AG6: H | AH6: H | AI6: H | AK6: =IF(B6="","",COUNTIF(F6:AJ6,"H")) -> 21 | AL6: =IF(B6="","",COUNTIF(F6:AJ6,"S")) -> 1 | AM6: =IF(B6="","",COUNTIF(F6:AJ6,"I")) -> 0 | AN6: =IF(B6="","",COUNTIF(F6:AJ6,"C")) -> 0 | AO6: =IF(B6="","",COUNTIF(F6:AJ6,"A")) -> 0 | AP6: =IF(B6="","",COUNTIF(F6:AJ6,"PH")) -> 0 | AQ6: =IF(B6="","",SUMIFS(Log_Masa!I:I,Log_Masa!B:B,B6,Log_Masa!A:A,">="&BulanMula,Log_Masa!A:A,"<"&EDATE(BulanMula,1))) -> 12 | AR6: =IF(B6="","",SUMIFS(Log_Masa!J:J,Log_Masa!B:B,B6,Log_Masa!A:A,">="&BulanMula,Log_Masa!A:A,"<"&EDATE(BulanMula,1))) -> 1 | AS6: =IF(B6="","",IFERROR(COUNTIF(F6:AJ6,"H")/(COUNTIF(F6:AJ6,"H")+COUNTIF(F6:AJ6,"A")),0)) -> 1 | AT6: =IF(B6="","",IFERROR(VLOOKUP(B6,KelayakanCuti,3,FALSE())-SUMIFS(Permohonan_Cuti!$E:$E,Permohonan_Cuti!$A:$A,B6,Permohonan_Cuti!$B:$B,"Cuti Tahunan"),"")) -> 12
A7: 3 | B7: P003 | C7: Aina Rahim | D7: Operasi | E7: Juruteknik | F7: H | G7: H | J7: H | K7: H | L7: H | M7: H | N7: H | Q7: H | R7: H | S7: H | T7: H | U7: H | X7: H | Y7: H | Z7: H | AA7: H | AB7: H | AE7: H | AF7: H | AG7: H | AH7: H | AI7: H | AK7: =IF(B7="","",COUNTIF(F7:AJ7,"H")) -> 22 | AL7: =IF(B7="","",COUNTIF(F7:AJ7,"S")) -> 0 | AM7: =IF(B7="","",COUNTIF(F7:AJ7,"I")) -> 0 | AN7: =IF(B7="","",COUNTIF(F7:AJ7,"C")) -> 0 | AO7: =IF(B7="","",COUNTIF(F7:AJ7,"A")) -> 0 | AP7: =IF(B7="","",COUNTIF(F7:AJ7,"PH")) -> 0 | AQ7: =IF(B7="","",SUMIFS(Log_Masa!I:I,Log_Masa!B:B,B7,Log_Masa!A:A,">="&BulanMula,Log_Masa!A:A,"<"&EDATE(BulanMula,1))) -> 25 | AR7: =IF(B7="","",SUMIFS(Log_Masa!J:J,Log_Masa!B:B,B7,Log_Masa!A:A,">="&BulanMula,Log_Masa!A:A,"<"&EDATE(BulanMula,1))) -> 1.5 | AS7: =IF(B7="","",IFERROR(COUNTIF(F7:AJ7,"H")/(COUNTIF(F7:AJ7,"H")+COUNTIF(F7:AJ7,"A")),0)) -> 1 | AT7: =IF(B7="","",IFERROR(VLOOKUP(B7,KelayakanCuti,3,FALSE())-SUMIFS(Permohonan_Cuti!$E:$E,Permohonan_Cuti!$A:$A,B7,Permohonan_Cuti!$B:$B,"Cuti Tahunan"),"")) -> 8
A8: 4 | B8: P004 | C8: Tan Wei Ming | D8: Gudang | E8: Penyelia Stor | F8: H | G8: H | J8: H | K8: H | L8: H | M8: H | N8: H | Q8: H | R8: H | S8: H | T8: C | U8: C | X8: H | Y8: H | Z8: H | AA8: H | AB8: H | AE8: H | AF8: H | AG8: H | AH8: H | AI8: H | AK8: =IF(B8="","",COUNTIF(F8:AJ8,"H")) -> 20 | AL8: =IF(B8="","",COUNTIF(F8:AJ8,"S")) -> 0 | AM8: =IF(B8="","",COUNTIF(F8:AJ8,"I")) -> 0 | AN8: =IF(B8="","",COUNTIF(F8:AJ8,"C")) -> 2 | AO8: =IF(B8="","",COUNTIF(F8:AJ8,"A")) -> 0 | AP8: =IF(B8="","",COUNTIF(F8:AJ8,"PH")) -> 0 | AQ8: =IF(B8="","",SUMIFS(Log_Masa!I:I,Log_Masa!B:B,B8,Log_Masa!A:A,">="&BulanMula,Log_Masa!A:A,"<"&EDATE(BulanMula,1))) -> 0 | AR8: =IF(B8="","",SUMIFS(Log_Masa!J:J,Log_Masa!B:B,B8,Log_Masa!A:A,">="&BulanMula,Log_Masa!A:A,"<"&EDATE(BulanMula,1))) -> 0 | AS8: =IF(B8="","",IFERROR(COUNTIF(F8:AJ8,"H")/(COUNTIF(F8:AJ8,"H")+COUNTIF(F8:AJ8,"A")),0)) -> 1 | AT8: =IF(B8="","",IFERROR(VLOOKUP(B8,KelayakanCuti,3,FALSE())-SUMIFS(Permohonan_Cuti!$E:$E,Permohonan_Cuti!$A:$A,B8,Permohonan_Cuti!$B:$B,"Cuti Tahunan"),"")) -> 12
A9: 5 | B9: P005 | C9: Kavitha Raman | D9: Khidmat Pelanggan | E9: Eksekutif | F9: H | G9: H | J9: H | K9: H | L9: H | M9: H | N9: H | Q9: H | R9: H | S9: H | T9: H | U9: H | X9: H | Y9: I | Z9: H | AA9: H | AB9: H | AE9: H | AF9: H | AG9: H | AH9: H | AI9: H | AK9: =IF(B9="","",COUNTIF(F9:AJ9,"H")) -> 21 | AL9: =IF(B9="","",COUNTIF(F9:AJ9,"S")) -> 0 | AM9: =IF(B9="","",COUNTIF(F9:AJ9,"I")) -> 1 | AN9: =IF(B9="","",COUNTIF(F9:AJ9,"C")) -> 0 | AO9: =IF(B9="","",COUNTIF(F9:AJ9,"A")) -> 0 | AP9: =IF(B9="","",COUNTIF(F9:AJ9,"PH")) -> 0 | AQ9: =IF(B9="","",SUMIFS(Log_Masa!I:I,Log_Masa!B:B,B9,Log_Masa!A:A,">="&BulanMula,Log_Masa!A:A,"<"&EDATE(BulanMula,1))) -> 0 | AR9: =IF(B9="","",SUMIFS(Log_Masa!J:J,Log_Masa!B:B,B9,Log_Masa!A:A,">="&BulanMula,Log_Masa!A:A,"<"&EDATE(BulanMula,1))) -> 0.5 | AS9: =IF(B9="","",IFERROR(COUNTIF(F9:AJ9,"H")/(COUNTIF(F9:AJ9,"H")+COUNTIF(F9:AJ9,"A")),0)) -> 1 | AT9: =IF(B9="","",IFERROR(VLOOKUP(B9,KelayakanCuti,3,FALSE())-SUMIFS(Permohonan_Cuti!$E:$E,Permohonan_Cuti!$A:$A,B9,Permohonan_Cuti!$B:$B,"Cuti Tahunan"),"")) -> 12
A10: 6 | B10: P006 | C10: Muhammad Hafiz Ismail | D10: Gudang | E10: Pembantu Stor | F10: H | G10: H | J10: H | K10: H | L10: H | M10: H | N10: H | Q10: H | R10: H | S10: H | T10: H | U10: H | X10: H | Y10: H | Z10: H | AA10: H | AB10: H | AE10: H | AF10: H | AG10: H | AH10: H | AI10: H | AK10: =IF(B10="","",COUNTIF(F10:AJ10,"H")) -> 22 | AL10: =IF(B10="","",COUNTIF(F10:AJ10,"S")) -> 0 | AM10: =IF(B10="","",COUNTIF(F10:AJ10,"I")) -> 0 | AN10: =IF(B10="","",COUNTIF(F10:AJ10,"C")) -> 0 | AO10: =IF(B10="","",COUNTIF(F10:AJ10,"A")) -> 0 | AP10: =IF(B10="","",COUNTIF(F10:AJ10,"PH")) -> 0 | AQ10: =IF(B10="","",SUMIFS(Log_Masa!I:I,Log_Masa!B:B,B10,Log_Masa!A:A,">="&BulanMula,Log_Masa!A:A,"<"&EDATE(BulanMula,1))) -> 10 | AR10: =IF(B10="","",SUMIFS(Log_Masa!J:J,Log_Masa!B:B,B10,Log_Masa!A:A,">="&BulanMula,Log_Masa!A:A,"<"&EDATE(BulanMula,1))) -> 3 | AS10: =IF(B10="","",IFERROR(COUNTIF(F10:AJ10,"H")/(COUNTIF(F10:AJ10,"H")+COUNTIF(F10:AJ10,"A")),0)) -> 1 | AT10: =IF(B10="","",IFERROR(VLOOKUP(B10,KelayakanCuti,3,FALSE())-SUMIFS(Permohonan_Cuti!$E:$E,Permohonan_Cuti!$A:$A,B10,Permohonan_Cuti!$B:$B,"Cuti Tahunan"),"")) -> 8
A11: 7 | B11: P007 | C11: Lim Mei Ling | D11: Pentadbiran | E11: Kerani | F11: H | G11: H | J11: H | K11: H | L11: H | M11: H | N11: H | Q11: H | R11: H | S11: H | T11: H | U11: H | X11: H | Y11: H | Z11: H | AA11: A | AB11: H | AE11: H | AF11: H | AG11: H | AH11: H | AI11: H | AK11: =IF(B11="","",COUNTIF(F11:AJ11,"H")) -> 21 | AL11: =IF(B11="","",COUNTIF(F11:AJ11,"S")) -> 0 | AM11: =IF(B11="","",COUNTIF(F11:AJ11,"I")) -> 0 | AN11: =IF(B11="","",COUNTIF(F11:AJ11,"C")) -> 0 | AO11: =IF(B11="","",COUNTIF(F11:AJ11,"A")) -> 1 | AP11: =IF(B11="","",COUNTIF(F11:AJ11,"PH")) -> 0 | AQ11: =IF(B11="","",SUMIFS(Log_Masa!I:I,Log_Masa!B:B,B11,Log_Masa!A:A,">="&BulanMula,Log_Masa!A:A,"<"&EDATE(BulanMula,1))) -> 40 | AR11: =IF(B11="","",SUMIFS(Log_Masa!J:J,Log_Masa!B:B,B11,Log_Masa!A:A,">="&BulanMula,Log_Masa!A:A,"<"&EDATE(BulanMula,1))) -> 0 | AS11: =IF(B11="","",IFERROR(COUNTIF(F11:AJ11,"H")/(COUNTIF(F11:AJ11,"H")+COUNTIF(F11:AJ11,"A")),0)) -> 0.95454545 | AT11: =IF(B11="","",IFERROR(VLOOKUP(B11,KelayakanCuti,3,FALSE())-SUMIFS(Permohonan_Cuti!$E:$E,Permohonan_Cuti!$A:$A,B11,Permohonan_Cuti!$B:$B,"Cuti Tahunan"),"")) -> 16
A12: 8 | B12: P008 | C12: Rajesh Kumar | D12: Operasi | E12: Juruteknik | F12: H | G12: H | J12: H | K12: H | L12: H | M12: H | N12: H | Q12: H | R12: H | S12: H | T12: H | U12: H | X12: H | Y12: H | Z12: H | AA12: H | AB12: H | AE12: H | AF12: H | AG12: H | AH12: H | AI12: H | AK12: =IF(B12="","",COUNTIF(F12:AJ12,"H")) -> 22 | AL12: =IF(B12="","",COUNTIF(F12:AJ12,"S")) -> 0 | AM12: =IF(B12="","",COUNTIF(F12:AJ12,"I")) -> 0 | AN12: =IF(B12="","",COUNTIF(F12:AJ12,"C")) -> 0 | AO12: =IF(B12="","",COUNTIF(F12:AJ12,"A")) -> 0 | AP12: =IF(B12="","",COUNTIF(F12:AJ12,"PH")) -> 0 | AQ12: =IF(B12="","",SUMIFS(Log_Masa!I:I,Log_Masa!B:B,B12,Log_Masa!A:A,">="&BulanMula,Log_Masa!A:A,"<"&EDATE(BulanMula,1))) -> 5 | AR12: =IF(B12="","",SUMIFS(Log_Masa!J:J,Log_Masa!B:B,B12,Log_Masa!A:A,">="&BulanMula,Log_Masa!A:A,"<"&EDATE(BulanMula,1))) -> 0 | AS12: =IF(B12="","",IFERROR(COUNTIF(F12:AJ12,"H")/(COUNTIF(F12:AJ12,"H")+COUNTIF(F12:AJ12,"A")),0)) -> 1 | AT12: =IF(B12="","",IFERROR(VLOOKUP(B12,KelayakanCuti,3,FALSE())-SUMIFS(Permohonan_Cuti!$E:$E,Permohonan_Cuti!$A:$A,B12,Permohonan_Cuti!$B:$B,"Cuti Tahunan"),"")) -> 14
AK13: =IF(B13="","",COUNTIF(F13:AJ13,"H")) | AL13: =IF(B13="","",COUNTIF(F13:AJ13,"S")) | AM13: =IF(B13="","",COUNTIF(F13:AJ13,"I")) | AN13: =IF(B13="","",COUNTIF(F13:AJ13,"C")) | AO13: =IF(B13="","",COUNTIF(F13:AJ13,"A")) | AP13: =IF(B13="","",COUNTIF(F13:AJ13,"PH")) | AQ13: =IF(B13="","",SUMIFS(Log_Masa!I:I,Log_Masa!B:B,B13,Log_Masa!A:A,">="&BulanMula,Log_Masa!A:A,"<"&EDATE(BulanMula,1))) | AR13: =IF(B13="","",SUMIFS(Log_Masa!J:J,Log_Masa!B:B,B13,Log_Masa!A:A,">="&BulanMula,Log_Masa!A:A,"<"&EDATE(BulanMula,1))) | AS13: =IF(B13="","",IFERROR(COUNTIF(F13:AJ13,"H")/(COUNTIF(F13:AJ13,"H")+COUNTIF(F13:AJ13,"A")),0)) | AT13: =IF(B13="","",IFERROR(VLOOKUP(B13,KelayakanCuti,3,FALSE())-SUMIFS(Permohonan_Cuti!$E:$E,Permohonan_Cuti!$A:$A,B13,Permohonan_Cuti!$B:$B,"Cuti Tahunan"),""))
AK14: =IF(B14="","",COUNTIF(F14:AJ14,"H")) | AL14: =IF(B14="","",COUNTIF(F14:AJ14,"S")) | AM14: =IF(B14="","",COUNTIF(F14:AJ14,"I")) | AN14: =IF(B14="","",COUNTIF(F14:AJ14,"C")) | AO14: =IF(B14="","",COUNTIF(F14:AJ14,"A")) | AP14: =IF(B14="","",COUNTIF(F14:AJ14,"PH")) | AQ14: =IF(B14="","",SUMIFS(Log_Masa!I:I,Log_Masa!B:B,B14,Log_Masa!A:A,">="&BulanMula,Log_Masa!A:A,"<"&EDATE(BulanMula,1))) | AR14: =IF(B14="","",SUMIFS(Log_Masa!J:J,Log_Masa!B:B,B14,Log_Masa!A:A,">="&BulanMula,Log_Masa!A:A,"<"&EDATE(BulanMula,1))) | AS14: =IF(B14="","",IFERROR(COUNTIF(F14:AJ14,"H")/(COUNTIF(F14:AJ14,"H")+COUNTIF(F14:AJ14,"A")),0)) | AT14: =IF(B14="","",IFERROR(VLOOKUP(B14,KelayakanCuti,3,FALSE())-SUMIFS(Permohonan_Cuti!$E:$E,Permohonan_Cuti!$A:$A,B14,Permohonan_Cuti!$B:$B,"Cuti Tahunan"),""))
AK15: =IF(B15="","",COUNTIF(F15:AJ15,"H")) | AL15: =IF(B15="","",COUNTIF(F15:AJ15,"S")) | AM15: =IF(B15="","",COUNTIF(F15:AJ15,"I")) | AN15: =IF(B15="","",COUNTIF(F15:AJ15,"C")) | AO15: =IF(B15="","",COUNTIF(F15:AJ15,"A")) | AP15: =IF(B15="","",COUNTIF(F15:AJ15,"PH")) | AQ15: =IF(B15="","",SUMIFS(Log_Masa!I:I,Log_Masa!B:B,B15,Log_Masa!A:A,">="&BulanMula,Log_Masa!A:A,"<"&EDATE(BulanMula,1))) | AR15: =IF(B15="","",SUMIFS(Log_Masa!J:J,Log_Masa!B:B,B15,Log_Masa!A:A,">="&BulanMula,Log_Masa!A:A,"<"&EDATE(BulanMula,1))) | AS15: =IF(B15="","",IFERROR(COUNTIF(F15:AJ15,"H")/(COUNTIF(F15:AJ15,"H")+COUNTIF(F15:AJ15,"A")),0)) | AT15: =IF(B15="","",IFERROR(VLOOKUP(B15,KelayakanCuti,3,FALSE())-SUMIFS(Permohonan_Cuti!$E:$E,Permohonan_Cuti!$A:$A,B15,Permohonan_Cuti!$B:$B,"Cuti Tahunan"),""))
AK16: =IF(B16="","",COUNTIF(F16:AJ16,"H")) | AL16: =IF(B16="","",COUNTIF(F16:AJ16,"S")) | AM16: =IF(B16="","",COUNTIF(F16:AJ16,"I")) | AN16: =IF(B16="","",COUNTIF(F16:AJ16,"C")) | AO16: =IF(B16="","",COUNTIF(F16:AJ16,"A")) | AP16: =IF(B16="","",COUNTIF(F16:AJ16,"PH")) | AQ16: =IF(B16="","",SUMIFS(Log_Masa!I:I,Log_Masa!B:B,B16,Log_Masa!A:A,">="&BulanMula,Log_Masa!A:A,"<"&EDATE(BulanMula,1))) | AR16: =IF(B16="","",SUMIFS(Log_Masa!J:J,Log_Masa!B:B,B16,Log_Masa!A:A,">="&BulanMula,Log_Masa!A:A,"<"&EDATE(BulanMula,1))) | AS16: =IF(B16="","",IFERROR(COUNTIF(F16:AJ16,"H")/(COUNTIF(F16:AJ16,"H")+COUNTIF(F16:AJ16,"A")),0)) | AT16: =IF(B16="","",IFERROR(VLOOKUP(B16,KelayakanCuti,3,FALSE())-SUMIFS(Permohonan_Cuti!$E:$E,Permohonan_Cuti!$A:$A,B16,Permohonan_Cuti!$B:$B,"Cuti Tahunan"),""))
AK17: =IF(B17="","",COUNTIF(F17:AJ17,"H")) | AL17: =IF(B17="","",COUNTIF(F17:AJ17,"S")) | AM17: =IF(B17="","",COUNTIF(F17:AJ17,"I")) | AN17: =IF(B17="","",COUNTIF(F17:AJ17,"C")) | AO17: =IF(B17="","",COUNTIF(F17:AJ17,"A")) | AP17: =IF(B17="","",COUNTIF(F17:AJ17,"PH")) | AQ17: =IF(B17="","",SUMIFS(Log_Masa!I:I,Log_Masa!B:B,B17,Log_Masa!A:A,">="&BulanMula,Log_Masa!A:A,"<"&EDATE(BulanMula,1))) | AR17: =IF(B17="","",SUMIFS(Log_Masa!J:J,Log_Masa!B:B,B17,Log_Masa!A:A,">="&BulanMula,Log_Masa!A:A,"<"&EDATE(BulanMula,1))) | AS17: =IF(B17="","",IFERROR(COUNTIF(F17:AJ17,"H")/(COUNTIF(F17:AJ17,"H")+COUNTIF(F17:AJ17,"A")),0)) | AT17: =IF(B17="","",IFERROR(VLOOKUP(B17,KelayakanCuti,3,FALSE())-SUMIFS(Permohonan_Cuti!$E:$E,Permohonan_Cuti!$A:$A,B17,Permohonan_Cuti!$B:$B,"Cuti Tahunan"),""))
AK18: =IF(B18="","",COUNTIF(F18:AJ18,"H")) | AL18: =IF(B18="","",COUNTIF(F18:AJ18,"S")) | AM18: =IF(B18="","",COUNTIF(F18:AJ18,"I")) | AN18: =IF(B18="","",COUNTIF(F18:AJ18,"C")) | AO18: =IF(B18="","",COUNTIF(F18:AJ18,"A")) | AP18: =IF(B18="","",COUNTIF(F18:AJ18,"PH")) | AQ18: =IF(B18="","",SUMIFS(Log_Masa!I:I,Log_Masa!B:B,B18,Log_Masa!A:A,">="&BulanMula,Log_Masa!A:A,"<"&EDATE(BulanMula,1))) | AR18: =IF(B18="","",SUMIFS(Log_Masa!J:J,Log_Masa!B:B,B18,Log_Masa!A:A,">="&BulanMula,Log_Masa!A:A,"<"&EDATE(BulanMula,1))) | AS18: =IF(B18="","",IFERROR(COUNTIF(F18:AJ18,"H")/(COUNTIF(F18:AJ18,"H")+COUNTIF(F18:AJ18,"A")),0)) | AT18: =IF(B18="","",IFERROR(VLOOKUP(B18,KelayakanCuti,3,FALSE())-SUMIFS(Permohonan_Cuti!$E:$E,Permohonan_Cuti!$A:$A,B18,Permohonan_Cuti!$B:$B,"Cuti Tahunan"),""))
AK19: =IF(B19="","",COUNTIF(F19:AJ19,"H")) | AL19: =IF(B19="","",COUNTIF(F19:AJ19,"S")) | AM19: =IF(B19="","",COUNTIF(F19:AJ19,"I")) | AN19: =IF(B19="","",COUNTIF(F19:AJ19,"C")) | AO19: =IF(B19="","",COUNTIF(F19:AJ19,"A")) | AP19: =IF(B19="","",COUNTIF(F19:AJ19,"PH")) | AQ19: =IF(B19="","",SUMIFS(Log_Masa!I:I,Log_Masa!B:B,B19,Log_Masa!A:A,">="&BulanMula,Log_Masa!A:A,"<"&EDATE(BulanMula,1))) | AR19: =IF(B19="","",SUMIFS(Log_Masa!J:J,Log_Masa!B:B,B19,Log_Masa!A:A,">="&BulanMula,Log_Masa!A:A,"<"&EDATE(BulanMula,1))) | AS19: =IF(B19="","",IFERROR(COUNTIF(F19:AJ19,"H")/(COUNTIF(F19:AJ19,"H")+COUNTIF(F19:AJ19,"A")),0)) | AT19: =IF(B19="","",IFERROR(VLOOKUP(B19,KelayakanCuti,3,FALSE())-SUMIFS(Permohonan_Cuti!$E:$E,Permohonan_Cuti!$A:$A,B19,Permohonan_Cuti!$B:$B,"Cuti Tahunan"),""))
AK20: =IF(B20="","",COUNTIF(F20:AJ20,"H")) | AL20: =IF(B20="","",COUNTIF(F20:AJ20,"S")) | AM20: =IF(B20="","",COUNTIF(F20:AJ20,"I")) | AN20: =IF(B20="","",COUNTIF(F20:AJ20,"C")) | AO20: =IF(B20="","",COUNTIF(F20:AJ20,"A")) | AP20: =IF(B20="","",COUNTIF(F20:AJ20,"PH")) | AQ20: =IF(B20="","",SUMIFS(Log_Masa!I:I,Log_Masa!B:B,B20,Log_Masa!A:A,">="&BulanMula,Log_Masa!A:A,"<"&EDATE(BulanMula,1))) | AR20: =IF(B20="","",SUMIFS(Log_Masa!J:J,Log_Masa!B:B,B20,Log_Masa!A:A,">="&BulanMula,Log_Masa!A:A,"<"&EDATE(BulanMula,1))) | AS20: =IF(B20="","",IFERROR(COUNTIF(F20:AJ20,"H")/(COUNTIF(F20:AJ20,"H")+COUNTIF(F20:AJ20,"A")),0)) | AT20: =IF(B20="","",IFERROR(VLOOKUP(B20,KelayakanCuti,3,FALSE())-SUMIFS(Permohonan_Cuti!$E:$E,Permohonan_Cuti!$A:$A,B20,Permohonan_Cuti!$B:$B,"Cuti Tahunan"),""))
AK21: =IF(B21="","",COUNTIF(F21:AJ21,"H")) | AL21: =IF(B21="","",COUNTIF(F21:AJ21,"S")) | AM21: =IF(B21="","",COUNTIF(F21:AJ21,"I")) | AN21: =IF(B21="","",COUNTIF(F21:AJ21,"C")) | AO21: =IF(B21="","",COUNTIF(F21:AJ21,"A")) | AP21: =IF(B21="","",COUNTIF(F21:AJ21,"PH")) | AQ21: =IF(B21="","",SUMIFS(Log_Masa!I:I,Log_Masa!B:B,B21,Log_Masa!A:A,">="&BulanMula,Log_Masa!A:A,"<"&EDATE(BulanMula,1))) | AR21: =IF(B21="","",SUMIFS(Log_Masa!J:J,Log_Masa!B:B,B21,Log_Masa!A:A,">="&BulanMula,Log_Masa!A:A,"<"&EDATE(BulanMula,1))) | AS21: =IF(B21="","",IFERROR(COUNTIF(F21:AJ21,"H")/(COUNTIF(F21:AJ21,"H")+COUNTIF(F21:AJ21,"A")),0)) | AT21: =IF(B21="","",IFERROR(VLOOKUP(B21,KelayakanCuti,3,FALSE())-SUMIFS(Permohonan_Cuti!$E:$E,Permohonan_Cuti!$A:$A,B21,Permohonan_Cuti!$B:$B,"Cuti Tahunan"),""))
AK22: =IF(B22="","",COUNTIF(F22:AJ22,"H")) | AL22: =IF(B22="","",COUNTIF(F22:AJ22,"S")) | AM22: =IF(B22="","",COUNTIF(F22:AJ22,"I")) | AN22: =IF(B22="","",COUNTIF(F22:AJ22,"C")) | AO22: =IF(B22="","",COUNTIF(F22:AJ22,"A")) | AP22: =IF(B22="","",COUNTIF(F22:AJ22,"PH")) | AQ22: =IF(B22="","",SUMIFS(Log_Masa!I:I,Log_Masa!B:B,B22,Log_Masa!A:A,">="&BulanMula,Log_Masa!A:A,"<"&EDATE(BulanMula,1))) | AR22: =IF(B22="","",SUMIFS(Log_Masa!J:J,Log_Masa!B:B,B22,Log_Masa!A:A,">="&BulanMula,Log_Masa!A:A,"<"&EDATE(BulanMula,1))) | AS22: =IF(B22="","",IFERROR(COUNTIF(F22:AJ22,"H")/(COUNTIF(F22:AJ22,"H")+COUNTIF(F22:AJ22,"A")),0)) | AT22: =IF(B22="","",IFERROR(VLOOKUP(B22,KelayakanCuti,3,FALSE())-SUMIFS(Permohonan_Cuti!$E:$E,Permohonan_Cuti!$A:$A,B22,Permohonan_Cuti!$B:$B,"Cuti Tahunan"),""))
AK23: =IF(B23="","",COUNTIF(F23:AJ23,"H")) | AL23: =IF(B23="","",COUNTIF(F23:AJ23,"S")) | AM23: =IF(B23="","",COUNTIF(F23:AJ23,"I")) | AN23: =IF(B23="","",COUNTIF(F23:AJ23,"C")) | AO23: =IF(B23="","",COUNTIF(F23:AJ23,"A")) | AP23: =IF(B23="","",COUNTIF(F23:AJ23,"PH")) | AQ23: =IF(B23="","",SUMIFS(Log_Masa!I:I,Log_Masa!B:B,B23,Log_Masa!A:A,">="&BulanMula,Log_Masa!A:A,"<"&EDATE(BulanMula,1))) | AR23: =IF(B23="","",SUMIFS(Log_Masa!J:J,Log_Masa!B:B,B23,Log_Masa!A:A,">="&BulanMula,Log_Masa!A:A,"<"&EDATE(BulanMula,1))) | AS23: =IF(B23="","",IFERROR(COUNTIF(F23:AJ23,"H")/(COUNTIF(F23:AJ23,"H")+COUNTIF(F23:AJ23,"A")),0)) | AT23: =IF(B23="","",IFERROR(VLOOKUP(B23,KelayakanCuti,3,FALSE())-SUMIFS(Permohonan_Cuti!$E:$E,Permohonan_Cuti!$A:$A,B23,Permohonan_Cuti!$B:$B,"Cuti Tahunan"),""))
AK24: =IF(B24="","",COUNTIF(F24:AJ24,"H")) | AL24: =IF(B24="","",COUNTIF(F24:AJ24,"S")) | AM24: =IF(B24="","",COUNTIF(F24:AJ24,"I")) | AN24: =IF(B24="","",COUNTIF(F24:AJ24,"C")) | AO24: =IF(B24="","",COUNTIF(F24:AJ24,"A")) | AP24: =IF(B24="","",COUNTIF(F24:AJ24,"PH")) | AQ24: =IF(B24="","",SUMIFS(Log_Masa!I:I,Log_Masa!B:B,B24,Log_Masa!A:A,">="&BulanMula,Log_Masa!A:A,"<"&EDATE(BulanMula,1))) | AR24: =IF(B24="","",SUMIFS(Log_Masa!J:J,Log_Masa!B:B,B24,Log_Masa!A:A,">="&BulanMula,Log_Masa!A:A,"<"&EDATE(BulanMula,1))) | AS24: =IF(B24="","",IFERROR(COUNTIF(F24:AJ24,"H")/(COUNTIF(F24:AJ24,"H")+COUNTIF(F24:AJ24,"A")),0)) | AT24: =IF(B24="","",IFERROR(VLOOKUP(B24,KelayakanCuti,3,FALSE())-SUMIFS(Permohonan_Cuti!$E:$E,Permohonan_Cuti!$A:$A,B24,Permohonan_Cuti!$B:$B,"Cuti Tahunan"),""))
... AK50: =IF(B50="","",COUNTIF(F50:AJ50,"H")) | AL50: =IF(B50="","",COUNTIF(F50:AJ50,"S")) | AM50: =IF(B50="","",COUNTIF(F50:AJ50,"I")) | AN50: =IF(B50="","",COUNTIF(F50:AJ50,"C")) | AO50: =IF(B50="","",COUNTIF(F50:AJ50,"A")) | AP50: =IF(B50="","",COUNTIF(F50:AJ50,"PH")) | AQ50: =IF(B50="","",SUMIFS(Log_Masa!I:I,Log_Masa!B:B,B50,Log_Masa!A:A,">="&BulanMula,Log_Masa!A:A,"<"&EDATE(BulanMula,1))) | AR50: =IF(B50="","",SUMIFS(Log_Masa!J:J,Log_Masa!B:B,B50,Log_Masa!A:A,">="&BulanMula,Log_Masa!A:A,"<"&EDATE(BulanMula,1))) | AS50: =IF(B50="","",IFERROR(COUNTIF(F50:AJ50,"H")/(COUNTIF(F50:AJ50,"H")+COUNTIF(F50:AJ50,"A")),0)) | AT50: =IF(B50="","",IFERROR(VLOOKUP(B50,KelayakanCuti,3,FALSE())-SUMIFS(Permohonan_Cuti!$E:$E,Permohonan_Cuti!$A:$A,B50,Permohonan_Cuti!$B:$B,"Cuti Tahunan"),""))

Sheet Rujukan
A1: H | B1: Hadir | C1: Syif | D1: Pengganda | F1: ID Pekerja | G1: Nama | H1: Kelayakan Cuti Tahunan | J1: Contoh hipotetikal — orova.vn
A2: S | B2: Cuti Sakit / MC | C2: Pagi | F2: P001 | G2: Ahmad Faizal Rosli | H2: 16
A3: I | B3: Keluar atau cuti dengan kebenaran bertulis | C3: Petang | F3: P002 | G3: Nur Farhana Azmi | H3: 12 | J3: Nama julat (Formulas > Name Manager):
A4: C | B4: Cuti Tahunan | C4: Malam | F4: P003 | G4: Aina Rahim | H4: 8 | J4: KodStatus = Rujukan!A1:A6 (senarai juntai bawah grid Rekap_Bulanan)
A5: A | B5: Tidak hadir tanpa kebenaran | F5: P004 | G5: Tan Wei Ming | H5: 14 | J5: NamaSyif = Rujukan!C2:C4 · PenggandaSyif = Rujukan!D2:D4
A6: PH | B6: Cuti Umum | F6: P005 | G6: Kavitha Raman | H6: 12 | J6: KelayakanCuti = Rujukan!F2:H50 · BulanMula = Rekap_Bulanan!C2
F7: P006 | G7: Muhammad Hafiz Ismail | H7: 8 | J7: Lajur Pengganda sengaja dibiarkan kosong: isi mengikut polisi syarikat anda.
F8: P007 | G8: Lim Mei Ling | H8: 16 | J8: Kelayakan cuti tahunan diisi mengikut kontrak setiap pekerja.
F9: P008 | G9: Rajesh Kumar | H9: 14 | J9: Kadar OT dan had waktu kerja: rujuk teks rasmi Akta Kerja 1955 di laman JTKSM.
J10: Sel kuning/krim boleh diisi; sel lain dikunci (Protect Sheet tanpa kata laluan).

Sheet Log_Masa
A1: Tarikh | B1: ID Pekerja | C1: Nama | D1: Syif | E1: Waktu Masuk Jadual | F1: Waktu Masuk Sebenar | G1: Waktu Keluar Jadual | H1: Waktu Keluar Sebenar | I1: Minit Lewat | J1: Jam OT | K1: Pengganda Syif | M1: Contoh hipotetikal — orova.vn
A2: 46300 | B2: P003 | C2: Aina Rahim | D2: Pagi | E2: 0.375 | F2: 0.39236111 | G2: 0.75 | H2: 0.8125 | I2: =IF(OR(E2="",F2=""),"",MAX(0,(F2-E2)*1440)) -> 25 | J2: =IF(OR(E2="",F2="",G2="",H2=""),"",MAX(0,((H2+(H2<F2))-(G2+(G2<E2)))*24)) -> 1.5 | K2: =IF(D2="","",IFERROR(INDEX(PenggandaSyif,MATCH(D2,NamaSyif,0)),1)) -> 0
A3: 46300 | B3: P001 | C3: Ahmad Faizal Rosli | D3: Pagi | E3: 0.375 | F3: 0.36944444 | G3: 0.75 | H3: 0.77083333 | I3: =IF(OR(E3="",F3=""),"",MAX(0,(F3-E3)*1440)) -> 0 | J3: =IF(OR(E3="",F3="",G3="",H3=""),"",MAX(0,((H3+(H3<F3))-(G3+(G3<E3)))*24)) -> 0.5 | K3: =IF(D3="","",IFERROR(INDEX(PenggandaSyif,MATCH(D3,NamaSyif,0)),1)) -> 0 | M3: Nota formula (baris 2):
A4: 46300 | B4: P006 | C4: Muhammad Hafiz Ismail | D4: Malam | E4: 0.91666667 | F4: 0.91666667 | G4: 0.25 | H4: 0.29166667 | I4: =IF(OR(E4="",F4=""),"",MAX(0,(F4-E4)*1440)) -> 0 | J4: =IF(OR(E4="",F4="",G4="",H4=""),"",MAX(0,((H4+(H4<F4))-(G4+(G4<E4)))*24)) -> 1 | K4: =IF(D4="","",IFERROR(INDEX(PenggandaSyif,MATCH(D4,NamaSyif,0)),1)) -> 0 | M4: I Minit Lewat = MAX(0, (F2 − E2) × 1440) — 09:00 → 09:25 = 25 minit.
A5: 46301 | B5: P006 | C5: Muhammad Hafiz Ismail | D5: Malam | E5: 0.91666667 | F5: 0.92361111 | G5: 0.25 | H5: 0.25 | I5: =IF(OR(E5="",F5=""),"",MAX(0,(F5-E5)*1440)) -> 10 | J5: =IF(OR(E5="",F5="",G5="",H5=""),"",MAX(0,((H5+(H5<F5))-(G5+(G5<E5)))*24)) -> 0 | K5: =IF(D5="","",IFERROR(INDEX(PenggandaSyif,MATCH(D5,NamaSyif,0)),1)) -> 0 | M5: J Jam OT = MAX(0, ((H2+(H2<F2)) − (G2+(G2<E2))) × 24) — merentas tengah malam.
A6: 46301 | B6: P008 | C6: Rajesh Kumar | D6: Petang | E6: 0.58333333 | F6: 0.58680556 | G6: 0.95833333 | H6: 0.95833333 | I6: =IF(OR(E6="",F6=""),"",MAX(0,(F6-E6)*1440)) -> 5 | J6: =IF(OR(E6="",F6="",G6="",H6=""),"",MAX(0,((H6+(H6<F6))-(G6+(G6<E6)))*24)) -> 0 | K6: =IF(D6="","",IFERROR(INDEX(PenggandaSyif,MATCH(D6,NamaSyif,0)),1)) -> 0 | M6: Syif 22:00–06:00 yang tamat 07:00 = 1 jam OT (bukan 25 jam).
A7: 46301 | B7: P003 | C7: Aina Rahim | D7: Pagi | E7: 0.375 | F7: 0.37361111 | G7: 0.75 | H7: 0.75 | I7: =IF(OR(E7="",F7=""),"",MAX(0,(F7-E7)*1440)) -> 0 | J7: =IF(OR(E7="",F7="",G7="",H7=""),"",MAX(0,((H7+(H7<F7))-(G7+(G7<E7)))*24)) -> 0 | K7: =IF(D7="","",IFERROR(INDEX(PenggandaSyif,MATCH(D7,NamaSyif,0)),1)) -> 0 | M7: K Pengganda = INDEX/MATCH pada NamaSyif/PenggandaSyif (semua versi Excel).
A8: 46302 | B8: P002 | C8: Nur Farhana Azmi | D8: Pagi | E8: 0.375 | F8: 0.38333333 | G8: 0.75 | H8: 0.79166667 | I8: =IF(OR(E8="",F8=""),"",MAX(0,(F8-E8)*1440)) -> 12 | J8: =IF(OR(E8="",F8="",G8="",H8=""),"",MAX(0,((H8+(H8<F8))-(G8+(G8<E8)))*24)) -> 1 | K8: =IF(D8="","",IFERROR(INDEX(PenggandaSyif,MATCH(D8,NamaSyif,0)),1)) -> 0 | M8: Excel 365 / 2021: =XLOOKUP(D2, NamaSyif, PenggandaSyif, 1).
A9: 46302 | B9: P005 | C9: Kavitha Raman | D9: Petang | E9: 0.58333333 | F9: 0.58333333 | G9: 0.95833333 | H9: 0.97916667 | I9: =IF(OR(E9="",F9=""),"",MAX(0,(F9-E9)*1440)) -> 0 | J9: =IF(OR(E9="",F9="",G9="",H9=""),"",MAX(0,((H9+(H9<F9))-(G9+(G9<E9)))*24)) -> 0.5 | K9: =IF(D9="","",IFERROR(INDEX(PenggandaSyif,MATCH(D9,NamaSyif,0)),1)) -> 0 | M9: Lajur K kosong sehingga anda mengisi Pengganda di helaian Rujukan.
A10: 46302 | B10: P006 | C10: Muhammad Hafiz Ismail | D10: Malam | E10: 0.91666667 | F10: 0.91319444 | G10: 0.25 | H10: 0.33333333 | I10: =IF(OR(E10="",F10=""),"",MAX(0,(F10-E10)*1440)) -> 0 | J10: =IF(OR(E10="",F10="",G10="",H10=""),"",MAX(0,((H10+(H10<F10))-(G10+(G10<E10)))*24)) -> 2 | K10: =IF(D10="","",IFERROR(INDEX(PenggandaSyif,MATCH(D10,NamaSyif,0)),1)) -> 0 | M10: Baris tanpa waktu keluar (8/10, P004) sengaja dibiarkan: J kosong untuk disemak.
A11: 46303 | B11: P007 | C11: Lim Mei Ling | D11: Pagi | E11: 0.375 | F11: 0.40277778 | G11: 0.75 | H11: 0.75 | I11: =IF(OR(E11="",F11=""),"",MAX(0,(F11-E11)*1440)) -> 40 | J11: =IF(OR(E11="",F11="",G11="",H11=""),"",MAX(0,((H11+(H11<F11))-(G11+(G11<E11)))*24)) -> 0 | K11: =IF(D11="","",IFERROR(INDEX(PenggandaSyif,MATCH(D11,NamaSyif,0)),1)) -> 0 | M11: Templat ini mengira jam sahaja, bukan bayaran.
A12: 46303 | B12: P004 | C12: Tan Wei Ming | D12: Petang | E12: 0.58333333 | F12: 0.58333333 | G12: 0.95833333 | I12: =IF(OR(E12="",F12=""),"",MAX(0,(F12-E12)*1440)) -> 0 | J12: =IF(OR(E12="",F12="",G12="",H12=""),"",MAX(0,((H12+(H12<F12))-(G12+(G12<E12)))*24)) | K12: =IF(D12="","",IFERROR(INDEX(PenggandaSyif,MATCH(D12,NamaSyif,0)),1)) -> 0
I13: =IF(OR(E13="",F13=""),"",MAX(0,(F13-E13)*1440)) | J13: =IF(OR(E13="",F13="",G13="",H13=""),"",MAX(0,((H13+(H13<F13))-(G13+(G13<E13)))*24)) | K13: =IF(D13="","",IFERROR(INDEX(PenggandaSyif,MATCH(D13,NamaSyif,0)),1))
I14: =IF(OR(E14="",F14=""),"",MAX(0,(F14-E14)*1440)) | J14: =IF(OR(E14="",F14="",G14="",H14=""),"",MAX(0,((H14+(H14<F14))-(G14+(G14<E14)))*24)) | K14: =IF(D14="","",IFERROR(INDEX(PenggandaSyif,MATCH(D14,NamaSyif,0)),1))
I15: =IF(OR(E15="",F15=""),"",MAX(0,(F15-E15)*1440)) | J15: =IF(OR(E15="",F15="",G15="",H15=""),"",MAX(0,((H15+(H15<F15))-(G15+(G15<E15)))*24)) | K15: =IF(D15="","",IFERROR(INDEX(PenggandaSyif,MATCH(D15,NamaSyif,0)),1))
I16: =IF(OR(E16="",F16=""),"",MAX(0,(F16-E16)*1440)) | J16: =IF(OR(E16="",F16="",G16="",H16=""),"",MAX(0,((H16+(H16<F16))-(G16+(G16<E16)))*24)) | K16: =IF(D16="","",IFERROR(INDEX(PenggandaSyif,MATCH(D16,NamaSyif,0)),1))
I17: =IF(OR(E17="",F17=""),"",MAX(0,(F17-E17)*1440)) | J17: =IF(OR(E17="",F17="",G17="",H17=""),"",MAX(0,((H17+(H17<F17))-(G17+(G17<E17)))*24)) | K17: =IF(D17="","",IFERROR(INDEX(PenggandaSyif,MATCH(D17,NamaSyif,0)),1))
I18: =IF(OR(E18="",F18=""),"",MAX(0,(F18-E18)*1440)) | J18: =IF(OR(E18="",F18="",G18="",H18=""),"",MAX(0,((H18+(H18<F18))-(G18+(G18<E18)))*24)) | K18: =IF(D18="","",IFERROR(INDEX(PenggandaSyif,MATCH(D18,NamaSyif,0)),1))
I19: =IF(OR(E19="",F19=""),"",MAX(0,(F19-E19)*1440)) | J19: =IF(OR(E19="",F19="",G19="",H19=""),"",MAX(0,((H19+(H19<F19))-(G19+(G19<E19)))*24)) | K19: =IF(D19="","",IFERROR(INDEX(PenggandaSyif,MATCH(D19,NamaSyif,0)),1))
I20: =IF(OR(E20="",F20=""),"",MAX(0,(F20-E20)*1440)) | J20: =IF(OR(E20="",F20="",G20="",H20=""),"",MAX(0,((H20+(H20<F20))-(G20+(G20<E20)))*24)) | K20: =IF(D20="","",IFERROR(INDEX(PenggandaSyif,MATCH(D20,NamaSyif,0)),1))
I21: =IF(OR(E21="",F21=""),"",MAX(0,(F21-E21)*1440)) | J21: =IF(OR(E21="",F21="",G21="",H21=""),"",MAX(0,((H21+(H21<F21))-(G21+(G21<E21)))*24)) | K21: =IF(D21="","",IFERROR(INDEX(PenggandaSyif,MATCH(D21,NamaSyif,0)),1))
I22: =IF(OR(E22="",F22=""),"",MAX(0,(F22-E22)*1440)) | J22: =IF(OR(E22="",F22="",G22="",H22=""),"",MAX(0,((H22+(H22<F22))-(G22+(G22<E22)))*24)) | K22: =IF(D22="","",IFERROR(INDEX(PenggandaSyif,MATCH(D22,NamaSyif,0)),1))
I23: =IF(OR(E23="",F23=""),"",MAX(0,(F23-E23)*1440)) | J23: =IF(OR(E23="",F23="",G23="",H23=""),"",MAX(0,((H23+(H23<F23))-(G23+(G23<E23)))*24)) | K23: =IF(D23="","",IFERROR(INDEX(PenggandaSyif,MATCH(D23,NamaSyif,0)),1))
I24: =IF(OR(E24="",F24=""),"",MAX(0,(F24-E24)*1440)) | J24: =IF(OR(E24="",F24="",G24="",H24=""),"",MAX(0,((H24+(H24<F24))-(G24+(G24<E24)))*24)) | K24: =IF(D24="","",IFERROR(INDEX(PenggandaSyif,MATCH(D24,NamaSyif,0)),1))
... I200: =IF(OR(E200="",F200=""),"",MAX(0,(F200-E200)*1440)) | J200: =IF(OR(E200="",F200="",G200="",H200=""),"",MAX(0,((H200+(H200<F200))-(G200+(G200<E200)))*24)) | K200: =IF(D200="","",IFERROR(INDEX(PenggandaSyif,MATCH(D200,NamaSyif,0)),1))

Sheet Permohonan_Cuti
A1: ID Pekerja | B1: Jenis Cuti | C1: Tarikh Mula | D1: Tarikh Tamat | E1: Jumlah Hari | G1: Contoh hipotetikal — orova.vn
A2: P002 | B2: Cuti Sakit | C2: 46309 | D2: 46309 | E2: =IF(OR(C2="",D2=""),"",NETWORKDAYS(C2,D2)) -> 1
A3: P004 | B3: Cuti Tahunan | C3: 46310 | D3: 46311 | E3: =IF(OR(C3="",D3=""),"",NETWORKDAYS(C3,D3)) -> 2 | G3: Nota:
A4: P005 | B4: Cuti Kebenaran | C4: 46315 | D4: 46315 | E4: =IF(OR(C4="",D4=""),"",NETWORKDAYS(C4,D4)) -> 1 | G4: Jumlah Hari = NETWORKDAYS(C2, D2): hari bekerja Isnin–Jumaat.
A5: P001 | B5: Cuti Tahunan | C5: 46324 | D5: 46325 | E5: =IF(OR(C5="",D5=""),"",NETWORKDAYS(C5,D5)) -> 2 | G5: Hari rehat Jumaat–Sabtu: tukar kepada NETWORKDAYS.INTL(C2, D2, 7).
E6: =IF(OR(C6="",D6=""),"",NETWORKDAYS(C6,D6)) | G6: Baki Cuti Tahunan di Rekap_Bulanan = KelayakanCuti − jumlah hari Cuti Tahunan di sini.
E7: =IF(OR(C7="",D7=""),"",NETWORKDAYS(C7,D7)) | G7: Tandakan juga kod pada grid Rekap_Bulanan (C, S, I) untuk tarikh yang sama.
E8: =IF(OR(C8="",D8=""),"",NETWORKDAYS(C8,D8))
E9: =IF(OR(C9="",D9=""),"",NETWORKDAYS(C9,D9))
E10: =IF(OR(C10="",D10=""),"",NETWORKDAYS(C10,D10))
E11: =IF(OR(C11="",D11=""),"",NETWORKDAYS(C11,D11))
E12: =IF(OR(C12="",D12=""),"",NETWORKDAYS(C12,D12))
E13: =IF(OR(C13="",D13=""),"",NETWORKDAYS(C13,D13))
E14: =IF(OR(C14="",D14=""),"",NETWORKDAYS(C14,D14))
E15: =IF(OR(C15="",D15=""),"",NETWORKDAYS(C15,D15))
E16: =IF(OR(C16="",D16=""),"",NETWORKDAYS(C16,D16))
E17: =IF(OR(C17="",D17=""),"",NETWORKDAYS(C17,D17))
E18: =IF(OR(C18="",D18=""),"",NETWORKDAYS(C18,D18))
E19: =IF(OR(C19="",D19=""),"",NETWORKDAYS(C19,D19))
... E200: =IF(OR(C200="",D200=""),"",NETWORKDAYS(C200,D200))
