Workbook

Sheet Timeliste
A1: Timeliste – arbeidstid per dag | K1: Hypotetisk eksempel — orova.vn
A2: Måned (1. dag): | C2: 46327 | D2: =EOMONTH(C2,0) -> 46356 | F2: Skifttype: | G2: Ordinær dag | H2: Kveldsskift | I2: Ordinær + overtid | J2: Ekstraarbeid
A3: Døgngrense (t): | C3: 9 | D3: aml § 10-4 | F3: Faktor: | G3: 1 | H3: 1.3 | I3: 1 | J3: 2
A4: Overtidsfaktor: | C4: 1.4 | D4: min. 40 % tillegg, § 10-6 | G4: Tenkte avtalesatser – sjekk egen tariffavtale eller arbeidsavtale.
A6: Dato | B6: Uke- dag | C6: Ansatt | D6: Skifttype | E6: Inn | F6: Ut | G6: Bruttotid (t) | H6: Pause- fradrag (t) | I6: Faktisk arbeidstid (t) | J6: Tilleggs- faktor | K6: Overtid > 9 t/døgn | L6: Krediterte timer | M6: Merknad
A7: 46328 | B7: =IF(A7="","",CHOOSE(WEEKDAY(A7),"søn","man","tir","ons","tor","fre","lør")) -> man | C7: Ingrid Solberg | D7: Ordinær dag | E7: 0.33333333 | F7: 0.66666667 | G7: =IF(OR(E7="",F7=""),"",ROUND(MOD(F7-E7,1)*24,2)) -> 8 | H7: 0.5 | I7: =IF(G7="","",G7-IF(H7="",0,H7)) -> 7.5 | J7: =IF(I7="","",IF(D7="",1,IFERROR(HLOOKUP(D7,$G$2:$J$3,2,FALSE()),1))) -> 1 | K7: =IF(I7="","",MAX(0,I7-$C$3)) -> 0 | L7: =IF(I7="","",ROUND((I7-K7)*J7+K7*$C$4,2)) -> 7.5
A8: 46329 | B8: =IF(A8="","",CHOOSE(WEEKDAY(A8),"søn","man","tir","ons","tor","fre","lør")) -> tir | C8: Ingrid Solberg | D8: Ordinær dag | E8: 0.33333333 | F8: 0.66666667 | G8: =IF(OR(E8="",F8=""),"",ROUND(MOD(F8-E8,1)*24,2)) -> 8 | H8: 0.5 | I8: =IF(G8="","",G8-IF(H8="",0,H8)) -> 7.5 | J8: =IF(I8="","",IF(D8="",1,IFERROR(HLOOKUP(D8,$G$2:$J$3,2,FALSE()),1))) -> 1 | K8: =IF(I8="","",MAX(0,I8-$C$3)) -> 0 | L8: =IF(I8="","",ROUND((I8-K8)*J8+K8*$C$4,2)) -> 7.5
A9: 46330 | B9: =IF(A9="","",CHOOSE(WEEKDAY(A9),"søn","man","tir","ons","tor","fre","lør")) -> ons | C9: Ingrid Solberg | D9: Ordinær dag | E9: 0.33333333 | F9: 0.66666667 | G9: =IF(OR(E9="",F9=""),"",ROUND(MOD(F9-E9,1)*24,2)) -> 8 | H9: 0.5 | I9: =IF(G9="","",G9-IF(H9="",0,H9)) -> 7.5 | J9: =IF(I9="","",IF(D9="",1,IFERROR(HLOOKUP(D9,$G$2:$J$3,2,FALSE()),1))) -> 1 | K9: =IF(I9="","",MAX(0,I9-$C$3)) -> 0 | L9: =IF(I9="","",ROUND((I9-K9)*J9+K9*$C$4,2)) -> 7.5
A10: 46331 | B10: =IF(A10="","",CHOOSE(WEEKDAY(A10),"søn","man","tir","ons","tor","fre","lør")) -> tor | C10: Ingrid Solberg | D10: Ordinær dag | E10: 0.33333333 | F10: 0.66666667 | G10: =IF(OR(E10="",F10=""),"",ROUND(MOD(F10-E10,1)*24,2)) -> 8 | H10: 0.5 | I10: =IF(G10="","",G10-IF(H10="",0,H10)) -> 7.5 | J10: =IF(I10="","",IF(D10="",1,IFERROR(HLOOKUP(D10,$G$2:$J$3,2,FALSE()),1))) -> 1 | K10: =IF(I10="","",MAX(0,I10-$C$3)) -> 0 | L10: =IF(I10="","",ROUND((I10-K10)*J10+K10*$C$4,2)) -> 7.5
A11: 46332 | B11: =IF(A11="","",CHOOSE(WEEKDAY(A11),"søn","man","tir","ons","tor","fre","lør")) -> fre | C11: Ingrid Solberg | D11: Ordinær dag | E11: 0.33333333 | F11: 0.66666667 | G11: =IF(OR(E11="",F11=""),"",ROUND(MOD(F11-E11,1)*24,2)) -> 8 | H11: 0.5 | I11: =IF(G11="","",G11-IF(H11="",0,H11)) -> 7.5 | J11: =IF(I11="","",IF(D11="",1,IFERROR(HLOOKUP(D11,$G$2:$J$3,2,FALSE()),1))) -> 1 | K11: =IF(I11="","",MAX(0,I11-$C$3)) -> 0 | L11: =IF(I11="","",ROUND((I11-K11)*J11+K11*$C$4,2)) -> 7.5
A12: 46335 | B12: =IF(A12="","",CHOOSE(WEEKDAY(A12),"søn","man","tir","ons","tor","fre","lør")) -> man | C12: Ingrid Solberg | D12: Kveldsskift | E12: 0.66666667 | F12: 0 | G12: =IF(OR(E12="",F12=""),"",ROUND(MOD(F12-E12,1)*24,2)) -> 8 | H12: 0.5 | I12: =IF(G12="","",G12-IF(H12="",0,H12)) -> 7.5 | J12: =IF(I12="","",IF(D12="",1,IFERROR(HLOOKUP(D12,$G$2:$J$3,2,FALSE()),1))) -> 1.3 | K12: =IF(I12="","",MAX(0,I12-$C$3)) -> 0 | L12: =IF(I12="","",ROUND((I12-K12)*J12+K12*$C$4,2)) -> 9.75 | M12: Ut 24:00 føres som 00:00
A13: 46336 | B13: =IF(A13="","",CHOOSE(WEEKDAY(A13),"søn","man","tir","ons","tor","fre","lør")) -> tir | C13: Ingrid Solberg | D13: Ordinær dag | E13: 0.45833333 | F13: 0.79166667 | G13: =IF(OR(E13="",F13=""),"",ROUND(MOD(F13-E13,1)*24,2)) -> 8 | H13: 0.5 | I13: =IF(G13="","",G13-IF(H13="",0,H13)) -> 7.5 | J13: =IF(I13="","",IF(D13="",1,IFERROR(HLOOKUP(D13,$G$2:$J$3,2,FALSE()),1))) -> 1 | K13: =IF(I13="","",MAX(0,I13-$C$3)) -> 0 | L13: =IF(I13="","",ROUND((I13-K13)*J13+K13*$C$4,2)) -> 7.5 | M13: Minst 11 t hvile etter kveldsvakt
A14: 46337 | B14: =IF(A14="","",CHOOSE(WEEKDAY(A14),"søn","man","tir","ons","tor","fre","lør")) -> ons | C14: Ingrid Solberg | D14: Ordinær + overtid | E14: 0.33333333 | F14: 0.77083333 | G14: =IF(OR(E14="",F14=""),"",ROUND(MOD(F14-E14,1)*24,2)) -> 10.5 | H14: 0.5 | I14: =IF(G14="","",G14-IF(H14="",0,H14)) -> 10 | J14: =IF(I14="","",IF(D14="",1,IFERROR(HLOOKUP(D14,$G$2:$J$3,2,FALSE()),1))) -> 1 | K14: =IF(I14="","",MAX(0,I14-$C$3)) -> 1 | L14: =IF(I14="","",ROUND((I14-K14)*J14+K14*$C$4,2)) -> 10.4 | M14: 1 t over 9 t/døgn = overtid
A15: 46338 | B15: =IF(A15="","",CHOOSE(WEEKDAY(A15),"søn","man","tir","ons","tor","fre","lør")) -> tor | C15: Ingrid Solberg | D15: Ordinær dag | E15: 0.33333333 | F15: 0.66666667 | G15: =IF(OR(E15="",F15=""),"",ROUND(MOD(F15-E15,1)*24,2)) -> 8 | H15: 0.5 | I15: =IF(G15="","",G15-IF(H15="",0,H15)) -> 7.5 | J15: =IF(I15="","",IF(D15="",1,IFERROR(HLOOKUP(D15,$G$2:$J$3,2,FALSE()),1))) -> 1 | K15: =IF(I15="","",MAX(0,I15-$C$3)) -> 0 | L15: =IF(I15="","",ROUND((I15-K15)*J15+K15*$C$4,2)) -> 7.5
A16: 46339 | B16: =IF(A16="","",CHOOSE(WEEKDAY(A16),"søn","man","tir","ons","tor","fre","lør")) -> fre | C16: Ingrid Solberg | D16: Ordinær dag | E16: 0.33333333 | F16: 0.66666667 | G16: =IF(OR(E16="",F16=""),"",ROUND(MOD(F16-E16,1)*24,2)) -> 8 | H16: 0.5 | I16: =IF(G16="","",G16-IF(H16="",0,H16)) -> 7.5 | J16: =IF(I16="","",IF(D16="",1,IFERROR(HLOOKUP(D16,$G$2:$J$3,2,FALSE()),1))) -> 1 | K16: =IF(I16="","",MAX(0,I16-$C$3)) -> 0 | L16: =IF(I16="","",ROUND((I16-K16)*J16+K16*$C$4,2)) -> 7.5 | M16: Glemt utstempling: rettet til 16:00, godkjent 16.11
A17: 46341 | B17: =IF(A17="","",CHOOSE(WEEKDAY(A17),"søn","man","tir","ons","tor","fre","lør")) -> søn | C17: Ingrid Solberg | D17: Ekstraarbeid | E17: 0.41666667 | F17: 0.66666667 | G17: =IF(OR(E17="",F17=""),"",ROUND(MOD(F17-E17,1)*24,2)) -> 6 | H17: 0.5 | I17: =IF(G17="","",G17-IF(H17="",0,H17)) -> 5.5 | J17: =IF(I17="","",IF(D17="",1,IFERROR(HLOOKUP(D17,$G$2:$J$3,2,FALSE()),1))) -> 2 | K17: =IF(I17="","",MAX(0,I17-$C$3)) -> 0 | L17: =IF(I17="","",ROUND((I17-K17)*J17+K17*$C$4,2)) -> 11 | M17: Søndag, tenkt avtalesats 2,00
A18: 46342 | B18: =IF(A18="","",CHOOSE(WEEKDAY(A18),"søn","man","tir","ons","tor","fre","lør")) -> man | C18: Ingrid Solberg | D18: Kveldsskift | E18: 0.66666667 | F18: 0 | G18: =IF(OR(E18="",F18=""),"",ROUND(MOD(F18-E18,1)*24,2)) -> 8 | H18: 0.5 | I18: =IF(G18="","",G18-IF(H18="",0,H18)) -> 7.5 | J18: =IF(I18="","",IF(D18="",1,IFERROR(HLOOKUP(D18,$G$2:$J$3,2,FALSE()),1))) -> 1.3 | K18: =IF(I18="","",MAX(0,I18-$C$3)) -> 0 | L18: =IF(I18="","",ROUND((I18-K18)*J18+K18*$C$4,2)) -> 9.75
A19: 46343 | B19: =IF(A19="","",CHOOSE(WEEKDAY(A19),"søn","man","tir","ons","tor","fre","lør")) -> tir | C19: Ingrid Solberg | D19: Kveldsskift | E19: 0.66666667 | F19: 0 | G19: =IF(OR(E19="",F19=""),"",ROUND(MOD(F19-E19,1)*24,2)) -> 8 | H19: 0.5 | I19: =IF(G19="","",G19-IF(H19="",0,H19)) -> 7.5 | J19: =IF(I19="","",IF(D19="",1,IFERROR(HLOOKUP(D19,$G$2:$J$3,2,FALSE()),1))) -> 1.3 | K19: =IF(I19="","",MAX(0,I19-$C$3)) -> 0 | L19: =IF(I19="","",ROUND((I19-K19)*J19+K19*$C$4,2)) -> 9.75
A20: 46344 | B20: =IF(A20="","",CHOOSE(WEEKDAY(A20),"søn","man","tir","ons","tor","fre","lør")) -> ons | C20: Ingrid Solberg | D20: Kveldsskift | E20: 0.66666667 | F20: 0 | G20: =IF(OR(E20="",F20=""),"",ROUND(MOD(F20-E20,1)*24,2)) -> 8 | H20: 0.5 | I20: =IF(G20="","",G20-IF(H20="",0,H20)) -> 7.5 | J20: =IF(I20="","",IF(D20="",1,IFERROR(HLOOKUP(D20,$G$2:$J$3,2,FALSE()),1))) -> 1.3 | K20: =IF(I20="","",MAX(0,I20-$C$3)) -> 0 | L20: =IF(I20="","",ROUND((I20-K20)*J20+K20*$C$4,2)) -> 9.75
A21: 46345 | B21: =IF(A21="","",CHOOSE(WEEKDAY(A21),"søn","man","tir","ons","tor","fre","lør")) -> tor | C21: Ingrid Solberg | D21: Kveldsskift | E21: 0.66666667 | F21: 0 | G21: =IF(OR(E21="",F21=""),"",ROUND(MOD(F21-E21,1)*24,2)) -> 8 | H21: 0.5 | I21: =IF(G21="","",G21-IF(H21="",0,H21)) -> 7.5 | J21: =IF(I21="","",IF(D21="",1,IFERROR(HLOOKUP(D21,$G$2:$J$3,2,FALSE()),1))) -> 1.3 | K21: =IF(I21="","",MAX(0,I21-$C$3)) -> 0 | L21: =IF(I21="","",ROUND((I21-K21)*J21+K21*$C$4,2)) -> 9.75
A22: 46346 | B22: =IF(A22="","",CHOOSE(WEEKDAY(A22),"søn","man","tir","ons","tor","fre","lør")) -> fre | C22: Ingrid Solberg | D22: Kveldsskift | E22: 0.66666667 | F22: 0 | G22: =IF(OR(E22="",F22=""),"",ROUND(MOD(F22-E22,1)*24,2)) -> 8 | H22: 0.5 | I22: =IF(G22="","",G22-IF(H22="",0,H22)) -> 7.5 | J22: =IF(I22="","",IF(D22="",1,IFERROR(HLOOKUP(D22,$G$2:$J$3,2,FALSE()),1))) -> 1.3 | K22: =IF(I22="","",MAX(0,I22-$C$3)) -> 0 | L22: =IF(I22="","",ROUND((I22-K22)*J22+K22*$C$4,2)) -> 9.75
A23: 46349 | B23: =IF(A23="","",CHOOSE(WEEKDAY(A23),"søn","man","tir","ons","tor","fre","lør")) -> man | C23: Ingrid Solberg | D23: Ordinær dag | E23: 0.33333333 | F23: 0.66666667 | G23: =IF(OR(E23="",F23=""),"",ROUND(MOD(F23-E23,1)*24,2)) -> 8 | H23: 0.5 | I23: =IF(G23="","",G23-IF(H23="",0,H23)) -> 7.5 | J23: =IF(I23="","",IF(D23="",1,IFERROR(HLOOKUP(D23,$G$2:$J$3,2,FALSE()),1))) -> 1 | K23: =IF(I23="","",MAX(0,I23-$C$3)) -> 0 | L23: =IF(I23="","",ROUND((I23-K23)*J23+K23*$C$4,2)) -> 7.5
A24: 46350 | B24: =IF(A24="","",CHOOSE(WEEKDAY(A24),"søn","man","tir","ons","tor","fre","lør")) -> tir | C24: Ingrid Solberg | D24: Ordinær dag | E24: 0.33333333 | F24: 0.66666667 | G24: =IF(OR(E24="",F24=""),"",ROUND(MOD(F24-E24,1)*24,2)) -> 8 | H24: 0.5 | I24: =IF(G24="","",G24-IF(H24="",0,H24)) -> 7.5 | J24: =IF(I24="","",IF(D24="",1,IFERROR(HLOOKUP(D24,$G$2:$J$3,2,FALSE()),1))) -> 1 | K24: =IF(I24="","",MAX(0,I24-$C$3)) -> 0 | L24: =IF(I24="","",ROUND((I24-K24)*J24+K24*$C$4,2)) -> 7.5
A25: 46351 | B25: =IF(A25="","",CHOOSE(WEEKDAY(A25),"søn","man","tir","ons","tor","fre","lør")) -> ons | C25: Ingrid Solberg | D25: Ordinær dag | E25: 0.33333333 | F25: 0.66666667 | G25: =IF(OR(E25="",F25=""),"",ROUND(MOD(F25-E25,1)*24,2)) -> 8 | H25: 0.5 | I25: =IF(G25="","",G25-IF(H25="",0,H25)) -> 7.5 | J25: =IF(I25="","",IF(D25="",1,IFERROR(HLOOKUP(D25,$G$2:$J$3,2,FALSE()),1))) -> 1 | K25: =IF(I25="","",MAX(0,I25-$C$3)) -> 0 | L25: =IF(I25="","",ROUND((I25-K25)*J25+K25*$C$4,2)) -> 7.5
A26: 46352 | B26: =IF(A26="","",CHOOSE(WEEKDAY(A26),"søn","man","tir","ons","tor","fre","lør")) -> tor | C26: Ingrid Solberg | D26: Ordinær dag | E26: 0.33333333 | F26: 0.66666667 | G26: =IF(OR(E26="",F26=""),"",ROUND(MOD(F26-E26,1)*24,2)) -> 8 | H26: 0.5 | I26: =IF(G26="","",G26-IF(H26="",0,H26)) -> 7.5 | J26: =IF(I26="","",IF(D26="",1,IFERROR(HLOOKUP(D26,$G$2:$J$3,2,FALSE()),1))) -> 1 | K26: =IF(I26="","",MAX(0,I26-$C$3)) -> 0 | L26: =IF(I26="","",ROUND((I26-K26)*J26+K26*$C$4,2)) -> 7.5
A27: 46353 | B27: =IF(A27="","",CHOOSE(WEEKDAY(A27),"søn","man","tir","ons","tor","fre","lør")) -> fre | C27: Ingrid Solberg | D27: Ordinær dag | E27: 0.33333333 | F27: 0.66666667 | G27: =IF(OR(E27="",F27=""),"",ROUND(MOD(F27-E27,1)*24,2)) -> 8 | H27: 0.5 | I27: =IF(G27="","",G27-IF(H27="",0,H27)) -> 7.5 | J27: =IF(I27="","",IF(D27="",1,IFERROR(HLOOKUP(D27,$G$2:$J$3,2,FALSE()),1))) -> 1 | K27: =IF(I27="","",MAX(0,I27-$C$3)) -> 0 | L27: =IF(I27="","",ROUND((I27-K27)*J27+K27*$C$4,2)) -> 7.5
A28: 46356 | B28: =IF(A28="","",CHOOSE(WEEKDAY(A28),"søn","man","tir","ons","tor","fre","lør")) -> man | C28: Ingrid Solberg | D28: Ordinær dag | E28: 0.33333333 | F28: 0.66666667 | G28: =IF(OR(E28="",F28=""),"",ROUND(MOD(F28-E28,1)*24,2)) -> 8 | H28: 0.5 | I28: =IF(G28="","",G28-IF(H28="",0,H28)) -> 7.5 | J28: =IF(I28="","",IF(D28="",1,IFERROR(HLOOKUP(D28,$G$2:$J$3,2,FALSE()),1))) -> 1 | K28: =IF(I28="","",MAX(0,I28-$C$3)) -> 0 | L28: =IF(I28="","",ROUND((I28-K28)*J28+K28*$C$4,2)) -> 7.5
A29: Sum måned — Ingrid Solberg | G29: =SUM(G7:G28) -> 176.5 | H29: =SUM(H7:H28) -> 11 | I29: =SUM(I7:I28) -> 165.5 | K29: =SUM(K7:K28) -> 1 | L29: =SUM(L7:L28) -> 184.9
A30: 46328 | B30: =IF(A30="","",CHOOSE(WEEKDAY(A30),"søn","man","tir","ons","tor","fre","lør")) -> man | C30: Henrik Berg | D30: Ordinær dag | E30: 0.3125 | F30: 0.64583333 | G30: =IF(OR(E30="",F30=""),"",ROUND(MOD(F30-E30,1)*24,2)) -> 8 | H30: 0.5 | I30: =IF(G30="","",G30-IF(H30="",0,H30)) -> 7.5 | J30: =IF(I30="","",IF(D30="",1,IFERROR(HLOOKUP(D30,$G$2:$J$3,2,FALSE()),1))) -> 1 | K30: =IF(I30="","",MAX(0,I30-$C$3)) -> 0 | L30: =IF(I30="","",ROUND((I30-K30)*J30+K30*$C$4,2)) -> 7.5
A31: 46329 | B31: =IF(A31="","",CHOOSE(WEEKDAY(A31),"søn","man","tir","ons","tor","fre","lør")) -> tir | C31: Henrik Berg | D31: Ordinær + overtid | E31: 0.33333333 | F31: 0.75 | G31: =IF(OR(E31="",F31=""),"",ROUND(MOD(F31-E31,1)*24,2)) -> 10 | H31: 0.5 | I31: =IF(G31="","",G31-IF(H31="",0,H31)) -> 9.5 | J31: =IF(I31="","",IF(D31="",1,IFERROR(HLOOKUP(D31,$G$2:$J$3,2,FALSE()),1))) -> 1 | K31: =IF(I31="","",MAX(0,I31-$C$3)) -> 0.5 | L31: =IF(I31="","",ROUND((I31-K31)*J31+K31*$C$4,2)) -> 9.7 | M31: 0,5 t over 9 t/døgn
A32: 46330 | B32: =IF(A32="","",CHOOSE(WEEKDAY(A32),"søn","man","tir","ons","tor","fre","lør")) -> ons | C32: Henrik Berg | D32: Ordinær dag | E32: 0.3125 | F32: 0.64583333 | G32: =IF(OR(E32="",F32=""),"",ROUND(MOD(F32-E32,1)*24,2)) -> 8 | H32: 0.5 | I32: =IF(G32="","",G32-IF(H32="",0,H32)) -> 7.5 | J32: =IF(I32="","",IF(D32="",1,IFERROR(HLOOKUP(D32,$G$2:$J$3,2,FALSE()),1))) -> 1 | K32: =IF(I32="","",MAX(0,I32-$C$3)) -> 0 | L32: =IF(I32="","",ROUND((I32-K32)*J32+K32*$C$4,2)) -> 7.5
A33: 46331 | B33: =IF(A33="","",CHOOSE(WEEKDAY(A33),"søn","man","tir","ons","tor","fre","lør")) -> tor | C33: Henrik Berg | D33: Ordinær dag | E33: 0.3125 | F33: 0.64583333 | G33: =IF(OR(E33="",F33=""),"",ROUND(MOD(F33-E33,1)*24,2)) -> 8 | H33: 0.5 | I33: =IF(G33="","",G33-IF(H33="",0,H33)) -> 7.5 | J33: =IF(I33="","",IF(D33="",1,IFERROR(HLOOKUP(D33,$G$2:$J$3,2,FALSE()),1))) -> 1 | K33: =IF(I33="","",MAX(0,I33-$C$3)) -> 0 | L33: =IF(I33="","",ROUND((I33-K33)*J33+K33*$C$4,2)) -> 7.5
A34: 46332 | B34: =IF(A34="","",CHOOSE(WEEKDAY(A34),"søn","man","tir","ons","tor","fre","lør")) -> fre | C34: Henrik Berg | D34: Ordinær dag | E34: 0.3125 | F34: 0.64583333 | G34: =IF(OR(E34="",F34=""),"",ROUND(MOD(F34-E34,1)*24,2)) -> 8 | H34: 0.5 | I34: =IF(G34="","",G34-IF(H34="",0,H34)) -> 7.5 | J34: =IF(I34="","",IF(D34="",1,IFERROR(HLOOKUP(D34,$G$2:$J$3,2,FALSE()),1))) -> 1 | K34: =IF(I34="","",MAX(0,I34-$C$3)) -> 0 | L34: =IF(I34="","",ROUND((I34-K34)*J34+K34*$C$4,2)) -> 7.5
A35: 46335 | B35: =IF(A35="","",CHOOSE(WEEKDAY(A35),"søn","man","tir","ons","tor","fre","lør")) -> man | C35: Henrik Berg | D35: Ordinær dag | E35: 0.3125 | F35: 0.64583333 | G35: =IF(OR(E35="",F35=""),"",ROUND(MOD(F35-E35,1)*24,2)) -> 8 | H35: 0.5 | I35: =IF(G35="","",G35-IF(H35="",0,H35)) -> 7.5 | J35: =IF(I35="","",IF(D35="",1,IFERROR(HLOOKUP(D35,$G$2:$J$3,2,FALSE()),1))) -> 1 | K35: =IF(I35="","",MAX(0,I35-$C$3)) -> 0 | L35: =IF(I35="","",ROUND((I35-K35)*J35+K35*$C$4,2)) -> 7.5
A36: 46336 | B36: =IF(A36="","",CHOOSE(WEEKDAY(A36),"søn","man","tir","ons","tor","fre","lør")) -> tir | C36: Henrik Berg | D36: Ordinær dag | E36: 0.3125 | F36: 0.64583333 | G36: =IF(OR(E36="",F36=""),"",ROUND(MOD(F36-E36,1)*24,2)) -> 8 | H36: 0.5 | I36: =IF(G36="","",G36-IF(H36="",0,H36)) -> 7.5 | J36: =IF(I36="","",IF(D36="",1,IFERROR(HLOOKUP(D36,$G$2:$J$3,2,FALSE()),1))) -> 1 | K36: =IF(I36="","",MAX(0,I36-$C$3)) -> 0 | L36: =IF(I36="","",ROUND((I36-K36)*J36+K36*$C$4,2)) -> 7.5
A37: 46337 | B37: =IF(A37="","",CHOOSE(WEEKDAY(A37),"søn","man","tir","ons","tor","fre","lør")) -> ons | C37: Henrik Berg | D37: Ordinær dag | E37: 0.3125 | F37: 0.64583333 | G37: =IF(OR(E37="",F37=""),"",ROUND(MOD(F37-E37,1)*24,2)) -> 8 | H37: 0.5 | I37: =IF(G37="","",G37-IF(H37="",0,H37)) -> 7.5 | J37: =IF(I37="","",IF(D37="",1,IFERROR(HLOOKUP(D37,$G$2:$J$3,2,FALSE()),1))) -> 1 | K37: =IF(I37="","",MAX(0,I37-$C$3)) -> 0 | L37: =IF(I37="","",ROUND((I37-K37)*J37+K37*$C$4,2)) -> 7.5
A38: 46338 | B38: =IF(A38="","",CHOOSE(WEEKDAY(A38),"søn","man","tir","ons","tor","fre","lør")) -> tor | C38: Henrik Berg | D38: Ordinær dag | E38: 0.3125 | F38: 0.64583333 | G38: =IF(OR(E38="",F38=""),"",ROUND(MOD(F38-E38,1)*24,2)) -> 8 | H38: 0.5 | I38: =IF(G38="","",G38-IF(H38="",0,H38)) -> 7.5 | J38: =IF(I38="","",IF(D38="",1,IFERROR(HLOOKUP(D38,$G$2:$J$3,2,FALSE()),1))) -> 1 | K38: =IF(I38="","",MAX(0,I38-$C$3)) -> 0 | L38: =IF(I38="","",ROUND((I38-K38)*J38+K38*$C$4,2)) -> 7.5
A39: 46339 | B39: =IF(A39="","",CHOOSE(WEEKDAY(A39),"søn","man","tir","ons","tor","fre","lør")) -> fre | C39: Henrik Berg | D39: Ordinær dag | E39: 0.3125 | F39: 0.64583333 | G39: =IF(OR(E39="",F39=""),"",ROUND(MOD(F39-E39,1)*24,2)) -> 8 | H39: 0.5 | I39: =IF(G39="","",G39-IF(H39="",0,H39)) -> 7.5 | J39: =IF(I39="","",IF(D39="",1,IFERROR(HLOOKUP(D39,$G$2:$J$3,2,FALSE()),1))) -> 1 | K39: =IF(I39="","",MAX(0,I39-$C$3)) -> 0 | L39: =IF(I39="","",ROUND((I39-K39)*J39+K39*$C$4,2)) -> 7.5
A40: 46342 | B40: =IF(A40="","",CHOOSE(WEEKDAY(A40),"søn","man","tir","ons","tor","fre","lør")) -> man | C40: Henrik Berg | D40: Ordinær dag | E40: 0.3125 | F40: 0.64583333 | G40: =IF(OR(E40="",F40=""),"",ROUND(MOD(F40-E40,1)*24,2)) -> 8 | H40: 0.5 | I40: =IF(G40="","",G40-IF(H40="",0,H40)) -> 7.5 | J40: =IF(I40="","",IF(D40="",1,IFERROR(HLOOKUP(D40,$G$2:$J$3,2,FALSE()),1))) -> 1 | K40: =IF(I40="","",MAX(0,I40-$C$3)) -> 0 | L40: =IF(I40="","",ROUND((I40-K40)*J40+K40*$C$4,2)) -> 7.5
A41: 46343 | B41: =IF(A41="","",CHOOSE(WEEKDAY(A41),"søn","man","tir","ons","tor","fre","lør")) -> tir | C41: Henrik Berg | D41: Ordinær dag | E41: 0.3125 | F41: 0.64583333 | G41: =IF(OR(E41="",F41=""),"",ROUND(MOD(F41-E41,1)*24,2)) -> 8 | H41: 0.5 | I41: =IF(G41="","",G41-IF(H41="",0,H41)) -> 7.5 | J41: =IF(I41="","",IF(D41="",1,IFERROR(HLOOKUP(D41,$G$2:$J$3,2,FALSE()),1))) -> 1 | K41: =IF(I41="","",MAX(0,I41-$C$3)) -> 0 | L41: =IF(I41="","",ROUND((I41-K41)*J41+K41*$C$4,2)) -> 7.5
...

Sheet Oppsummering
A1: Oppsummering per ansatt (måned) | E1: Hypotetisk eksempel — orova.vn
A3: Måned: | B3: =Timeliste!C2 -> 46327 | C3: =Timeliste!D2 -> 46356
A4: Grense per døgn (t): | B4: =Timeliste!C3 -> 9 | C4: alminnelig arbeidstid: 9 t per 24 t (aml § 10-4)
A5: Grense per uke (t): | B5: 40 | C5: alminnelig arbeidstid: 40 t per 7 dager (aml § 10-4)
A7: Ansatt | B7: Dager med registrering | C7: Faktisk arbeidstid (t) | D7: Timer over 9 t/døgn | E7: Timer over 40 t/uke | F7: Krediterte timer | G7: Attestert av leder (dato)
A8: Ingrid Solberg | B8: =IF(A8="","",COUNTIFS(Timeliste!$C$7:$C$77,A8,Timeliste!$I$7:$I$77,">0")) -> 22 | C8: =IF(A8="","",SUMIF(Timeliste!$C$7:$C$77,A8,Timeliste!$I$7:$I$77)) -> 165.5 | D8: =IF(A8="","",SUMIF(Timeliste!$C$7:$C$77,A8,Timeliste!$K$7:$K$77)) -> 1 | E8: =IF(A8="","",H19) -> 5.5 | F8: =IF(A8="","",SUMIF(Timeliste!$C$7:$C$77,A8,Timeliste!$L$7:$L$77)) -> 184.9
A9: Henrik Berg | B9: =IF(A9="","",COUNTIFS(Timeliste!$C$7:$C$77,A9,Timeliste!$I$7:$I$77,">0")) -> 20 | C9: =IF(A9="","",SUMIF(Timeliste!$C$7:$C$77,A9,Timeliste!$I$7:$I$77)) -> 154.5 | D9: =IF(A9="","",SUMIF(Timeliste!$C$7:$C$77,A9,Timeliste!$K$7:$K$77)) -> 1.5 | E9: =IF(A9="","",H20) -> 0 | F9: =IF(A9="","",SUMIF(Timeliste!$C$7:$C$77,A9,Timeliste!$L$7:$L$77)) -> 155.1
A10: Amira Nilsen | B10: =IF(A10="","",COUNTIFS(Timeliste!$C$7:$C$77,A10,Timeliste!$I$7:$I$77,">0")) -> 14 | C10: =IF(A10="","",SUMIF(Timeliste!$C$7:$C$77,A10,Timeliste!$I$7:$I$77)) -> 76.5 | D10: =IF(A10="","",SUMIF(Timeliste!$C$7:$C$77,A10,Timeliste!$K$7:$K$77)) -> 0 | E10: =IF(A10="","",H21) -> 0 | F10: =IF(A10="","",SUMIF(Timeliste!$C$7:$C$77,A10,Timeliste!$L$7:$L$77)) -> 103.3
B11: =IF(A11="","",COUNTIFS(Timeliste!$C$7:$C$77,A11,Timeliste!$I$7:$I$77,">0")) | C11: =IF(A11="","",SUMIF(Timeliste!$C$7:$C$77,A11,Timeliste!$I$7:$I$77)) | D11: =IF(A11="","",SUMIF(Timeliste!$C$7:$C$77,A11,Timeliste!$K$7:$K$77)) | E11: =IF(A11="","",H22) | F11: =IF(A11="","",SUMIF(Timeliste!$C$7:$C$77,A11,Timeliste!$L$7:$L$77))
B12: =IF(A12="","",COUNTIFS(Timeliste!$C$7:$C$77,A12,Timeliste!$I$7:$I$77,">0")) | C12: =IF(A12="","",SUMIF(Timeliste!$C$7:$C$77,A12,Timeliste!$I$7:$I$77)) | D12: =IF(A12="","",SUMIF(Timeliste!$C$7:$C$77,A12,Timeliste!$K$7:$K$77)) | E12: =IF(A12="","",H23) | F12: =IF(A12="","",SUMIF(Timeliste!$C$7:$C$77,A12,Timeliste!$L$7:$L$77))
A13: Sum | B13: =SUM(B8:B12) -> 56 | C13: =SUM(C8:C12) -> 396.5 | D13: =SUM(D8:D12) -> 2.5 | E13: =SUM(E8:E12) -> 5.5 | F13: =SUM(F8:F12) -> 443.3
A16: Faktisk arbeidstid per uke (mandag–søndag)
A17: Uke | B17: =WEEKNUM(B18,21) -> 44 | C17: =WEEKNUM(C18,21) -> 45 | D17: =WEEKNUM(D18,21) -> 46 | E17: =WEEKNUM(E18,21) -> 47 | F17: =WEEKNUM(F18,21) -> 48 | G17: =WEEKNUM(G18,21) -> 49 | H17: Timer over 40 t/uke
A18: Mandag | B18: =B3-WEEKDAY(B3,3) -> 46321 | C18: =B18+7 -> 46328 | D18: =C18+7 -> 46335 | E18: =D18+7 -> 46342 | F18: =E18+7 -> 46349 | G18: =F18+7 -> 46356
A19: =IF(A8="","",A8) -> Ingrid Solberg | B19: =IF($A19="","",SUMIFS(Timeliste!$I$7:$I$77,Timeliste!$C$7:$C$77,$A19,Timeliste!$A$7:$A$77,">="&B$18,Timeliste!$A$7:$A$77,"<"&B$18+7)) -> 0 | C19: =IF($A19="","",SUMIFS(Timeliste!$I$7:$I$77,Timeliste!$C$7:$C$77,$A19,Timeliste!$A$7:$A$77,">="&C$18,Timeliste!$A$7:$A$77,"<"&C$18+7)) -> 37.5 | D19: =IF($A19="","",SUMIFS(Timeliste!$I$7:$I$77,Timeliste!$C$7:$C$77,$A19,Timeliste!$A$7:$A$77,">="&D$18,Timeliste!$A$7:$A$77,"<"&D$18+7)) -> 45.5 | E19: =IF($A19="","",SUMIFS(Timeliste!$I$7:$I$77,Timeliste!$C$7:$C$77,$A19,Timeliste!$A$7:$A$77,">="&E$18,Timeliste!$A$7:$A$77,"<"&E$18+7)) -> 37.5 | F19: =IF($A19="","",SUMIFS(Timeliste!$I$7:$I$77,Timeliste!$C$7:$C$77,$A19,Timeliste!$A$7:$A$77,">="&F$18,Timeliste!$A$7:$A$77,"<"&F$18+7)) -> 37.5 | G19: =IF($A19="","",SUMIFS(Timeliste!$I$7:$I$77,Timeliste!$C$7:$C$77,$A19,Timeliste!$A$7:$A$77,">="&G$18,Timeliste!$A$7:$A$77,"<"&G$18+7)) -> 7.5 | H19: =IF(A19="","",SUMPRODUCT((B19:G19>$B$5)*(B19:G19-$B$5))) -> 5.5
A20: =IF(A9="","",A9) -> Henrik Berg | B20: =IF($A20="","",SUMIFS(Timeliste!$I$7:$I$77,Timeliste!$C$7:$C$77,$A20,Timeliste!$A$7:$A$77,">="&B$18,Timeliste!$A$7:$A$77,"<"&B$18+7)) -> 0 | C20: =IF($A20="","",SUMIFS(Timeliste!$I$7:$I$77,Timeliste!$C$7:$C$77,$A20,Timeliste!$A$7:$A$77,">="&C$18,Timeliste!$A$7:$A$77,"<"&C$18+7)) -> 39.5 | D20: =IF($A20="","",SUMIFS(Timeliste!$I$7:$I$77,Timeliste!$C$7:$C$77,$A20,Timeliste!$A$7:$A$77,">="&D$18,Timeliste!$A$7:$A$77,"<"&D$18+7)) -> 37.5 | E20: =IF($A20="","",SUMIFS(Timeliste!$I$7:$I$77,Timeliste!$C$7:$C$77,$A20,Timeliste!$A$7:$A$77,">="&E$18,Timeliste!$A$7:$A$77,"<"&E$18+7)) -> 40 | F20: =IF($A20="","",SUMIFS(Timeliste!$I$7:$I$77,Timeliste!$C$7:$C$77,$A20,Timeliste!$A$7:$A$77,">="&F$18,Timeliste!$A$7:$A$77,"<"&F$18+7)) -> 30 | G20: =IF($A20="","",SUMIFS(Timeliste!$I$7:$I$77,Timeliste!$C$7:$C$77,$A20,Timeliste!$A$7:$A$77,">="&G$18,Timeliste!$A$7:$A$77,"<"&G$18+7)) -> 7.5 | H20: =IF(A20="","",SUMPRODUCT((B20:G20>$B$5)*(B20:G20-$B$5))) -> 0
A21: =IF(A10="","",A10) -> Amira Nilsen | B21: =IF($A21="","",SUMIFS(Timeliste!$I$7:$I$77,Timeliste!$C$7:$C$77,$A21,Timeliste!$A$7:$A$77,">="&B$18,Timeliste!$A$7:$A$77,"<"&B$18+7)) -> 0 | C21: =IF($A21="","",SUMIFS(Timeliste!$I$7:$I$77,Timeliste!$C$7:$C$77,$A21,Timeliste!$A$7:$A$77,">="&C$18,Timeliste!$A$7:$A$77,"<"&C$18+7)) -> 16 | D21: =IF($A21="","",SUMIFS(Timeliste!$I$7:$I$77,Timeliste!$C$7:$C$77,$A21,Timeliste!$A$7:$A$77,">="&D$18,Timeliste!$A$7:$A$77,"<"&D$18+7)) -> 16.5 | E21: =IF($A21="","",SUMIFS(Timeliste!$I$7:$I$77,Timeliste!$C$7:$C$77,$A21,Timeliste!$A$7:$A$77,">="&E$18,Timeliste!$A$7:$A$77,"<"&E$18+7)) -> 22 | F21: =IF($A21="","",SUMIFS(Timeliste!$I$7:$I$77,Timeliste!$C$7:$C$77,$A21,Timeliste!$A$7:$A$77,">="&F$18,Timeliste!$A$7:$A$77,"<"&F$18+7)) -> 16.5 | G21: =IF($A21="","",SUMIFS(Timeliste!$I$7:$I$77,Timeliste!$C$7:$C$77,$A21,Timeliste!$A$7:$A$77,">="&G$18,Timeliste!$A$7:$A$77,"<"&G$18+7)) -> 5.5 | H21: =IF(A21="","",SUMPRODUCT((B21:G21>$B$5)*(B21:G21-$B$5))) -> 0
A22: =IF(A11="","",A11) | B22: =IF($A22="","",SUMIFS(Timeliste!$I$7:$I$77,Timeliste!$C$7:$C$77,$A22,Timeliste!$A$7:$A$77,">="&B$18,Timeliste!$A$7:$A$77,"<"&B$18+7)) | C22: =IF($A22="","",SUMIFS(Timeliste!$I$7:$I$77,Timeliste!$C$7:$C$77,$A22,Timeliste!$A$7:$A$77,">="&C$18,Timeliste!$A$7:$A$77,"<"&C$18+7)) | D22: =IF($A22="","",SUMIFS(Timeliste!$I$7:$I$77,Timeliste!$C$7:$C$77,$A22,Timeliste!$A$7:$A$77,">="&D$18,Timeliste!$A$7:$A$77,"<"&D$18+7)) | E22: =IF($A22="","",SUMIFS(Timeliste!$I$7:$I$77,Timeliste!$C$7:$C$77,$A22,Timeliste!$A$7:$A$77,">="&E$18,Timeliste!$A$7:$A$77,"<"&E$18+7)) | F22: =IF($A22="","",SUMIFS(Timeliste!$I$7:$I$77,Timeliste!$C$7:$C$77,$A22,Timeliste!$A$7:$A$77,">="&F$18,Timeliste!$A$7:$A$77,"<"&F$18+7)) | G22: =IF($A22="","",SUMIFS(Timeliste!$I$7:$I$77,Timeliste!$C$7:$C$77,$A22,Timeliste!$A$7:$A$77,">="&G$18,Timeliste!$A$7:$A$77,"<"&G$18+7)) | H22: =IF(A22="","",SUMPRODUCT((B22:G22>$B$5)*(B22:G22-$B$5)))
A23: =IF(A12="","",A12) | B23: =IF($A23="","",SUMIFS(Timeliste!$I$7:$I$77,Timeliste!$C$7:$C$77,$A23,Timeliste!$A$7:$A$77,">="&B$18,Timeliste!$A$7:$A$77,"<"&B$18+7)) | C23: =IF($A23="","",SUMIFS(Timeliste!$I$7:$I$77,Timeliste!$C$7:$C$77,$A23,Timeliste!$A$7:$A$77,">="&C$18,Timeliste!$A$7:$A$77,"<"&C$18+7)) | D23: =IF($A23="","",SUMIFS(Timeliste!$I$7:$I$77,Timeliste!$C$7:$C$77,$A23,Timeliste!$A$7:$A$77,">="&D$18,Timeliste!$A$7:$A$77,"<"&D$18+7)) | E23: =IF($A23="","",SUMIFS(Timeliste!$I$7:$I$77,Timeliste!$C$7:$C$77,$A23,Timeliste!$A$7:$A$77,">="&E$18,Timeliste!$A$7:$A$77,"<"&E$18+7)) | F23: =IF($A23="","",SUMIFS(Timeliste!$I$7:$I$77,Timeliste!$C$7:$C$77,$A23,Timeliste!$A$7:$A$77,">="&F$18,Timeliste!$A$7:$A$77,"<"&F$18+7)) | G23: =IF($A23="","",SUMIFS(Timeliste!$I$7:$I$77,Timeliste!$C$7:$C$77,$A23,Timeliste!$A$7:$A$77,">="&G$18,Timeliste!$A$7:$A$77,"<"&G$18+7)) | H23: =IF(A23="","",SUMPRODUCT((B23:G23>$B$5)*(B23:G23-$B$5)))
A25: Grensene for alminnelig arbeidstid er 9 timer per 24 timer og 40 timer per 7 dager (aml § 10-4). Arbeid utover dette er overtid etter aml § 10-6.
A26: Timer over 9 t/døgn og over 40 t/uke kan overlappe – samme time kan ligge over begge grensene. Ikke legg tallene sammen.
A27: Uker som går over månedsskiftet telles bare med dagene som står i denne timelisten.
A28: Avtaler om gjennomsnittsberegning, unntak og tariffavtaler kan gi andre rammer – sjekk lovdata.no / arbeidstilsynet.no.
A29: Filen teller bare timer. Lønn beregnes i lønnssystemet dere allerede bruker.
A30: Hypotetisk eksempel: navn, vakter og tilleggssatser er oppdiktet.
A32: Kontrollert av (leder): ______________ Dato: __.__.____ Signatur: ______________
