Workbook

Sheet Timeliste
A1: Timeliste – arbeidstid per dag | K1: Hypotetisk eksempel — orova.vn
A2: Måned (1. dag): | C2: 46327 | D2: =EOMONTH(C2,0) -> 46356 | F2: Skifttype: | G2: Ordinær dag | H2: Kveldsskift | I2: Ordinær + overtid | J2: Ekstraarbeid
A3: Døgngrense (t): | C3: 9 | D3: aml § 10-4 | F3: Faktor: | G3: 1 | H3: 1.3 | I3: 1 | J3: 2
A4: Overtidsfaktor: | C4: 1.4 | D4: min. 40 % tillegg, § 10-6 | G4: Tenkte avtalesatser – sjekk egen tariffavtale eller arbeidsavtale.
A6: Dato | B6: Uke- dag | C6: Ansatt | D6: Skifttype | E6: Inn | F6: Ut | G6: Bruttotid (t) | H6: Pause- fradrag (t) | I6: Faktisk arbeidstid (t) | J6: Tilleggs- faktor | K6: Overtid > 9 t/døgn | L6: Krediterte timer | M6: Merknad
A7: 46328 | B7: =IF(A7="","",CHOOSE(WEEKDAY(A7),"søn","man","tir","ons","tor","fre","lør")) -> man | C7: Ingrid Solberg | D7: Ordinær dag | E7: 0.33333333 | F7: 0.66666667 | G7: =IF(OR(E7="",F7=""),"",ROUND(MOD(F7-E7,1)*24,2)) -> 8 | H7: 0.5 | I7: =IF(G7="","",G7-IF(H7="",0,H7)) -> 7.5 | J7: =IF(I7="","",IF(D7="",1,IFERROR(HLOOKUP(D7,$G$2:$J$3,2,FALSE()),1))) -> 1 | K7: =IF(I7="","",MAX(0,I7-$C$3)) -> 0 | L7: =IF(I7="","",ROUND((I7-K7)*J7+K7*$C$4,2)) -> 7.5
A8: 46329 | B8: =IF(A8="","",CHOOSE(WEEKDAY(A8),"søn","man","tir","ons","tor","fre","lør")) -> tir | C8: Ingrid Solberg | D8: Ordinær dag | E8: 0.33333333 | F8: 0.66666667 | G8: =IF(OR(E8="",F8=""),"",ROUND(MOD(F8-E8,1)*24,2)) -> 8 | H8: 0.5 | I8: =IF(G8="","",G8-IF(H8="",0,H8)) -> 7.5 | J8: =IF(I8="","",IF(D8="",1,IFERROR(HLOOKUP(D8,$G$2:$J$3,2,FALSE()),1))) -> 1 | K8: =IF(I8="","",MAX(0,I8-$C$3)) -> 0 | L8: =IF(I8="","",ROUND((I8-K8)*J8+K8*$C$4,2)) -> 7.5
A9: 46330 | B9: =IF(A9="","",CHOOSE(WEEKDAY(A9),"søn","man","tir","ons","tor","fre","lør")) -> ons | C9: Ingrid Solberg | D9: Ordinær dag | E9: 0.33333333 | F9: 0.66666667 | G9: =IF(OR(E9="",F9=""),"",ROUND(MOD(F9-E9,1)*24,2)) -> 8 | H9: 0.5 | I9: =IF(G9="","",G9-IF(H9="",0,H9)) -> 7.5 | J9: =IF(I9="","",IF(D9="",1,IFERROR(HLOOKUP(D9,$G$2:$J$3,2,FALSE()),1))) -> 1 | K9: =IF(I9="","",MAX(0,I9-$C$3)) -> 0 | L9: =IF(I9="","",ROUND((I9-K9)*J9+K9*$C$4,2)) -> 7.5
A10: 46331 | B10: =IF(A10="","",CHOOSE(WEEKDAY(A10),"søn","man","tir","ons","tor","fre","lør")) -> tor | C10: Ingrid Solberg | D10: Ordinær dag | E10: 0.33333333 | F10: 0.66666667 | G10: =IF(OR(E10="",F10=""),"",ROUND(MOD(F10-E10,1)*24,2)) -> 8 | H10: 0.5 | I10: =IF(G10="","",G10-IF(H10="",0,H10)) -> 7.5 | J10: =IF(I10="","",IF(D10="",1,IFERROR(HLOOKUP(D10,$G$2:$J$3,2,FALSE()),1))) -> 1 | K10: =IF(I10="","",MAX(0,I10-$C$3)) -> 0 | L10: =IF(I10="","",ROUND((I10-K10)*J10+K10*$C$4,2)) -> 7.5
A11: 46332 | B11: =IF(A11="","",CHOOSE(WEEKDAY(A11),"søn","man","tir","ons","tor","fre","lør")) -> fre | C11: Ingrid Solberg | D11: Ordinær dag | E11: 0.33333333 | F11: 0.66666667 | G11: =IF(OR(E11="",F11=""),"",ROUND(MOD(F11-E11,1)*24,2)) -> 8 | H11: 0.5 | I11: =IF(G11="","",G11-IF(H11="",0,H11)) -> 7.5 | J11: =IF(I11="","",IF(D11="",1,IFERROR(HLOOKUP(D11,$G$2:$J$3,2,FALSE()),1))) -> 1 | K11: =IF(I11="","",MAX(0,I11-$C$3)) -> 0 | L11: =IF(I11="","",ROUND((I11-K11)*J11+K11*$C$4,2)) -> 7.5
A12: 46335 | B12: =IF(A12="","",CHOOSE(WEEKDAY(A12),"søn","man","tir","ons","tor","fre","lør")) -> man | C12: Ingrid Solberg | D12: Kveldsskift | E12: 0.66666667 | F12: 0 | G12: =IF(OR(E12="",F12=""),"",ROUND(MOD(F12-E12,1)*24,2)) -> 8 | H12: 0.5 | I12: =IF(G12="","",G12-IF(H12="",0,H12)) -> 7.5 | J12: =IF(I12="","",IF(D12="",1,IFERROR(HLOOKUP(D12,$G$2:$J$3,2,FALSE()),1))) -> 1.3 | K12: =IF(I12="","",MAX(0,I12-$C$3)) -> 0 | L12: =IF(I12="","",ROUND((I12-K12)*J12+K12*$C$4,2)) -> 9.75 | M12: Ut 24:00 føres som 00:00
A13: 46336 | B13: =IF(A13="","",CHOOSE(WEEKDAY(A13),"søn","man","tir","ons","tor","fre","lør")) -> tir | C13: Ingrid Solberg | D13: Ordinær dag | E13: 0.45833333 | F13: 0.79166667 | G13: =IF(OR(E13="",F13=""),"",ROUND(MOD(F13-E13,1)*24,2)) -> 8 | H13: 0.5 | I13: =IF(G13="","",G13-IF(H13="",0,H13)) -> 7.5 | J13: =IF(I13="","",IF(D13="",1,IFERROR(HLOOKUP(D13,$G$2:$J$3,2,FALSE()),1))) -> 1 | K13: =IF(I13="","",MAX(0,I13-$C$3)) -> 0 | L13: =IF(I13="","",ROUND((I13-K13)*J13+K13*$C$4,2)) -> 7.5 | M13: Minst 11 t hvile etter kveldsvakt
A14: 46337 | B14: =IF(A14="","",CHOOSE(WEEKDAY(A14),"søn","man","tir","ons","tor","fre","lør")) -> ons | C14: Ingrid Solberg | D14: Ordinær + overtid | E14: 0.33333333 | F14: 0.77083333 | G14: =IF(OR(E14="",F14=""),"",ROUND(MOD(F14-E14,1)*24,2)) -> 10.5 | H14: 0.5 | I14: =IF(G14="","",G14-IF(H14="",0,H14)) -> 10 | J14: =IF(I14="","",IF(D14="",1,IFERROR(HLOOKUP(D14,$G$2:$J$3,2,FALSE()),1))) -> 1 | K14: =IF(I14="","",MAX(0,I14-$C$3)) -> 1 | L14: =IF(I14="","",ROUND((I14-K14)*J14+K14*$C$4,2)) -> 10.4 | M14: 1 t over 9 t/døgn = overtid
A15: 46338 | B15: =IF(A15="","",CHOOSE(WEEKDAY(A15),"søn","man","tir","ons","tor","fre","lør")) -> tor | C15: Ingrid Solberg | D15: Ordinær dag | E15: 0.33333333 | F15: 0.66666667 | G15: =IF(OR(E15="",F15=""),"",ROUND(MOD(F15-E15,1)*24,2)) -> 8 | H15: 0.5 | I15: =IF(G15="","",G15-IF(H15="",0,H15)) -> 7.5 | J15: =IF(I15="","",IF(D15="",1,IFERROR(HLOOKUP(D15,$G$2:$J$3,2,FALSE()),1))) -> 1 | K15: =IF(I15="","",MAX(0,I15-$C$3)) -> 0 | L15: =IF(I15="","",ROUND((I15-K15)*J15+K15*$C$4,2)) -> 7.5
A16: 46339 | B16: =IF(A16="","",CHOOSE(WEEKDAY(A16),"søn","man","tir","ons","tor","fre","lør")) -> fre | C16: Ingrid Solberg | D16: Ordinær dag | E16: 0.33333333 | F16: 0.66666667 | G16: =IF(OR(E16="",F16=""),"",ROUND(MOD(F16-E16,1)*24,2)) -> 8 | H16: 0.5 | I16: =IF(G16="","",G16-IF(H16="",0,H16)) -> 7.5 | J16: =IF(I16="","",IF(D16="",1,IFERROR(HLOOKUP(D16,$G$2:$J$3,2,FALSE()),1))) -> 1 | K16: =IF(I16="","",MAX(0,I16-$C$3)) -> 0 | L16: =IF(I16="","",ROUND((I16-K16)*J16+K16*$C$4,2)) -> 7.5 | M16: Glemt utstempling: rettet til 16:00, godkjent 16.11
A17: 46341 | B17: =IF(A17="","",CHOOSE(WEEKDAY(A17),"søn","man","tir","ons","tor","fre","lør")) -> søn | C17: Ingrid Solberg | D17: Ekstraarbeid | E17: 0.41666667 | F17: 0.66666667 | G17: =IF(OR(E17="",F17=""),"",ROUND(MOD(F17-E17,1)*24,2)) -> 6 | H17: 0.5 | I17: =IF(G17="","",G17-IF(H17="",0,H17)) -> 5.5 | J17: =IF(I17="","",IF(D17="",1,IFERROR(HLOOKUP(D17,$G$2:$J$3,2,FALSE()),1))) -> 2 | K17: =IF(I17="","",MAX(0,I17-$C$3)) -> 0 | L17: =IF(I17="","",ROUND((I17-K17)*J17+K17*$C$4,2)) -> 11 | M17: Søndag, tenkt avtalesats 2,00
A18: 46342 | B18: =IF(A18="","",CHOOSE(WEEKDAY(A18),"søn","man","tir","ons","tor","fre","lør")) -> man | C18: Ingrid Solberg | D18: Kveldsskift | E18: 0.66666667 | F18: 0 | G18: =IF(OR(E18="",F18=""),"",ROUND(MOD(F18-E18,1)*24,2)) -> 8 | H18: 0.5 | I18: =IF(G18="","",G18-IF(H18="",0,H18)) -> 7.5 | J18: =IF(I18="","",IF(D18="",1,IFERROR(HLOOKUP(D18,$G$2:$J$3,2,FALSE()),1))) -> 1.3 | K18: =IF(I18="","",MAX(0,I18-$C$3)) -> 0 | L18: =IF(I18="","",ROUND((I18-K18)*J18+K18*$C$4,2)) -> 9.75
A19: 46343 | B19: =IF(A19="","",CHOOSE(WEEKDAY(A19),"søn","man","tir","ons","tor","fre","lør")) -> tir | C19: Ingrid Solberg | D19: Kveldsskift | E19: 0.66666667 | F19: 0 | G19: =IF(OR(E19="",F19=""),"",ROUND(MOD(F19-E19,1)*24,2)) -> 8 | H19: 0.5 | I19: =IF(G19="","",G19-IF(H19="",0,H19)) -> 7.5 | J19: =IF(I19="","",IF(D19="",1,IFERROR(HLOOKUP(D19,$G$2:$J$3,2,FALSE()),1))) -> 1.3 | K19: =IF(I19="","",MAX(0,I19-$C$3)) -> 0 | L19: =IF(I19="","",ROUND((I19-K19)*J19+K19*$C$4,2)) -> 9.75
A20: 46344 | B20: =IF(A20="","",CHOOSE(WEEKDAY(A20),"søn","man","tir","ons","tor","fre","lør")) -> ons | C20: Ingrid Solberg | D20: Kveldsskift | E20: 0.66666667 | F20: 0 | G20: =IF(OR(E20="",F20=""),"",ROUND(MOD(F20-E20,1)*24,2)) -> 8 | H20: 0.5 | I20: =IF(G20="","",G20-IF(H20="",0,H20)) -> 7.5 | J20: =IF(I20="","",IF(D20="",1,IFERROR(HLOOKUP(D20,$G$2:$J$3,2,FALSE()),1))) -> 1.3 | K20: =IF(I20="","",MAX(0,I20-$C$3)) -> 0 | L20: =IF(I20="","",ROUND((I20-K20)*J20+K20*$C$4,2)) -> 9.75
A21: 46345 | B21: =IF(A21="","",CHOOSE(WEEKDAY(A21),"søn","man","tir","ons","tor","fre","lør")) -> tor | C21: Ingrid Solberg | D21: Kveldsskift | E21: 0.66666667 | F21: 0 | G21: =IF(OR(E21="",F21=""),"",ROUND(MOD(F21-E21,1)*24,2)) -> 8 | H21: 0.5 | I21: =IF(G21="","",G21-IF(H21="",0,H21)) -> 7.5 | J21: =IF(I21="","",IF(D21="",1,IFERROR(HLOOKUP(D21,$G$2:$J$3,2,FALSE()),1))) -> 1.3 | K21: =IF(I21="","",MAX(0,I21-$C$3)) -> 0 | L21: =IF(I21="","",ROUND((I21-K21)*J21+K21*$C$4,2)) -> 9.75
A22: 46346 | B22: =IF(A22="","",CHOOSE(WEEKDAY(A22),"søn","man","tir","ons","tor","fre","lør")) -> fre | C22: Ingrid Solberg | D22: Kveldsskift | E22: 0.66666667 | F22: 0 | G22: =IF(OR(E22="",F22=""),"",ROUND(MOD(F22-E22,1)*24,2)) -> 8 | H22: 0.5 | I22: =IF(G22="","",G22-IF(H22="",0,H22)) -> 7.5 | J22: =IF(I22="","",IF(D22="",1,IFERROR(HLOOKUP(D22,$G$2:$J$3,2,FALSE()),1))) -> 1.3 | K22: =IF(I22="","",MAX(0,I22-$C$3)) -> 0 | L22: =IF(I22="","",ROUND((I22-K22)*J22+K22*$C$4,2)) -> 9.75
A23: 46349 | B23: =IF(A23="","",CHOOSE(WEEKDAY(A23),"søn","man","tir","ons","tor","fre","lør")) -> man | C23: Ingrid Solberg | D23: Ordinær dag | E23: 0.33333333 | F23: 0.66666667 | G23: =IF(OR(E23="",F23=""),"",ROUND(MOD(F23-E23,1)*24,2)) -> 8 | H23: 0.5 | I23: =IF(G23="","",G23-IF(H23="",0,H23)) -> 7.5 | J23: =IF(I23="","",IF(D23="",1,IFERROR(HLOOKUP(D23,$G$2:$J$3,2,FALSE()),1))) -> 1 | K23: =IF(I23="","",MAX(0,I23-$C$3)) -> 0 | L23: =IF(I23="","",ROUND((I23-K23)*J23+K23*$C$4,2)) -> 7.5
A24: 46350 | B24: =IF(A24="","",CHOOSE(WEEKDAY(A24),"søn","man","tir","ons","tor","fre","lør")) -> tir | C24: Ingrid Solberg | D24: Ordinær dag | E24: 0.33333333 | F24: 0.66666667 | G24: =IF(OR(E24="",F24=""),"",ROUND(MOD(F24-E24,1)*24,2)) -> 8 | H24: 0.5 | I24: =IF(G24="","",G24-IF(H24="",0,H24)) -> 7.5 | J24: =IF(I24="","",IF(D24="",1,IFERROR(HLOOKUP(D24,$G$2:$J$3,2,FALSE()),1))) -> 1 | K24: =IF(I24="","",MAX(0,I24-$C$3)) -> 0 | L24: =IF(I24="","",ROUND((I24-K24)*J24+K24*$C$4,2)) -> 7.5
A25: 46351 | B25: =IF(A25="","",CHOOSE(WEEKDAY(A25),"søn","man","tir","ons","tor","fre","lør")) -> ons | C25: Ingrid Solberg | D25: Ordinær dag | E25: 0.33333333 | F25: 0.66666667 | G25: =IF(OR(E25="",F25=""),"",ROUND(MOD(F25-E25,1)*24,2)) -> 8 | H25: 0.5 | I25: =IF(G25="","",G25-IF(H25="",0,H25)) -> 7.5 | J25: =IF(I25="","",IF(D25="",1,IFERROR(HLOOKUP(D25,$G$2:$J$3,2,FALSE()),1))) -> 1 | K25: =IF(I25="","",MAX(0,I25-$C$3)) -> 0 | L25: =IF(I25="","",ROUND((I25-K25)*J25+K25*$C$4,2)) -> 7.5
A26: 46352 | B26: =IF(A26="","",CHOOSE(WEEKDAY(A26),"søn","man","tir","ons","tor","fre","lør")) -> tor | C26: Ingrid Solberg | D26: Ordinær dag | E26: 0.33333333 | F26: 0.66666667 | G26: =IF(OR(E26="",F26=""),"",ROUND(MOD(F26-E26,1)*24,2)) -> 8 | H26: 0.5 | I26: =IF(G26="","",G26-IF(H26="",0,H26)) -> 7.5 | J26: =IF(I26="","",IF(D26="",1,IFERROR(HLOOKUP(D26,$G$2:$J$3,2,FALSE()),1))) -> 1 | K26: =IF(I26="","",MAX(0,I26-$C$3)) -> 0 | L26: =IF(I26="","",ROUND((I26-K26)*J26+K26*$C$4,2)) -> 7.5
A27: 46353 | B27: =IF(A27="","",CHOOSE(WEEKDAY(A27),"søn","man","tir","ons","tor","fre","lør")) -> fre | C27: Ingrid Solberg | D27: Ordinær dag | E27: 0.33333333 | F27: 0.66666667 | G27: =IF(OR(E27="",F27=""),"",ROUND(MOD(F27-E27,1)*24,2)) -> 8 | H27: 0.5 | I27: =IF(G27="","",G27-IF(H27="",0,H27)) -> 7.5 | J27: =IF(I27="","",IF(D27="",1,IFERROR(HLOOKUP(D27,$G$2:$J$3,2,FALSE()),1))) -> 1 | K27: =IF(I27="","",MAX(0,I27-$C$3)) -> 0 | L27: =IF(I27="","",ROUND((I27-K27)*J27+K27*$C$4,2)) -> 7.5
A28: 46356 | B28: =IF(A28="","",CHOOSE(WEEKDAY(A28),"søn","man","tir","ons","tor","fre","lør")) -> man | C28: Ingrid Solberg | D28: Ordinær dag | E28: 0.33333333 | F28: 0.66666667 | G28: =IF(OR(E28="",F28=""),"",ROUND(MOD(F28-E28,1)*24,2)) -> 8 | H28: 0.5 | I28: =IF(G28="","",G28-IF(H28="",0,H28)) -> 7.5 | J28: =IF(I28="","",IF(D28="",1,IFERROR(HLOOKUP(D28,$G$2:$J$3,2,FALSE()),1))) -> 1 | K28: =IF(I28="","",MAX(0,I28-$C$3)) -> 0 | L28: =IF(I28="","",ROUND((I28-K28)*J28+K28*$C$4,2)) -> 7.5
A29: Sum måned — Ingrid Solberg | G29: =SUM(G7:G28) -> 176.5 | H29: =SUM(H7:H28) -> 11 | I29: =SUM(I7:I28) -> 165.5 | K29: =SUM(K7:K28) -> 1 | L29: =SUM(L7:L28) -> 184.9
A30: 46328 | B30: =IF(A30="","",CHOOSE(WEEKDAY(A30),"søn","man","tir","ons","tor","fre","lør")) -> man | C30: Henrik Berg | D30: Ordinær dag | E30: 0.3125 | F30: 0.64583333 | G30: =IF(OR(E30="",F30=""),"",ROUND(MOD(F30-E30,1)*24,2)) -> 8 | H30: 0.5 | I30: =IF(G30="","",G30-IF(H30="",0,H30)) -> 7.5 | J30: =IF(I30="","",IF(D30="",1,IFERROR(HLOOKUP(D30,$G$2:$J$3,2,FALSE()),1))) -> 1 | K30: =IF(I30="","",MAX(0,I30-$C$3)) -> 0 | L30: =IF(I30="","",ROUND((I30-K30)*J30+K30*$C$4,2)) -> 7.5
A31: 46329 | B31: =IF(A31="","",CHOOSE(WEEKDAY(A31),"søn","man","tir","ons","tor","fre","lør")) -> tir | C31: Henrik Berg | D31: Ordinær + overtid | E31: 0.33333333 | F31: 0.75 | G31: =IF(OR(E31="",F31=""),"",ROUND(MOD(F31-E31,1)*24,2)) -> 10 | H31: 0.5 | I31: =IF(G31="","",G31-IF(H31="",0,H31)) -> 9.5 | J31: =IF(I31="","",IF(D31="",1,IFERROR(HLOOKUP(D31,$G$2:$J$3,2,FALSE()),1))) -> 1 | K31: =IF(I31="","",MAX(0,I31-$C$3)) -> 0.5 | L31: =IF(I31="","",ROUND((I31-K31)*J31+K31*$C$4,2)) -> 9.7 | M31: 0,5 t over 9 t/døgn
A32: 46330 | B32: =IF(A32="","",CHOOSE(WEEKDAY(A32),"søn","man","tir","ons","tor","fre","lør")) -> ons | C32: Henrik Berg | D32: Ordinær dag | E32: 0.3125 | F32: 0.64583333 | G32: =IF(OR(E32="",F32=""),"",ROUND(MOD(F32-E32,1)*24,2)) -> 8 | H32: 0.5 | I32: =IF(G32="","",G32-IF(H32="",0,H32)) -> 7.5 | J32: =IF(I32="","",IF(D32="",1,IFERROR(HLOOKUP(D32,$G$2:$J$3,2,FALSE()),1))) -> 1 | K32: =IF(I32="","",MAX(0,I32-$C$3)) -> 0 | L32: =IF(I32="","",ROUND((I32-K32)*J32+K32*$C$4,2)) -> 7.5
A33: 46331 | B33: =IF(A33="","",CHOOSE(WEEKDAY(A33),"søn","man","tir","ons","tor","fre","lør")) -> tor | C33: Henrik Berg | D33: Ordinær dag | E33: 0.3125 | F33: 0.64583333 | G33: =IF(OR(E33="",F33=""),"",ROUND(MOD(F33-E33,1)*24,2)) -> 8 | H33: 0.5 | I33: =IF(G33="","",G33-IF(H33="",0,H33)) -> 7.5 | J33: =IF(I33="","",IF(D33="",1,IFERROR(HLOOKUP(D33,$G$2:$J$3,2,FALSE()),1))) -> 1 | K33: =IF(I33="","",MAX(0,I33-$C$3)) -> 0 | L33: =IF(I33="","",ROUND((I33-K33)*J33+K33*$C$4,2)) -> 7.5
A34: 46332 | B34: =IF(A34="","",CHOOSE(WEEKDAY(A34),"søn","man","tir","ons","tor","fre","lør")) -> fre | C34: Henrik Berg | D34: Ordinær dag | E34: 0.3125 | F34: 0.64583333 | G34: =IF(OR(E34="",F34=""),"",ROUND(MOD(F34-E34,1)*24,2)) -> 8 | H34: 0.5 | I34: =IF(G34="","",G34-IF(H34="",0,H34)) -> 7.5 | J34: =IF(I34="","",IF(D34="",1,IFERROR(HLOOKUP(D34,$G$2:$J$3,2,FALSE()),1))) -> 1 | K34: =IF(I34="","",MAX(0,I34-$C$3)) -> 0 | L34: =IF(I34="","",ROUND((I34-K34)*J34+K34*$C$4,2)) -> 7.5
A35: 46335 | B35: =IF(A35="","",CHOOSE(WEEKDAY(A35),"søn","man","tir","ons","tor","fre","lør")) -> man | C35: Henrik Berg | D35: Ordinær dag | E35: 0.3125 | F35: 0.64583333 | G35: =IF(OR(E35="",F35=""),"",ROUND(MOD(F35-E35,1)*24,2)) -> 8 | H35: 0.5 | I35: =IF(G35="","",G35-IF(H35="",0,H35)) -> 7.5 | J35: =IF(I35="","",IF(D35="",1,IFERROR(HLOOKUP(D35,$G$2:$J$3,2,FALSE()),1))) -> 1 | K35: =IF(I35="","",MAX(0,I35-$C$3)) -> 0 | L35: =IF(I35="","",ROUND((I35-K35)*J35+K35*$C$4,2)) -> 7.5
A36: 46336 | B36: =IF(A36="","",CHOOSE(WEEKDAY(A36),"søn","man","tir","ons","tor","fre","lør")) -> tir | C36: Henrik Berg | D36: Ordinær dag | E36: 0.3125 | F36: 0.64583333 | G36: =IF(OR(E36="",F36=""),"",ROUND(MOD(F36-E36,1)*24,2)) -> 8 | H36: 0.5 | I36: =IF(G36="","",G36-IF(H36="",0,H36)) -> 7.5 | J36: =IF(I36="","",IF(D36="",1,IFERROR(HLOOKUP(D36,$G$2:$J$3,2,FALSE()),1))) -> 1 | K36: =IF(I36="","",MAX(0,I36-$C$3)) -> 0 | L36: =IF(I36="","",ROUND((I36-K36)*J36+K36*$C$4,2)) -> 7.5
A37: 46337 | B37: =IF(A37="","",CHOOSE(WEEKDAY(A37),"søn","man","tir","ons","tor","fre","lør")) -> ons | C37: Henrik Berg | D37: Ordinær dag | E37: 0.3125 | F37: 0.64583333 | G37: =IF(OR(E37="",F37=""),"",ROUND(MOD(F37-E37,1)*24,2)) -> 8 | H37: 0.5 | I37: =IF(G37="","",G37-IF(H37="",0,H37)) -> 7.5 | J37: =IF(I37="","",IF(D37="",1,IFERROR(HLOOKUP(D37,$G$2:$J$3,2,FALSE()),1))) -> 1 | K37: =IF(I37="","",MAX(0,I37-$C$3)) -> 0 | L37: =IF(I37="","",ROUND((I37-K37)*J37+K37*$C$4,2)) -> 7.5
A38: 46338 | B38: =IF(A38="","",CHOOSE(WEEKDAY(A38),"søn","man","tir","ons","tor","fre","lør")) -> tor | C38: Henrik Berg | D38: Ordinær dag | E38: 0.3125 | F38: 0.64583333 | G38: =IF(OR(E38="",F38=""),"",ROUND(MOD(F38-E38,1)*24,2)) -> 8 | H38: 0.5 | I38: =IF(G38="","",G38-IF(H38="",0,H38)) -> 7.5 | J38: =IF(I38="","",IF(D38="",1,IFERROR(HLOOKUP(D38,$G$2:$J$3,2,FALSE()),1))) -> 1 | K38: =IF(I38="","",MAX(0,I38-$C$3)) -> 0 | L38: =IF(I38="","",ROUND((I38-K38)*J38+K38*$C$4,2)) -> 7.5
A39: 46339 | B39: =IF(A39="","",CHOOSE(WEEKDAY(A39),"søn","man","tir","ons","tor","fre","lør")) -> fre | C39: Henrik Berg | D39: Ordinær dag | E39: 0.3125 | F39: 0.64583333 | G39: =IF(OR(E39="",F39=""),"",ROUND(MOD(F39-E39,1)*24,2)) -> 8 | H39: 0.5 | I39: =IF(G39="","",G39-IF(H39="",0,H39)) -> 7.5 | J39: =IF(I39="","",IF(D39="",1,IFERROR(HLOOKUP(D39,$G$2:$J$3,2,FALSE()),1))) -> 1 | K39: =IF(I39="","",MAX(0,I39-$C$3)) -> 0 | L39: =IF(I39="","",ROUND((I39-K39)*J39+K39*$C$4,2)) -> 7.5
A40: 46342 | B40: =IF(A40="","",CHOOSE(WEEKDAY(A40),"søn","man","tir","ons","tor","fre","lør")) -> man | C40: Henrik Berg | D40: Ordinær dag | E40: 0.3125 | F40: 0.64583333 | G40: =IF(OR(E40="",F40=""),"",ROUND(MOD(F40-E40,1)*24,2)) -> 8 | H40: 0.5 | I40: =IF(G40="","",G40-IF(H40="",0,H40)) -> 7.5 | J40: =IF(I40="","",IF(D40="",1,IFERROR(HLOOKUP(D40,$G$2:$J$3,2,FALSE()),1))) -> 1 | K40: =IF(I40="","",MAX(0,I40-$C$3)) -> 0 | L40: =IF(I40="","",ROUND((I40-K40)*J40+K40*$C$4,2)) -> 7.5
A41: 46343 | B41: =IF(A41="","",CHOOSE(WEEKDAY(A41),"søn","man","tir","ons","tor","fre","lør")) -> tir | C41: Henrik Berg | D41: Ordinær dag | E41: 0.3125 | F41: 0.64583333 | G41: =IF(OR(E41="",F41=""),"",ROUND(MOD(F41-E41,1)*24,2)) -> 8 | H41: 0.5 | I41: =IF(G41="","",G41-IF(H41="",0,H41)) -> 7.5 | J41: =IF(I41="","",IF(D41="",1,IFERROR(HLOOKUP(D41,$G$2:$J$3,2,FALSE()),1))) -> 1 | K41: =IF(I41="","",MAX(0,I41-$C$3)) -> 0 | L41: =IF(I41="","",ROUND((I41-K41)*J41+K41*$C$4,2)) -> 7.5
A42: 46344 | B42: =IF(A42="","",CHOOSE(WEEKDAY(A42),"søn","man","tir","ons","tor","fre","lør")) -> ons | C42: Henrik Berg | D42: Ordinær dag | E42: 0.3125 | F42: 0.64583333 | G42: =IF(OR(E42="",F42=""),"",ROUND(MOD(F42-E42,1)*24,2)) -> 8 | H42: 0.5 | I42: =IF(G42="","",G42-IF(H42="",0,H42)) -> 7.5 | J42: =IF(I42="","",IF(D42="",1,IFERROR(HLOOKUP(D42,$G$2:$J$3,2,FALSE()),1))) -> 1 | K42: =IF(I42="","",MAX(0,I42-$C$3)) -> 0 | L42: =IF(I42="","",ROUND((I42-K42)*J42+K42*$C$4,2)) -> 7.5
A43: 46345 | B43: =IF(A43="","",CHOOSE(WEEKDAY(A43),"søn","man","tir","ons","tor","fre","lør")) -> tor | C43: Henrik Berg | D43: Ordinær + overtid | E43: 0.33333333 | F43: 0.77083333 | G43: =IF(OR(E43="",F43=""),"",ROUND(MOD(F43-E43,1)*24,2)) -> 10.5 | H43: 0.5 | I43: =IF(G43="","",G43-IF(H43="",0,H43)) -> 10 | J43: =IF(I43="","",IF(D43="",1,IFERROR(HLOOKUP(D43,$G$2:$J$3,2,FALSE()),1))) -> 1 | K43: =IF(I43="","",MAX(0,I43-$C$3)) -> 1 | L43: =IF(I43="","",ROUND((I43-K43)*J43+K43*$C$4,2)) -> 10.4 | M43: Forhåndsgodkjent overtid
A44: 46346 | B44: =IF(A44="","",CHOOSE(WEEKDAY(A44),"søn","man","tir","ons","tor","fre","lør")) -> fre | C44: Henrik Berg | D44: Ordinær dag | E44: 0.3125 | F44: 0.64583333 | G44: =IF(OR(E44="",F44=""),"",ROUND(MOD(F44-E44,1)*24,2)) -> 8 | H44: 0.5 | I44: =IF(G44="","",G44-IF(H44="",0,H44)) -> 7.5 | J44: =IF(I44="","",IF(D44="",1,IFERROR(HLOOKUP(D44,$G$2:$J$3,2,FALSE()),1))) -> 1 | K44: =IF(I44="","",MAX(0,I44-$C$3)) -> 0 | L44: =IF(I44="","",ROUND((I44-K44)*J44+K44*$C$4,2)) -> 7.5
A45: 46349 | B45: =IF(A45="","",CHOOSE(WEEKDAY(A45),"søn","man","tir","ons","tor","fre","lør")) -> man | C45: Henrik Berg | D45: Ordinær dag | E45: 0.3125 | F45: 0.64583333 | G45: =IF(OR(E45="",F45=""),"",ROUND(MOD(F45-E45,1)*24,2)) -> 8 | H45: 0.5 | I45: =IF(G45="","",G45-IF(H45="",0,H45)) -> 7.5 | J45: =IF(I45="","",IF(D45="",1,IFERROR(HLOOKUP(D45,$G$2:$J$3,2,FALSE()),1))) -> 1 | K45: =IF(I45="","",MAX(0,I45-$C$3)) -> 0 | L45: =IF(I45="","",ROUND((I45-K45)*J45+K45*$C$4,2)) -> 7.5
A46: 46350 | B46: =IF(A46="","",CHOOSE(WEEKDAY(A46),"søn","man","tir","ons","tor","fre","lør")) -> tir | C46: Henrik Berg | D46: Ordinær dag | E46: 0.3125 | F46: 0.64583333 | G46: =IF(OR(E46="",F46=""),"",ROUND(MOD(F46-E46,1)*24,2)) -> 8 | H46: 0.5 | I46: =IF(G46="","",G46-IF(H46="",0,H46)) -> 7.5 | J46: =IF(I46="","",IF(D46="",1,IFERROR(HLOOKUP(D46,$G$2:$J$3,2,FALSE()),1))) -> 1 | K46: =IF(I46="","",MAX(0,I46-$C$3)) -> 0 | L46: =IF(I46="","",ROUND((I46-K46)*J46+K46*$C$4,2)) -> 7.5
A47: 46351 | B47: =IF(A47="","",CHOOSE(WEEKDAY(A47),"søn","man","tir","ons","tor","fre","lør")) -> ons | C47: Henrik Berg | D47: Ordinær dag | E47: 0.3125 | F47: 0.64583333 | G47: =IF(OR(E47="",F47=""),"",ROUND(MOD(F47-E47,1)*24,2)) -> 8 | H47: 0.5 | I47: =IF(G47="","",G47-IF(H47="",0,H47)) -> 7.5 | J47: =IF(I47="","",IF(D47="",1,IFERROR(HLOOKUP(D47,$G$2:$J$3,2,FALSE()),1))) -> 1 | K47: =IF(I47="","",MAX(0,I47-$C$3)) -> 0 | L47: =IF(I47="","",ROUND((I47-K47)*J47+K47*$C$4,2)) -> 7.5
A48: 46352 | B48: =IF(A48="","",CHOOSE(WEEKDAY(A48),"søn","man","tir","ons","tor","fre","lør")) -> tor | C48: Henrik Berg | D48: Ordinær dag | E48: 0.3125 | F48: 0.64583333 | G48: =IF(OR(E48="",F48=""),"",ROUND(MOD(F48-E48,1)*24,2)) -> 8 | H48: 0.5 | I48: =IF(G48="","",G48-IF(H48="",0,H48)) -> 7.5 | J48: =IF(I48="","",IF(D48="",1,IFERROR(HLOOKUP(D48,$G$2:$J$3,2,FALSE()),1))) -> 1 | K48: =IF(I48="","",MAX(0,I48-$C$3)) -> 0 | L48: =IF(I48="","",ROUND((I48-K48)*J48+K48*$C$4,2)) -> 7.5
A49: 46353 | B49: =IF(A49="","",CHOOSE(WEEKDAY(A49),"søn","man","tir","ons","tor","fre","lør")) -> fre | C49: Henrik Berg | D49: Fravær | G49: =IF(OR(E49="",F49=""),"",ROUND(MOD(F49-E49,1)*24,2)) | I49: =IF(G49="","",G49-IF(H49="",0,H49)) | J49: =IF(I49="","",IF(D49="",1,IFERROR(HLOOKUP(D49,$G$2:$J$3,2,FALSE()),1))) | K49: =IF(I49="","",MAX(0,I49-$C$3)) | L49: =IF(I49="","",ROUND((I49-K49)*J49+K49*$C$4,2)) | M49: Egenmelding (fraværskode, ingen timer)
A50: 46356 | B50: =IF(A50="","",CHOOSE(WEEKDAY(A50),"søn","man","tir","ons","tor","fre","lør")) -> man | C50: Henrik Berg | D50: Ordinær dag | E50: 0.3125 | F50: 0.64583333 | G50: =IF(OR(E50="",F50=""),"",ROUND(MOD(F50-E50,1)*24,2)) -> 8 | H50: 0.5 | I50: =IF(G50="","",G50-IF(H50="",0,H50)) -> 7.5 | J50: =IF(I50="","",IF(D50="",1,IFERROR(HLOOKUP(D50,$G$2:$J$3,2,FALSE()),1))) -> 1 | K50: =IF(I50="","",MAX(0,I50-$C$3)) -> 0 | L50: =IF(I50="","",ROUND((I50-K50)*J50+K50*$C$4,2)) -> 7.5
A51: Sum måned — Henrik Berg | G51: =SUM(G30:G50) -> 164.5 | H51: =SUM(H30:H50) -> 10 | I51: =SUM(I30:I50) -> 154.5 | K51: =SUM(K30:K50) -> 1.5 | L51: =SUM(L30:L50) -> 155.1
A52: 46328 | B52: =IF(A52="","",CHOOSE(WEEKDAY(A52),"søn","man","tir","ons","tor","fre","lør")) -> man | C52: Amira Nilsen | D52: Kveldsskift | E52: 0.66666667 | F52: 0.91666667 | G52: =IF(OR(E52="",F52=""),"",ROUND(MOD(F52-E52,1)*24,2)) -> 6 | H52: 0.5 | I52: =IF(G52="","",G52-IF(H52="",0,H52)) -> 5.5 | J52: =IF(I52="","",IF(D52="",1,IFERROR(HLOOKUP(D52,$G$2:$J$3,2,FALSE()),1))) -> 1.3 | K52: =IF(I52="","",MAX(0,I52-$C$3)) -> 0 | L52: =IF(I52="","",ROUND((I52-K52)*J52+K52*$C$4,2)) -> 7.15
A53: 46330 | B53: =IF(A53="","",CHOOSE(WEEKDAY(A53),"søn","man","tir","ons","tor","fre","lør")) -> ons | C53: Amira Nilsen | D53: Kveldsskift | E53: 0.66666667 | F53: 0.91666667 | G53: =IF(OR(E53="",F53=""),"",ROUND(MOD(F53-E53,1)*24,2)) -> 6 | H53: 0.5 | I53: =IF(G53="","",G53-IF(H53="",0,H53)) -> 5.5 | J53: =IF(I53="","",IF(D53="",1,IFERROR(HLOOKUP(D53,$G$2:$J$3,2,FALSE()),1))) -> 1.3 | K53: =IF(I53="","",MAX(0,I53-$C$3)) -> 0 | L53: =IF(I53="","",ROUND((I53-K53)*J53+K53*$C$4,2)) -> 7.15
A54: 46331 | B54: =IF(A54="","",CHOOSE(WEEKDAY(A54),"søn","man","tir","ons","tor","fre","lør")) -> tor | C54: Amira Nilsen | D54: Kveldsskift | E54: 0.70833333 | F54: 0.91666667 | G54: =IF(OR(E54="",F54=""),"",ROUND(MOD(F54-E54,1)*24,2)) -> 5 | I54: =IF(G54="","",G54-IF(H54="",0,H54)) -> 5 | J54: =IF(I54="","",IF(D54="",1,IFERROR(HLOOKUP(D54,$G$2:$J$3,2,FALSE()),1))) -> 1.3 | K54: =IF(I54="","",MAX(0,I54-$C$3)) -> 0 | L54: =IF(I54="","",ROUND((I54-K54)*J54+K54*$C$4,2)) -> 6.5 | M54: Under 5,5 t: ingen pausekrav
A55: 46335 | B55: =IF(A55="","",CHOOSE(WEEKDAY(A55),"søn","man","tir","ons","tor","fre","lør")) -> man | C55: Amira Nilsen | D55: Kveldsskift | E55: 0.66666667 | F55: 0.91666667 | G55: =IF(OR(E55="",F55=""),"",ROUND(MOD(F55-E55,1)*24,2)) -> 6 | H55: 0.5 | I55: =IF(G55="","",G55-IF(H55="",0,H55)) -> 5.5 | J55: =IF(I55="","",IF(D55="",1,IFERROR(HLOOKUP(D55,$G$2:$J$3,2,FALSE()),1))) -> 1.3 | K55: =IF(I55="","",MAX(0,I55-$C$3)) -> 0 | L55: =IF(I55="","",ROUND((I55-K55)*J55+K55*$C$4,2)) -> 7.15
A56: 46337 | B56: =IF(A56="","",CHOOSE(WEEKDAY(A56),"søn","man","tir","ons","tor","fre","lør")) -> ons | C56: Amira Nilsen | D56: Kveldsskift | E56: 0.66666667 | F56: 0.91666667 | G56: =IF(OR(E56="",F56=""),"",ROUND(MOD(F56-E56,1)*24,2)) -> 6 | H56: 0.5 | I56: =IF(G56="","",G56-IF(H56="",0,H56)) -> 5.5 | J56: =IF(I56="","",IF(D56="",1,IFERROR(HLOOKUP(D56,$G$2:$J$3,2,FALSE()),1))) -> 1.3 | K56: =IF(I56="","",MAX(0,I56-$C$3)) -> 0 | L56: =IF(I56="","",ROUND((I56-K56)*J56+K56*$C$4,2)) -> 7.15
A57: 46338 | B57: =IF(A57="","",CHOOSE(WEEKDAY(A57),"søn","man","tir","ons","tor","fre","lør")) -> tor | C57: Amira Nilsen | D57: Kveldsskift | E57: 0.66666667 | F57: 0.91666667 | G57: =IF(OR(E57="",F57=""),"",ROUND(MOD(F57-E57,1)*24,2)) -> 6 | H57: 0.5 | I57: =IF(G57="","",G57-IF(H57="",0,H57)) -> 5.5 | J57: =IF(I57="","",IF(D57="",1,IFERROR(HLOOKUP(D57,$G$2:$J$3,2,FALSE()),1))) -> 1.3 | K57: =IF(I57="","",MAX(0,I57-$C$3)) -> 0 | L57: =IF(I57="","",ROUND((I57-K57)*J57+K57*$C$4,2)) -> 7.15
A58: 46342 | B58: =IF(A58="","",CHOOSE(WEEKDAY(A58),"søn","man","tir","ons","tor","fre","lør")) -> man | C58: Amira Nilsen | D58: Kveldsskift | E58: 0.66666667 | F58: 0.91666667 | G58: =IF(OR(E58="",F58=""),"",ROUND(MOD(F58-E58,1)*24,2)) -> 6 | H58: 0.5 | I58: =IF(G58="","",G58-IF(H58="",0,H58)) -> 5.5 | J58: =IF(I58="","",IF(D58="",1,IFERROR(HLOOKUP(D58,$G$2:$J$3,2,FALSE()),1))) -> 1.3 | K58: =IF(I58="","",MAX(0,I58-$C$3)) -> 0 | L58: =IF(I58="","",ROUND((I58-K58)*J58+K58*$C$4,2)) -> 7.15
A59: 46344 | B59: =IF(A59="","",CHOOSE(WEEKDAY(A59),"søn","man","tir","ons","tor","fre","lør")) -> ons | C59: Amira Nilsen | D59: Kveldsskift | E59: 0.66666667 | F59: 0.91666667 | G59: =IF(OR(E59="",F59=""),"",ROUND(MOD(F59-E59,1)*24,2)) -> 6 | H59: 0.5 | I59: =IF(G59="","",G59-IF(H59="",0,H59)) -> 5.5 | J59: =IF(I59="","",IF(D59="",1,IFERROR(HLOOKUP(D59,$G$2:$J$3,2,FALSE()),1))) -> 1.3 | K59: =IF(I59="","",MAX(0,I59-$C$3)) -> 0 | L59: =IF(I59="","",ROUND((I59-K59)*J59+K59*$C$4,2)) -> 7.15
A60: 46345 | B60: =IF(A60="","",CHOOSE(WEEKDAY(A60),"søn","man","tir","ons","tor","fre","lør")) -> tor | C60: Amira Nilsen | D60: Kveldsskift | E60: 0.66666667 | F60: 0.91666667 | G60: =IF(OR(E60="",F60=""),"",ROUND(MOD(F60-E60,1)*24,2)) -> 6 | H60: 0.5 | I60: =IF(G60="","",G60-IF(H60="",0,H60)) -> 5.5 | J60: =IF(I60="","",IF(D60="",1,IFERROR(HLOOKUP(D60,$G$2:$J$3,2,FALSE()),1))) -> 1.3 | K60: =IF(I60="","",MAX(0,I60-$C$3)) -> 0 | L60: =IF(I60="","",ROUND((I60-K60)*J60+K60*$C$4,2)) -> 7.15
A61: 46348 | B61: =IF(A61="","",CHOOSE(WEEKDAY(A61),"søn","man","tir","ons","tor","fre","lør")) -> søn | C61: Amira Nilsen | D61: Ekstraarbeid | E61: 0.41666667 | F61: 0.66666667 | G61: =IF(OR(E61="",F61=""),"",ROUND(MOD(F61-E61,1)*24,2)) -> 6 | H61: 0.5 | I61: =IF(G61="","",G61-IF(H61="",0,H61)) -> 5.5 | J61: =IF(I61="","",IF(D61="",1,IFERROR(HLOOKUP(D61,$G$2:$J$3,2,FALSE()),1))) -> 2 | K61: =IF(I61="","",MAX(0,I61-$C$3)) -> 0 | L61: =IF(I61="","",ROUND((I61-K61)*J61+K61*$C$4,2)) -> 11
A62: 46349 | B62: =IF(A62="","",CHOOSE(WEEKDAY(A62),"søn","man","tir","ons","tor","fre","lør")) -> man | C62: Amira Nilsen | D62: Kveldsskift | E62: 0.66666667 | F62: 0.91666667 | G62: =IF(OR(E62="",F62=""),"",ROUND(MOD(F62-E62,1)*24,2)) -> 6 | H62: 0.5 | I62: =IF(G62="","",G62-IF(H62="",0,H62)) -> 5.5 | J62: =IF(I62="","",IF(D62="",1,IFERROR(HLOOKUP(D62,$G$2:$J$3,2,FALSE()),1))) -> 1.3 | K62: =IF(I62="","",MAX(0,I62-$C$3)) -> 0 | L62: =IF(I62="","",ROUND((I62-K62)*J62+K62*$C$4,2)) -> 7.15
A63: 46351 | B63: =IF(A63="","",CHOOSE(WEEKDAY(A63),"søn","man","tir","ons","tor","fre","lør")) -> ons | C63: Amira Nilsen | D63: Kveldsskift | E63: 0.66666667 | F63: 0.91666667 | G63: =IF(OR(E63="",F63=""),"",ROUND(MOD(F63-E63,1)*24,2)) -> 6 | H63: 0.5 | I63: =IF(G63="","",G63-IF(H63="",0,H63)) -> 5.5 | J63: =IF(I63="","",IF(D63="",1,IFERROR(HLOOKUP(D63,$G$2:$J$3,2,FALSE()),1))) -> 1.3 | K63: =IF(I63="","",MAX(0,I63-$C$3)) -> 0 | L63: =IF(I63="","",ROUND((I63-K63)*J63+K63*$C$4,2)) -> 7.15
A64: 46352 | B64: =IF(A64="","",CHOOSE(WEEKDAY(A64),"søn","man","tir","ons","tor","fre","lør")) -> tor | C64: Amira Nilsen | D64: Kveldsskift | E64: 0.66666667 | F64: 0.91666667 | G64: =IF(OR(E64="",F64=""),"",ROUND(MOD(F64-E64,1)*24,2)) -> 6 | H64: 0.5 | I64: =IF(G64="","",G64-IF(H64="",0,H64)) -> 5.5 | J64: =IF(I64="","",IF(D64="",1,IFERROR(HLOOKUP(D64,$G$2:$J$3,2,FALSE()),1))) -> 1.3 | K64: =IF(I64="","",MAX(0,I64-$C$3)) -> 0 | L64: =IF(I64="","",ROUND((I64-K64)*J64+K64*$C$4,2)) -> 7.15
A65: 46356 | B65: =IF(A65="","",CHOOSE(WEEKDAY(A65),"søn","man","tir","ons","tor","fre","lør")) -> man | C65: Amira Nilsen | D65: Kveldsskift | E65: 0.66666667 | F65: 0.91666667 | G65: =IF(OR(E65="",F65=""),"",ROUND(MOD(F65-E65,1)*24,2)) -> 6 | H65: 0.5 | I65: =IF(G65="","",G65-IF(H65="",0,H65)) -> 5.5 | J65: =IF(I65="","",IF(D65="",1,IFERROR(HLOOKUP(D65,$G$2:$J$3,2,FALSE()),1))) -> 1.3 | K65: =IF(I65="","",MAX(0,I65-$C$3)) -> 0 | L65: =IF(I65="","",ROUND((I65-K65)*J65+K65*$C$4,2)) -> 7.15
A66: Sum måned — Amira Nilsen | G66: =SUM(G52:G65) -> 83 | H66: =SUM(H52:H65) -> 6.5 | I66: =SUM(I52:I65) -> 76.5 | K66: =SUM(K52:K65) -> 0 | L66: =SUM(L52:L65) -> 103.3
A67: Ledige rader for flere registreringer (formlene er lagt inn)
B68: =IF(A68="","",CHOOSE(WEEKDAY(A68),"søn","man","tir","ons","tor","fre","lør")) | G68: =IF(OR(E68="",F68=""),"",ROUND(MOD(F68-E68,1)*24,2)) | I68: =IF(G68="","",G68-IF(H68="",0,H68)) | J68: =IF(I68="","",IF(D68="",1,IFERROR(HLOOKUP(D68,$G$2:$J$3,2,FALSE()),1))) | K68: =IF(I68="","",MAX(0,I68-$C$3)) | L68: =IF(I68="","",ROUND((I68-K68)*J68+K68*$C$4,2))
B69: =IF(A69="","",CHOOSE(WEEKDAY(A69),"søn","man","tir","ons","tor","fre","lør")) | G69: =IF(OR(E69="",F69=""),"",ROUND(MOD(F69-E69,1)*24,2)) | I69: =IF(G69="","",G69-IF(H69="",0,H69)) | J69: =IF(I69="","",IF(D69="",1,IFERROR(HLOOKUP(D69,$G$2:$J$3,2,FALSE()),1))) | K69: =IF(I69="","",MAX(0,I69-$C$3)) | L69: =IF(I69="","",ROUND((I69-K69)*J69+K69*$C$4,2))
B70: =IF(A70="","",CHOOSE(WEEKDAY(A70),"søn","man","tir","ons","tor","fre","lør")) | G70: =IF(OR(E70="",F70=""),"",ROUND(MOD(F70-E70,1)*24,2)) | I70: =IF(G70="","",G70-IF(H70="",0,H70)) | J70: =IF(I70="","",IF(D70="",1,IFERROR(HLOOKUP(D70,$G$2:$J$3,2,FALSE()),1))) | K70: =IF(I70="","",MAX(0,I70-$C$3)) | L70: =IF(I70="","",ROUND((I70-K70)*J70+K70*$C$4,2))
B71: =IF(A71="","",CHOOSE(WEEKDAY(A71),"søn","man","tir","ons","tor","fre","lør")) | G71: =IF(OR(E71="",F71=""),"",ROUND(MOD(F71-E71,1)*24,2)) | I71: =IF(G71="","",G71-IF(H71="",0,H71)) | J71: =IF(I71="","",IF(D71="",1,IFERROR(HLOOKUP(D71,$G$2:$J$3,2,FALSE()),1))) | K71: =IF(I71="","",MAX(0,I71-$C$3)) | L71: =IF(I71="","",ROUND((I71-K71)*J71+K71*$C$4,2))
B72: =IF(A72="","",CHOOSE(WEEKDAY(A72),"søn","man","tir","ons","tor","fre","lør")) | G72: =IF(OR(E72="",F72=""),"",ROUND(MOD(F72-E72,1)*24,2)) | I72: =IF(G72="","",G72-IF(H72="",0,H72)) | J72: =IF(I72="","",IF(D72="",1,IFERROR(HLOOKUP(D72,$G$2:$J$3,2,FALSE()),1))) | K72: =IF(I72="","",MAX(0,I72-$C$3)) | L72: =IF(I72="","",ROUND((I72-K72)*J72+K72*$C$4,2))
B73: =IF(A73="","",CHOOSE(WEEKDAY(A73),"søn","man","tir","ons","tor","fre","lør")) | G73: =IF(OR(E73="",F73=""),"",ROUND(MOD(F73-E73,1)*24,2)) | I73: =IF(G73="","",G73-IF(H73="",0,H73)) | J73: =IF(I73="","",IF(D73="",1,IFERROR(HLOOKUP(D73,$G$2:$J$3,2,FALSE()),1))) | K73: =IF(I73="","",MAX(0,I73-$C$3)) | L73: =IF(I73="","",ROUND((I73-K73)*J73+K73*$C$4,2))
B74: =IF(A74="","",CHOOSE(WEEKDAY(A74),"søn","man","tir","ons","tor","fre","lør")) | G74: =IF(OR(E74="",F74=""),"",ROUND(MOD(F74-E74,1)*24,2)) | I74: =IF(G74="","",G74-IF(H74="",0,H74)) | J74: =IF(I74="","",IF(D74="",1,IFERROR(HLOOKUP(D74,$G$2:$J$3,2,FALSE()),1))) | K74: =IF(I74="","",MAX(0,I74-$C$3)) | L74: =IF(I74="","",ROUND((I74-K74)*J74+K74*$C$4,2))
B75: =IF(A75="","",CHOOSE(WEEKDAY(A75),"søn","man","tir","ons","tor","fre","lør")) | G75: =IF(OR(E75="",F75=""),"",ROUND(MOD(F75-E75,1)*24,2)) | I75: =IF(G75="","",G75-IF(H75="",0,H75)) | J75: =IF(I75="","",IF(D75="",1,IFERROR(HLOOKUP(D75,$G$2:$J$3,2,FALSE()),1))) | K75: =IF(I75="","",MAX(0,I75-$C$3)) | L75: =IF(I75="","",ROUND((I75-K75)*J75+K75*$C$4,2))
B76: =IF(A76="","",CHOOSE(WEEKDAY(A76),"søn","man","tir","ons","tor","fre","lør")) | G76: =IF(OR(E76="",F76=""),"",ROUND(MOD(F76-E76,1)*24,2)) | I76: =IF(G76="","",G76-IF(H76="",0,H76)) | J76: =IF(I76="","",IF(D76="",1,IFERROR(HLOOKUP(D76,$G$2:$J$3,2,FALSE()),1))) | K76: =IF(I76="","",MAX(0,I76-$C$3)) | L76: =IF(I76="","",ROUND((I76-K76)*J76+K76*$C$4,2))
B77: =IF(A77="","",CHOOSE(WEEKDAY(A77),"søn","man","tir","ons","tor","fre","lør")) | G77: =IF(OR(E77="",F77=""),"",ROUND(MOD(F77-E77,1)*24,2)) | I77: =IF(G77="","",G77-IF(H77="",0,H77)) | J77: =IF(I77="","",IF(D77="",1,IFERROR(HLOOKUP(D77,$G$2:$J$3,2,FALSE()),1))) | K77: =IF(I77="","",MAX(0,I77-$C$3)) | L77: =IF(I77="","",ROUND((I77-K77)*J77+K77*$C$4,2))
A78: Sum måned (alle ansatte) | G78: =SUMIF($C$7:$C$77,"<>",G7:G77) -> 424 | H78: =SUMIF($C$7:$C$77,"<>",H7:H77) -> 27.5 | I78: =SUMIF($C$7:$C$77,"<>",I7:I77) -> 396.5 | K78: =SUMIF($C$7:$C$77,"<>",K7:K77) -> 2.5 | L78: =SUMIF($C$7:$C$77,"<>",L7:L77) -> 443.3
A80: Krediterte timer = (faktisk arbeidstid − overtid) × tilleggsfaktor + overtid × overtidsfaktor. Eks. onsdag 11.11: 9 × 1,0 + 1 × 1,4 = 10,40.
A81: Faktisk arbeidstid = bruttotid − pausefradrag (timer, 0,50 = 30 min). Vakter over midnatt regnes riktig (24:00 føres som 00:00).
A82: Pause der den ansatte ikke fritt kan forlate arbeidsplassen regnes som arbeidstid (aml § 10-9) – før da 0 i pausefradrag.
A83: Glemte stemplinger: ikke overskriv i stillhet – noter rettelsen og hvem som godkjente den i Merknad.
A84: Gult = fylles ut; grått = beregnes (låst, uten passord). Filen teller bare timer – lønn beregnes i lønnssystemet. Sjekk lovdata.no / arbeidstilsynet.no.

Sheet Oppsummering
A1: Oppsummering per ansatt (måned) | E1: Hypotetisk eksempel — orova.vn
A3: Måned: | B3: =Timeliste!C2 -> 46327 | C3: =Timeliste!D2 -> 46356
A4: Grense per døgn (t): | B4: =Timeliste!C3 -> 9 | C4: alminnelig arbeidstid: 9 t per 24 t (aml § 10-4)
A5: Grense per uke (t): | B5: 40 | C5: alminnelig arbeidstid: 40 t per 7 dager (aml § 10-4)
A7: Ansatt | B7: Dager med registrering | C7: Faktisk arbeidstid (t) | D7: Timer over 9 t/døgn | E7: Timer over 40 t/uke | F7: Krediterte timer | G7: Attestert av leder (dato)
A8: Ingrid Solberg | B8: =IF(A8="","",COUNTIFS(Timeliste!$C$7:$C$77,A8,Timeliste!$I$7:$I$77,">0")) -> 22 | C8: =IF(A8="","",SUMIF(Timeliste!$C$7:$C$77,A8,Timeliste!$I$7:$I$77)) -> 165.5 | D8: =IF(A8="","",SUMIF(Timeliste!$C$7:$C$77,A8,Timeliste!$K$7:$K$77)) -> 1 | E8: =IF(A8="","",H19) -> 5.5 | F8: =IF(A8="","",SUMIF(Timeliste!$C$7:$C$77,A8,Timeliste!$L$7:$L$77)) -> 184.9
A9: Henrik Berg | B9: =IF(A9="","",COUNTIFS(Timeliste!$C$7:$C$77,A9,Timeliste!$I$7:$I$77,">0")) -> 20 | C9: =IF(A9="","",SUMIF(Timeliste!$C$7:$C$77,A9,Timeliste!$I$7:$I$77)) -> 154.5 | D9: =IF(A9="","",SUMIF(Timeliste!$C$7:$C$77,A9,Timeliste!$K$7:$K$77)) -> 1.5 | E9: =IF(A9="","",H20) -> 0 | F9: =IF(A9="","",SUMIF(Timeliste!$C$7:$C$77,A9,Timeliste!$L$7:$L$77)) -> 155.1
A10: Amira Nilsen | B10: =IF(A10="","",COUNTIFS(Timeliste!$C$7:$C$77,A10,Timeliste!$I$7:$I$77,">0")) -> 14 | C10: =IF(A10="","",SUMIF(Timeliste!$C$7:$C$77,A10,Timeliste!$I$7:$I$77)) -> 76.5 | D10: =IF(A10="","",SUMIF(Timeliste!$C$7:$C$77,A10,Timeliste!$K$7:$K$77)) -> 0 | E10: =IF(A10="","",H21) -> 0 | F10: =IF(A10="","",SUMIF(Timeliste!$C$7:$C$77,A10,Timeliste!$L$7:$L$77)) -> 103.3
B11: =IF(A11="","",COUNTIFS(Timeliste!$C$7:$C$77,A11,Timeliste!$I$7:$I$77,">0")) | C11: =IF(A11="","",SUMIF(Timeliste!$C$7:$C$77,A11,Timeliste!$I$7:$I$77)) | D11: =IF(A11="","",SUMIF(Timeliste!$C$7:$C$77,A11,Timeliste!$K$7:$K$77)) | E11: =IF(A11="","",H22) | F11: =IF(A11="","",SUMIF(Timeliste!$C$7:$C$77,A11,Timeliste!$L$7:$L$77))
B12: =IF(A12="","",COUNTIFS(Timeliste!$C$7:$C$77,A12,Timeliste!$I$7:$I$77,">0")) | C12: =IF(A12="","",SUMIF(Timeliste!$C$7:$C$77,A12,Timeliste!$I$7:$I$77)) | D12: =IF(A12="","",SUMIF(Timeliste!$C$7:$C$77,A12,Timeliste!$K$7:$K$77)) | E12: =IF(A12="","",H23) | F12: =IF(A12="","",SUMIF(Timeliste!$C$7:$C$77,A12,Timeliste!$L$7:$L$77))
A13: Sum | B13: =SUM(B8:B12) -> 56 | C13: =SUM(C8:C12) -> 396.5 | D13: =SUM(D8:D12) -> 2.5 | E13: =SUM(E8:E12) -> 5.5 | F13: =SUM(F8:F12) -> 443.3
A16: Faktisk arbeidstid per uke (mandag–søndag)
A17: Uke | B17: =WEEKNUM(B18,21) -> 44 | C17: =WEEKNUM(C18,21) -> 45 | D17: =WEEKNUM(D18,21) -> 46 | E17: =WEEKNUM(E18,21) -> 47 | F17: =WEEKNUM(F18,21) -> 48 | G17: =WEEKNUM(G18,21) -> 49 | H17: Timer over 40 t/uke
A18: Mandag | B18: =B3-WEEKDAY(B3,3) -> 46321 | C18: =B18+7 -> 46328 | D18: =C18+7 -> 46335 | E18: =D18+7 -> 46342 | F18: =E18+7 -> 46349 | G18: =F18+7 -> 46356
A19: =IF(A8="","",A8) -> Ingrid Solberg | B19: =IF($A19="","",SUMIFS(Timeliste!$I$7:$I$77,Timeliste!$C$7:$C$77,$A19,Timeliste!$A$7:$A$77,">="&B$18,Timeliste!$A$7:$A$77,"<"&B$18+7)) -> 0 | C19: =IF($A19="","",SUMIFS(Timeliste!$I$7:$I$77,Timeliste!$C$7:$C$77,$A19,Timeliste!$A$7:$A$77,">="&C$18,Timeliste!$A$7:$A$77,"<"&C$18+7)) -> 37.5 | D19: =IF($A19="","",SUMIFS(Timeliste!$I$7:$I$77,Timeliste!$C$7:$C$77,$A19,Timeliste!$A$7:$A$77,">="&D$18,Timeliste!$A$7:$A$77,"<"&D$18+7)) -> 45.5 | E19: =IF($A19="","",SUMIFS(Timeliste!$I$7:$I$77,Timeliste!$C$7:$C$77,$A19,Timeliste!$A$7:$A$77,">="&E$18,Timeliste!$A$7:$A$77,"<"&E$18+7)) -> 37.5 | F19: =IF($A19="","",SUMIFS(Timeliste!$I$7:$I$77,Timeliste!$C$7:$C$77,$A19,Timeliste!$A$7:$A$77,">="&F$18,Timeliste!$A$7:$A$77,"<"&F$18+7)) -> 37.5 | G19: =IF($A19="","",SUMIFS(Timeliste!$I$7:$I$77,Timeliste!$C$7:$C$77,$A19,Timeliste!$A$7:$A$77,">="&G$18,Timeliste!$A$7:$A$77,"<"&G$18+7)) -> 7.5 | H19: =IF(A19="","",SUMPRODUCT((B19:G19>$B$5)*(B19:G19-$B$5))) -> 5.5
A20: =IF(A9="","",A9) -> Henrik Berg | B20: =IF($A20="","",SUMIFS(Timeliste!$I$7:$I$77,Timeliste!$C$7:$C$77,$A20,Timeliste!$A$7:$A$77,">="&B$18,Timeliste!$A$7:$A$77,"<"&B$18+7)) -> 0 | C20: =IF($A20="","",SUMIFS(Timeliste!$I$7:$I$77,Timeliste!$C$7:$C$77,$A20,Timeliste!$A$7:$A$77,">="&C$18,Timeliste!$A$7:$A$77,"<"&C$18+7)) -> 39.5 | D20: =IF($A20="","",SUMIFS(Timeliste!$I$7:$I$77,Timeliste!$C$7:$C$77,$A20,Timeliste!$A$7:$A$77,">="&D$18,Timeliste!$A$7:$A$77,"<"&D$18+7)) -> 37.5 | E20: =IF($A20="","",SUMIFS(Timeliste!$I$7:$I$77,Timeliste!$C$7:$C$77,$A20,Timeliste!$A$7:$A$77,">="&E$18,Timeliste!$A$7:$A$77,"<"&E$18+7)) -> 40 | F20: =IF($A20="","",SUMIFS(Timeliste!$I$7:$I$77,Timeliste!$C$7:$C$77,$A20,Timeliste!$A$7:$A$77,">="&F$18,Timeliste!$A$7:$A$77,"<"&F$18+7)) -> 30 | G20: =IF($A20="","",SUMIFS(Timeliste!$I$7:$I$77,Timeliste!$C$7:$C$77,$A20,Timeliste!$A$7:$A$77,">="&G$18,Timeliste!$A$7:$A$77,"<"&G$18+7)) -> 7.5 | H20: =IF(A20="","",SUMPRODUCT((B20:G20>$B$5)*(B20:G20-$B$5))) -> 0
A21: =IF(A10="","",A10) -> Amira Nilsen | B21: =IF($A21="","",SUMIFS(Timeliste!$I$7:$I$77,Timeliste!$C$7:$C$77,$A21,Timeliste!$A$7:$A$77,">="&B$18,Timeliste!$A$7:$A$77,"<"&B$18+7)) -> 0 | C21: =IF($A21="","",SUMIFS(Timeliste!$I$7:$I$77,Timeliste!$C$7:$C$77,$A21,Timeliste!$A$7:$A$77,">="&C$18,Timeliste!$A$7:$A$77,"<"&C$18+7)) -> 16 | D21: =IF($A21="","",SUMIFS(Timeliste!$I$7:$I$77,Timeliste!$C$7:$C$77,$A21,Timeliste!$A$7:$A$77,">="&D$18,Timeliste!$A$7:$A$77,"<"&D$18+7)) -> 16.5 | E21: =IF($A21="","",SUMIFS(Timeliste!$I$7:$I$77,Timeliste!$C$7:$C$77,$A21,Timeliste!$A$7:$A$77,">="&E$18,Timeliste!$A$7:$A$77,"<"&E$18+7)) -> 22 | F21: =IF($A21="","",SUMIFS(Timeliste!$I$7:$I$77,Timeliste!$C$7:$C$77,$A21,Timeliste!$A$7:$A$77,">="&F$18,Timeliste!$A$7:$A$77,"<"&F$18+7)) -> 16.5 | G21: =IF($A21="","",SUMIFS(Timeliste!$I$7:$I$77,Timeliste!$C$7:$C$77,$A21,Timeliste!$A$7:$A$77,">="&G$18,Timeliste!$A$7:$A$77,"<"&G$18+7)) -> 5.5 | H21: =IF(A21="","",SUMPRODUCT((B21:G21>$B$5)*(B21:G21-$B$5))) -> 0
A22: =IF(A11="","",A11) | B22: =IF($A22="","",SUMIFS(Timeliste!$I$7:$I$77,Timeliste!$C$7:$C$77,$A22,Timeliste!$A$7:$A$77,">="&B$18,Timeliste!$A$7:$A$77,"<"&B$18+7)) | C22: =IF($A22="","",SUMIFS(Timeliste!$I$7:$I$77,Timeliste!$C$7:$C$77,$A22,Timeliste!$A$7:$A$77,">="&C$18,Timeliste!$A$7:$A$77,"<"&C$18+7)) | D22: =IF($A22="","",SUMIFS(Timeliste!$I$7:$I$77,Timeliste!$C$7:$C$77,$A22,Timeliste!$A$7:$A$77,">="&D$18,Timeliste!$A$7:$A$77,"<"&D$18+7)) | E22: =IF($A22="","",SUMIFS(Timeliste!$I$7:$I$77,Timeliste!$C$7:$C$77,$A22,Timeliste!$A$7:$A$77,">="&E$18,Timeliste!$A$7:$A$77,"<"&E$18+7)) | F22: =IF($A22="","",SUMIFS(Timeliste!$I$7:$I$77,Timeliste!$C$7:$C$77,$A22,Timeliste!$A$7:$A$77,">="&F$18,Timeliste!$A$7:$A$77,"<"&F$18+7)) | G22: =IF($A22="","",SUMIFS(Timeliste!$I$7:$I$77,Timeliste!$C$7:$C$77,$A22,Timeliste!$A$7:$A$77,">="&G$18,Timeliste!$A$7:$A$77,"<"&G$18+7)) | H22: =IF(A22="","",SUMPRODUCT((B22:G22>$B$5)*(B22:G22-$B$5)))
A23: =IF(A12="","",A12) | B23: =IF($A23="","",SUMIFS(Timeliste!$I$7:$I$77,Timeliste!$C$7:$C$77,$A23,Timeliste!$A$7:$A$77,">="&B$18,Timeliste!$A$7:$A$77,"<"&B$18+7)) | C23: =IF($A23="","",SUMIFS(Timeliste!$I$7:$I$77,Timeliste!$C$7:$C$77,$A23,Timeliste!$A$7:$A$77,">="&C$18,Timeliste!$A$7:$A$77,"<"&C$18+7)) | D23: =IF($A23="","",SUMIFS(Timeliste!$I$7:$I$77,Timeliste!$C$7:$C$77,$A23,Timeliste!$A$7:$A$77,">="&D$18,Timeliste!$A$7:$A$77,"<"&D$18+7)) | E23: =IF($A23="","",SUMIFS(Timeliste!$I$7:$I$77,Timeliste!$C$7:$C$77,$A23,Timeliste!$A$7:$A$77,">="&E$18,Timeliste!$A$7:$A$77,"<"&E$18+7)) | F23: =IF($A23="","",SUMIFS(Timeliste!$I$7:$I$77,Timeliste!$C$7:$C$77,$A23,Timeliste!$A$7:$A$77,">="&F$18,Timeliste!$A$7:$A$77,"<"&F$18+7)) | G23: =IF($A23="","",SUMIFS(Timeliste!$I$7:$I$77,Timeliste!$C$7:$C$77,$A23,Timeliste!$A$7:$A$77,">="&G$18,Timeliste!$A$7:$A$77,"<"&G$18+7)) | H23: =IF(A23="","",SUMPRODUCT((B23:G23>$B$5)*(B23:G23-$B$5)))
A25: Grensene for alminnelig arbeidstid er 9 timer per 24 timer og 40 timer per 7 dager (aml § 10-4). Arbeid utover dette er overtid etter aml § 10-6.
A26: Timer over 9 t/døgn og over 40 t/uke kan overlappe – samme time kan ligge over begge grensene. Ikke legg tallene sammen.
A27: Uker som går over månedsskiftet telles bare med dagene som står i denne timelisten.
A28: Avtaler om gjennomsnittsberegning, unntak og tariffavtaler kan gi andre rammer – sjekk lovdata.no / arbeidstilsynet.no.
A29: Filen teller bare timer. Lønn beregnes i lønnssystemet dere allerede bruker.
A30: Hypotetisk eksempel: navn, vakter og tilleggssatser er oppdiktet.
A32: Kontrollert av (leder): ______________ Dato: __.__.____ Signatur: ______________
