Workbook

Sheet Karta ewidencji
A1: Karta ewidencji czasu pracy | K1: Przykład hipotetyczny — orova.vn
A3: Pracodawca: | C3: Przykładowa Hurtownia Sp. z o.o. | I3: System czasu pracy: | L3: Podstawowy
A4: Imię i nazwisko: | C4: Anna Nowak | I4: Okres rozliczeniowy: | L4: 1 miesiąc
A5: Stanowisko: | C5: Specjalistka ds. obsługi zamówień | I5: Pora nocna od: | L5: 0.91666667 | M5: Pora nocna: 8 godzin między 21:00 a 7:00 (art. 151⁷ § 1), godziny ustala zakład.
A6: Wymiar etatu: | C6: 1 | I6: Pora nocna do: | L6: 0.25 | M6: Koniec 24:00 wpisz jako 0:00.
A7: Miesiąc: | C7: 46327 | I7: Rozkład: | L7: 7:00–15:00 lub 15:00–23:00
A9: Data | B9: Dzień | C9: Początek | D9: Koniec | E9: Godziny przepracowane | F9: Przerwa (system przer., h) | G9: Pora nocna (h) | H9: N50 (h) | I9: N100 (h) | J9: Dyżur od | K9: Dyżur do | L9: Miejsce dyżuru | M9: Kod | N9: Nieobecność (h) | O9: Uwagi
A10: =IF(0<DAY(EOMONTH($C$7,0)),DATE(YEAR($C$7),MONTH($C$7),1)+0,"") -> 46327 | B10: =IF(A10="","",CHOOSE(WEEKDAY(A10),"nd","pon","wt","śr","czw","pt","sob")) -> nd | E10: =IF(OR(C10="",D10=""),"",ROUND(MOD(D10-C10,1)*24-N(F10),2)) | G10: =IF(OR(C10="",D10=""),"",ROUND(24*(MAX(0,MIN((C10+MOD(D10-C10,1)),$L$6)-C10)+MAX(0,MIN((C10+MOD(D10-C10,1)),1+$L$6)-MAX(C10,$L$5))+MAX(0,(C10+MOD(D10-C10,1))-MAX(C10,1+$L$5))),2)) | O10: Wszystkich Świętych (niedziela)
A11: =IF(1<DAY(EOMONTH($C$7,0)),DATE(YEAR($C$7),MONTH($C$7),1)+1,"") -> 46328 | B11: =IF(A11="","",CHOOSE(WEEKDAY(A11),"nd","pon","wt","śr","czw","pt","sob")) -> pon | C11: 0.29166667 | D11: 0.625 | E11: =IF(OR(C11="",D11=""),"",ROUND(MOD(D11-C11,1)*24-N(F11),2)) -> 8 | G11: =IF(OR(C11="",D11=""),"",ROUND(24*(MAX(0,MIN((C11+MOD(D11-C11,1)),$L$6)-C11)+MAX(0,MIN((C11+MOD(D11-C11,1)),1+$L$6)-MAX(C11,$L$5))+MAX(0,(C11+MOD(D11-C11,1))-MAX(C11,1+$L$5))),2)) -> 0 | O11: Tydzień z przykładu w kroku 5 (2–8.11)
A12: =IF(2<DAY(EOMONTH($C$7,0)),DATE(YEAR($C$7),MONTH($C$7),1)+2,"") -> 46329 | B12: =IF(A12="","",CHOOSE(WEEKDAY(A12),"nd","pon","wt","śr","czw","pt","sob")) -> wt | C12: 0.29166667 | D12: 0.70833333 | E12: =IF(OR(C12="",D12=""),"",ROUND(MOD(D12-C12,1)*24-N(F12),2)) -> 10 | G12: =IF(OR(C12="",D12=""),"",ROUND(24*(MAX(0,MIN((C12+MOD(D12-C12,1)),$L$6)-C12)+MAX(0,MIN((C12+MOD(D12-C12,1)),1+$L$6)-MAX(C12,$L$5))+MAX(0,(C12+MOD(D12-C12,1))-MAX(C12,1+$L$5))),2)) -> 0 | H12: 2 | O12: 2 h ponad normę dobową w dniu powszednim → N50
A13: =IF(3<DAY(EOMONTH($C$7,0)),DATE(YEAR($C$7),MONTH($C$7),1)+3,"") -> 46330 | B13: =IF(A13="","",CHOOSE(WEEKDAY(A13),"nd","pon","wt","śr","czw","pt","sob")) -> śr | C13: 0.625 | D13: 0 | E13: =IF(OR(C13="",D13=""),"",ROUND(MOD(D13-C13,1)*24-N(F13),2)) -> 9 | G13: =IF(OR(C13="",D13=""),"",ROUND(24*(MAX(0,MIN((C13+MOD(D13-C13,1)),$L$6)-C13)+MAX(0,MIN((C13+MOD(D13-C13,1)),1+$L$6)-MAX(C13,$L$5))+MAX(0,(C13+MOD(D13-C13,1))-MAX(C13,1+$L$5))),2)) -> 2 | I13: 1 | O13: Koniec 24:00 (wpisz 0:00); 23:00–24:00 w porze nocnej → N100
A14: =IF(4<DAY(EOMONTH($C$7,0)),DATE(YEAR($C$7),MONTH($C$7),1)+4,"") -> 46331 | B14: =IF(A14="","",CHOOSE(WEEKDAY(A14),"nd","pon","wt","śr","czw","pt","sob")) -> czw | E14: =IF(OR(C14="",D14=""),"",ROUND(MOD(D14-C14,1)*24-N(F14),2)) | G14: =IF(OR(C14="",D14=""),"",ROUND(24*(MAX(0,MIN((C14+MOD(D14-C14,1)),$L$6)-C14)+MAX(0,MIN((C14+MOD(D14-C14,1)),1+$L$6)-MAX(C14,$L$5))+MAX(0,(C14+MOD(D14-C14,1))-MAX(C14,1+$L$5))),2)) | M14: UW | N14: 8 | O14: Urlop wypoczynkowy, wniosek zatwierdzony
A15: =IF(5<DAY(EOMONTH($C$7,0)),DATE(YEAR($C$7),MONTH($C$7),1)+5,"") -> 46332 | B15: =IF(A15="","",CHOOSE(WEEKDAY(A15),"nd","pon","wt","śr","czw","pt","sob")) -> pt | C15: 0.29166667 | D15: 0.625 | E15: =IF(OR(C15="",D15=""),"",ROUND(MOD(D15-C15,1)*24-N(F15),2)) -> 8 | G15: =IF(OR(C15="",D15=""),"",ROUND(24*(MAX(0,MIN((C15+MOD(D15-C15,1)),$L$6)-C15)+MAX(0,MIN((C15+MOD(D15-C15,1)),1+$L$6)-MAX(C15,$L$5))+MAX(0,(C15+MOD(D15-C15,1))-MAX(C15,1+$L$5))),2)) -> 0
A16: =IF(6<DAY(EOMONTH($C$7,0)),DATE(YEAR($C$7),MONTH($C$7),1)+6,"") -> 46333 | B16: =IF(A16="","",CHOOSE(WEEKDAY(A16),"nd","pon","wt","śr","czw","pt","sob")) -> sob | E16: =IF(OR(C16="",D16=""),"",ROUND(MOD(D16-C16,1)*24-N(F16),2)) | G16: =IF(OR(C16="",D16=""),"",ROUND(24*(MAX(0,MIN((C16+MOD(D16-C16,1)),$L$6)-C16)+MAX(0,MIN((C16+MOD(D16-C16,1)),1+$L$6)-MAX(C16,$L$5))+MAX(0,(C16+MOD(D16-C16,1))-MAX(C16,1+$L$5))),2)) | M16: W
A17: =IF(7<DAY(EOMONTH($C$7,0)),DATE(YEAR($C$7),MONTH($C$7),1)+7,"") -> 46334 | B17: =IF(A17="","",CHOOSE(WEEKDAY(A17),"nd","pon","wt","śr","czw","pt","sob")) -> nd | E17: =IF(OR(C17="",D17=""),"",ROUND(MOD(D17-C17,1)*24-N(F17),2)) | G17: =IF(OR(C17="",D17=""),"",ROUND(24*(MAX(0,MIN((C17+MOD(D17-C17,1)),$L$6)-C17)+MAX(0,MIN((C17+MOD(D17-C17,1)),1+$L$6)-MAX(C17,$L$5))+MAX(0,(C17+MOD(D17-C17,1))-MAX(C17,1+$L$5))),2)) | O17: Niedziela
A18: =IF(8<DAY(EOMONTH($C$7,0)),DATE(YEAR($C$7),MONTH($C$7),1)+8,"") -> 46335 | B18: =IF(A18="","",CHOOSE(WEEKDAY(A18),"nd","pon","wt","śr","czw","pt","sob")) -> pon | C18: 0.29166667 | D18: 0.625 | E18: =IF(OR(C18="",D18=""),"",ROUND(MOD(D18-C18,1)*24-N(F18),2)) -> 8 | G18: =IF(OR(C18="",D18=""),"",ROUND(24*(MAX(0,MIN((C18+MOD(D18-C18,1)),$L$6)-C18)+MAX(0,MIN((C18+MOD(D18-C18,1)),1+$L$6)-MAX(C18,$L$5))+MAX(0,(C18+MOD(D18-C18,1))-MAX(C18,1+$L$5))),2)) -> 0
A19: =IF(9<DAY(EOMONTH($C$7,0)),DATE(YEAR($C$7),MONTH($C$7),1)+9,"") -> 46336 | B19: =IF(A19="","",CHOOSE(WEEKDAY(A19),"nd","pon","wt","śr","czw","pt","sob")) -> wt | C19: 0.29166667 | D19: 0.625 | E19: =IF(OR(C19="",D19=""),"",ROUND(MOD(D19-C19,1)*24-N(F19),2)) -> 8 | G19: =IF(OR(C19="",D19=""),"",ROUND(24*(MAX(0,MIN((C19+MOD(D19-C19,1)),$L$6)-C19)+MAX(0,MIN((C19+MOD(D19-C19,1)),1+$L$6)-MAX(C19,$L$5))+MAX(0,(C19+MOD(D19-C19,1))-MAX(C19,1+$L$5))),2)) -> 0
A20: =IF(10<DAY(EOMONTH($C$7,0)),DATE(YEAR($C$7),MONTH($C$7),1)+10,"") -> 46337 | B20: =IF(A20="","",CHOOSE(WEEKDAY(A20),"nd","pon","wt","śr","czw","pt","sob")) -> śr | E20: =IF(OR(C20="",D20=""),"",ROUND(MOD(D20-C20,1)*24-N(F20),2)) | G20: =IF(OR(C20="",D20=""),"",ROUND(24*(MAX(0,MIN((C20+MOD(D20-C20,1)),$L$6)-C20)+MAX(0,MIN((C20+MOD(D20-C20,1)),1+$L$6)-MAX(C20,$L$5))+MAX(0,(C20+MOD(D20-C20,1))-MAX(C20,1+$L$5))),2)) | O20: Narodowe Święto Niepodległości (święto)
A21: =IF(11<DAY(EOMONTH($C$7,0)),DATE(YEAR($C$7),MONTH($C$7),1)+11,"") -> 46338 | B21: =IF(A21="","",CHOOSE(WEEKDAY(A21),"nd","pon","wt","śr","czw","pt","sob")) -> czw | C21: 0.29166667 | D21: 0.625 | E21: =IF(OR(C21="",D21=""),"",ROUND(MOD(D21-C21,1)*24-N(F21),2)) -> 8 | G21: =IF(OR(C21="",D21=""),"",ROUND(24*(MAX(0,MIN((C21+MOD(D21-C21,1)),$L$6)-C21)+MAX(0,MIN((C21+MOD(D21-C21,1)),1+$L$6)-MAX(C21,$L$5))+MAX(0,(C21+MOD(D21-C21,1))-MAX(C21,1+$L$5))),2)) -> 0
A22: =IF(12<DAY(EOMONTH($C$7,0)),DATE(YEAR($C$7),MONTH($C$7),1)+12,"") -> 46339 | B22: =IF(A22="","",CHOOSE(WEEKDAY(A22),"nd","pon","wt","śr","czw","pt","sob")) -> pt | C22: 0.29166667 | D22: 0.625 | E22: =IF(OR(C22="",D22=""),"",ROUND(MOD(D22-C22,1)*24-N(F22),2)) -> 8 | G22: =IF(OR(C22="",D22=""),"",ROUND(24*(MAX(0,MIN((C22+MOD(D22-C22,1)),$L$6)-C22)+MAX(0,MIN((C22+MOD(D22-C22,1)),1+$L$6)-MAX(C22,$L$5))+MAX(0,(C22+MOD(D22-C22,1))-MAX(C22,1+$L$5))),2)) -> 0
A23: =IF(13<DAY(EOMONTH($C$7,0)),DATE(YEAR($C$7),MONTH($C$7),1)+13,"") -> 46340 | B23: =IF(A23="","",CHOOSE(WEEKDAY(A23),"nd","pon","wt","śr","czw","pt","sob")) -> sob | E23: =IF(OR(C23="",D23=""),"",ROUND(MOD(D23-C23,1)*24-N(F23),2)) | G23: =IF(OR(C23="",D23=""),"",ROUND(24*(MAX(0,MIN((C23+MOD(D23-C23,1)),$L$6)-C23)+MAX(0,MIN((C23+MOD(D23-C23,1)),1+$L$6)-MAX(C23,$L$5))+MAX(0,(C23+MOD(D23-C23,1))-MAX(C23,1+$L$5))),2)) | M23: W
A24: =IF(14<DAY(EOMONTH($C$7,0)),DATE(YEAR($C$7),MONTH($C$7),1)+14,"") -> 46341 | B24: =IF(A24="","",CHOOSE(WEEKDAY(A24),"nd","pon","wt","śr","czw","pt","sob")) -> nd | E24: =IF(OR(C24="",D24=""),"",ROUND(MOD(D24-C24,1)*24-N(F24),2)) | G24: =IF(OR(C24="",D24=""),"",ROUND(24*(MAX(0,MIN((C24+MOD(D24-C24,1)),$L$6)-C24)+MAX(0,MIN((C24+MOD(D24-C24,1)),1+$L$6)-MAX(C24,$L$5))+MAX(0,(C24+MOD(D24-C24,1))-MAX(C24,1+$L$5))),2)) | O24: Niedziela
A25: =IF(15<DAY(EOMONTH($C$7,0)),DATE(YEAR($C$7),MONTH($C$7),1)+15,"") -> 46342 | B25: =IF(A25="","",CHOOSE(WEEKDAY(A25),"nd","pon","wt","śr","czw","pt","sob")) -> pon | C25: 0.625 | D25: 0.95833333 | E25: =IF(OR(C25="",D25=""),"",ROUND(MOD(D25-C25,1)*24-N(F25),2)) -> 8 | G25: =IF(OR(C25="",D25=""),"",ROUND(24*(MAX(0,MIN((C25+MOD(D25-C25,1)),$L$6)-C25)+MAX(0,MIN((C25+MOD(D25-C25,1)),1+$L$6)-MAX(C25,$L$5))+MAX(0,(C25+MOD(D25-C25,1))-MAX(C25,1+$L$5))),2)) -> 1 | O25: Zmiana 15:00–23:00
A26: =IF(16<DAY(EOMONTH($C$7,0)),DATE(YEAR($C$7),MONTH($C$7),1)+16,"") -> 46343 | B26: =IF(A26="","",CHOOSE(WEEKDAY(A26),"nd","pon","wt","śr","czw","pt","sob")) -> wt | C26: 0.625 | D26: 0.95833333 | E26: =IF(OR(C26="",D26=""),"",ROUND(MOD(D26-C26,1)*24-N(F26),2)) -> 8 | G26: =IF(OR(C26="",D26=""),"",ROUND(24*(MAX(0,MIN((C26+MOD(D26-C26,1)),$L$6)-C26)+MAX(0,MIN((C26+MOD(D26-C26,1)),1+$L$6)-MAX(C26,$L$5))+MAX(0,(C26+MOD(D26-C26,1))-MAX(C26,1+$L$5))),2)) -> 1
A27: =IF(17<DAY(EOMONTH($C$7,0)),DATE(YEAR($C$7),MONTH($C$7),1)+17,"") -> 46344 | B27: =IF(A27="","",CHOOSE(WEEKDAY(A27),"nd","pon","wt","śr","czw","pt","sob")) -> śr | C27: 0.625 | D27: 0.95833333 | E27: =IF(OR(C27="",D27=""),"",ROUND(MOD(D27-C27,1)*24-N(F27),2)) -> 8 | G27: =IF(OR(C27="",D27=""),"",ROUND(24*(MAX(0,MIN((C27+MOD(D27-C27,1)),$L$6)-C27)+MAX(0,MIN((C27+MOD(D27-C27,1)),1+$L$6)-MAX(C27,$L$5))+MAX(0,(C27+MOD(D27-C27,1))-MAX(C27,1+$L$5))),2)) -> 1
A28: =IF(18<DAY(EOMONTH($C$7,0)),DATE(YEAR($C$7),MONTH($C$7),1)+18,"") -> 46345 | B28: =IF(A28="","",CHOOSE(WEEKDAY(A28),"nd","pon","wt","śr","czw","pt","sob")) -> czw | C28: 0.625 | D28: 0.95833333 | E28: =IF(OR(C28="",D28=""),"",ROUND(MOD(D28-C28,1)*24-N(F28),2)) -> 8 | G28: =IF(OR(C28="",D28=""),"",ROUND(24*(MAX(0,MIN((C28+MOD(D28-C28,1)),$L$6)-C28)+MAX(0,MIN((C28+MOD(D28-C28,1)),1+$L$6)-MAX(C28,$L$5))+MAX(0,(C28+MOD(D28-C28,1))-MAX(C28,1+$L$5))),2)) -> 1
A29: =IF(19<DAY(EOMONTH($C$7,0)),DATE(YEAR($C$7),MONTH($C$7),1)+19,"") -> 46346 | B29: =IF(A29="","",CHOOSE(WEEKDAY(A29),"nd","pon","wt","śr","czw","pt","sob")) -> pt | C29: 0.625 | D29: 0.95833333 | E29: =IF(OR(C29="",D29=""),"",ROUND(MOD(D29-C29,1)*24-N(F29),2)) -> 8 | G29: =IF(OR(C29="",D29=""),"",ROUND(24*(MAX(0,MIN((C29+MOD(D29-C29,1)),$L$6)-C29)+MAX(0,MIN((C29+MOD(D29-C29,1)),1+$L$6)-MAX(C29,$L$5))+MAX(0,(C29+MOD(D29-C29,1))-MAX(C29,1+$L$5))),2)) -> 1
A30: =IF(20<DAY(EOMONTH($C$7,0)),DATE(YEAR($C$7),MONTH($C$7),1)+20,"") -> 46347 | B30: =IF(A30="","",CHOOSE(WEEKDAY(A30),"nd","pon","wt","śr","czw","pt","sob")) -> sob | E30: =IF(OR(C30="",D30=""),"",ROUND(MOD(D30-C30,1)*24-N(F30),2)) | G30: =IF(OR(C30="",D30=""),"",ROUND(24*(MAX(0,MIN((C30+MOD(D30-C30,1)),$L$6)-C30)+MAX(0,MIN((C30+MOD(D30-C30,1)),1+$L$6)-MAX(C30,$L$5))+MAX(0,(C30+MOD(D30-C30,1))-MAX(C30,1+$L$5))),2)) | M30: W
A31: =IF(21<DAY(EOMONTH($C$7,0)),DATE(YEAR($C$7),MONTH($C$7),1)+21,"") -> 46348 | B31: =IF(A31="","",CHOOSE(WEEKDAY(A31),"nd","pon","wt","śr","czw","pt","sob")) -> nd | E31: =IF(OR(C31="",D31=""),"",ROUND(MOD(D31-C31,1)*24-N(F31),2)) | G31: =IF(OR(C31="",D31=""),"",ROUND(24*(MAX(0,MIN((C31+MOD(D31-C31,1)),$L$6)-C31)+MAX(0,MIN((C31+MOD(D31-C31,1)),1+$L$6)-MAX(C31,$L$5))+MAX(0,(C31+MOD(D31-C31,1))-MAX(C31,1+$L$5))),2)) | O31: Niedziela
A32: =IF(22<DAY(EOMONTH($C$7,0)),DATE(YEAR($C$7),MONTH($C$7),1)+22,"") -> 46349 | B32: =IF(A32="","",CHOOSE(WEEKDAY(A32),"nd","pon","wt","śr","czw","pt","sob")) -> pon | C32: 0.29166667 | D32: 0.625 | E32: =IF(OR(C32="",D32=""),"",ROUND(MOD(D32-C32,1)*24-N(F32),2)) -> 8 | G32: =IF(OR(C32="",D32=""),"",ROUND(24*(MAX(0,MIN((C32+MOD(D32-C32,1)),$L$6)-C32)+MAX(0,MIN((C32+MOD(D32-C32,1)),1+$L$6)-MAX(C32,$L$5))+MAX(0,(C32+MOD(D32-C32,1))-MAX(C32,1+$L$5))),2)) -> 0
A33: =IF(23<DAY(EOMONTH($C$7,0)),DATE(YEAR($C$7),MONTH($C$7),1)+23,"") -> 46350 | B33: =IF(A33="","",CHOOSE(WEEKDAY(A33),"nd","pon","wt","śr","czw","pt","sob")) -> wt | C33: 0.29166667 | D33: 0.625 | E33: =IF(OR(C33="",D33=""),"",ROUND(MOD(D33-C33,1)*24-N(F33),2)) -> 8 | G33: =IF(OR(C33="",D33=""),"",ROUND(24*(MAX(0,MIN((C33+MOD(D33-C33,1)),$L$6)-C33)+MAX(0,MIN((C33+MOD(D33-C33,1)),1+$L$6)-MAX(C33,$L$5))+MAX(0,(C33+MOD(D33-C33,1))-MAX(C33,1+$L$5))),2)) -> 0
A34: =IF(24<DAY(EOMONTH($C$7,0)),DATE(YEAR($C$7),MONTH($C$7),1)+24,"") -> 46351 | B34: =IF(A34="","",CHOOSE(WEEKDAY(A34),"nd","pon","wt","śr","czw","pt","sob")) -> śr | C34: 0.29166667 | D34: 0.625 | E34: =IF(OR(C34="",D34=""),"",ROUND(MOD(D34-C34,1)*24-N(F34),2)) -> 8 | G34: =IF(OR(C34="",D34=""),"",ROUND(24*(MAX(0,MIN((C34+MOD(D34-C34,1)),$L$6)-C34)+MAX(0,MIN((C34+MOD(D34-C34,1)),1+$L$6)-MAX(C34,$L$5))+MAX(0,(C34+MOD(D34-C34,1))-MAX(C34,1+$L$5))),2)) -> 0
A35: =IF(25<DAY(EOMONTH($C$7,0)),DATE(YEAR($C$7),MONTH($C$7),1)+25,"") -> 46352 | B35: =IF(A35="","",CHOOSE(WEEKDAY(A35),"nd","pon","wt","śr","czw","pt","sob")) -> czw | C35: 0.29166667 | D35: 0.625 | E35: =IF(OR(C35="",D35=""),"",ROUND(MOD(D35-C35,1)*24-N(F35),2)) -> 8 | G35: =IF(OR(C35="",D35=""),"",ROUND(24*(MAX(0,MIN((C35+MOD(D35-C35,1)),$L$6)-C35)+MAX(0,MIN((C35+MOD(D35-C35,1)),1+$L$6)-MAX(C35,$L$5))+MAX(0,(C35+MOD(D35-C35,1))-MAX(C35,1+$L$5))),2)) -> 0
A36: =IF(26<DAY(EOMONTH($C$7,0)),DATE(YEAR($C$7),MONTH($C$7),1)+26,"") -> 46353 | B36: =IF(A36="","",CHOOSE(WEEKDAY(A36),"nd","pon","wt","śr","czw","pt","sob")) -> pt | C36: 0.29166667 | D36: 0.625 | E36: =IF(OR(C36="",D36=""),"",ROUND(MOD(D36-C36,1)*24-N(F36),2)) -> 8 | G36: =IF(OR(C36="",D36=""),"",ROUND(24*(MAX(0,MIN((C36+MOD(D36-C36,1)),$L$6)-C36)+MAX(0,MIN((C36+MOD(D36-C36,1)),1+$L$6)-MAX(C36,$L$5))+MAX(0,(C36+MOD(D36-C36,1))-MAX(C36,1+$L$5))),2)) -> 0
A37: =IF(27<DAY(EOMONTH($C$7,0)),DATE(YEAR($C$7),MONTH($C$7),1)+27,"") -> 46354 | B37: =IF(A37="","",CHOOSE(WEEKDAY(A37),"nd","pon","wt","śr","czw","pt","sob")) -> sob | E37: =IF(OR(C37="",D37=""),"",ROUND(MOD(D37-C37,1)*24-N(F37),2)) | G37: =IF(OR(C37="",D37=""),"",ROUND(24*(MAX(0,MIN((C37+MOD(D37-C37,1)),$L$6)-C37)+MAX(0,MIN((C37+MOD(D37-C37,1)),1+$L$6)-MAX(C37,$L$5))+MAX(0,(C37+MOD(D37-C37,1))-MAX(C37,1+$L$5))),2)) | M37: W
A38: =IF(28<DAY(EOMONTH($C$7,0)),DATE(YEAR($C$7),MONTH($C$7),1)+28,"") -> 46355 | B38: =IF(A38="","",CHOOSE(WEEKDAY(A38),"nd","pon","wt","śr","czw","pt","sob")) -> nd | E38: =IF(OR(C38="",D38=""),"",ROUND(MOD(D38-C38,1)*24-N(F38),2)) | G38: =IF(OR(C38="",D38=""),"",ROUND(24*(MAX(0,MIN((C38+MOD(D38-C38,1)),$L$6)-C38)+MAX(0,MIN((C38+MOD(D38-C38,1)),1+$L$6)-MAX(C38,$L$5))+MAX(0,(C38+MOD(D38-C38,1))-MAX(C38,1+$L$5))),2)) | O38: Niedziela
A39: =IF(29<DAY(EOMONTH($C$7,0)),DATE(YEAR($C$7),MONTH($C$7),1)+29,"") -> 46356 | B39: =IF(A39="","",CHOOSE(WEEKDAY(A39),"nd","pon","wt","śr","czw","pt","sob")) -> pon | C39: 0.29166667 | D39: 0.625 | E39: =IF(OR(C39="",D39=""),"",ROUND(MOD(D39-C39,1)*24-N(F39),2)) -> 8 | G39: =IF(OR(C39="",D39=""),"",ROUND(24*(MAX(0,MIN((C39+MOD(D39-C39,1)),$L$6)-C39)+MAX(0,MIN((C39+MOD(D39-C39,1)),1+$L$6)-MAX(C39,$L$5))+MAX(0,(C39+MOD(D39-C39,1))-MAX(C39,1+$L$5))),2)) -> 0
A40: =IF(30<DAY(EOMONTH($C$7,0)),DATE(YEAR($C$7),MONTH($C$7),1)+30,"") | B40: =IF(A40="","",CHOOSE(WEEKDAY(A40),"nd","pon","wt","śr","czw","pt","sob")) | E40: =IF(OR(C40="",D40=""),"",ROUND(MOD(D40-C40,1)*24-N(F40),2)) | G40: =IF(OR(C40="",D40=""),"",ROUND(24*(MAX(0,MIN((C40+MOD(D40-C40,1)),$L$6)-C40)+MAX(0,MIN((C40+MOD(D40-C40,1)),1+$L$6)-MAX(C40,$L$5))+MAX(0,(C40+MOD(D40-C40,1))-MAX(C40,1+$L$5))),2))
A41: Razem w miesiącu | E41: =SUM(E10:E40) -> 155 | F41: =SUM(F10:F40) -> 0 | G41: =SUM(G10:G40) -> 7 | H41: =SUM(H10:H40) -> 2 | I41: =SUM(I10:I40) -> 1 | M41: =COUNTIF(M10:M40,"?*") -> 5 | N41: =SUM(N10:N40) -> 8
A42: Nadgodziny z przeciętnej normy tygodniowej (art. 151¹ § 2) — po zamknięciu okresu rozliczeniowego | E42: =MAX(0,E41-H41-I41+SUMIFS(N10:N40,M10:M40,"<>NN")-Wymiar!$B$12) -> 0 | F42: Wzór: godziny w normie dobowej + nieobecności usprawiedliwione − wymiar (arkusz Wymiar)
A44: Godziny przepracowane = MOD(Koniec − Początek; 1) × 24 − Przerwa: zmiana kończąca się po północy liczy się poprawnie.
A45: Przerwa: tylko w systemie przerywanym — jedna przerwa w ciągu doby, nie dłuższa niż 5 godzin, niewliczana do czasu pracy (art. 139 § 1).
A46: Pora nocna: część przedziału Początek–Koniec przypadająca w porze nocnej z nagłówka (bez odejmowania przerwy).
A47: N50 / N100: godziny ponad normę dobową wpisujesz ręcznie — N100 w nocy, w niedziele i święta niebędące dniami pracy oraz w dniu wolnym za pracę w niedzielę lub święto (art. 151¹ § 1 pkt 1), pozostałe N50 (pkt 2).
A48: Kod: lista rozwijana z 15 kodami z arkusza Kody. Nieobecność: liczba godzin nieobecności według rozkładu (np. UW 8 h).
A49: Przy okresie rozliczeniowym dłuższym niż 1 miesiąc nadgodziny z przeciętnej normy tygodniowej licz po zamknięciu całego okresu, z sum wszystkich kart.
A50: Żółte = pola do wpisania; szare = liczone (arkusz chroniony bez hasła). Plik liczy tylko godziny — wynagrodzenia i dodatki liczy program płacowy.
A51: Przykład hipotetyczny: osoba, firma i godziny są zmyślone. Aktualny tekst przepisów sprawdź w ISAP.

Sheet Kody
A1: Kody dni wolnych, nieobecności i nadgodzin | D1: Przykład hipotetyczny — orova.vn
A2: Przepisy nie narzucają konkretnych liter — to propozycja do przyjęcia w firmie. Każdy kod ma wskazywać tytuł dnia wolnego albo rodzaj nieobecności (§ 6 pkt 1 lit. a rozporządzenia).
A4: Kod | B4: Znaczenie | C4: Uwagi i przepis do sprawdzenia | D4: W karcie (ten miesiąc)
A5: W | B5: Dzień wolny z tytułu przeciętnie pięciodniowego tygodnia pracy | C5: Art. 129 § 1 Kodeksu pracy | D5: =COUNTIF('Karta ewidencji'!$M$10:$M$40,A5) -> 4
A6: WN | B6: Dzień wolny w zamian za pracę w niedzielę lub święto | C6: Art. 151¹¹ § 1 Kodeksu pracy | D6: =COUNTIF('Karta ewidencji'!$M$10:$M$40,A6) -> 0
A7: WD | B7: Dzień wolny w zamian za pracę w dniu wolnym z rozkładu | C7: Art. 151³ Kodeksu pracy | D7: =COUNTIF('Karta ewidencji'!$M$10:$M$40,A7) -> 0
A8: UW | B8: Urlop wypoczynkowy | C8: Termin według planu urlopów lub uzgodnienia | D8: =COUNTIF('Karta ewidencji'!$M$10:$M$40,A8) -> 1
A9: UŻ | B9: Urlop na żądanie | C9: Nie więcej niż 4 dni w roku kalendarzowym (art. 167²) | D9: =COUNTIF('Karta ewidencji'!$M$10:$M$40,A9) -> 0
A10: UO | B10: Urlop lub zwolnienie okolicznościowe | C10: Rodzaj zdarzenia wpisz w kolumnie Uwagi | D10: =COUNTIF('Karta ewidencji'!$M$10:$M$40,A10) -> 0
A11: UOP | B11: Urlop opiekuńczy | C11: 5 dni w roku kalendarzowym (art. 173¹ § 1) | D11: =COUNTIF('Karta ewidencji'!$M$10:$M$40,A11) -> 0
A12: SW | B12: Zwolnienie od pracy z powodu siły wyższej | C12: 2 dni albo 16 godzin w roku (art. 148¹ § 1) | D12: =COUNTIF('Karta ewidencji'!$M$10:$M$40,A12) -> 0
A13: CH | B13: Niezdolność do pracy z powodu choroby | C13: Na podstawie zaświadczenia lekarskiego (e-ZLA) | D13: =COUNTIF('Karta ewidencji'!$M$10:$M$40,A13) -> 0
A14: OP | B14: Opieka nad dzieckiem lub członkiem rodziny | C14: Na podstawie zaświadczenia lub oświadczenia | D14: =COUNTIF('Karta ewidencji'!$M$10:$M$40,A14) -> 0
A15: MD | B15: Urlop macierzyński lub rodzicielski | C15: Okres według wniosku pracownika | D15: =COUNTIF('Karta ewidencji'!$M$10:$M$40,A15) -> 0
A16: UB | B16: Urlop bezpłatny | C16: Na wniosek pracownika | D16: =COUNTIF('Karta ewidencji'!$M$10:$M$40,A16) -> 0
A17: NN | B17: Nieobecność nieusprawiedliwiona | C17: § 6 wymaga wykazania jej wymiaru | D17: =COUNTIF('Karta ewidencji'!$M$10:$M$40,A17) -> 0
A18: N50 | B18: Godziny nadliczbowe z dodatkiem 50% | C18: Art. 151¹ § 1 pkt 2 Kodeksu pracy | D18: =SUM('Karta ewidencji'!$H$10:$H$40) -> 2
A19: N100 | B19: Godziny nadliczbowe z dodatkiem 100% (w nocy, w niedziele i święta niebędące dniami pracy, w dniu wolnym udzielonym za pracę w niedzielę lub święto) | C19: Art. 151¹ § 1 pkt 1 Kodeksu pracy | D19: =SUM('Karta ewidencji'!$I$10:$I$40) -> 1
A21: N50 i N100 nie są kodami dnia — w karcie mają osobne kolumny godzin; tu pokazujemy ich sumę.
A22: Dzień świąteczny lub niedzielę bez pracy zostaw bez kodu i opisz w kolumnie Uwagi.

Sheet Wymiar
A1: Wymiar czasu pracy w okresie rozliczeniowym (art. 130 § 1–2 Kodeksu pracy)
A2: Przykład hipotetyczny — orova.vn
A3: Początek okresu | B3: =DATE(YEAR('Karta ewidencji'!$C$7),MONTH('Karta ewidencji'!$C$7),1) -> 46327 | D3: Święta (dni wolne od pracy) w okresie — uzupełnij
A4: Koniec okresu | B4: =EOMONTH(B3,0) -> 46356 | D4: Nazwa | E4: Data | F4: Dzień | G4: Obniża wymiar?
A5: Dni kalendarzowe w okresie | B5: =B4-B3+1 -> 30 | D5: Wszystkich Świętych | E5: 46327 | F5: =IF(E5="","",CHOOSE(WEEKDAY(E5),"nd","pon","wt","śr","czw","pt","sob")) -> nd | G5: =IF(E5="","",IF(OR(E5<$B$3,E5>$B$4),"poza okresem",IF(WEEKDAY(E5,2)=7,"nie (niedziela)","tak, −8 h"))) -> nie (niedziela)
A6: Pełne tygodnie (po 7 dni) | B6: =INT(B5/7) -> 4 | D6: Narodowe Święto Niepodległości | E6: 46337 | F6: =IF(E6="","",CHOOSE(WEEKDAY(E6),"nd","pon","wt","śr","czw","pt","sob")) -> śr | G6: =IF(E6="","",IF(OR(E6<$B$3,E6>$B$4),"poza okresem",IF(WEEKDAY(E6,2)=7,"nie (niedziela)","tak, −8 h"))) -> tak, −8 h
A7: Pozostałe dni od poniedziałku do piątku | B7: =IF(MOD(B5,7)=0,0,NETWORKDAYS(B3+7*B6,B4)) -> 1 | F7: =IF(E7="","",CHOOSE(WEEKDAY(E7),"nd","pon","wt","śr","czw","pt","sob")) | G7: =IF(E7="","",IF(OR(E7<$B$3,E7>$B$4),"poza okresem",IF(WEEKDAY(E7,2)=7,"nie (niedziela)","tak, −8 h")))
A8: Święta przypadające w innym dniu niż niedziela | B8: =SUMPRODUCT(ISNUMBER(E5:E20)*(E5:E20>=B3)*(E5:E20<=B4)*(WEEKDAY(E5:E20,2)<7)) -> 1 | F8: =IF(E8="","",CHOOSE(WEEKDAY(E8),"nd","pon","wt","śr","czw","pt","sob")) | G8: =IF(E8="","",IF(OR(E8<$B$3,E8>$B$4),"poza okresem",IF(WEEKDAY(E8,2)=7,"nie (niedziela)","tak, −8 h")))
A9: Wymiar: 40 h × tygodnie + 8 h × pozostałe dni − 8 h × święta | B9: =40*B6+8*B7-8*B8 -> 160 | F9: =IF(E9="","",CHOOSE(WEEKDAY(E9),"nd","pon","wt","śr","czw","pt","sob")) | G9: =IF(E9="","",IF(OR(E9<$B$3,E9>$B$4),"poza okresem",IF(WEEKDAY(E9,2)=7,"nie (niedziela)","tak, −8 h")))
A10: Wymiar etatu (z karty) | B10: ='Karta ewidencji'!$C$6 -> 1 | F10: =IF(E10="","",CHOOSE(WEEKDAY(E10),"nd","pon","wt","śr","czw","pt","sob")) | G10: =IF(E10="","",IF(OR(E10<$B$3,E10>$B$4),"poza okresem",IF(WEEKDAY(E10,2)=7,"nie (niedziela)","tak, −8 h")))
A11: Wymiar dla pracownika (h) | B11: =B9*B10 -> 160 | F11: =IF(E11="","",CHOOSE(WEEKDAY(E11),"nd","pon","wt","śr","czw","pt","sob")) | G11: =IF(E11="","",IF(OR(E11<$B$3,E11>$B$4),"poza okresem",IF(WEEKDAY(E11,2)=7,"nie (niedziela)","tak, −8 h")))
A12: Wymiar użyty w karcie i kontroli (h) | B12: =B11 -> 160 | F12: =IF(E12="","",CHOOSE(WEEKDAY(E12),"nd","pon","wt","śr","czw","pt","sob")) | G12: =IF(E12="","",IF(OR(E12<$B$3,E12>$B$4),"poza okresem",IF(WEEKDAY(E12,2)=7,"nie (niedziela)","tak, −8 h")))
F13: =IF(E13="","",CHOOSE(WEEKDAY(E13),"nd","pon","wt","śr","czw","pt","sob")) | G13: =IF(E13="","",IF(OR(E13<$B$3,E13>$B$4),"poza okresem",IF(WEEKDAY(E13,2)=7,"nie (niedziela)","tak, −8 h")))
A14: ="Wzór: 40 × "&B6&" + 8 × "&B7&" − 8 × "&B8&" = "&B9&" h" -> Wzór: 40 × 4 + 8 × 1 − 8 × 1 = 160 h | F14: =IF(E14="","",CHOOSE(WEEKDAY(E14),"nd","pon","wt","śr","czw","pt","sob")) | G14: =IF(E14="","",IF(OR(E14<$B$3,E14>$B$4),"poza okresem",IF(WEEKDAY(E14,2)=7,"nie (niedziela)","tak, −8 h")))
A15: Listopad 2026: 1.11 (Wszystkich Świętych) wypada w niedzielę, więc nie obniża wymiaru; 11.11 (Narodowe Święto Niepodległości) wypada w środę: 4 × 40 + 8 − 8 = 160 h. | F15: =IF(E15="","",CHOOSE(WEEKDAY(E15),"nd","pon","wt","śr","czw","pt","sob")) | G15: =IF(E15="","",IF(OR(E15<$B$3,E15>$B$4),"poza okresem",IF(WEEKDAY(E15,2)=7,"nie (niedziela)","tak, −8 h")))
F16: =IF(E16="","",CHOOSE(WEEKDAY(E16),"nd","pon","wt","śr","czw","pt","sob")) | G16: =IF(E16="","",IF(OR(E16<$B$3,E16>$B$4),"poza okresem",IF(WEEKDAY(E16,2)=7,"nie (niedziela)","tak, −8 h")))
F17: =IF(E17="","",CHOOSE(WEEKDAY(E17),"nd","pon","wt","śr","czw","pt","sob")) | G17: =IF(E17="","",IF(OR(E17<$B$3,E17>$B$4),"poza okresem",IF(WEEKDAY(E17,2)=7,"nie (niedziela)","tak, −8 h")))
A18: Początek i koniec okresu można zmienić (np. okres 3-miesięczny); karta liczy wtedy jeden miesiąc, a nadgodziny z przeciętnej normy tygodniowej licz po zamknięciu całego okresu. | F18: =IF(E18="","",CHOOSE(WEEKDAY(E18),"nd","pon","wt","śr","czw","pt","sob")) | G18: =IF(E18="","",IF(OR(E18<$B$3,E18>$B$4),"poza okresem",IF(WEEKDAY(E18,2)=7,"nie (niedziela)","tak, −8 h")))
F19: =IF(E19="","",CHOOSE(WEEKDAY(E19),"nd","pon","wt","śr","czw","pt","sob")) | G19: =IF(E19="","",IF(OR(E19<$B$3,E19>$B$4),"poza okresem",IF(WEEKDAY(E19,2)=7,"nie (niedziela)","tak, −8 h")))
F20: =IF(E20="","",CHOOSE(WEEKDAY(E20),"nd","pon","wt","śr","czw","pt","sob")) | G20: =IF(E20="","",IF(OR(E20<$B$3,E20>$B$4),"poza okresem",IF(WEEKDAY(E20,2)=7,"nie (niedziela)","tak, −8 h")))
A21: Wymiar etatu < 1: plik mnoży wymiar przez etat; zasady dla niepełnego etatu sprawdź w regulaminie i przepisach.
D22: Daty świąt sprawdź w art. 1 pkt 1 ustawy o dniach wolnych od pracy (1.11 i 11.11: lit. j–k, Dz.U. 2025 poz. 296).

Sheet Kontrola
A1: Kontrola karty przed zamknięciem miesiąca | F1: Przykład hipotetyczny — orova.vn
A3: A. Kontrola automatyczna | F3: Tygodnie (poniedziałek–niedziela)
A4: Co liczymy | C4: Wynik | D4: Status | F4: Tydzień od | G4: do | H4: Godziny przepracowane | I4: Pora nocna (h) | J4: N50 (h) | K4: N100 (h) | L4: Najdłuższy odpoczynek (h) | M4: Odpoczynek tygodniowy
A5: Dni od poniedziałku do soboty bez godzin i bez kodu (poza świętami) | C5: =SUMPRODUCT(($F$33:$F$63>0)*(WEEKDAY($F$33:$F$63,2)<7)*('Karta ewidencji'!$C$10:$C$40="")*('Karta ewidencji'!$M$10:$M$40="")*(COUNTIF(Wymiar!$E$5:$E$20,$F$33:$F$63)=0)) -> 0 | D5: =IF(C5=0,"OK","Uzupełnij") -> OK | F5: =Wymiar!$B$3-WEEKDAY(Wymiar!$B$3,3)+0 -> 46321 | G5: =F5+6 -> 46327 | H5: =SUMIFS('Karta ewidencji'!$E$10:$E$40,'Karta ewidencji'!$A$10:$A$40,">="&F5,'Karta ewidencji'!$A$10:$A$40,"<="&G5) -> 0 | I5: =SUMIFS('Karta ewidencji'!$G$10:$G$40,'Karta ewidencji'!$A$10:$A$40,">="&F5,'Karta ewidencji'!$A$10:$A$40,"<="&G5) -> 0 | J5: =SUMIFS('Karta ewidencji'!$H$10:$H$40,'Karta ewidencji'!$A$10:$A$40,">="&F5,'Karta ewidencji'!$A$10:$A$40,"<="&G5) -> 0 | K5: =SUMIFS('Karta ewidencji'!$I$10:$I$40,'Karta ewidencji'!$A$10:$A$40,">="&F5,'Karta ewidencji'!$A$10:$A$40,"<="&G5) -> 0 | L5: =SUMPRODUCT(MAX(($J$33:$J$63>=F5)*($J$33:$J$63<F5+7)*$K$33:$K$63)) -> 0 | M5: =IF(OR(F5<Wymiar!$B$3,G5>Wymiar!$B$4),"tydzień niepełny",IF(L5>=35,"OK (≥ 35 h)","< 35 h")) -> tydzień niepełny
A6: Godziny przepracowane w miesiącu | C6: ='Karta ewidencji'!E41 -> 155 | D6: ="" | F6: =Wymiar!$B$3-WEEKDAY(Wymiar!$B$3,3)+7 -> 46328 | G6: =F6+6 -> 46334 | H6: =SUMIFS('Karta ewidencji'!$E$10:$E$40,'Karta ewidencji'!$A$10:$A$40,">="&F6,'Karta ewidencji'!$A$10:$A$40,"<="&G6) -> 35 | I6: =SUMIFS('Karta ewidencji'!$G$10:$G$40,'Karta ewidencji'!$A$10:$A$40,">="&F6,'Karta ewidencji'!$A$10:$A$40,"<="&G6) -> 2 | J6: =SUMIFS('Karta ewidencji'!$H$10:$H$40,'Karta ewidencji'!$A$10:$A$40,">="&F6,'Karta ewidencji'!$A$10:$A$40,"<="&G6) -> 2 | K6: =SUMIFS('Karta ewidencji'!$I$10:$I$40,'Karta ewidencji'!$A$10:$A$40,">="&F6,'Karta ewidencji'!$A$10:$A$40,"<="&G6) -> 1 | L6: =SUMPRODUCT(MAX(($J$33:$J$63>=F6)*($J$33:$J$63<F6+7)*$K$33:$K$63)) -> 64 | M6: =IF(OR(F6<Wymiar!$B$3,G6>Wymiar!$B$4),"tydzień niepełny",IF(L6>=35,"OK (≥ 35 h)","< 35 h")) -> OK (≥ 35 h)
A7: w tym nadgodziny N50 | C7: ='Karta ewidencji'!H41 -> 2 | D7: ="" | F7: =Wymiar!$B$3-WEEKDAY(Wymiar!$B$3,3)+14 -> 46335 | G7: =F7+6 -> 46341 | H7: =SUMIFS('Karta ewidencji'!$E$10:$E$40,'Karta ewidencji'!$A$10:$A$40,">="&F7,'Karta ewidencji'!$A$10:$A$40,"<="&G7) -> 32 | I7: =SUMIFS('Karta ewidencji'!$G$10:$G$40,'Karta ewidencji'!$A$10:$A$40,">="&F7,'Karta ewidencji'!$A$10:$A$40,"<="&G7) -> 0 | J7: =SUMIFS('Karta ewidencji'!$H$10:$H$40,'Karta ewidencji'!$A$10:$A$40,">="&F7,'Karta ewidencji'!$A$10:$A$40,"<="&G7) -> 0 | K7: =SUMIFS('Karta ewidencji'!$I$10:$I$40,'Karta ewidencji'!$A$10:$A$40,">="&F7,'Karta ewidencji'!$A$10:$A$40,"<="&G7) -> 0 | L7: =SUMPRODUCT(MAX(($J$33:$J$63>=F7)*($J$33:$J$63<F7+7)*$K$33:$K$63)) -> 72 | M7: =IF(OR(F7<Wymiar!$B$3,G7>Wymiar!$B$4),"tydzień niepełny",IF(L7>=35,"OK (≥ 35 h)","< 35 h")) -> OK (≥ 35 h)
A8: w tym nadgodziny N100 | C8: ='Karta ewidencji'!I41 -> 1 | D8: ="" | F8: =Wymiar!$B$3-WEEKDAY(Wymiar!$B$3,3)+21 -> 46342 | G8: =F8+6 -> 46348 | H8: =SUMIFS('Karta ewidencji'!$E$10:$E$40,'Karta ewidencji'!$A$10:$A$40,">="&F8,'Karta ewidencji'!$A$10:$A$40,"<="&G8) -> 40 | I8: =SUMIFS('Karta ewidencji'!$G$10:$G$40,'Karta ewidencji'!$A$10:$A$40,">="&F8,'Karta ewidencji'!$A$10:$A$40,"<="&G8) -> 5 | J8: =SUMIFS('Karta ewidencji'!$H$10:$H$40,'Karta ewidencji'!$A$10:$A$40,">="&F8,'Karta ewidencji'!$A$10:$A$40,"<="&G8) -> 0 | K8: =SUMIFS('Karta ewidencji'!$I$10:$I$40,'Karta ewidencji'!$A$10:$A$40,">="&F8,'Karta ewidencji'!$A$10:$A$40,"<="&G8) -> 0 | L8: =SUMPRODUCT(MAX(($J$33:$J$63>=F8)*($J$33:$J$63<F8+7)*$K$33:$K$63)) -> 56 | M8: =IF(OR(F8<Wymiar!$B$3,G8>Wymiar!$B$4),"tydzień niepełny",IF(L8>=35,"OK (≥ 35 h)","< 35 h")) -> OK (≥ 35 h)
A9: Godziny usprawiedliwionej nieobecności (kolumna Nieobecność, bez NN) | C9: =SUMIFS('Karta ewidencji'!$N$10:$N$40,'Karta ewidencji'!$M$10:$M$40,"<>NN") -> 8 | D9: ="" | F9: =Wymiar!$B$3-WEEKDAY(Wymiar!$B$3,3)+28 -> 46349 | G9: =F9+6 -> 46355 | H9: =SUMIFS('Karta ewidencji'!$E$10:$E$40,'Karta ewidencji'!$A$10:$A$40,">="&F9,'Karta ewidencji'!$A$10:$A$40,"<="&G9) -> 40 | I9: =SUMIFS('Karta ewidencji'!$G$10:$G$40,'Karta ewidencji'!$A$10:$A$40,">="&F9,'Karta ewidencji'!$A$10:$A$40,"<="&G9) -> 0 | J9: =SUMIFS('Karta ewidencji'!$H$10:$H$40,'Karta ewidencji'!$A$10:$A$40,">="&F9,'Karta ewidencji'!$A$10:$A$40,"<="&G9) -> 0 | K9: =SUMIFS('Karta ewidencji'!$I$10:$I$40,'Karta ewidencji'!$A$10:$A$40,">="&F9,'Karta ewidencji'!$A$10:$A$40,"<="&G9) -> 0 | L9: =SUMPRODUCT(MAX(($J$33:$J$63>=F9)*($J$33:$J$63<F9+7)*$K$33:$K$63)) -> 64 | M9: =IF(OR(F9<Wymiar!$B$3,G9>Wymiar!$B$4),"tydzień niepełny",IF(L9>=35,"OK (≥ 35 h)","< 35 h")) -> OK (≥ 35 h)
A10: Godziny w normie + nieobecności = przepracowane − N50 − N100 + nieobecności | C10: =C6-C7-C8+C9 -> 160 | D10: ="" | F10: =Wymiar!$B$3-WEEKDAY(Wymiar!$B$3,3)+35 -> 46356 | G10: =F10+6 -> 46362 | H10: =SUMIFS('Karta ewidencji'!$E$10:$E$40,'Karta ewidencji'!$A$10:$A$40,">="&F10,'Karta ewidencji'!$A$10:$A$40,"<="&G10) -> 8 | I10: =SUMIFS('Karta ewidencji'!$G$10:$G$40,'Karta ewidencji'!$A$10:$A$40,">="&F10,'Karta ewidencji'!$A$10:$A$40,"<="&G10) -> 0 | J10: =SUMIFS('Karta ewidencji'!$H$10:$H$40,'Karta ewidencji'!$A$10:$A$40,">="&F10,'Karta ewidencji'!$A$10:$A$40,"<="&G10) -> 0 | K10: =SUMIFS('Karta ewidencji'!$I$10:$I$40,'Karta ewidencji'!$A$10:$A$40,">="&F10,'Karta ewidencji'!$A$10:$A$40,"<="&G10) -> 0 | L10: =SUMPRODUCT(MAX(($J$33:$J$63>=F10)*($J$33:$J$63<F10+7)*$K$33:$K$63)) -> 0 | M10: =IF(OR(F10<Wymiar!$B$3,G10>Wymiar!$B$4),"tydzień niepełny",IF(L10>=35,"OK (≥ 35 h)","< 35 h")) -> tydzień niepełny
A11: Wymiar czasu pracy (arkusz Wymiar) | C11: =Wymiar!B12 -> 160 | D11: ="" | F11: Tydzień 2–8.11 = przykład z kroku 5: 35 h, pora nocna 2 h, N50 2 h, N100 1 h.
A12: Różnica (bilans z wymiarem) | C12: =ROUND(C10-C11,2) -> 0 | D12: =IF(C12=0,"OK",IF(C12>0,"Nadwyżka: sprawdź nadgodziny","Niedobór: sprawdź luki")) -> OK | F12: Tygodnie wychodzące poza miesiąc sprawdź razem z kartą sąsiedniego miesiąca.
A13: Dni z odpoczynkiem dobowym krótszym niż 11 h (art. 132 § 1) | C13: =COUNTIFS($K$33:$K$63,">0",$K$33:$K$63,"<11") -> 0 | D13: =IF(C13=0,"OK","Sprawdź") -> OK | F13: Najdłuższy odpoczynek: liczony od końca pracy w danym tygodniu do następnego rozpoczęcia (art. 133 § 1: co najmniej 35 h).
A14: Pełne tygodnie z odpoczynkiem krótszym niż 35 h (art. 133 § 1) | C14: =COUNTIF(M5:M10,"< 35 h") -> 0 | D14: =IF(C14=0,"OK","Sprawdź") -> OK
A17: B. Checklista przed zamknięciem miesiąca
A18: Obszar kontroli | B18: Co sprawdzić | C18: Podstawa | D18: Status
A19: Godziny pracy | B19: Godzina rozpoczęcia i zakończenia oraz liczba godzin każdego dnia | C19: § 6 pkt 1 lit. a | D19: Do sprawdzenia
A20: Nadgodziny | B20: Rozdzielone 50% i 100%, dobowe i z tytułu przeciętnej normy tygodniowej | C20: Art. 151¹ § 1–2 | D20: Do sprawdzenia
A21: Pora nocna | B21: Liczba godzin w porze nocnej ustalonej w zakładzie | C21: Art. 151⁷ § 1; § 6 | D21: Do sprawdzenia
A22: Dyżury | B22: Godziny od–do i miejsce pełnienia dyżuru | C22: § 6; art. 151⁵ | D22: Do sprawdzenia
A23: Dni wolne | B23: Tytuł każdego dnia wolnego (W, WN, WD) | C23: § 6; art. 151³, 151¹¹ | D23: Do sprawdzenia
A24: Wnioski | B24: Każdy kod urlopu lub zwolnienia ma wniosek | C24: § 6 pkt 1 lit. b | D24: Do sprawdzenia
A25: Nieobecności | B25: Rodzaj i wymiar usprawiedliwionych, wymiar nieusprawiedliwionych | C25: § 6 pkt 1 lit. a | D25: Do sprawdzenia
A26: Odpoczynek | B26: Co najmniej 11 godzin dobowego i 35 godzin tygodniowego odpoczynku | C26: Art. 132 § 1, art. 133 § 1 | D26: Do sprawdzenia
A27: Historia zmian | B27: Kto, kiedy i dlaczego zmienił wpis w karcie | C27: Dobra praktyka dowodowa | D27: Do sprawdzenia
A28: Przechowywanie | B28: Okres zatrudnienia i 10 lat od końca roku, w którym stosunek pracy ustał | C28: Art. 94 pkt 9b | D28: Do sprawdzenia
A30: Sprawdził(a): ____________________ Data: __.__.____ Podpis: ____________________
A31: Plik nie liczy wynagrodzeń ani dodatków — tylko godziny i dni. Przykład hipotetyczny. | F31: Odpoczynek dobowy dzień po dniu (art. 132 § 1: co najmniej 11 h)
F32: Data | G32: Dzień | H32: Początek pracy | I32: Koniec pracy | J32: Ostatni koniec pracy przed | K32: Odpoczynek przed pracą (h)
F33: =IF(ISNUMBER('Karta ewidencji'!A10),'Karta ewidencji'!A10,0) -> 46327 | G33: =IF(F33=0,"",CHOOSE(WEEKDAY(F33),"nd","pon","wt","śr","czw","pt","sob")) -> nd | H33: =IF(AND(F33>0,ISNUMBER('Karta ewidencji'!C10),ISNUMBER('Karta ewidencji'!D10)),F33+'Karta ewidencji'!C10,0) -> 0 | I33: =IF(H33>0,H33+MOD('Karta ewidencji'!D10-'Karta ewidencji'!C10,1),0) -> 0 | J33: =0 -> 0 | K33: =IF(AND(H33>0,J33>0),ROUND((H33-J33)*24,2),0) -> 0
F34: =IF(ISNUMBER('Karta ewidencji'!A11),'Karta ewidencji'!A11,0) -> 46328 | G34: =IF(F34=0,"",CHOOSE(WEEKDAY(F34),"nd","pon","wt","śr","czw","pt","sob")) -> pon | H34: =IF(AND(F34>0,ISNUMBER('Karta ewidencji'!C11),ISNUMBER('Karta ewidencji'!D11)),F34+'Karta ewidencji'!C11,0) -> 46328.292 | I34: =IF(H34>0,H34+MOD('Karta ewidencji'!D11-'Karta ewidencji'!C11,1),0) -> 46328.625 | J34: =IF(F34=0,0,IF(I33>0,I33,J33)) -> 0 | K34: =IF(AND(H34>0,J34>0),ROUND((H34-J34)*24,2),0) -> 0
F35: =IF(ISNUMBER('Karta ewidencji'!A12),'Karta ewidencji'!A12,0) -> 46329 | G35: =IF(F35=0,"",CHOOSE(WEEKDAY(F35),"nd","pon","wt","śr","czw","pt","sob")) -> wt | H35: =IF(AND(F35>0,ISNUMBER('Karta ewidencji'!C12),ISNUMBER('Karta ewidencji'!D12)),F35+'Karta ewidencji'!C12,0) -> 46329.292 | I35: =IF(H35>0,H35+MOD('Karta ewidencji'!D12-'Karta ewidencji'!C12,1),0) -> 46329.708 | J35: =IF(F35=0,0,IF(I34>0,I34,J34)) -> 46328.625 | K35: =IF(AND(H35>0,J35>0),ROUND((H35-J35)*24,2),0) -> 16
F36: =IF(ISNUMBER('Karta ewidencji'!A13),'Karta ewidencji'!A13,0) -> 46330 | G36: =IF(F36=0,"",CHOOSE(WEEKDAY(F36),"nd","pon","wt","śr","czw","pt","sob")) -> śr | H36: =IF(AND(F36>0,ISNUMBER('Karta ewidencji'!C13),ISNUMBER('Karta ewidencji'!D13)),F36+'Karta ewidencji'!C13,0) -> 46330.625 | I36: =IF(H36>0,H36+MOD('Karta ewidencji'!D13-'Karta ewidencji'!C13,1),0) -> 46331 | J36: =IF(F36=0,0,IF(I35>0,I35,J35)) -> 46329.708 | K36: =IF(AND(H36>0,J36>0),ROUND((H36-J36)*24,2),0) -> 22
F37: =IF(ISNUMBER('Karta ewidencji'!A14),'Karta ewidencji'!A14,0) -> 46331 | G37: =IF(F37=0,"",CHOOSE(WEEKDAY(F37),"nd","pon","wt","śr","czw","pt","sob")) -> czw | H37: =IF(AND(F37>0,ISNUMBER('Karta ewidencji'!C14),ISNUMBER('Karta ewidencji'!D14)),F37+'Karta ewidencji'!C14,0) -> 0 | I37: =IF(H37>0,H37+MOD('Karta ewidencji'!D14-'Karta ewidencji'!C14,1),0) -> 0 | J37: =IF(F37=0,0,IF(I36>0,I36,J36)) -> 46331 | K37: =IF(AND(H37>0,J37>0),ROUND((H37-J37)*24,2),0) -> 0
F38: =IF(ISNUMBER('Karta ewidencji'!A15),'Karta ewidencji'!A15,0) -> 46332 | G38: =IF(F38=0,"",CHOOSE(WEEKDAY(F38),"nd","pon","wt","śr","czw","pt","sob")) -> pt | H38: =IF(AND(F38>0,ISNUMBER('Karta ewidencji'!C15),ISNUMBER('Karta ewidencji'!D15)),F38+'Karta ewidencji'!C15,0) -> 46332.292 | I38: =IF(H38>0,H38+MOD('Karta ewidencji'!D15-'Karta ewidencji'!C15,1),0) -> 46332.625 | J38: =IF(F38=0,0,IF(I37>0,I37,J37)) -> 46331 | K38: =IF(AND(H38>0,J38>0),ROUND((H38-J38)*24,2),0) -> 31
F39: =IF(ISNUMBER('Karta ewidencji'!A16),'Karta ewidencji'!A16,0) -> 46333 | G39: =IF(F39=0,"",CHOOSE(WEEKDAY(F39),"nd","pon","wt","śr","czw","pt","sob")) -> sob | H39: =IF(AND(F39>0,ISNUMBER('Karta ewidencji'!C16),ISNUMBER('Karta ewidencji'!D16)),F39+'Karta ewidencji'!C16,0) -> 0 | I39: =IF(H39>0,H39+MOD('Karta ewidencji'!D16-'Karta ewidencji'!C16,1),0) -> 0 | J39: =IF(F39=0,0,IF(I38>0,I38,J38)) -> 46332.625 | K39: =IF(AND(H39>0,J39>0),ROUND((H39-J39)*24,2),0) -> 0
F40: =IF(ISNUMBER('Karta ewidencji'!A17),'Karta ewidencji'!A17,0) -> 46334 | G40: =IF(F40=0,"",CHOOSE(WEEKDAY(F40),"nd","pon","wt","śr","czw","pt","sob")) -> nd | H40: =IF(AND(F40>0,ISNUMBER('Karta ewidencji'!C17),ISNUMBER('Karta ewidencji'!D17)),F40+'Karta ewidencji'!C17,0) -> 0 | I40: =IF(H40>0,H40+MOD('Karta ewidencji'!D17-'Karta ewidencji'!C17,1),0) -> 0 | J40: =IF(F40=0,0,IF(I39>0,I39,J39)) -> 46332.625 | K40: =IF(AND(H40>0,J40>0),ROUND((H40-J40)*24,2),0) -> 0
F41: =IF(ISNUMBER('Karta ewidencji'!A18),'Karta ewidencji'!A18,0) -> 46335 | G41: =IF(F41=0,"",CHOOSE(WEEKDAY(F41),"nd","pon","wt","śr","czw","pt","sob")) -> pon | H41: =IF(AND(F41>0,ISNUMBER('Karta ewidencji'!C18),ISNUMBER('Karta ewidencji'!D18)),F41+'Karta ewidencji'!C18,0) -> 46335.292 | I41: =IF(H41>0,H41+MOD('Karta ewidencji'!D18-'Karta ewidencji'!C18,1),0) -> 46335.625 | J41: =IF(F41=0,0,IF(I40>0,I40,J40)) -> 46332.625 | K41: =IF(AND(H41>0,J41>0),ROUND((H41-J41)*24,2),0) -> 64
F42: =IF(ISNUMBER('Karta ewidencji'!A19),'Karta ewidencji'!A19,0) -> 46336 | G42: =IF(F42=0,"",CHOOSE(WEEKDAY(F42),"nd","pon","wt","śr","czw","pt","sob")) -> wt | H42: =IF(AND(F42>0,ISNUMBER('Karta ewidencji'!C19),ISNUMBER('Karta ewidencji'!D19)),F42+'Karta ewidencji'!C19,0) -> 46336.292 | I42: =IF(H42>0,H42+MOD('Karta ewidencji'!D19-'Karta ewidencji'!C19,1),0) -> 46336.625 | J42: =IF(F42=0,0,IF(I41>0,I41,J41)) -> 46335.625 | K42: =IF(AND(H42>0,J42>0),ROUND((H42-J42)*24,2),0) -> 16
F43: =IF(ISNUMBER('Karta ewidencji'!A20),'Karta ewidencji'!A20,0) -> 46337 | G43: =IF(F43=0,"",CHOOSE(WEEKDAY(F43),"nd","pon","wt","śr","czw","pt","sob")) -> śr | H43: =IF(AND(F43>0,ISNUMBER('Karta ewidencji'!C20),ISNUMBER('Karta ewidencji'!D20)),F43+'Karta ewidencji'!C20,0) -> 0 | I43: =IF(H43>0,H43+MOD('Karta ewidencji'!D20-'Karta ewidencji'!C20,1),0) -> 0 | J43: =IF(F43=0,0,IF(I42>0,I42,J42)) -> 46336.625 | K43: =IF(AND(H43>0,J43>0),ROUND((H43-J43)*24,2),0) -> 0
F44: =IF(ISNUMBER('Karta ewidencji'!A21),'Karta ewidencji'!A21,0) -> 46338 | G44: =IF(F44=0,"",CHOOSE(WEEKDAY(F44),"nd","pon","wt","śr","czw","pt","sob")) -> czw | H44: =IF(AND(F44>0,ISNUMBER('Karta ewidencji'!C21),ISNUMBER('Karta ewidencji'!D21)),F44+'Karta ewidencji'!C21,0) -> 46338.292 | I44: =IF(H44>0,H44+MOD('Karta ewidencji'!D21-'Karta ewidencji'!C21,1),0) -> 46338.625 | J44: =IF(F44=0,0,IF(I43>0,I43,J43)) -> 46336.625 | K44: =IF(AND(H44>0,J44>0),ROUND((H44-J44)*24,2),0) -> 40
F45: =IF(ISNUMBER('Karta ewidencji'!A22),'Karta ewidencji'!A22,0) -> 46339 | G45: =IF(F45=0,"",CHOOSE(WEEKDAY(F45),"nd","pon","wt","śr","czw","pt","sob")) -> pt | H45: =IF(AND(F45>0,ISNUMBER('Karta ewidencji'!C22),ISNUMBER('Karta ewidencji'!D22)),F45+'Karta ewidencji'!C22,0) -> 46339.292 | I45: =IF(H45>0,H45+MOD('Karta ewidencji'!D22-'Karta ewidencji'!C22,1),0) -> 46339.625 | J45: =IF(F45=0,0,IF(I44>0,I44,J44)) -> 46338.625 | K45: =IF(AND(H45>0,J45>0),ROUND((H45-J45)*24,2),0) -> 16
... F63: =IF(ISNUMBER('Karta ewidencji'!A40),'Karta ewidencji'!A40,0) -> 0 | G63: =IF(F63=0,"",CHOOSE(WEEKDAY(F63),"nd","pon","wt","śr","czw","pt","sob")) | H63: =IF(AND(F63>0,ISNUMBER('Karta ewidencji'!C40),ISNUMBER('Karta ewidencji'!D40)),F63+'Karta ewidencji'!C40,0) -> 0 | I63: =IF(H63>0,H63+MOD('Karta ewidencji'!D40-'Karta ewidencji'!C40,1),0) -> 0 | J63: =IF(F63=0,0,IF(I62>0,I62,J62)) -> 0 | K63: =IF(AND(H63>0,J63>0),ROUND((H63-J63)*24,2),0) -> 0
F65: Dzień bez pracy przenosi ostatni koniec pracy dalej. Pierwszy dzień miesiąca porównaj ręcznie z kartą z poprzedniego miesiąca.
