Workbook

Sheet Puantaj
A1: Puantaj – günlük çalışma kayıtları | H1: Varsayımsal örnek — orova.vn
A2: Ay (ayın 1. günü): | C2: 46388 | D2: Vardiya planı (Pzt–Cum) | E2: Başlangıç | F2: Bitiş
A3: İşyeri: | C3: Örnek Tekstil Ltd. | D3: Normal | E3: 0.35416667 | F3: 0.75 | G3: Geç giriş / erken çıkış dakikası bu saatlere göre (Pzt–Cum) hesaplanır.
A4: Ay sonu: | C4: =EOMONTH(C2,0) -> 46418 | D4: Akşam | E4: 0.66666667 | F4: 0 | G4: Bitiş 00:00 = gece yarısı (24:00).
A6: Tarih | B6: Gün | C6: Personel | D6: Vardiya / Kod | E6: Giriş | F6: Çıkış | G6: Brüt süre (saat) | H6: Ara dinlenme (saat) | I6: Net çalışma (saat) | J6: Gece süresi 20:00–06:00 | K6: Not
A7: 46388 | B7: =IF(A7="","",CHOOSE(WEEKDAY(A7),"Paz","Pzt","Sal","Çar","Per","Cum","Cmt")) -> Cum | C7: Elif Demir | G7: =IF(OR(E7="",F7=""),"",ROUND(MOD(F7-E7,1)*24,2)) | I7: =IF(G7="","",G7-N(H7)) | J7: =IF(OR(E7="",F7=""),"",ROUND(24*(MAX(0,MIN((E7+MOD(F7-E7,1)),6/24)-E7)+MAX(0,MIN((E7+MOD(F7-E7,1)),30/24)-MAX(E7,20/24))+MAX(0,(E7+MOD(F7-E7,1))-MAX(E7,44/24))),2)) | K7: 1 Ocak Yılbaşı: genel tatil, çalışılmadı
A8: 46391 | B8: =IF(A8="","",CHOOSE(WEEKDAY(A8),"Paz","Pzt","Sal","Çar","Per","Cum","Cmt")) -> Pzt | C8: Elif Demir | D8: Normal | E8: 0.35416667 | F8: 0.75 | G8: =IF(OR(E8="",F8=""),"",ROUND(MOD(F8-E8,1)*24,2)) -> 9.5 | H8: 1 | I8: =IF(G8="","",G8-N(H8)) -> 8.5 | J8: =IF(OR(E8="",F8=""),"",ROUND(24*(MAX(0,MIN((E8+MOD(F8-E8,1)),6/24)-E8)+MAX(0,MIN((E8+MOD(F8-E8,1)),30/24)-MAX(E8,20/24))+MAX(0,(E8+MOD(F8-E8,1))-MAX(E8,44/24))),2)) -> 0
A9: 46392 | B9: =IF(A9="","",CHOOSE(WEEKDAY(A9),"Paz","Pzt","Sal","Çar","Per","Cum","Cmt")) -> Sal | C9: Elif Demir | D9: Normal | E9: 0.35416667 | F9: 0.75 | G9: =IF(OR(E9="",F9=""),"",ROUND(MOD(F9-E9,1)*24,2)) -> 9.5 | H9: 1 | I9: =IF(G9="","",G9-N(H9)) -> 8.5 | J9: =IF(OR(E9="",F9=""),"",ROUND(24*(MAX(0,MIN((E9+MOD(F9-E9,1)),6/24)-E9)+MAX(0,MIN((E9+MOD(F9-E9,1)),30/24)-MAX(E9,20/24))+MAX(0,(E9+MOD(F9-E9,1))-MAX(E9,44/24))),2)) -> 0
A10: 46393 | B10: =IF(A10="","",CHOOSE(WEEKDAY(A10),"Paz","Pzt","Sal","Çar","Per","Cum","Cmt")) -> Çar | C10: Elif Demir | D10: Normal | E10: 0.35416667 | F10: 0.75 | G10: =IF(OR(E10="",F10=""),"",ROUND(MOD(F10-E10,1)*24,2)) -> 9.5 | H10: 1 | I10: =IF(G10="","",G10-N(H10)) -> 8.5 | J10: =IF(OR(E10="",F10=""),"",ROUND(24*(MAX(0,MIN((E10+MOD(F10-E10,1)),6/24)-E10)+MAX(0,MIN((E10+MOD(F10-E10,1)),30/24)-MAX(E10,20/24))+MAX(0,(E10+MOD(F10-E10,1))-MAX(E10,44/24))),2)) -> 0
A11: 46394 | B11: =IF(A11="","",CHOOSE(WEEKDAY(A11),"Paz","Pzt","Sal","Çar","Per","Cum","Cmt")) -> Per | C11: Elif Demir | D11: Normal | E11: 0.35416667 | F11: 0.75 | G11: =IF(OR(E11="",F11=""),"",ROUND(MOD(F11-E11,1)*24,2)) -> 9.5 | H11: 1 | I11: =IF(G11="","",G11-N(H11)) -> 8.5 | J11: =IF(OR(E11="",F11=""),"",ROUND(24*(MAX(0,MIN((E11+MOD(F11-E11,1)),6/24)-E11)+MAX(0,MIN((E11+MOD(F11-E11,1)),30/24)-MAX(E11,20/24))+MAX(0,(E11+MOD(F11-E11,1))-MAX(E11,44/24))),2)) -> 0
A12: 46395 | B12: =IF(A12="","",CHOOSE(WEEKDAY(A12),"Paz","Pzt","Sal","Çar","Per","Cum","Cmt")) -> Cum | C12: Elif Demir | D12: Normal | E12: 0.35416667 | F12: 0.75 | G12: =IF(OR(E12="",F12=""),"",ROUND(MOD(F12-E12,1)*24,2)) -> 9.5 | H12: 1 | I12: =IF(G12="","",G12-N(H12)) -> 8.5 | J12: =IF(OR(E12="",F12=""),"",ROUND(24*(MAX(0,MIN((E12+MOD(F12-E12,1)),6/24)-E12)+MAX(0,MIN((E12+MOD(F12-E12,1)),30/24)-MAX(E12,20/24))+MAX(0,(E12+MOD(F12-E12,1))-MAX(E12,44/24))),2)) -> 0
A13: 46398 | B13: =IF(A13="","",CHOOSE(WEEKDAY(A13),"Paz","Pzt","Sal","Çar","Per","Cum","Cmt")) -> Pzt | C13: Elif Demir | D13: Normal | E13: 0.35416667 | F13: 0.75 | G13: =IF(OR(E13="",F13=""),"",ROUND(MOD(F13-E13,1)*24,2)) -> 9.5 | H13: 1 | I13: =IF(G13="","",G13-N(H13)) -> 8.5 | J13: =IF(OR(E13="",F13=""),"",ROUND(24*(MAX(0,MIN((E13+MOD(F13-E13,1)),6/24)-E13)+MAX(0,MIN((E13+MOD(F13-E13,1)),30/24)-MAX(E13,20/24))+MAX(0,(E13+MOD(F13-E13,1))-MAX(E13,44/24))),2)) -> 0 | K13: Örnek hafta başlangıcı (11–17 Ocak)
A14: 46399 | B14: =IF(A14="","",CHOOSE(WEEKDAY(A14),"Paz","Pzt","Sal","Çar","Per","Cum","Cmt")) -> Sal | C14: Elif Demir | D14: Normal | E14: 0.35416667 | F14: 0.75 | G14: =IF(OR(E14="",F14=""),"",ROUND(MOD(F14-E14,1)*24,2)) -> 9.5 | H14: 1 | I14: =IF(G14="","",G14-N(H14)) -> 8.5 | J14: =IF(OR(E14="",F14=""),"",ROUND(24*(MAX(0,MIN((E14+MOD(F14-E14,1)),6/24)-E14)+MAX(0,MIN((E14+MOD(F14-E14,1)),30/24)-MAX(E14,20/24))+MAX(0,(E14+MOD(F14-E14,1))-MAX(E14,44/24))),2)) -> 0
A15: 46400 | B15: =IF(A15="","",CHOOSE(WEEKDAY(A15),"Paz","Pzt","Sal","Çar","Per","Cum","Cmt")) -> Çar | C15: Elif Demir | D15: Normal | E15: 0.35416667 | F15: 0.75 | G15: =IF(OR(E15="",F15=""),"",ROUND(MOD(F15-E15,1)*24,2)) -> 9.5 | H15: 1 | I15: =IF(G15="","",G15-N(H15)) -> 8.5 | J15: =IF(OR(E15="",F15=""),"",ROUND(24*(MAX(0,MIN((E15+MOD(F15-E15,1)),6/24)-E15)+MAX(0,MIN((E15+MOD(F15-E15,1)),30/24)-MAX(E15,20/24))+MAX(0,(E15+MOD(F15-E15,1))-MAX(E15,44/24))),2)) -> 0
A16: 46401 | B16: =IF(A16="","",CHOOSE(WEEKDAY(A16),"Paz","Pzt","Sal","Çar","Per","Cum","Cmt")) -> Per | C16: Elif Demir | D16: Normal | E16: 0.35416667 | F16: 0.75 | G16: =IF(OR(E16="",F16=""),"",ROUND(MOD(F16-E16,1)*24,2)) -> 9.5 | H16: 1 | I16: =IF(G16="","",G16-N(H16)) -> 8.5 | J16: =IF(OR(E16="",F16=""),"",ROUND(24*(MAX(0,MIN((E16+MOD(F16-E16,1)),6/24)-E16)+MAX(0,MIN((E16+MOD(F16-E16,1)),30/24)-MAX(E16,20/24))+MAX(0,(E16+MOD(F16-E16,1))-MAX(E16,44/24))),2)) -> 0
A17: 46402 | B17: =IF(A17="","",CHOOSE(WEEKDAY(A17),"Paz","Pzt","Sal","Çar","Per","Cum","Cmt")) -> Cum | C17: Elif Demir | D17: Normal | E17: 0.35416667 | F17: 0.75 | G17: =IF(OR(E17="",F17=""),"",ROUND(MOD(F17-E17,1)*24,2)) -> 9.5 | H17: 1 | I17: =IF(G17="","",G17-N(H17)) -> 8.5 | J17: =IF(OR(E17="",F17=""),"",ROUND(24*(MAX(0,MIN((E17+MOD(F17-E17,1)),6/24)-E17)+MAX(0,MIN((E17+MOD(F17-E17,1)),30/24)-MAX(E17,20/24))+MAX(0,(E17+MOD(F17-E17,1))-MAX(E17,44/24))),2)) -> 0
A18: 46403 | B18: =IF(A18="","",CHOOSE(WEEKDAY(A18),"Paz","Pzt","Sal","Çar","Per","Cum","Cmt")) -> Cmt | C18: Elif Demir | D18: Normal | E18: 0.375 | F18: 0.60416667 | G18: =IF(OR(E18="",F18=""),"",ROUND(MOD(F18-E18,1)*24,2)) -> 5.5 | H18: 0.5 | I18: =IF(G18="","",G18-N(H18)) -> 5 | J18: =IF(OR(E18="",F18=""),"",ROUND(24*(MAX(0,MIN((E18+MOD(F18-E18,1)),6/24)-E18)+MAX(0,MIN((E18+MOD(F18-E18,1)),30/24)-MAX(E18,20/24))+MAX(0,(E18+MOD(F18-E18,1))-MAX(E18,44/24))),2)) -> 0 | K18: Örnek hafta: 5 × 8,5 + 5,0 = 47,5 saat
A19: 46404 | B19: =IF(A19="","",CHOOSE(WEEKDAY(A19),"Paz","Pzt","Sal","Çar","Per","Cum","Cmt")) -> Paz | C19: Elif Demir | D19: HT | G19: =IF(OR(E19="",F19=""),"",ROUND(MOD(F19-E19,1)*24,2)) | I19: =IF(G19="","",G19-N(H19)) | J19: =IF(OR(E19="",F19=""),"",ROUND(24*(MAX(0,MIN((E19+MOD(F19-E19,1)),6/24)-E19)+MAX(0,MIN((E19+MOD(F19-E19,1)),30/24)-MAX(E19,20/24))+MAX(0,(E19+MOD(F19-E19,1))-MAX(E19,44/24))),2)) | K19: Hafta tatili (md. 46)
A20: 46405 | B20: =IF(A20="","",CHOOSE(WEEKDAY(A20),"Paz","Pzt","Sal","Çar","Per","Cum","Cmt")) -> Pzt | C20: Elif Demir | D20: Normal | E20: 0.35416667 | F20: 0.75 | G20: =IF(OR(E20="",F20=""),"",ROUND(MOD(F20-E20,1)*24,2)) -> 9.5 | H20: 1 | I20: =IF(G20="","",G20-N(H20)) -> 8.5 | J20: =IF(OR(E20="",F20=""),"",ROUND(24*(MAX(0,MIN((E20+MOD(F20-E20,1)),6/24)-E20)+MAX(0,MIN((E20+MOD(F20-E20,1)),30/24)-MAX(E20,20/24))+MAX(0,(E20+MOD(F20-E20,1))-MAX(E20,44/24))),2)) -> 0
A21: 46406 | B21: =IF(A21="","",CHOOSE(WEEKDAY(A21),"Paz","Pzt","Sal","Çar","Per","Cum","Cmt")) -> Sal | C21: Elif Demir | D21: Normal | E21: 0.35416667 | F21: 0.75 | G21: =IF(OR(E21="",F21=""),"",ROUND(MOD(F21-E21,1)*24,2)) -> 9.5 | H21: 1 | I21: =IF(G21="","",G21-N(H21)) -> 8.5 | J21: =IF(OR(E21="",F21=""),"",ROUND(24*(MAX(0,MIN((E21+MOD(F21-E21,1)),6/24)-E21)+MAX(0,MIN((E21+MOD(F21-E21,1)),30/24)-MAX(E21,20/24))+MAX(0,(E21+MOD(F21-E21,1))-MAX(E21,44/24))),2)) -> 0
A22: 46407 | B22: =IF(A22="","",CHOOSE(WEEKDAY(A22),"Paz","Pzt","Sal","Çar","Per","Cum","Cmt")) -> Çar | C22: Elif Demir | D22: Normal | E22: 0.35416667 | F22: 0.75 | G22: =IF(OR(E22="",F22=""),"",ROUND(MOD(F22-E22,1)*24,2)) -> 9.5 | H22: 1 | I22: =IF(G22="","",G22-N(H22)) -> 8.5 | J22: =IF(OR(E22="",F22=""),"",ROUND(24*(MAX(0,MIN((E22+MOD(F22-E22,1)),6/24)-E22)+MAX(0,MIN((E22+MOD(F22-E22,1)),30/24)-MAX(E22,20/24))+MAX(0,(E22+MOD(F22-E22,1))-MAX(E22,44/24))),2)) -> 0
A23: 46408 | B23: =IF(A23="","",CHOOSE(WEEKDAY(A23),"Paz","Pzt","Sal","Çar","Per","Cum","Cmt")) -> Per | C23: Elif Demir | D23: Normal | E23: 0.35416667 | F23: 0.75 | G23: =IF(OR(E23="",F23=""),"",ROUND(MOD(F23-E23,1)*24,2)) -> 9.5 | H23: 1 | I23: =IF(G23="","",G23-N(H23)) -> 8.5 | J23: =IF(OR(E23="",F23=""),"",ROUND(24*(MAX(0,MIN((E23+MOD(F23-E23,1)),6/24)-E23)+MAX(0,MIN((E23+MOD(F23-E23,1)),30/24)-MAX(E23,20/24))+MAX(0,(E23+MOD(F23-E23,1))-MAX(E23,44/24))),2)) -> 0
A24: 46409 | B24: =IF(A24="","",CHOOSE(WEEKDAY(A24),"Paz","Pzt","Sal","Çar","Per","Cum","Cmt")) -> Cum | C24: Elif Demir | D24: Normal | E24: 0.35416667 | F24: 0.75 | G24: =IF(OR(E24="",F24=""),"",ROUND(MOD(F24-E24,1)*24,2)) -> 9.5 | H24: 1 | I24: =IF(G24="","",G24-N(H24)) -> 8.5 | J24: =IF(OR(E24="",F24=""),"",ROUND(24*(MAX(0,MIN((E24+MOD(F24-E24,1)),6/24)-E24)+MAX(0,MIN((E24+MOD(F24-E24,1)),30/24)-MAX(E24,20/24))+MAX(0,(E24+MOD(F24-E24,1))-MAX(E24,44/24))),2)) -> 0
A25: 46412 | B25: =IF(A25="","",CHOOSE(WEEKDAY(A25),"Paz","Pzt","Sal","Çar","Per","Cum","Cmt")) -> Pzt | C25: Elif Demir | D25: Normal | E25: 0.35416667 | F25: 0.75 | G25: =IF(OR(E25="",F25=""),"",ROUND(MOD(F25-E25,1)*24,2)) -> 9.5 | H25: 1 | I25: =IF(G25="","",G25-N(H25)) -> 8.5 | J25: =IF(OR(E25="",F25=""),"",ROUND(24*(MAX(0,MIN((E25+MOD(F25-E25,1)),6/24)-E25)+MAX(0,MIN((E25+MOD(F25-E25,1)),30/24)-MAX(E25,20/24))+MAX(0,(E25+MOD(F25-E25,1))-MAX(E25,44/24))),2)) -> 0
A26: 46413 | B26: =IF(A26="","",CHOOSE(WEEKDAY(A26),"Paz","Pzt","Sal","Çar","Per","Cum","Cmt")) -> Sal | C26: Elif Demir | D26: Normal | E26: 0.35416667 | F26: 0.75 | G26: =IF(OR(E26="",F26=""),"",ROUND(MOD(F26-E26,1)*24,2)) -> 9.5 | H26: 1 | I26: =IF(G26="","",G26-N(H26)) -> 8.5 | J26: =IF(OR(E26="",F26=""),"",ROUND(24*(MAX(0,MIN((E26+MOD(F26-E26,1)),6/24)-E26)+MAX(0,MIN((E26+MOD(F26-E26,1)),30/24)-MAX(E26,20/24))+MAX(0,(E26+MOD(F26-E26,1))-MAX(E26,44/24))),2)) -> 0
A27: 46414 | B27: =IF(A27="","",CHOOSE(WEEKDAY(A27),"Paz","Pzt","Sal","Çar","Per","Cum","Cmt")) -> Çar | C27: Elif Demir | D27: Normal | E27: 0.35416667 | F27: 0.75 | G27: =IF(OR(E27="",F27=""),"",ROUND(MOD(F27-E27,1)*24,2)) -> 9.5 | H27: 1 | I27: =IF(G27="","",G27-N(H27)) -> 8.5 | J27: =IF(OR(E27="",F27=""),"",ROUND(24*(MAX(0,MIN((E27+MOD(F27-E27,1)),6/24)-E27)+MAX(0,MIN((E27+MOD(F27-E27,1)),30/24)-MAX(E27,20/24))+MAX(0,(E27+MOD(F27-E27,1))-MAX(E27,44/24))),2)) -> 0
A28: 46415 | B28: =IF(A28="","",CHOOSE(WEEKDAY(A28),"Paz","Pzt","Sal","Çar","Per","Cum","Cmt")) -> Per | C28: Elif Demir | D28: Normal | E28: 0.35416667 | F28: 0.75 | G28: =IF(OR(E28="",F28=""),"",ROUND(MOD(F28-E28,1)*24,2)) -> 9.5 | H28: 1 | I28: =IF(G28="","",G28-N(H28)) -> 8.5 | J28: =IF(OR(E28="",F28=""),"",ROUND(24*(MAX(0,MIN((E28+MOD(F28-E28,1)),6/24)-E28)+MAX(0,MIN((E28+MOD(F28-E28,1)),30/24)-MAX(E28,20/24))+MAX(0,(E28+MOD(F28-E28,1))-MAX(E28,44/24))),2)) -> 0
A29: 46416 | B29: =IF(A29="","",CHOOSE(WEEKDAY(A29),"Paz","Pzt","Sal","Çar","Per","Cum","Cmt")) -> Cum | C29: Elif Demir | D29: Normal | E29: 0.35416667 | F29: 0.75 | G29: =IF(OR(E29="",F29=""),"",ROUND(MOD(F29-E29,1)*24,2)) -> 9.5 | H29: 1 | I29: =IF(G29="","",G29-N(H29)) -> 8.5 | J29: =IF(OR(E29="",F29=""),"",ROUND(24*(MAX(0,MIN((E29+MOD(F29-E29,1)),6/24)-E29)+MAX(0,MIN((E29+MOD(F29-E29,1)),30/24)-MAX(E29,20/24))+MAX(0,(E29+MOD(F29-E29,1))-MAX(E29,44/24))),2)) -> 0
A30: 46388 | B30: =IF(A30="","",CHOOSE(WEEKDAY(A30),"Paz","Pzt","Sal","Çar","Per","Cum","Cmt")) -> Cum | C30: Murat Kaya | D30: Genel tatil çalışması | E30: 0.66666667 | F30: 0 | G30: =IF(OR(E30="",F30=""),"",ROUND(MOD(F30-E30,1)*24,2)) -> 8 | H30: 1 | I30: =IF(G30="","",G30-N(H30)) -> 7 | J30: =IF(OR(E30="",F30=""),"",ROUND(24*(MAX(0,MIN((E30+MOD(F30-E30,1)),6/24)-E30)+MAX(0,MIN((E30+MOD(F30-E30,1)),30/24)-MAX(E30,20/24))+MAX(0,(E30+MOD(F30-E30,1))-MAX(E30,44/24))),2)) -> 4 | K30: Yılbaşı çalışması (md. 47)
A31: 46391 | B31: =IF(A31="","",CHOOSE(WEEKDAY(A31),"Paz","Pzt","Sal","Çar","Per","Cum","Cmt")) -> Pzt | C31: Murat Kaya | D31: Akşam | E31: 0.66666667 | F31: 0 | G31: =IF(OR(E31="",F31=""),"",ROUND(MOD(F31-E31,1)*24,2)) -> 8 | H31: 1 | I31: =IF(G31="","",G31-N(H31)) -> 7 | J31: =IF(OR(E31="",F31=""),"",ROUND(24*(MAX(0,MIN((E31+MOD(F31-E31,1)),6/24)-E31)+MAX(0,MIN((E31+MOD(F31-E31,1)),30/24)-MAX(E31,20/24))+MAX(0,(E31+MOD(F31-E31,1))-MAX(E31,44/24))),2)) -> 4
A32: 46392 | B32: =IF(A32="","",CHOOSE(WEEKDAY(A32),"Paz","Pzt","Sal","Çar","Per","Cum","Cmt")) -> Sal | C32: Murat Kaya | D32: Akşam | E32: 0.66666667 | F32: 0 | G32: =IF(OR(E32="",F32=""),"",ROUND(MOD(F32-E32,1)*24,2)) -> 8 | H32: 1 | I32: =IF(G32="","",G32-N(H32)) -> 7 | J32: =IF(OR(E32="",F32=""),"",ROUND(24*(MAX(0,MIN((E32+MOD(F32-E32,1)),6/24)-E32)+MAX(0,MIN((E32+MOD(F32-E32,1)),30/24)-MAX(E32,20/24))+MAX(0,(E32+MOD(F32-E32,1))-MAX(E32,44/24))),2)) -> 4
A33: 46393 | B33: =IF(A33="","",CHOOSE(WEEKDAY(A33),"Paz","Pzt","Sal","Çar","Per","Cum","Cmt")) -> Çar | C33: Murat Kaya | D33: Akşam | E33: 0.68055556 | F33: 0 | G33: =IF(OR(E33="",F33=""),"",ROUND(MOD(F33-E33,1)*24,2)) -> 7.67 | H33: 1 | I33: =IF(G33="","",G33-N(H33)) -> 6.67 | J33: =IF(OR(E33="",F33=""),"",ROUND(24*(MAX(0,MIN((E33+MOD(F33-E33,1)),6/24)-E33)+MAX(0,MIN((E33+MOD(F33-E33,1)),30/24)-MAX(E33,20/24))+MAX(0,(E33+MOD(F33-E33,1))-MAX(E33,44/24))),2)) -> 4 | K33: 20 dk geç giriş
A34: 46394 | B34: =IF(A34="","",CHOOSE(WEEKDAY(A34),"Paz","Pzt","Sal","Çar","Per","Cum","Cmt")) -> Per | C34: Murat Kaya | D34: Akşam | E34: 0.66666667 | F34: 0 | G34: =IF(OR(E34="",F34=""),"",ROUND(MOD(F34-E34,1)*24,2)) -> 8 | H34: 1 | I34: =IF(G34="","",G34-N(H34)) -> 7 | J34: =IF(OR(E34="",F34=""),"",ROUND(24*(MAX(0,MIN((E34+MOD(F34-E34,1)),6/24)-E34)+MAX(0,MIN((E34+MOD(F34-E34,1)),30/24)-MAX(E34,20/24))+MAX(0,(E34+MOD(F34-E34,1))-MAX(E34,44/24))),2)) -> 4
A35: 46395 | B35: =IF(A35="","",CHOOSE(WEEKDAY(A35),"Paz","Pzt","Sal","Çar","Per","Cum","Cmt")) -> Cum | C35: Murat Kaya | D35: Akşam | E35: 0.66666667 | F35: 0 | G35: =IF(OR(E35="",F35=""),"",ROUND(MOD(F35-E35,1)*24,2)) -> 8 | H35: 1 | I35: =IF(G35="","",G35-N(H35)) -> 7 | J35: =IF(OR(E35="",F35=""),"",ROUND(24*(MAX(0,MIN((E35+MOD(F35-E35,1)),6/24)-E35)+MAX(0,MIN((E35+MOD(F35-E35,1)),30/24)-MAX(E35,20/24))+MAX(0,(E35+MOD(F35-E35,1))-MAX(E35,44/24))),2)) -> 4
A36: 46398 | B36: =IF(A36="","",CHOOSE(WEEKDAY(A36),"Paz","Pzt","Sal","Çar","Per","Cum","Cmt")) -> Pzt | C36: Murat Kaya | D36: Akşam | E36: 0.66666667 | F36: 0 | G36: =IF(OR(E36="",F36=""),"",ROUND(MOD(F36-E36,1)*24,2)) -> 8 | H36: 1 | I36: =IF(G36="","",G36-N(H36)) -> 7 | J36: =IF(OR(E36="",F36=""),"",ROUND(24*(MAX(0,MIN((E36+MOD(F36-E36,1)),6/24)-E36)+MAX(0,MIN((E36+MOD(F36-E36,1)),30/24)-MAX(E36,20/24))+MAX(0,(E36+MOD(F36-E36,1))-MAX(E36,44/24))),2)) -> 4
A37: 46399 | B37: =IF(A37="","",CHOOSE(WEEKDAY(A37),"Paz","Pzt","Sal","Çar","Per","Cum","Cmt")) -> Sal | C37: Murat Kaya | D37: Akşam | E37: 0.66666667 | F37: 0 | G37: =IF(OR(E37="",F37=""),"",ROUND(MOD(F37-E37,1)*24,2)) -> 8 | H37: 1 | I37: =IF(G37="","",G37-N(H37)) -> 7 | J37: =IF(OR(E37="",F37=""),"",ROUND(24*(MAX(0,MIN((E37+MOD(F37-E37,1)),6/24)-E37)+MAX(0,MIN((E37+MOD(F37-E37,1)),30/24)-MAX(E37,20/24))+MAX(0,(E37+MOD(F37-E37,1))-MAX(E37,44/24))),2)) -> 4
A38: 46400 | B38: =IF(A38="","",CHOOSE(WEEKDAY(A38),"Paz","Pzt","Sal","Çar","Per","Cum","Cmt")) -> Çar | C38: Murat Kaya | D38: D | G38: =IF(OR(E38="",F38=""),"",ROUND(MOD(F38-E38,1)*24,2)) | I38: =IF(G38="","",G38-N(H38)) | J38: =IF(OR(E38="",F38=""),"",ROUND(24*(MAX(0,MIN((E38+MOD(F38-E38,1)),6/24)-E38)+MAX(0,MIN((E38+MOD(F38-E38,1)),30/24)-MAX(E38,20/24))+MAX(0,(E38+MOD(F38-E38,1))-MAX(E38,44/24))),2)) | K38: Mazeretsiz devamsızlık, amir notu var
A39: 46401 | B39: =IF(A39="","",CHOOSE(WEEKDAY(A39),"Paz","Pzt","Sal","Çar","Per","Cum","Cmt")) -> Per | C39: Murat Kaya | D39: Akşam | E39: 0.66666667 | F39: 0 | G39: =IF(OR(E39="",F39=""),"",ROUND(MOD(F39-E39,1)*24,2)) -> 8 | H39: 1 | I39: =IF(G39="","",G39-N(H39)) -> 7 | J39: =IF(OR(E39="",F39=""),"",ROUND(24*(MAX(0,MIN((E39+MOD(F39-E39,1)),6/24)-E39)+MAX(0,MIN((E39+MOD(F39-E39,1)),30/24)-MAX(E39,20/24))+MAX(0,(E39+MOD(F39-E39,1))-MAX(E39,44/24))),2)) -> 4
A40: 46402 | B40: =IF(A40="","",CHOOSE(WEEKDAY(A40),"Paz","Pzt","Sal","Çar","Per","Cum","Cmt")) -> Cum | C40: Murat Kaya | D40: Akşam | E40: 0.66666667 | F40: 0 | G40: =IF(OR(E40="",F40=""),"",ROUND(MOD(F40-E40,1)*24,2)) -> 8 | H40: 1 | I40: =IF(G40="","",G40-N(H40)) -> 7 | J40: =IF(OR(E40="",F40=""),"",ROUND(24*(MAX(0,MIN((E40+MOD(F40-E40,1)),6/24)-E40)+MAX(0,MIN((E40+MOD(F40-E40,1)),30/24)-MAX(E40,20/24))+MAX(0,(E40+MOD(F40-E40,1))-MAX(E40,44/24))),2)) -> 4
A41: 46405 | B41: =IF(A41="","",CHOOSE(WEEKDAY(A41),"Paz","Pzt","Sal","Çar","Per","Cum","Cmt")) -> Pzt | C41: Murat Kaya | D41: Akşam | E41: 0.66666667 | F41: 0 | G41: =IF(OR(E41="",F41=""),"",ROUND(MOD(F41-E41,1)*24,2)) -> 8 | H41: 1 | I41: =IF(G41="","",G41-N(H41)) -> 7 | J41: =IF(OR(E41="",F41=""),"",ROUND(24*(MAX(0,MIN((E41+MOD(F41-E41,1)),6/24)-E41)+MAX(0,MIN((E41+MOD(F41-E41,1)),30/24)-MAX(E41,20/24))+MAX(0,(E41+MOD(F41-E41,1))-MAX(E41,44/24))),2)) -> 4
...

Sheet Aylık İcmal
A1: Aylık İcmal – personel başına özet | H1: Varsayımsal örnek — orova.vn
A3: Ay: | B3: =Puantaj!C2 -> 46388 | C3: =Puantaj!C4 -> 46418
A4: İşyeri: | B4: =Puantaj!C3 -> Örnek Tekstil Ltd.
A5: Haftalık sınır (saat): | B5: 45 | C5: md. 63: haftada en çok 45 saat (denkleştirme yoksa)
A7: 1 | B7: 2 | C7: 3 | D7: 4 | E7: 5 | F7: 6 | G7: 7 | H7: 8 | I7: 9 | J7: 10 | K7: 11 | L7: 12
A8: Personel | B8: Vardiya kodu | C8: Çalışılan gün | D8: Net çalışma (saat) | E8: Geç / erken (dk) | F8: Telafi (saat) | G8: Fazla çalışma (saat) | H8: Genel tatil çalışması (gün) | I8: Ücretli izin Yİ / M (gün) | J8: Ücretsiz izin / devamsızlık (gün) | K8: Gece çalışması (saat) | L8: Yönetici onayı (tarih)
A9: Elif Demir | B9: GÜNDÜZ | C9: =IF($A9="","",COUNTIFS(Puantaj!$C$7:$C$83,$A9,Puantaj!$I$7:$I$83,">0")) -> 21 | D9: =IF($A9="","",SUMIFS(Puantaj!$I$7:$I$83,Puantaj!$C$7:$C$83,$A9)) -> 175 | E9: =IF($A9="","",ROUND(1440*(SUMPRODUCT((Puantaj!$C$7:$C$83=$A9)*(Puantaj!$D$7:$D$83=Puantaj!$D$3)*(WEEKDAY(Puantaj!$A$7:$A$83,2)<6)*ISNUMBER(Puantaj!$E$7:$E$83)*(MOD(Puantaj!$E$7:$E$83-Puantaj!$E$3,1)<MOD(Puantaj!$F$3-Puantaj!$E$3,1))*MOD(Puantaj!$E$7:$E$83-Puantaj!$E$3,1))+SUMPRODUCT((Puantaj!$C$7:$C$83=$A9)*(Puantaj!$D$7:$D$83=Puantaj!$D$3)*(WEEKDAY(Puantaj!$A$7:$A$83,2)<6)*ISNUMBER(Puantaj!$F$7:$F$83)*(MOD(Puantaj!$F$3-Puantaj!$F$7:$F$83,1)<MOD(Puantaj!$F$3-Puantaj!$E$3,1))*MOD(Puantaj!$F$3-Puantaj!$F$7:$F$83,1))+SUMPRODUCT((Puantaj!$C$7:$C$83=$A9)*(Puantaj!$D$7:$D$83=Puantaj!$D$4)*(WEEKDAY(Puantaj!$A$7:$A$83,2)<6)*ISNUMBER(Puantaj!$E$7:$E$83)*(MOD(Puantaj!$E$7:$E$83-Puantaj!$E$4,1)<MOD(Puantaj!$F$4-Puantaj!$E$4,1))*MOD(Puantaj!$E$7:$E$83-Puantaj!$E$4,1))+SUMPRODUCT((Puantaj!$C$7:$C$83=$A9)*(Puantaj!$D$7:$D$83=Puantaj!$D$4)*(WEEKDAY(Puantaj!$A$7:$A$83,2)<6)*ISNUMBER(Puantaj!$F$7:$F$83)*(MOD(Puantaj!$F$4-Puantaj!$F$7:$F$83,1)<MOD(Puantaj!$F$4-Puantaj!$E$4,1))*MOD(Puantaj!$F$4-Puantaj!$F$7:$F$83,1))),0)) -> 0 | F9: =IF($A9="","",SUMIFS(Puantaj!$I$7:$I$83,Puantaj!$C$7:$C$83,$A9,Puantaj!$D$7:$D$83,"Telafi")) -> 0 | G9: =IF($A9="","",H19) -> 2.5 | H9: =IF($A9="","",COUNTIFS(Puantaj!$C$7:$C$83,$A9,Puantaj!$D$7:$D$83,"Genel tatil çalışması")) -> 0 | I9: =IF($A9="","",COUNTIFS(Puantaj!$C$7:$C$83,$A9,Puantaj!$D$7:$D$83,"Yİ")+COUNTIFS(Puantaj!$C$7:$C$83,$A9,Puantaj!$D$7:$D$83,"M")) -> 0 | J9: =IF($A9="","",COUNTIFS(Puantaj!$C$7:$C$83,$A9,Puantaj!$D$7:$D$83,"Üİ")+COUNTIFS(Puantaj!$C$7:$C$83,$A9,Puantaj!$D$7:$D$83,"D")) -> 0 | K9: =IF($A9="","",SUMIFS(Puantaj!$J$7:$J$83,Puantaj!$C$7:$C$83,$A9)) -> 0 | L9: 46420
A10: Murat Kaya | B10: AKŞAM | C10: =IF($A10="","",COUNTIFS(Puantaj!$C$7:$C$83,$A10,Puantaj!$I$7:$I$83,">0")) -> 19 | D10: =IF($A10="","",SUMIFS(Puantaj!$I$7:$I$83,Puantaj!$C$7:$C$83,$A10)) -> 132.17 | E10: =IF($A10="","",ROUND(1440*(SUMPRODUCT((Puantaj!$C$7:$C$83=$A10)*(Puantaj!$D$7:$D$83=Puantaj!$D$3)*(WEEKDAY(Puantaj!$A$7:$A$83,2)<6)*ISNUMBER(Puantaj!$E$7:$E$83)*(MOD(Puantaj!$E$7:$E$83-Puantaj!$E$3,1)<MOD(Puantaj!$F$3-Puantaj!$E$3,1))*MOD(Puantaj!$E$7:$E$83-Puantaj!$E$3,1))+SUMPRODUCT((Puantaj!$C$7:$C$83=$A10)*(Puantaj!$D$7:$D$83=Puantaj!$D$3)*(WEEKDAY(Puantaj!$A$7:$A$83,2)<6)*ISNUMBER(Puantaj!$F$7:$F$83)*(MOD(Puantaj!$F$3-Puantaj!$F$7:$F$83,1)<MOD(Puantaj!$F$3-Puantaj!$E$3,1))*MOD(Puantaj!$F$3-Puantaj!$F$7:$F$83,1))+SUMPRODUCT((Puantaj!$C$7:$C$83=$A10)*(Puantaj!$D$7:$D$83=Puantaj!$D$4)*(WEEKDAY(Puantaj!$A$7:$A$83,2)<6)*ISNUMBER(Puantaj!$E$7:$E$83)*(MOD(Puantaj!$E$7:$E$83-Puantaj!$E$4,1)<MOD(Puantaj!$F$4-Puantaj!$E$4,1))*MOD(Puantaj!$E$7:$E$83-Puantaj!$E$4,1))+SUMPRODUCT((Puantaj!$C$7:$C$83=$A10)*(Puantaj!$D$7:$D$83=Puantaj!$D$4)*(WEEKDAY(Puantaj!$A$7:$A$83,2)<6)*ISNUMBER(Puantaj!$F$7:$F$83)*(MOD(Puantaj!$F$4-Puantaj!$F$7:$F$83,1)<MOD(Puantaj!$F$4-Puantaj!$E$4,1))*MOD(Puantaj!$F$4-Puantaj!$F$7:$F$83,1))),0)) -> 50 | F10: =IF($A10="","",SUMIFS(Puantaj!$I$7:$I$83,Puantaj!$C$7:$C$83,$A10,Puantaj!$D$7:$D$83,"Telafi")) -> 0 | G10: =IF($A10="","",H20) -> 0 | H10: =IF($A10="","",COUNTIFS(Puantaj!$C$7:$C$83,$A10,Puantaj!$D$7:$D$83,"Genel tatil çalışması")) -> 1 | I10: =IF($A10="","",COUNTIFS(Puantaj!$C$7:$C$83,$A10,Puantaj!$D$7:$D$83,"Yİ")+COUNTIFS(Puantaj!$C$7:$C$83,$A10,Puantaj!$D$7:$D$83,"M")) -> 0 | J10: =IF($A10="","",COUNTIFS(Puantaj!$C$7:$C$83,$A10,Puantaj!$D$7:$D$83,"Üİ")+COUNTIFS(Puantaj!$C$7:$C$83,$A10,Puantaj!$D$7:$D$83,"D")) -> 2 | K10: =IF($A10="","",SUMIFS(Puantaj!$J$7:$J$83,Puantaj!$C$7:$C$83,$A10)) -> 75.5 | L10: 46420
A11: Ayşe Yılmaz | B11: GÜNDÜZ | C11: =IF($A11="","",COUNTIFS(Puantaj!$C$7:$C$83,$A11,Puantaj!$I$7:$I$83,">0")) -> 18 | D11: =IF($A11="","",SUMIFS(Puantaj!$I$7:$I$83,Puantaj!$C$7:$C$83,$A11)) -> 145.33 | E11: =IF($A11="","",ROUND(1440*(SUMPRODUCT((Puantaj!$C$7:$C$83=$A11)*(Puantaj!$D$7:$D$83=Puantaj!$D$3)*(WEEKDAY(Puantaj!$A$7:$A$83,2)<6)*ISNUMBER(Puantaj!$E$7:$E$83)*(MOD(Puantaj!$E$7:$E$83-Puantaj!$E$3,1)<MOD(Puantaj!$F$3-Puantaj!$E$3,1))*MOD(Puantaj!$E$7:$E$83-Puantaj!$E$3,1))+SUMPRODUCT((Puantaj!$C$7:$C$83=$A11)*(Puantaj!$D$7:$D$83=Puantaj!$D$3)*(WEEKDAY(Puantaj!$A$7:$A$83,2)<6)*ISNUMBER(Puantaj!$F$7:$F$83)*(MOD(Puantaj!$F$3-Puantaj!$F$7:$F$83,1)<MOD(Puantaj!$F$3-Puantaj!$E$3,1))*MOD(Puantaj!$F$3-Puantaj!$F$7:$F$83,1))+SUMPRODUCT((Puantaj!$C$7:$C$83=$A11)*(Puantaj!$D$7:$D$83=Puantaj!$D$4)*(WEEKDAY(Puantaj!$A$7:$A$83,2)<6)*ISNUMBER(Puantaj!$E$7:$E$83)*(MOD(Puantaj!$E$7:$E$83-Puantaj!$E$4,1)<MOD(Puantaj!$F$4-Puantaj!$E$4,1))*MOD(Puantaj!$E$7:$E$83-Puantaj!$E$4,1))+SUMPRODUCT((Puantaj!$C$7:$C$83=$A11)*(Puantaj!$D$7:$D$83=Puantaj!$D$4)*(WEEKDAY(Puantaj!$A$7:$A$83,2)<6)*ISNUMBER(Puantaj!$F$7:$F$83)*(MOD(Puantaj!$F$4-Puantaj!$F$7:$F$83,1)<MOD(Puantaj!$F$4-Puantaj!$E$4,1))*MOD(Puantaj!$F$4-Puantaj!$F$7:$F$83,1))),0)) -> 70 | F11: =IF($A11="","",SUMIFS(Puantaj!$I$7:$I$83,Puantaj!$C$7:$C$83,$A11,Puantaj!$D$7:$D$83,"Telafi")) -> 2 | G11: =IF($A11="","",H21) -> 0 | H11: =IF($A11="","",COUNTIFS(Puantaj!$C$7:$C$83,$A11,Puantaj!$D$7:$D$83,"Genel tatil çalışması")) -> 0 | I11: =IF($A11="","",COUNTIFS(Puantaj!$C$7:$C$83,$A11,Puantaj!$D$7:$D$83,"Yİ")+COUNTIFS(Puantaj!$C$7:$C$83,$A11,Puantaj!$D$7:$D$83,"M")) -> 3 | J11: =IF($A11="","",COUNTIFS(Puantaj!$C$7:$C$83,$A11,Puantaj!$D$7:$D$83,"Üİ")+COUNTIFS(Puantaj!$C$7:$C$83,$A11,Puantaj!$D$7:$D$83,"D")) -> 0 | K11: =IF($A11="","",SUMIFS(Puantaj!$J$7:$J$83,Puantaj!$C$7:$C$83,$A11)) -> 0 | L11: 46420
C12: =IF($A12="","",COUNTIFS(Puantaj!$C$7:$C$83,$A12,Puantaj!$I$7:$I$83,">0")) | D12: =IF($A12="","",SUMIFS(Puantaj!$I$7:$I$83,Puantaj!$C$7:$C$83,$A12)) | E12: =IF($A12="","",ROUND(1440*(SUMPRODUCT((Puantaj!$C$7:$C$83=$A12)*(Puantaj!$D$7:$D$83=Puantaj!$D$3)*(WEEKDAY(Puantaj!$A$7:$A$83,2)<6)*ISNUMBER(Puantaj!$E$7:$E$83)*(MOD(Puantaj!$E$7:$E$83-Puantaj!$E$3,1)<MOD(Puantaj!$F$3-Puantaj!$E$3,1))*MOD(Puantaj!$E$7:$E$83-Puantaj!$E$3,1))+SUMPRODUCT((Puantaj!$C$7:$C$83=$A12)*(Puantaj!$D$7:$D$83=Puantaj!$D$3)*(WEEKDAY(Puantaj!$A$7:$A$83,2)<6)*ISNUMBER(Puantaj!$F$7:$F$83)*(MOD(Puantaj!$F$3-Puantaj!$F$7:$F$83,1)<MOD(Puantaj!$F$3-Puantaj!$E$3,1))*MOD(Puantaj!$F$3-Puantaj!$F$7:$F$83,1))+SUMPRODUCT((Puantaj!$C$7:$C$83=$A12)*(Puantaj!$D$7:$D$83=Puantaj!$D$4)*(WEEKDAY(Puantaj!$A$7:$A$83,2)<6)*ISNUMBER(Puantaj!$E$7:$E$83)*(MOD(Puantaj!$E$7:$E$83-Puantaj!$E$4,1)<MOD(Puantaj!$F$4-Puantaj!$E$4,1))*MOD(Puantaj!$E$7:$E$83-Puantaj!$E$4,1))+SUMPRODUCT((Puantaj!$C$7:$C$83=$A12)*(Puantaj!$D$7:$D$83=Puantaj!$D$4)*(WEEKDAY(Puantaj!$A$7:$A$83,2)<6)*ISNUMBER(Puantaj!$F$7:$F$83)*(MOD(Puantaj!$F$4-Puantaj!$F$7:$F$83,1)<MOD(Puantaj!$F$4-Puantaj!$E$4,1))*MOD(Puantaj!$F$4-Puantaj!$F$7:$F$83,1))),0)) | F12: =IF($A12="","",SUMIFS(Puantaj!$I$7:$I$83,Puantaj!$C$7:$C$83,$A12,Puantaj!$D$7:$D$83,"Telafi")) | G12: =IF($A12="","",H22) | H12: =IF($A12="","",COUNTIFS(Puantaj!$C$7:$C$83,$A12,Puantaj!$D$7:$D$83,"Genel tatil çalışması")) | I12: =IF($A12="","",COUNTIFS(Puantaj!$C$7:$C$83,$A12,Puantaj!$D$7:$D$83,"Yİ")+COUNTIFS(Puantaj!$C$7:$C$83,$A12,Puantaj!$D$7:$D$83,"M")) | J12: =IF($A12="","",COUNTIFS(Puantaj!$C$7:$C$83,$A12,Puantaj!$D$7:$D$83,"Üİ")+COUNTIFS(Puantaj!$C$7:$C$83,$A12,Puantaj!$D$7:$D$83,"D")) | K12: =IF($A12="","",SUMIFS(Puantaj!$J$7:$J$83,Puantaj!$C$7:$C$83,$A12))
C13: =IF($A13="","",COUNTIFS(Puantaj!$C$7:$C$83,$A13,Puantaj!$I$7:$I$83,">0")) | D13: =IF($A13="","",SUMIFS(Puantaj!$I$7:$I$83,Puantaj!$C$7:$C$83,$A13)) | E13: =IF($A13="","",ROUND(1440*(SUMPRODUCT((Puantaj!$C$7:$C$83=$A13)*(Puantaj!$D$7:$D$83=Puantaj!$D$3)*(WEEKDAY(Puantaj!$A$7:$A$83,2)<6)*ISNUMBER(Puantaj!$E$7:$E$83)*(MOD(Puantaj!$E$7:$E$83-Puantaj!$E$3,1)<MOD(Puantaj!$F$3-Puantaj!$E$3,1))*MOD(Puantaj!$E$7:$E$83-Puantaj!$E$3,1))+SUMPRODUCT((Puantaj!$C$7:$C$83=$A13)*(Puantaj!$D$7:$D$83=Puantaj!$D$3)*(WEEKDAY(Puantaj!$A$7:$A$83,2)<6)*ISNUMBER(Puantaj!$F$7:$F$83)*(MOD(Puantaj!$F$3-Puantaj!$F$7:$F$83,1)<MOD(Puantaj!$F$3-Puantaj!$E$3,1))*MOD(Puantaj!$F$3-Puantaj!$F$7:$F$83,1))+SUMPRODUCT((Puantaj!$C$7:$C$83=$A13)*(Puantaj!$D$7:$D$83=Puantaj!$D$4)*(WEEKDAY(Puantaj!$A$7:$A$83,2)<6)*ISNUMBER(Puantaj!$E$7:$E$83)*(MOD(Puantaj!$E$7:$E$83-Puantaj!$E$4,1)<MOD(Puantaj!$F$4-Puantaj!$E$4,1))*MOD(Puantaj!$E$7:$E$83-Puantaj!$E$4,1))+SUMPRODUCT((Puantaj!$C$7:$C$83=$A13)*(Puantaj!$D$7:$D$83=Puantaj!$D$4)*(WEEKDAY(Puantaj!$A$7:$A$83,2)<6)*ISNUMBER(Puantaj!$F$7:$F$83)*(MOD(Puantaj!$F$4-Puantaj!$F$7:$F$83,1)<MOD(Puantaj!$F$4-Puantaj!$E$4,1))*MOD(Puantaj!$F$4-Puantaj!$F$7:$F$83,1))),0)) | F13: =IF($A13="","",SUMIFS(Puantaj!$I$7:$I$83,Puantaj!$C$7:$C$83,$A13,Puantaj!$D$7:$D$83,"Telafi")) | G13: =IF($A13="","",H23) | H13: =IF($A13="","",COUNTIFS(Puantaj!$C$7:$C$83,$A13,Puantaj!$D$7:$D$83,"Genel tatil çalışması")) | I13: =IF($A13="","",COUNTIFS(Puantaj!$C$7:$C$83,$A13,Puantaj!$D$7:$D$83,"Yİ")+COUNTIFS(Puantaj!$C$7:$C$83,$A13,Puantaj!$D$7:$D$83,"M")) | J13: =IF($A13="","",COUNTIFS(Puantaj!$C$7:$C$83,$A13,Puantaj!$D$7:$D$83,"Üİ")+COUNTIFS(Puantaj!$C$7:$C$83,$A13,Puantaj!$D$7:$D$83,"D")) | K13: =IF($A13="","",SUMIFS(Puantaj!$J$7:$J$83,Puantaj!$C$7:$C$83,$A13))
A14: Toplam | C14: =SUM(C9:C13) -> 58 | D14: =SUM(D9:D13) -> 452.5 | E14: =SUM(E9:E13) -> 120 | F14: =SUM(F9:F13) -> 2 | G14: =SUM(G9:G13) -> 2.5 | H14: =SUM(H9:H13) -> 1 | I14: =SUM(I9:I13) -> 3 | J14: =SUM(J9:J13) -> 2 | K14: =SUM(K9:K13) -> 75.5 | L14: —
A16: Haftalık net çalışma (Pazartesi–Pazar, telafi hariç)
A17: Personel | B17: 1. hafta | C17: 2. hafta | D17: 3. hafta | E17: 4. hafta | F17: 5. hafta | G17: 6. hafta | H17: Fazla çalışma (saat) | I17: Serbest zaman (saat, ×1,5)
A18: Hafta başı | B18: =$B$3-WEEKDAY($B$3,3) -> 46384 | C18: =B18+7 -> 46391 | D18: =C18+7 -> 46398 | E18: =D18+7 -> 46405 | F18: =E18+7 -> 46412 | G18: =F18+7 -> 46419
A19: =IF(A9="","",A9) -> Elif Demir | B19: =IF($A19="","",SUMIFS(Puantaj!$I$7:$I$83,Puantaj!$C$7:$C$83,$A19,Puantaj!$A$7:$A$83,">="&B$18,Puantaj!$A$7:$A$83,"<"&B$18+7,Puantaj!$D$7:$D$83,"<>Telafi")) -> 0 | C19: =IF($A19="","",SUMIFS(Puantaj!$I$7:$I$83,Puantaj!$C$7:$C$83,$A19,Puantaj!$A$7:$A$83,">="&C$18,Puantaj!$A$7:$A$83,"<"&C$18+7,Puantaj!$D$7:$D$83,"<>Telafi")) -> 42.5 | D19: =IF($A19="","",SUMIFS(Puantaj!$I$7:$I$83,Puantaj!$C$7:$C$83,$A19,Puantaj!$A$7:$A$83,">="&D$18,Puantaj!$A$7:$A$83,"<"&D$18+7,Puantaj!$D$7:$D$83,"<>Telafi")) -> 47.5 | E19: =IF($A19="","",SUMIFS(Puantaj!$I$7:$I$83,Puantaj!$C$7:$C$83,$A19,Puantaj!$A$7:$A$83,">="&E$18,Puantaj!$A$7:$A$83,"<"&E$18+7,Puantaj!$D$7:$D$83,"<>Telafi")) -> 42.5 | F19: =IF($A19="","",SUMIFS(Puantaj!$I$7:$I$83,Puantaj!$C$7:$C$83,$A19,Puantaj!$A$7:$A$83,">="&F$18,Puantaj!$A$7:$A$83,"<"&F$18+7,Puantaj!$D$7:$D$83,"<>Telafi")) -> 42.5 | G19: =IF($A19="","",SUMIFS(Puantaj!$I$7:$I$83,Puantaj!$C$7:$C$83,$A19,Puantaj!$A$7:$A$83,">="&G$18,Puantaj!$A$7:$A$83,"<"&G$18+7,Puantaj!$D$7:$D$83,"<>Telafi")) -> 0 | H19: =IF(A19="","",MAX(0,B19-$B$5)+MAX(0,C19-$B$5)+MAX(0,D19-$B$5)+MAX(0,E19-$B$5)+MAX(0,F19-$B$5)+MAX(0,G19-$B$5)) -> 2.5 | I19: =IF(A19="","",ROUND(H19*1.5,2)) -> 3.75
A20: =IF(A10="","",A10) -> Murat Kaya | B20: =IF($A20="","",SUMIFS(Puantaj!$I$7:$I$83,Puantaj!$C$7:$C$83,$A20,Puantaj!$A$7:$A$83,">="&B$18,Puantaj!$A$7:$A$83,"<"&B$18+7,Puantaj!$D$7:$D$83,"<>Telafi")) -> 7 | C20: =IF($A20="","",SUMIFS(Puantaj!$I$7:$I$83,Puantaj!$C$7:$C$83,$A20,Puantaj!$A$7:$A$83,">="&C$18,Puantaj!$A$7:$A$83,"<"&C$18+7,Puantaj!$D$7:$D$83,"<>Telafi")) -> 34.67 | D20: =IF($A20="","",SUMIFS(Puantaj!$I$7:$I$83,Puantaj!$C$7:$C$83,$A20,Puantaj!$A$7:$A$83,">="&D$18,Puantaj!$A$7:$A$83,"<"&D$18+7,Puantaj!$D$7:$D$83,"<>Telafi")) -> 28 | E20: =IF($A20="","",SUMIFS(Puantaj!$I$7:$I$83,Puantaj!$C$7:$C$83,$A20,Puantaj!$A$7:$A$83,">="&E$18,Puantaj!$A$7:$A$83,"<"&E$18+7,Puantaj!$D$7:$D$83,"<>Telafi")) -> 34.5 | F20: =IF($A20="","",SUMIFS(Puantaj!$I$7:$I$83,Puantaj!$C$7:$C$83,$A20,Puantaj!$A$7:$A$83,">="&F$18,Puantaj!$A$7:$A$83,"<"&F$18+7,Puantaj!$D$7:$D$83,"<>Telafi")) -> 28 | G20: =IF($A20="","",SUMIFS(Puantaj!$I$7:$I$83,Puantaj!$C$7:$C$83,$A20,Puantaj!$A$7:$A$83,">="&G$18,Puantaj!$A$7:$A$83,"<"&G$18+7,Puantaj!$D$7:$D$83,"<>Telafi")) -> 0 | H20: =IF(A20="","",MAX(0,B20-$B$5)+MAX(0,C20-$B$5)+MAX(0,D20-$B$5)+MAX(0,E20-$B$5)+MAX(0,F20-$B$5)+MAX(0,G20-$B$5)) -> 0 | I20: =IF(A20="","",ROUND(H20*1.5,2)) -> 0
A21: =IF(A11="","",A11) -> Ayşe Yılmaz | B21: =IF($A21="","",SUMIFS(Puantaj!$I$7:$I$83,Puantaj!$C$7:$C$83,$A21,Puantaj!$A$7:$A$83,">="&B$18,Puantaj!$A$7:$A$83,"<"&B$18+7,Puantaj!$D$7:$D$83,"<>Telafi")) -> 0 | C21: =IF($A21="","",SUMIFS(Puantaj!$I$7:$I$83,Puantaj!$C$7:$C$83,$A21,Puantaj!$A$7:$A$83,">="&C$18,Puantaj!$A$7:$A$83,"<"&C$18+7,Puantaj!$D$7:$D$83,"<>Telafi")) -> 24.83 | D21: =IF($A21="","",SUMIFS(Puantaj!$I$7:$I$83,Puantaj!$C$7:$C$83,$A21,Puantaj!$A$7:$A$83,">="&D$18,Puantaj!$A$7:$A$83,"<"&D$18+7,Puantaj!$D$7:$D$83,"<>Telafi")) -> 34 | E21: =IF($A21="","",SUMIFS(Puantaj!$I$7:$I$83,Puantaj!$C$7:$C$83,$A21,Puantaj!$A$7:$A$83,">="&E$18,Puantaj!$A$7:$A$83,"<"&E$18+7,Puantaj!$D$7:$D$83,"<>Telafi")) -> 42 | F21: =IF($A21="","",SUMIFS(Puantaj!$I$7:$I$83,Puantaj!$C$7:$C$83,$A21,Puantaj!$A$7:$A$83,">="&F$18,Puantaj!$A$7:$A$83,"<"&F$18+7,Puantaj!$D$7:$D$83,"<>Telafi")) -> 42.5 | G21: =IF($A21="","",SUMIFS(Puantaj!$I$7:$I$83,Puantaj!$C$7:$C$83,$A21,Puantaj!$A$7:$A$83,">="&G$18,Puantaj!$A$7:$A$83,"<"&G$18+7,Puantaj!$D$7:$D$83,"<>Telafi")) -> 0 | H21: =IF(A21="","",MAX(0,B21-$B$5)+MAX(0,C21-$B$5)+MAX(0,D21-$B$5)+MAX(0,E21-$B$5)+MAX(0,F21-$B$5)+MAX(0,G21-$B$5)) -> 0 | I21: =IF(A21="","",ROUND(H21*1.5,2)) -> 0
A22: =IF(A12="","",A12) | B22: =IF($A22="","",SUMIFS(Puantaj!$I$7:$I$83,Puantaj!$C$7:$C$83,$A22,Puantaj!$A$7:$A$83,">="&B$18,Puantaj!$A$7:$A$83,"<"&B$18+7,Puantaj!$D$7:$D$83,"<>Telafi")) | C22: =IF($A22="","",SUMIFS(Puantaj!$I$7:$I$83,Puantaj!$C$7:$C$83,$A22,Puantaj!$A$7:$A$83,">="&C$18,Puantaj!$A$7:$A$83,"<"&C$18+7,Puantaj!$D$7:$D$83,"<>Telafi")) | D22: =IF($A22="","",SUMIFS(Puantaj!$I$7:$I$83,Puantaj!$C$7:$C$83,$A22,Puantaj!$A$7:$A$83,">="&D$18,Puantaj!$A$7:$A$83,"<"&D$18+7,Puantaj!$D$7:$D$83,"<>Telafi")) | E22: =IF($A22="","",SUMIFS(Puantaj!$I$7:$I$83,Puantaj!$C$7:$C$83,$A22,Puantaj!$A$7:$A$83,">="&E$18,Puantaj!$A$7:$A$83,"<"&E$18+7,Puantaj!$D$7:$D$83,"<>Telafi")) | F22: =IF($A22="","",SUMIFS(Puantaj!$I$7:$I$83,Puantaj!$C$7:$C$83,$A22,Puantaj!$A$7:$A$83,">="&F$18,Puantaj!$A$7:$A$83,"<"&F$18+7,Puantaj!$D$7:$D$83,"<>Telafi")) | G22: =IF($A22="","",SUMIFS(Puantaj!$I$7:$I$83,Puantaj!$C$7:$C$83,$A22,Puantaj!$A$7:$A$83,">="&G$18,Puantaj!$A$7:$A$83,"<"&G$18+7,Puantaj!$D$7:$D$83,"<>Telafi")) | H22: =IF(A22="","",MAX(0,B22-$B$5)+MAX(0,C22-$B$5)+MAX(0,D22-$B$5)+MAX(0,E22-$B$5)+MAX(0,F22-$B$5)+MAX(0,G22-$B$5)) | I22: =IF(A22="","",ROUND(H22*1.5,2))
A23: =IF(A13="","",A13) | B23: =IF($A23="","",SUMIFS(Puantaj!$I$7:$I$83,Puantaj!$C$7:$C$83,$A23,Puantaj!$A$7:$A$83,">="&B$18,Puantaj!$A$7:$A$83,"<"&B$18+7,Puantaj!$D$7:$D$83,"<>Telafi")) | C23: =IF($A23="","",SUMIFS(Puantaj!$I$7:$I$83,Puantaj!$C$7:$C$83,$A23,Puantaj!$A$7:$A$83,">="&C$18,Puantaj!$A$7:$A$83,"<"&C$18+7,Puantaj!$D$7:$D$83,"<>Telafi")) | D23: =IF($A23="","",SUMIFS(Puantaj!$I$7:$I$83,Puantaj!$C$7:$C$83,$A23,Puantaj!$A$7:$A$83,">="&D$18,Puantaj!$A$7:$A$83,"<"&D$18+7,Puantaj!$D$7:$D$83,"<>Telafi")) | E23: =IF($A23="","",SUMIFS(Puantaj!$I$7:$I$83,Puantaj!$C$7:$C$83,$A23,Puantaj!$A$7:$A$83,">="&E$18,Puantaj!$A$7:$A$83,"<"&E$18+7,Puantaj!$D$7:$D$83,"<>Telafi")) | F23: =IF($A23="","",SUMIFS(Puantaj!$I$7:$I$83,Puantaj!$C$7:$C$83,$A23,Puantaj!$A$7:$A$83,">="&F$18,Puantaj!$A$7:$A$83,"<"&F$18+7,Puantaj!$D$7:$D$83,"<>Telafi")) | G23: =IF($A23="","",SUMIFS(Puantaj!$I$7:$I$83,Puantaj!$C$7:$C$83,$A23,Puantaj!$A$7:$A$83,">="&G$18,Puantaj!$A$7:$A$83,"<"&G$18+7,Puantaj!$D$7:$D$83,"<>Telafi")) | H23: =IF(A23="","",MAX(0,B23-$B$5)+MAX(0,C23-$B$5)+MAX(0,D23-$B$5)+MAX(0,E23-$B$5)+MAX(0,F23-$B$5)+MAX(0,G23-$B$5)) | I23: =IF(A23="","",ROUND(H23*1.5,2))
A25: 7. sütun = her hafta için MAK(0; haftalık net − 45) değerlerinin toplamı (md. 41; denkleştirme uygulanmıyorsa). Telafi çalışması fazla çalışma sayılmaz (md. 64), haftalık toplama girmez.
A26: Örnek: Elif Demir, 11–17 Ocak: 5 × 8,5 + 5,0 = 47,5 saat → 47,5 − 45 = 2,5 saat fazla çalışma; serbest zaman seçerse 2,5 × 1,5 = 3,75 saat (3 saat 45 dakika, md. 41).
A27: Denkleştirme uygulanan işyerlerinde haftalık ortalama iki aylık süre içinde değerlendirilir (md. 63); o durumda 7. sütunu doğrudan kullanmayın.
A28: Ayın başına veya sonuna taşan haftalar yalnızca bu dosyadaki günlerle toplanır; komşu ayın günlerini ayrıca kontrol edin.
A29: 3., 4., 6., 8.–11. sütunlar Puantaj sayfasından ÇOKEĞERSAY / ÇOKETOPLA ile gelir; 5. sütun Puantaj'daki vardiya planına göre (Pzt–Cum) hesaplanır.
A30: 12. sütun boşsa satır bordroya gönderilmez (kırmızı). Genel tatil çalışmasının ücreti bordroda md. 47'ye göre hesaplanır.
A31: Dosya ücret, vergi veya ceza hesaplamaz; yalnızca süreleri ve günleri sayar. Varsayımsal örnek: isimler uydurmadır.
A33: Kontrol eden (yönetici): ____________________ Tarih: __.__.____ İmza: ____________________
