Workbook

Sheet Daglig registrering
A1: Daglig registrering af arbejdstid (arbejdstidslovens § 4 b) | H1: Hypotetisk eksempel — orova.vn
A2: Medarbejder: | B2: Mette Jensen (eksempel) | E2: Træk pause fra arbejdstiden? | G2: Nej | H2: Følg jeres overenskomst/aftale om, hvorvidt pausen er arbejdstid.
A3: Medarbejderen skal kunne se egne oplysninger (§ 4 b, stk. 2). Opbevar registreringerne i 5 år efter udløbet af referenceperioden (§ 4 b, stk. 3). Gule celler = indtastning; grå = beregnes automatisk.
A5: Dato | B5: Ugedag | C5: Start | D5: Slut | E5: Pause (min) | F5: Arbejdstid i alt (timer) | G5: Fravær | H5: Normtid for fravær (timer) | I5: Bemærkning | J5: Uge i perioden
A6: =Periodestart+0 -> 46237 | B6: =CHOOSE(WEEKDAY(A6,2),"mandag","tirsdag","onsdag","torsdag","fredag","lørdag","søndag") -> mandag | C6: 0.33333333 | D6: 0.6625 | E6: 30 | F6: =IF(OR(C6="",D6=""),"",ROUND(MOD(D6-C6,1)*24-IF(TraekPause="Ja",N(E6)/60,0),2)) -> 7.9 | J6: =INT((A6-Periodestart)/7)+1 -> 1
A7: =Periodestart+1 -> 46238 | B7: =CHOOSE(WEEKDAY(A7,2),"mandag","tirsdag","onsdag","torsdag","fredag","lørdag","søndag") -> tirsdag | C7: 0.33333333 | D7: 0.65208333 | E7: 30 | F7: =IF(OR(C7="",D7=""),"",ROUND(MOD(D7-C7,1)*24-IF(TraekPause="Ja",N(E7)/60,0),2)) -> 7.65 | J7: =INT((A7-Periodestart)/7)+1 -> 1
A8: =Periodestart+2 -> 46239 | B8: =CHOOSE(WEEKDAY(A8,2),"mandag","tirsdag","onsdag","torsdag","fredag","lørdag","søndag") -> onsdag | C8: 0.33333333 | D8: 0.64166667 | E8: 30 | F8: =IF(OR(C8="",D8=""),"",ROUND(MOD(D8-C8,1)*24-IF(TraekPause="Ja",N(E8)/60,0),2)) -> 7.4 | J8: =INT((A8-Periodestart)/7)+1 -> 1
A9: =Periodestart+3 -> 46240 | B9: =CHOOSE(WEEKDAY(A9,2),"mandag","tirsdag","onsdag","torsdag","fredag","lørdag","søndag") -> torsdag | C9: 0.33333333 | D9: 0.63125 | E9: 30 | F9: =IF(OR(C9="",D9=""),"",ROUND(MOD(D9-C9,1)*24-IF(TraekPause="Ja",N(E9)/60,0),2)) -> 7.15 | J9: =INT((A9-Periodestart)/7)+1 -> 1
A10: =Periodestart+4 -> 46241 | B10: =CHOOSE(WEEKDAY(A10,2),"mandag","tirsdag","onsdag","torsdag","fredag","lørdag","søndag") -> fredag | C10: 0.33333333 | D10: 0.62083333 | E10: 30 | F10: =IF(OR(C10="",D10=""),"",ROUND(MOD(D10-C10,1)*24-IF(TraekPause="Ja",N(E10)/60,0),2)) -> 6.9 | J10: =INT((A10-Periodestart)/7)+1 -> 1
A11: =Periodestart+5 -> 46242 | B11: =CHOOSE(WEEKDAY(A11,2),"mandag","tirsdag","onsdag","torsdag","fredag","lørdag","søndag") -> lørdag | F11: =IF(OR(C11="",D11=""),"",ROUND(MOD(D11-C11,1)*24-IF(TraekPause="Ja",N(E11)/60,0),2)) | J11: =INT((A11-Periodestart)/7)+1 -> 1
A12: =Periodestart+6 -> 46243 | B12: =CHOOSE(WEEKDAY(A12,2),"mandag","tirsdag","onsdag","torsdag","fredag","lørdag","søndag") -> søndag | F12: =IF(OR(C12="",D12=""),"",ROUND(MOD(D12-C12,1)*24-IF(TraekPause="Ja",N(E12)/60,0),2)) | J12: =INT((A12-Periodestart)/7)+1 -> 1
A13: =Periodestart+7 -> 46244 | B13: =CHOOSE(WEEKDAY(A13,2),"mandag","tirsdag","onsdag","torsdag","fredag","lørdag","søndag") -> mandag | C13: 0.33333333 | D13: 0.70416667 | E13: 30 | F13: =IF(OR(C13="",D13=""),"",ROUND(MOD(D13-C13,1)*24-IF(TraekPause="Ja",N(E13)/60,0),2)) -> 8.9 | J13: =INT((A13-Periodestart)/7)+1 -> 2
A14: =Periodestart+8 -> 46245 | B14: =CHOOSE(WEEKDAY(A14,2),"mandag","tirsdag","onsdag","torsdag","fredag","lørdag","søndag") -> tirsdag | C14: 0.33333333 | D14: 0.69375 | E14: 30 | F14: =IF(OR(C14="",D14=""),"",ROUND(MOD(D14-C14,1)*24-IF(TraekPause="Ja",N(E14)/60,0),2)) -> 8.65 | J14: =INT((A14-Periodestart)/7)+1 -> 2
A15: =Periodestart+9 -> 46246 | B15: =CHOOSE(WEEKDAY(A15,2),"mandag","tirsdag","onsdag","torsdag","fredag","lørdag","søndag") -> onsdag | C15: 0.33333333 | D15: 0.68333333 | E15: 30 | F15: =IF(OR(C15="",D15=""),"",ROUND(MOD(D15-C15,1)*24-IF(TraekPause="Ja",N(E15)/60,0),2)) -> 8.4 | J15: =INT((A15-Periodestart)/7)+1 -> 2
A16: =Periodestart+10 -> 46247 | B16: =CHOOSE(WEEKDAY(A16,2),"mandag","tirsdag","onsdag","torsdag","fredag","lørdag","søndag") -> torsdag | C16: 0.33333333 | D16: 0.67291667 | E16: 30 | F16: =IF(OR(C16="",D16=""),"",ROUND(MOD(D16-C16,1)*24-IF(TraekPause="Ja",N(E16)/60,0),2)) -> 8.15 | J16: =INT((A16-Periodestart)/7)+1 -> 2
A17: =Periodestart+11 -> 46248 | B17: =CHOOSE(WEEKDAY(A17,2),"mandag","tirsdag","onsdag","torsdag","fredag","lørdag","søndag") -> fredag | C17: 0.33333333 | D17: 0.6625 | E17: 30 | F17: =IF(OR(C17="",D17=""),"",ROUND(MOD(D17-C17,1)*24-IF(TraekPause="Ja",N(E17)/60,0),2)) -> 7.9 | J17: =INT((A17-Periodestart)/7)+1 -> 2
A18: =Periodestart+12 -> 46249 | B18: =CHOOSE(WEEKDAY(A18,2),"mandag","tirsdag","onsdag","torsdag","fredag","lørdag","søndag") -> lørdag | F18: =IF(OR(C18="",D18=""),"",ROUND(MOD(D18-C18,1)*24-IF(TraekPause="Ja",N(E18)/60,0),2)) | J18: =INT((A18-Periodestart)/7)+1 -> 2
A19: =Periodestart+13 -> 46250 | B19: =CHOOSE(WEEKDAY(A19,2),"mandag","tirsdag","onsdag","torsdag","fredag","lørdag","søndag") -> søndag | F19: =IF(OR(C19="",D19=""),"",ROUND(MOD(D19-C19,1)*24-IF(TraekPause="Ja",N(E19)/60,0),2)) | J19: =INT((A19-Periodestart)/7)+1 -> 2
A20: =Periodestart+14 -> 46251 | B20: =CHOOSE(WEEKDAY(A20,2),"mandag","tirsdag","onsdag","torsdag","fredag","lørdag","søndag") -> mandag | C20: 0.29166667 | D20: 0.74583333 | E20: 30 | F20: =IF(OR(C20="",D20=""),"",ROUND(MOD(D20-C20,1)*24-IF(TraekPause="Ja",N(E20)/60,0),2)) -> 10.9 | J20: =INT((A20-Periodestart)/7)+1 -> 3
A21: =Periodestart+15 -> 46252 | B21: =CHOOSE(WEEKDAY(A21,2),"mandag","tirsdag","onsdag","torsdag","fredag","lørdag","søndag") -> tirsdag | C21: 0.29166667 | D21: 0.73541667 | E21: 30 | F21: =IF(OR(C21="",D21=""),"",ROUND(MOD(D21-C21,1)*24-IF(TraekPause="Ja",N(E21)/60,0),2)) -> 10.65 | J21: =INT((A21-Periodestart)/7)+1 -> 3
A22: =Periodestart+16 -> 46253 | B22: =CHOOSE(WEEKDAY(A22,2),"mandag","tirsdag","onsdag","torsdag","fredag","lørdag","søndag") -> onsdag | C22: 0.29166667 | D22: 0.725 | E22: 30 | F22: =IF(OR(C22="",D22=""),"",ROUND(MOD(D22-C22,1)*24-IF(TraekPause="Ja",N(E22)/60,0),2)) -> 10.4 | J22: =INT((A22-Periodestart)/7)+1 -> 3
A23: =Periodestart+17 -> 46254 | B23: =CHOOSE(WEEKDAY(A23,2),"mandag","tirsdag","onsdag","torsdag","fredag","lørdag","søndag") -> torsdag | C23: 0.29166667 | D23: 0.71458333 | E23: 30 | F23: =IF(OR(C23="",D23=""),"",ROUND(MOD(D23-C23,1)*24-IF(TraekPause="Ja",N(E23)/60,0),2)) -> 10.15 | J23: =INT((A23-Periodestart)/7)+1 -> 3
A24: =Periodestart+18 -> 46255 | B24: =CHOOSE(WEEKDAY(A24,2),"mandag","tirsdag","onsdag","torsdag","fredag","lørdag","søndag") -> fredag | C24: 0.33333333 | D24: 0.74583333 | E24: 30 | F24: =IF(OR(C24="",D24=""),"",ROUND(MOD(D24-C24,1)*24-IF(TraekPause="Ja",N(E24)/60,0),2)) -> 9.9 | J24: =INT((A24-Periodestart)/7)+1 -> 3
A25: =Periodestart+19 -> 46256 | B25: =CHOOSE(WEEKDAY(A25,2),"mandag","tirsdag","onsdag","torsdag","fredag","lørdag","søndag") -> lørdag | F25: =IF(OR(C25="",D25=""),"",ROUND(MOD(D25-C25,1)*24-IF(TraekPause="Ja",N(E25)/60,0),2)) | J25: =INT((A25-Periodestart)/7)+1 -> 3
A26: =Periodestart+20 -> 46257 | B26: =CHOOSE(WEEKDAY(A26,2),"mandag","tirsdag","onsdag","torsdag","fredag","lørdag","søndag") -> søndag | F26: =IF(OR(C26="",D26=""),"",ROUND(MOD(D26-C26,1)*24-IF(TraekPause="Ja",N(E26)/60,0),2)) | J26: =INT((A26-Periodestart)/7)+1 -> 3
A27: =Periodestart+21 -> 46258 | B27: =CHOOSE(WEEKDAY(A27,2),"mandag","tirsdag","onsdag","torsdag","fredag","lørdag","søndag") -> mandag | C27: 0.29166667 | D27: 0.77083333 | E27: 30 | F27: =IF(OR(C27="",D27=""),"",ROUND(MOD(D27-C27,1)*24-IF(TraekPause="Ja",N(E27)/60,0),2)) -> 11.5 | J27: =INT((A27-Periodestart)/7)+1 -> 4
A28: =Periodestart+22 -> 46259 | B28: =CHOOSE(WEEKDAY(A28,2),"mandag","tirsdag","onsdag","torsdag","fredag","lørdag","søndag") -> tirsdag | C28: 0.29166667 | D28: 0.76041667 | E28: 30 | F28: =IF(OR(C28="",D28=""),"",ROUND(MOD(D28-C28,1)*24-IF(TraekPause="Ja",N(E28)/60,0),2)) -> 11.25 | J28: =INT((A28-Periodestart)/7)+1 -> 4
A29: =Periodestart+23 -> 46260 | B29: =CHOOSE(WEEKDAY(A29,2),"mandag","tirsdag","onsdag","torsdag","fredag","lørdag","søndag") -> onsdag | C29: 0.29166667 | D29: 0.75 | E29: 30 | F29: =IF(OR(C29="",D29=""),"",ROUND(MOD(D29-C29,1)*24-IF(TraekPause="Ja",N(E29)/60,0),2)) -> 11 | I29: Leverance til kunde (hypotetisk) | J29: =INT((A29-Periodestart)/7)+1 -> 4
A30: =Periodestart+24 -> 46261 | B30: =CHOOSE(WEEKDAY(A30,2),"mandag","tirsdag","onsdag","torsdag","fredag","lørdag","søndag") -> torsdag | C30: 0.29166667 | D30: 0.73958333 | E30: 30 | F30: =IF(OR(C30="",D30=""),"",ROUND(MOD(D30-C30,1)*24-IF(TraekPause="Ja",N(E30)/60,0),2)) -> 10.75 | J30: =INT((A30-Periodestart)/7)+1 -> 4
A31: =Periodestart+25 -> 46262 | B31: =CHOOSE(WEEKDAY(A31,2),"mandag","tirsdag","onsdag","torsdag","fredag","lørdag","søndag") -> fredag | C31: 0.29166667 | D31: 0.72916667 | E31: 30 | F31: =IF(OR(C31="",D31=""),"",ROUND(MOD(D31-C31,1)*24-IF(TraekPause="Ja",N(E31)/60,0),2)) -> 10.5 | J31: =INT((A31-Periodestart)/7)+1 -> 4
A32: =Periodestart+26 -> 46263 | B32: =CHOOSE(WEEKDAY(A32,2),"mandag","tirsdag","onsdag","torsdag","fredag","lørdag","søndag") -> lørdag | F32: =IF(OR(C32="",D32=""),"",ROUND(MOD(D32-C32,1)*24-IF(TraekPause="Ja",N(E32)/60,0),2)) | J32: =INT((A32-Periodestart)/7)+1 -> 4
A33: =Periodestart+27 -> 46264 | B33: =CHOOSE(WEEKDAY(A33,2),"mandag","tirsdag","onsdag","torsdag","fredag","lørdag","søndag") -> søndag | F33: =IF(OR(C33="",D33=""),"",ROUND(MOD(D33-C33,1)*24-IF(TraekPause="Ja",N(E33)/60,0),2)) | J33: =INT((A33-Periodestart)/7)+1 -> 4
A34: =Periodestart+28 -> 46265 | B34: =CHOOSE(WEEKDAY(A34,2),"mandag","tirsdag","onsdag","torsdag","fredag","lørdag","søndag") -> mandag | C34: 0.29166667 | D34: 0.72916667 | E34: 30 | F34: =IF(OR(C34="",D34=""),"",ROUND(MOD(D34-C34,1)*24-IF(TraekPause="Ja",N(E34)/60,0),2)) -> 10.5 | J34: =INT((A34-Periodestart)/7)+1 -> 5
A35: =Periodestart+29 -> 46266 | B35: =CHOOSE(WEEKDAY(A35,2),"mandag","tirsdag","onsdag","torsdag","fredag","lørdag","søndag") -> tirsdag | C35: 0.29166667 | D35: 0.71875 | E35: 30 | F35: =IF(OR(C35="",D35=""),"",ROUND(MOD(D35-C35,1)*24-IF(TraekPause="Ja",N(E35)/60,0),2)) -> 10.25 | J35: =INT((A35-Periodestart)/7)+1 -> 5
A36: =Periodestart+30 -> 46267 | B36: =CHOOSE(WEEKDAY(A36,2),"mandag","tirsdag","onsdag","torsdag","fredag","lørdag","søndag") -> onsdag | C36: 0.33333333 | D36: 0.75 | E36: 30 | F36: =IF(OR(C36="",D36=""),"",ROUND(MOD(D36-C36,1)*24-IF(TraekPause="Ja",N(E36)/60,0),2)) -> 10 | J36: =INT((A36-Periodestart)/7)+1 -> 5
A37: =Periodestart+31 -> 46268 | B37: =CHOOSE(WEEKDAY(A37,2),"mandag","tirsdag","onsdag","torsdag","fredag","lørdag","søndag") -> torsdag | C37: 0.33333333 | D37: 0.73958333 | E37: 30 | F37: =IF(OR(C37="",D37=""),"",ROUND(MOD(D37-C37,1)*24-IF(TraekPause="Ja",N(E37)/60,0),2)) -> 9.75 | J37: =INT((A37-Periodestart)/7)+1 -> 5
A38: =Periodestart+32 -> 46269 | B38: =CHOOSE(WEEKDAY(A38,2),"mandag","tirsdag","onsdag","torsdag","fredag","lørdag","søndag") -> fredag | C38: 0.33333333 | D38: 0.72916667 | E38: 30 | F38: =IF(OR(C38="",D38=""),"",ROUND(MOD(D38-C38,1)*24-IF(TraekPause="Ja",N(E38)/60,0),2)) -> 9.5 | J38: =INT((A38-Periodestart)/7)+1 -> 5
A39: =Periodestart+33 -> 46270 | B39: =CHOOSE(WEEKDAY(A39,2),"mandag","tirsdag","onsdag","torsdag","fredag","lørdag","søndag") -> lørdag | F39: =IF(OR(C39="",D39=""),"",ROUND(MOD(D39-C39,1)*24-IF(TraekPause="Ja",N(E39)/60,0),2)) | J39: =INT((A39-Periodestart)/7)+1 -> 5
A40: =Periodestart+34 -> 46271 | B40: =CHOOSE(WEEKDAY(A40,2),"mandag","tirsdag","onsdag","torsdag","fredag","lørdag","søndag") -> søndag | F40: =IF(OR(C40="",D40=""),"",ROUND(MOD(D40-C40,1)*24-IF(TraekPause="Ja",N(E40)/60,0),2)) | J40: =INT((A40-Periodestart)/7)+1 -> 5
A41: =Periodestart+35 -> 46272 | B41: =CHOOSE(WEEKDAY(A41,2),"mandag","tirsdag","onsdag","torsdag","fredag","lørdag","søndag") -> mandag | C41: 0.33333333 | D41: 0.6625 | E41: 30 | F41: =IF(OR(C41="",D41=""),"",ROUND(MOD(D41-C41,1)*24-IF(TraekPause="Ja",N(E41)/60,0),2)) -> 7.9 | J41: =INT((A41-Periodestart)/7)+1 -> 6
...

Sheet 48-timers kontrol
A1: 48-timers kontrol: gennemsnitlig ugentlig arbejdstid over 4 måneder (§ 4)
A3: Referenceperioden starter (mandag): | B3: 46237 | D3: Hypotetisk eksempel — orova.vn
A4: Referenceperiode: | B4: 4 måneder (ca. 17 uger) | D4: Akkumuleret gennemsnit = summen af talte timer ÷ antal uger, der er gået i perioden.
A5: Seneste registrerede dag: | B5: =MAX(_xlfn.MAXIFS('Daglig registrering'!$A$6:$A$124,'Daglig registrering'!$F$6:$F$124,">0"),_xlfn.MAXIFS('Daglig registrering'!$A$6:$A$124,'Daglig registrering'!$G$6:$G$124,"Ferie"),_xlfn.MAXIFS('Daglig registrering'!$A$6:$A$124,'Daglig registrering'!$G$6:$G$124,"Sygdom"),_xlfn.MAXIFS('Daglig registrering'!$A$6:$A$124,'Daglig registrering'!$G$6:$G$124,"Fri")) -> 46353 | D5: Ferie og sygdom tælles med normtid, så de hverken sænker eller hæver gennemsnittet.
A6: Uge | B6: Faktiske arbejdstimer | C6: Normtid for ferie/sygdom | D6: Talt timeantal | E6: Akkumuleret gennemsnit pr. uge | F6: Under 48 timer i snit? | G6: Ugen starter (mandag)
A7: 1 | B7: =IF(OR($B$5=0,G7>$B$5),"",ROUND(SUMIFS('Daglig registrering'!$F$6:$F$124,'Daglig registrering'!$J$6:$J$124,A7),2)) -> 37 | C7: =IF(B7="","",ROUND(SUMIFS('Daglig registrering'!$H$6:$H$124,'Daglig registrering'!$J$6:$J$124,A7,'Daglig registrering'!$G$6:$G$124,"Ferie")+SUMIFS('Daglig registrering'!$H$6:$H$124,'Daglig registrering'!$J$6:$J$124,A7,'Daglig registrering'!$G$6:$G$124,"Sygdom"),2)) -> 0 | D7: =IF(B7="","",B7+C7) -> 37 | E7: =IF(D7="","",SUM($D$7:D7)/A7) -> 37 | F7: =IF(E7="","",IF(E7<=48,"Ja","Nej")) -> Ja | G7: =Periodestart+0 -> 46237
A8: 2 | B8: =IF(OR($B$5=0,G8>$B$5),"",ROUND(SUMIFS('Daglig registrering'!$F$6:$F$124,'Daglig registrering'!$J$6:$J$124,A8),2)) -> 42 | C8: =IF(B8="","",ROUND(SUMIFS('Daglig registrering'!$H$6:$H$124,'Daglig registrering'!$J$6:$J$124,A8,'Daglig registrering'!$G$6:$G$124,"Ferie")+SUMIFS('Daglig registrering'!$H$6:$H$124,'Daglig registrering'!$J$6:$J$124,A8,'Daglig registrering'!$G$6:$G$124,"Sygdom"),2)) -> 0 | D8: =IF(B8="","",B8+C8) -> 42 | E8: =IF(D8="","",SUM($D$7:D8)/A8) -> 39.5 | F8: =IF(E8="","",IF(E8<=48,"Ja","Nej")) -> Ja | G8: =Periodestart+7 -> 46244
A9: 3 | B9: =IF(OR($B$5=0,G9>$B$5),"",ROUND(SUMIFS('Daglig registrering'!$F$6:$F$124,'Daglig registrering'!$J$6:$J$124,A9),2)) -> 52 | C9: =IF(B9="","",ROUND(SUMIFS('Daglig registrering'!$H$6:$H$124,'Daglig registrering'!$J$6:$J$124,A9,'Daglig registrering'!$G$6:$G$124,"Ferie")+SUMIFS('Daglig registrering'!$H$6:$H$124,'Daglig registrering'!$J$6:$J$124,A9,'Daglig registrering'!$G$6:$G$124,"Sygdom"),2)) -> 0 | D9: =IF(B9="","",B9+C9) -> 52 | E9: =IF(D9="","",SUM($D$7:D9)/A9) -> 43.666667 | F9: =IF(E9="","",IF(E9<=48,"Ja","Nej")) -> Ja | G9: =Periodestart+14 -> 46251
A10: 4 | B10: =IF(OR($B$5=0,G10>$B$5),"",ROUND(SUMIFS('Daglig registrering'!$F$6:$F$124,'Daglig registrering'!$J$6:$J$124,A10),2)) -> 55 | C10: =IF(B10="","",ROUND(SUMIFS('Daglig registrering'!$H$6:$H$124,'Daglig registrering'!$J$6:$J$124,A10,'Daglig registrering'!$G$6:$G$124,"Ferie")+SUMIFS('Daglig registrering'!$H$6:$H$124,'Daglig registrering'!$J$6:$J$124,A10,'Daglig registrering'!$G$6:$G$124,"Sygdom"),2)) -> 0 | D10: =IF(B10="","",B10+C10) -> 55 | E10: =IF(D10="","",SUM($D$7:D10)/A10) -> 46.5 | F10: =IF(E10="","",IF(E10<=48,"Ja","Nej")) -> Ja | G10: =Periodestart+21 -> 46258
A11: 5 | B11: =IF(OR($B$5=0,G11>$B$5),"",ROUND(SUMIFS('Daglig registrering'!$F$6:$F$124,'Daglig registrering'!$J$6:$J$124,A11),2)) -> 50 | C11: =IF(B11="","",ROUND(SUMIFS('Daglig registrering'!$H$6:$H$124,'Daglig registrering'!$J$6:$J$124,A11,'Daglig registrering'!$G$6:$G$124,"Ferie")+SUMIFS('Daglig registrering'!$H$6:$H$124,'Daglig registrering'!$J$6:$J$124,A11,'Daglig registrering'!$G$6:$G$124,"Sygdom"),2)) -> 0 | D11: =IF(B11="","",B11+C11) -> 50 | E11: =IF(D11="","",SUM($D$7:D11)/A11) -> 47.2 | F11: =IF(E11="","",IF(E11<=48,"Ja","Nej")) -> Ja | G11: =Periodestart+28 -> 46265
A12: 6 | B12: =IF(OR($B$5=0,G12>$B$5),"",ROUND(SUMIFS('Daglig registrering'!$F$6:$F$124,'Daglig registrering'!$J$6:$J$124,A12),2)) -> 37 | C12: =IF(B12="","",ROUND(SUMIFS('Daglig registrering'!$H$6:$H$124,'Daglig registrering'!$J$6:$J$124,A12,'Daglig registrering'!$G$6:$G$124,"Ferie")+SUMIFS('Daglig registrering'!$H$6:$H$124,'Daglig registrering'!$J$6:$J$124,A12,'Daglig registrering'!$G$6:$G$124,"Sygdom"),2)) -> 0 | D12: =IF(B12="","",B12+C12) -> 37 | E12: =IF(D12="","",SUM($D$7:D12)/A12) -> 45.5 | F12: =IF(E12="","",IF(E12<=48,"Ja","Nej")) -> Ja | G12: =Periodestart+35 -> 46272
A13: 7 | B13: =IF(OR($B$5=0,G13>$B$5),"",ROUND(SUMIFS('Daglig registrering'!$F$6:$F$124,'Daglig registrering'!$J$6:$J$124,A13),2)) -> 0 | C13: =IF(B13="","",ROUND(SUMIFS('Daglig registrering'!$H$6:$H$124,'Daglig registrering'!$J$6:$J$124,A13,'Daglig registrering'!$G$6:$G$124,"Ferie")+SUMIFS('Daglig registrering'!$H$6:$H$124,'Daglig registrering'!$J$6:$J$124,A13,'Daglig registrering'!$G$6:$G$124,"Sygdom"),2)) -> 37 | D13: =IF(B13="","",B13+C13) -> 37 | E13: =IF(D13="","",SUM($D$7:D13)/A13) -> 44.285714 | F13: =IF(E13="","",IF(E13<=48,"Ja","Nej")) -> Ja | G13: =Periodestart+42 -> 46279
A14: 8 | B14: =IF(OR($B$5=0,G14>$B$5),"",ROUND(SUMIFS('Daglig registrering'!$F$6:$F$124,'Daglig registrering'!$J$6:$J$124,A14),2)) -> 35 | C14: =IF(B14="","",ROUND(SUMIFS('Daglig registrering'!$H$6:$H$124,'Daglig registrering'!$J$6:$J$124,A14,'Daglig registrering'!$G$6:$G$124,"Ferie")+SUMIFS('Daglig registrering'!$H$6:$H$124,'Daglig registrering'!$J$6:$J$124,A14,'Daglig registrering'!$G$6:$G$124,"Sygdom"),2)) -> 0 | D14: =IF(B14="","",B14+C14) -> 35 | E14: =IF(D14="","",SUM($D$7:D14)/A14) -> 43.125 | F14: =IF(E14="","",IF(E14<=48,"Ja","Nej")) -> Ja | G14: =Periodestart+49 -> 46286
A15: 9 | B15: =IF(OR($B$5=0,G15>$B$5),"",ROUND(SUMIFS('Daglig registrering'!$F$6:$F$124,'Daglig registrering'!$J$6:$J$124,A15),2)) -> 45 | C15: =IF(B15="","",ROUND(SUMIFS('Daglig registrering'!$H$6:$H$124,'Daglig registrering'!$J$6:$J$124,A15,'Daglig registrering'!$G$6:$G$124,"Ferie")+SUMIFS('Daglig registrering'!$H$6:$H$124,'Daglig registrering'!$J$6:$J$124,A15,'Daglig registrering'!$G$6:$G$124,"Sygdom"),2)) -> 0 | D15: =IF(B15="","",B15+C15) -> 45 | E15: =IF(D15="","",SUM($D$7:D15)/A15) -> 43.333333 | F15: =IF(E15="","",IF(E15<=48,"Ja","Nej")) -> Ja | G15: =Periodestart+56 -> 46293
A16: 10 | B16: =IF(OR($B$5=0,G16>$B$5),"",ROUND(SUMIFS('Daglig registrering'!$F$6:$F$124,'Daglig registrering'!$J$6:$J$124,A16),2)) -> 48 | C16: =IF(B16="","",ROUND(SUMIFS('Daglig registrering'!$H$6:$H$124,'Daglig registrering'!$J$6:$J$124,A16,'Daglig registrering'!$G$6:$G$124,"Ferie")+SUMIFS('Daglig registrering'!$H$6:$H$124,'Daglig registrering'!$J$6:$J$124,A16,'Daglig registrering'!$G$6:$G$124,"Sygdom"),2)) -> 0 | D16: =IF(B16="","",B16+C16) -> 48 | E16: =IF(D16="","",SUM($D$7:D16)/A16) -> 43.8 | F16: =IF(E16="","",IF(E16<=48,"Ja","Nej")) -> Ja | G16: =Periodestart+63 -> 46300
A17: 11 | B17: =IF(OR($B$5=0,G17>$B$5),"",ROUND(SUMIFS('Daglig registrering'!$F$6:$F$124,'Daglig registrering'!$J$6:$J$124,A17),2)) -> 54 | C17: =IF(B17="","",ROUND(SUMIFS('Daglig registrering'!$H$6:$H$124,'Daglig registrering'!$J$6:$J$124,A17,'Daglig registrering'!$G$6:$G$124,"Ferie")+SUMIFS('Daglig registrering'!$H$6:$H$124,'Daglig registrering'!$J$6:$J$124,A17,'Daglig registrering'!$G$6:$G$124,"Sygdom"),2)) -> 0 | D17: =IF(B17="","",B17+C17) -> 54 | E17: =IF(D17="","",SUM($D$7:D17)/A17) -> 44.727273 | F17: =IF(E17="","",IF(E17<=48,"Ja","Nej")) -> Ja | G17: =Periodestart+70 -> 46307
A18: 12 | B18: =IF(OR($B$5=0,G18>$B$5),"",ROUND(SUMIFS('Daglig registrering'!$F$6:$F$124,'Daglig registrering'!$J$6:$J$124,A18),2)) -> 0 | C18: =IF(B18="","",ROUND(SUMIFS('Daglig registrering'!$H$6:$H$124,'Daglig registrering'!$J$6:$J$124,A18,'Daglig registrering'!$G$6:$G$124,"Ferie")+SUMIFS('Daglig registrering'!$H$6:$H$124,'Daglig registrering'!$J$6:$J$124,A18,'Daglig registrering'!$G$6:$G$124,"Sygdom"),2)) -> 37 | D18: =IF(B18="","",B18+C18) -> 37 | E18: =IF(D18="","",SUM($D$7:D18)/A18) -> 44.083333 | F18: =IF(E18="","",IF(E18<=48,"Ja","Nej")) -> Ja | G18: =Periodestart+77 -> 46314
A19: 13 | B19: =IF(OR($B$5=0,G19>$B$5),"",ROUND(SUMIFS('Daglig registrering'!$F$6:$F$124,'Daglig registrering'!$J$6:$J$124,A19),2)) -> 32 | C19: =IF(B19="","",ROUND(SUMIFS('Daglig registrering'!$H$6:$H$124,'Daglig registrering'!$J$6:$J$124,A19,'Daglig registrering'!$G$6:$G$124,"Ferie")+SUMIFS('Daglig registrering'!$H$6:$H$124,'Daglig registrering'!$J$6:$J$124,A19,'Daglig registrering'!$G$6:$G$124,"Sygdom"),2)) -> 0 | D19: =IF(B19="","",B19+C19) -> 32 | E19: =IF(D19="","",SUM($D$7:D19)/A19) -> 43.153846 | F19: =IF(E19="","",IF(E19<=48,"Ja","Nej")) -> Ja | G19: =Periodestart+84 -> 46321
A20: 14 | B20: =IF(OR($B$5=0,G20>$B$5),"",ROUND(SUMIFS('Daglig registrering'!$F$6:$F$124,'Daglig registrering'!$J$6:$J$124,A20),2)) -> 40 | C20: =IF(B20="","",ROUND(SUMIFS('Daglig registrering'!$H$6:$H$124,'Daglig registrering'!$J$6:$J$124,A20,'Daglig registrering'!$G$6:$G$124,"Ferie")+SUMIFS('Daglig registrering'!$H$6:$H$124,'Daglig registrering'!$J$6:$J$124,A20,'Daglig registrering'!$G$6:$G$124,"Sygdom"),2)) -> 0 | D20: =IF(B20="","",B20+C20) -> 40 | E20: =IF(D20="","",SUM($D$7:D20)/A20) -> 42.928571 | F20: =IF(E20="","",IF(E20<=48,"Ja","Nej")) -> Ja | G20: =Periodestart+91 -> 46328
A21: 15 | B21: =IF(OR($B$5=0,G21>$B$5),"",ROUND(SUMIFS('Daglig registrering'!$F$6:$F$124,'Daglig registrering'!$J$6:$J$124,A21),2)) -> 45 | C21: =IF(B21="","",ROUND(SUMIFS('Daglig registrering'!$H$6:$H$124,'Daglig registrering'!$J$6:$J$124,A21,'Daglig registrering'!$G$6:$G$124,"Ferie")+SUMIFS('Daglig registrering'!$H$6:$H$124,'Daglig registrering'!$J$6:$J$124,A21,'Daglig registrering'!$G$6:$G$124,"Sygdom"),2)) -> 0 | D21: =IF(B21="","",B21+C21) -> 45 | E21: =IF(D21="","",SUM($D$7:D21)/A21) -> 43.066667 | F21: =IF(E21="","",IF(E21<=48,"Ja","Nej")) -> Ja | G21: =Periodestart+98 -> 46335
A22: 16 | B22: =IF(OR($B$5=0,G22>$B$5),"",ROUND(SUMIFS('Daglig registrering'!$F$6:$F$124,'Daglig registrering'!$J$6:$J$124,A22),2)) -> 37 | C22: =IF(B22="","",ROUND(SUMIFS('Daglig registrering'!$H$6:$H$124,'Daglig registrering'!$J$6:$J$124,A22,'Daglig registrering'!$G$6:$G$124,"Ferie")+SUMIFS('Daglig registrering'!$H$6:$H$124,'Daglig registrering'!$J$6:$J$124,A22,'Daglig registrering'!$G$6:$G$124,"Sygdom"),2)) -> 0 | D22: =IF(B22="","",B22+C22) -> 37 | E22: =IF(D22="","",SUM($D$7:D22)/A22) -> 42.6875 | F22: =IF(E22="","",IF(E22<=48,"Ja","Nej")) -> Ja | G22: =Periodestart+105 -> 46342
A23: 17 | B23: =IF(OR($B$5=0,G23>$B$5),"",ROUND(SUMIFS('Daglig registrering'!$F$6:$F$124,'Daglig registrering'!$J$6:$J$124,A23),2)) -> 36 | C23: =IF(B23="","",ROUND(SUMIFS('Daglig registrering'!$H$6:$H$124,'Daglig registrering'!$J$6:$J$124,A23,'Daglig registrering'!$G$6:$G$124,"Ferie")+SUMIFS('Daglig registrering'!$H$6:$H$124,'Daglig registrering'!$J$6:$J$124,A23,'Daglig registrering'!$G$6:$G$124,"Sygdom"),2)) -> 0 | D23: =IF(B23="","",B23+C23) -> 36 | E23: =IF(D23="","",SUM($D$7:D23)/A23) -> 42.294118 | F23: =IF(E23="","",IF(E23<=48,"Ja","Nej")) -> Ja | G23: =Periodestart+112 -> 46349
A24: I alt / snit | B24: =SUM(B7:B23) -> 645 | C24: =SUM(C7:C23) -> 74 | D24: =SUM(D7:D23) -> 719 | E24: =IF(COUNT(D7:D23)=0,"",D24/COUNT(D7:D23)) -> 42.294118 | F24: =IF(E24="","",IF(E24<=48,"Ja","Nej")) -> Ja
A26: Enkeltuger med over 48 talte timer: | B26: =COUNTIF(D7:D23,">48") -> 4
A27: Intern advarselsgrænse (valgfri):
A28: Gennemsnit over grænsen? | B28: =IF(OR(B27="",E24=""),"",IF(E24>B27,"Ja","Nej"))
A30: Lyserød række = akkumuleret gennemsnit over 48 timer. Lyserød celle i Talt timeantal = enkeltuge over 48 timer (ikke i sig selv et brud på § 4). Har jeres overenskomst egne regler (§ 1, stk. 2-3), følg dem.

Sheet Vejledning
A1: Vejledning til skabelonen
A3: Hypotetisk eksempel — orova.vn. Navn, datoer og timer er opdigtede. Ikke juridisk rådgivning.
A5: Sådan bruger du filen
A6: 1. Skriv referenceperiodens første mandag i '48-timers kontrol' (B3). Datoerne i 'Daglig registrering' følger med.
A7: 2. Skriv medarbejderens navn (B2) og vælg, om pausen skal trækkes fra (G2) – følg jeres overenskomst/aftale.
A8: 3. Registrér start og slut hver arbejdsdag (tt:mm) og evt. pause i minutter. Arbejdstid i alt beregnes selv.
A9: 4. Ved fravær: vælg Ferie, Sygdom eller Fri, og skriv normtiden for dagen ved ferie og sygdom.
A10: 5. '48-timers kontrol' summerer pr. uge og viser det akkumulerede gennemsnit. Lyserød = over 48 timer.
A12: Hvad loven siger (arbejdstidsloven, lovbekendtgørelse nr. 982 af 12. august 2024)
A13: • § 4 b: Arbejdsgiveren skal have et objektivt, pålideligt og tilgængeligt system, der måler den daglige arbejdstid for hver lønmodtager.
A14: • § 4 b, stk. 2: Lønmodtageren skal have adgang til egne oplysninger.
A15: • § 4 b, stk. 3: Oplysningerne opbevares i 5 år efter udløbet af perioden, der danner grundlag for gennemsnittet.
... A22: Arkene er låst uden adgangskode (Gennemse > Fjern arkbeskyttelse), så formlerne ikke overskrives ved en fejl.
