Workbook

Sheet Daglig registrering
A1: Daglig registrering af arbejdstid (arbejdstidslovens § 4 b) | H1: Hypotetisk eksempel — orova.vn
A2: Medarbejder: | B2: Mette Jensen (eksempel) | E2: Træk pause fra arbejdstiden? | G2: Nej | H2: Følg jeres overenskomst/aftale om, hvorvidt pausen er arbejdstid.
A3: Medarbejderen skal kunne se egne oplysninger (§ 4 b, stk. 2). Opbevar registreringerne i 5 år efter udløbet af referenceperioden (§ 4 b, stk. 3). Gule celler = indtastning; grå = beregnes automatisk.
A5: Dato | B5: Ugedag | C5: Start | D5: Slut | E5: Pause (min) | F5: Arbejdstid i alt (timer) | G5: Fravær | H5: Normtid for fravær (timer) | I5: Bemærkning | J5: Uge i perioden
A6: =Periodestart+0 -> 46237 | B6: =CHOOSE(WEEKDAY(A6,2),"mandag","tirsdag","onsdag","torsdag","fredag","lørdag","søndag") -> mandag | C6: 0.33333333 | D6: 0.6625 | E6: 30 | F6: =IF(OR(C6="",D6=""),"",ROUND(MOD(D6-C6,1)*24-IF(TraekPause="Ja",N(E6)/60,0),2)) -> 7.9 | J6: =INT((A6-Periodestart)/7)+1 -> 1
A7: =Periodestart+1 -> 46238 | B7: =CHOOSE(WEEKDAY(A7,2),"mandag","tirsdag","onsdag","torsdag","fredag","lørdag","søndag") -> tirsdag | C7: 0.33333333 | D7: 0.65208333 | E7: 30 | F7: =IF(OR(C7="",D7=""),"",ROUND(MOD(D7-C7,1)*24-IF(TraekPause="Ja",N(E7)/60,0),2)) -> 7.65 | J7: =INT((A7-Periodestart)/7)+1 -> 1
A8: =Periodestart+2 -> 46239 | B8: =CHOOSE(WEEKDAY(A8,2),"mandag","tirsdag","onsdag","torsdag","fredag","lørdag","søndag") -> onsdag | C8: 0.33333333 | D8: 0.64166667 | E8: 30 | F8: =IF(OR(C8="",D8=""),"",ROUND(MOD(D8-C8,1)*24-IF(TraekPause="Ja",N(E8)/60,0),2)) -> 7.4 | J8: =INT((A8-Periodestart)/7)+1 -> 1
A9: =Periodestart+3 -> 46240 | B9: =CHOOSE(WEEKDAY(A9,2),"mandag","tirsdag","onsdag","torsdag","fredag","lørdag","søndag") -> torsdag | C9: 0.33333333 | D9: 0.63125 | E9: 30 | F9: =IF(OR(C9="",D9=""),"",ROUND(MOD(D9-C9,1)*24-IF(TraekPause="Ja",N(E9)/60,0),2)) -> 7.15 | J9: =INT((A9-Periodestart)/7)+1 -> 1
A10: =Periodestart+4 -> 46241 | B10: =CHOOSE(WEEKDAY(A10,2),"mandag","tirsdag","onsdag","torsdag","fredag","lørdag","søndag") -> fredag | C10: 0.33333333 | D10: 0.62083333 | E10: 30 | F10: =IF(OR(C10="",D10=""),"",ROUND(MOD(D10-C10,1)*24-IF(TraekPause="Ja",N(E10)/60,0),2)) -> 6.9 | J10: =INT((A10-Periodestart)/7)+1 -> 1
A11: =Periodestart+5 -> 46242 | B11: =CHOOSE(WEEKDAY(A11,2),"mandag","tirsdag","onsdag","torsdag","fredag","lørdag","søndag") -> lørdag | F11: =IF(OR(C11="",D11=""),"",ROUND(MOD(D11-C11,1)*24-IF(TraekPause="Ja",N(E11)/60,0),2)) | J11: =INT((A11-Periodestart)/7)+1 -> 1
A12: =Periodestart+6 -> 46243 | B12: =CHOOSE(WEEKDAY(A12,2),"mandag","tirsdag","onsdag","torsdag","fredag","lørdag","søndag") -> søndag | F12: =IF(OR(C12="",D12=""),"",ROUND(MOD(D12-C12,1)*24-IF(TraekPause="Ja",N(E12)/60,0),2)) | J12: =INT((A12-Periodestart)/7)+1 -> 1
A13: =Periodestart+7 -> 46244 | B13: =CHOOSE(WEEKDAY(A13,2),"mandag","tirsdag","onsdag","torsdag","fredag","lørdag","søndag") -> mandag | C13: 0.33333333 | D13: 0.70416667 | E13: 30 | F13: =IF(OR(C13="",D13=""),"",ROUND(MOD(D13-C13,1)*24-IF(TraekPause="Ja",N(E13)/60,0),2)) -> 8.9 | J13: =INT((A13-Periodestart)/7)+1 -> 2
A14: =Periodestart+8 -> 46245 | B14: =CHOOSE(WEEKDAY(A14,2),"mandag","tirsdag","onsdag","torsdag","fredag","lørdag","søndag") -> tirsdag | C14: 0.33333333 | D14: 0.69375 | E14: 30 | F14: =IF(OR(C14="",D14=""),"",ROUND(MOD(D14-C14,1)*24-IF(TraekPause="Ja",N(E14)/60,0),2)) -> 8.65 | J14: =INT((A14-Periodestart)/7)+1 -> 2
A15: =Periodestart+9 -> 46246 | B15: =CHOOSE(WEEKDAY(A15,2),"mandag","tirsdag","onsdag","torsdag","fredag","lørdag","søndag") -> onsdag | C15: 0.33333333 | D15: 0.68333333 | E15: 30 | F15: =IF(OR(C15="",D15=""),"",ROUND(MOD(D15-C15,1)*24-IF(TraekPause="Ja",N(E15)/60,0),2)) -> 8.4 | J15: =INT((A15-Periodestart)/7)+1 -> 2
A16: =Periodestart+10 -> 46247 | B16: =CHOOSE(WEEKDAY(A16,2),"mandag","tirsdag","onsdag","torsdag","fredag","lørdag","søndag") -> torsdag | C16: 0.33333333 | D16: 0.67291667 | E16: 30 | F16: =IF(OR(C16="",D16=""),"",ROUND(MOD(D16-C16,1)*24-IF(TraekPause="Ja",N(E16)/60,0),2)) -> 8.15 | J16: =INT((A16-Periodestart)/7)+1 -> 2
A17: =Periodestart+11 -> 46248 | B17: =CHOOSE(WEEKDAY(A17,2),"mandag","tirsdag","onsdag","torsdag","fredag","lørdag","søndag") -> fredag | C17: 0.33333333 | D17: 0.6625 | E17: 30 | F17: =IF(OR(C17="",D17=""),"",ROUND(MOD(D17-C17,1)*24-IF(TraekPause="Ja",N(E17)/60,0),2)) -> 7.9 | J17: =INT((A17-Periodestart)/7)+1 -> 2
A18: =Periodestart+12 -> 46249 | B18: =CHOOSE(WEEKDAY(A18,2),"mandag","tirsdag","onsdag","torsdag","fredag","lørdag","søndag") -> lørdag | F18: =IF(OR(C18="",D18=""),"",ROUND(MOD(D18-C18,1)*24-IF(TraekPause="Ja",N(E18)/60,0),2)) | J18: =INT((A18-Periodestart)/7)+1 -> 2
A19: =Periodestart+13 -> 46250 | B19: =CHOOSE(WEEKDAY(A19,2),"mandag","tirsdag","onsdag","torsdag","fredag","lørdag","søndag") -> søndag | F19: =IF(OR(C19="",D19=""),"",ROUND(MOD(D19-C19,1)*24-IF(TraekPause="Ja",N(E19)/60,0),2)) | J19: =INT((A19-Periodestart)/7)+1 -> 2
A20: =Periodestart+14 -> 46251 | B20: =CHOOSE(WEEKDAY(A20,2),"mandag","tirsdag","onsdag","torsdag","fredag","lørdag","søndag") -> mandag | C20: 0.29166667 | D20: 0.74583333 | E20: 30 | F20: =IF(OR(C20="",D20=""),"",ROUND(MOD(D20-C20,1)*24-IF(TraekPause="Ja",N(E20)/60,0),2)) -> 10.9 | J20: =INT((A20-Periodestart)/7)+1 -> 3
A21: =Periodestart+15 -> 46252 | B21: =CHOOSE(WEEKDAY(A21,2),"mandag","tirsdag","onsdag","torsdag","fredag","lørdag","søndag") -> tirsdag | C21: 0.29166667 | D21: 0.73541667 | E21: 30 | F21: =IF(OR(C21="",D21=""),"",ROUND(MOD(D21-C21,1)*24-IF(TraekPause="Ja",N(E21)/60,0),2)) -> 10.65 | J21: =INT((A21-Periodestart)/7)+1 -> 3
A22: =Periodestart+16 -> 46253 | B22: =CHOOSE(WEEKDAY(A22,2),"mandag","tirsdag","onsdag","torsdag","fredag","lørdag","søndag") -> onsdag | C22: 0.29166667 | D22: 0.725 | E22: 30 | F22: =IF(OR(C22="",D22=""),"",ROUND(MOD(D22-C22,1)*24-IF(TraekPause="Ja",N(E22)/60,0),2)) -> 10.4 | J22: =INT((A22-Periodestart)/7)+1 -> 3
A23: =Periodestart+17 -> 46254 | B23: =CHOOSE(WEEKDAY(A23,2),"mandag","tirsdag","onsdag","torsdag","fredag","lørdag","søndag") -> torsdag | C23: 0.29166667 | D23: 0.71458333 | E23: 30 | F23: =IF(OR(C23="",D23=""),"",ROUND(MOD(D23-C23,1)*24-IF(TraekPause="Ja",N(E23)/60,0),2)) -> 10.15 | J23: =INT((A23-Periodestart)/7)+1 -> 3
A24: =Periodestart+18 -> 46255 | B24: =CHOOSE(WEEKDAY(A24,2),"mandag","tirsdag","onsdag","torsdag","fredag","lørdag","søndag") -> fredag | C24: 0.33333333 | D24: 0.74583333 | E24: 30 | F24: =IF(OR(C24="",D24=""),"",ROUND(MOD(D24-C24,1)*24-IF(TraekPause="Ja",N(E24)/60,0),2)) -> 9.9 | J24: =INT((A24-Periodestart)/7)+1 -> 3
A25: =Periodestart+19 -> 46256 | B25: =CHOOSE(WEEKDAY(A25,2),"mandag","tirsdag","onsdag","torsdag","fredag","lørdag","søndag") -> lørdag | F25: =IF(OR(C25="",D25=""),"",ROUND(MOD(D25-C25,1)*24-IF(TraekPause="Ja",N(E25)/60,0),2)) | J25: =INT((A25-Periodestart)/7)+1 -> 3
A26: =Periodestart+20 -> 46257 | B26: =CHOOSE(WEEKDAY(A26,2),"mandag","tirsdag","onsdag","torsdag","fredag","lørdag","søndag") -> søndag | F26: =IF(OR(C26="",D26=""),"",ROUND(MOD(D26-C26,1)*24-IF(TraekPause="Ja",N(E26)/60,0),2)) | J26: =INT((A26-Periodestart)/7)+1 -> 3
A27: =Periodestart+21 -> 46258 | B27: =CHOOSE(WEEKDAY(A27,2),"mandag","tirsdag","onsdag","torsdag","fredag","lørdag","søndag") -> mandag | C27: 0.29166667 | D27: 0.77083333 | E27: 30 | F27: =IF(OR(C27="",D27=""),"",ROUND(MOD(D27-C27,1)*24-IF(TraekPause="Ja",N(E27)/60,0),2)) -> 11.5 | J27: =INT((A27-Periodestart)/7)+1 -> 4
A28: =Periodestart+22 -> 46259 | B28: =CHOOSE(WEEKDAY(A28,2),"mandag","tirsdag","onsdag","torsdag","fredag","lørdag","søndag") -> tirsdag | C28: 0.29166667 | D28: 0.76041667 | E28: 30 | F28: =IF(OR(C28="",D28=""),"",ROUND(MOD(D28-C28,1)*24-IF(TraekPause="Ja",N(E28)/60,0),2)) -> 11.25 | J28: =INT((A28-Periodestart)/7)+1 -> 4
A29: =Periodestart+23 -> 46260 | B29: =CHOOSE(WEEKDAY(A29,2),"mandag","tirsdag","onsdag","torsdag","fredag","lørdag","søndag") -> onsdag | C29: 0.29166667 | D29: 0.75 | E29: 30 | F29: =IF(OR(C29="",D29=""),"",ROUND(MOD(D29-C29,1)*24-IF(TraekPause="Ja",N(E29)/60,0),2)) -> 11 | I29: Leverance til kunde (hypotetisk) | J29: =INT((A29-Periodestart)/7)+1 -> 4
A30: =Periodestart+24 -> 46261 | B30: =CHOOSE(WEEKDAY(A30,2),"mandag","tirsdag","onsdag","torsdag","fredag","lørdag","søndag") -> torsdag | C30: 0.29166667 | D30: 0.73958333 | E30: 30 | F30: =IF(OR(C30="",D30=""),"",ROUND(MOD(D30-C30,1)*24-IF(TraekPause="Ja",N(E30)/60,0),2)) -> 10.75 | J30: =INT((A30-Periodestart)/7)+1 -> 4
A31: =Periodestart+25 -> 46262 | B31: =CHOOSE(WEEKDAY(A31,2),"mandag","tirsdag","onsdag","torsdag","fredag","lørdag","søndag") -> fredag | C31: 0.29166667 | D31: 0.72916667 | E31: 30 | F31: =IF(OR(C31="",D31=""),"",ROUND(MOD(D31-C31,1)*24-IF(TraekPause="Ja",N(E31)/60,0),2)) -> 10.5 | J31: =INT((A31-Periodestart)/7)+1 -> 4
A32: =Periodestart+26 -> 46263 | B32: =CHOOSE(WEEKDAY(A32,2),"mandag","tirsdag","onsdag","torsdag","fredag","lørdag","søndag") -> lørdag | F32: =IF(OR(C32="",D32=""),"",ROUND(MOD(D32-C32,1)*24-IF(TraekPause="Ja",N(E32)/60,0),2)) | J32: =INT((A32-Periodestart)/7)+1 -> 4
A33: =Periodestart+27 -> 46264 | B33: =CHOOSE(WEEKDAY(A33,2),"mandag","tirsdag","onsdag","torsdag","fredag","lørdag","søndag") -> søndag | F33: =IF(OR(C33="",D33=""),"",ROUND(MOD(D33-C33,1)*24-IF(TraekPause="Ja",N(E33)/60,0),2)) | J33: =INT((A33-Periodestart)/7)+1 -> 4
A34: =Periodestart+28 -> 46265 | B34: =CHOOSE(WEEKDAY(A34,2),"mandag","tirsdag","onsdag","torsdag","fredag","lørdag","søndag") -> mandag | C34: 0.29166667 | D34: 0.72916667 | E34: 30 | F34: =IF(OR(C34="",D34=""),"",ROUND(MOD(D34-C34,1)*24-IF(TraekPause="Ja",N(E34)/60,0),2)) -> 10.5 | J34: =INT((A34-Periodestart)/7)+1 -> 5
A35: =Periodestart+29 -> 46266 | B35: =CHOOSE(WEEKDAY(A35,2),"mandag","tirsdag","onsdag","torsdag","fredag","lørdag","søndag") -> tirsdag | C35: 0.29166667 | D35: 0.71875 | E35: 30 | F35: =IF(OR(C35="",D35=""),"",ROUND(MOD(D35-C35,1)*24-IF(TraekPause="Ja",N(E35)/60,0),2)) -> 10.25 | J35: =INT((A35-Periodestart)/7)+1 -> 5
A36: =Periodestart+30 -> 46267 | B36: =CHOOSE(WEEKDAY(A36,2),"mandag","tirsdag","onsdag","torsdag","fredag","lørdag","søndag") -> onsdag | C36: 0.33333333 | D36: 0.75 | E36: 30 | F36: =IF(OR(C36="",D36=""),"",ROUND(MOD(D36-C36,1)*24-IF(TraekPause="Ja",N(E36)/60,0),2)) -> 10 | J36: =INT((A36-Periodestart)/7)+1 -> 5
A37: =Periodestart+31 -> 46268 | B37: =CHOOSE(WEEKDAY(A37,2),"mandag","tirsdag","onsdag","torsdag","fredag","lørdag","søndag") -> torsdag | C37: 0.33333333 | D37: 0.73958333 | E37: 30 | F37: =IF(OR(C37="",D37=""),"",ROUND(MOD(D37-C37,1)*24-IF(TraekPause="Ja",N(E37)/60,0),2)) -> 9.75 | J37: =INT((A37-Periodestart)/7)+1 -> 5
A38: =Periodestart+32 -> 46269 | B38: =CHOOSE(WEEKDAY(A38,2),"mandag","tirsdag","onsdag","torsdag","fredag","lørdag","søndag") -> fredag | C38: 0.33333333 | D38: 0.72916667 | E38: 30 | F38: =IF(OR(C38="",D38=""),"",ROUND(MOD(D38-C38,1)*24-IF(TraekPause="Ja",N(E38)/60,0),2)) -> 9.5 | J38: =INT((A38-Periodestart)/7)+1 -> 5
A39: =Periodestart+33 -> 46270 | B39: =CHOOSE(WEEKDAY(A39,2),"mandag","tirsdag","onsdag","torsdag","fredag","lørdag","søndag") -> lørdag | F39: =IF(OR(C39="",D39=""),"",ROUND(MOD(D39-C39,1)*24-IF(TraekPause="Ja",N(E39)/60,0),2)) | J39: =INT((A39-Periodestart)/7)+1 -> 5
A40: =Periodestart+34 -> 46271 | B40: =CHOOSE(WEEKDAY(A40,2),"mandag","tirsdag","onsdag","torsdag","fredag","lørdag","søndag") -> søndag | F40: =IF(OR(C40="",D40=""),"",ROUND(MOD(D40-C40,1)*24-IF(TraekPause="Ja",N(E40)/60,0),2)) | J40: =INT((A40-Periodestart)/7)+1 -> 5
A41: =Periodestart+35 -> 46272 | B41: =CHOOSE(WEEKDAY(A41,2),"mandag","tirsdag","onsdag","torsdag","fredag","lørdag","søndag") -> mandag | C41: 0.33333333 | D41: 0.6625 | E41: 30 | F41: =IF(OR(C41="",D41=""),"",ROUND(MOD(D41-C41,1)*24-IF(TraekPause="Ja",N(E41)/60,0),2)) -> 7.9 | J41: =INT((A41-Periodestart)/7)+1 -> 6
A42: =Periodestart+36 -> 46273 | B42: =CHOOSE(WEEKDAY(A42,2),"mandag","tirsdag","onsdag","torsdag","fredag","lørdag","søndag") -> tirsdag | C42: 0.33333333 | D42: 0.65208333 | E42: 30 | F42: =IF(OR(C42="",D42=""),"",ROUND(MOD(D42-C42,1)*24-IF(TraekPause="Ja",N(E42)/60,0),2)) -> 7.65 | J42: =INT((A42-Periodestart)/7)+1 -> 6
A43: =Periodestart+37 -> 46274 | B43: =CHOOSE(WEEKDAY(A43,2),"mandag","tirsdag","onsdag","torsdag","fredag","lørdag","søndag") -> onsdag | C43: 0.33333333 | D43: 0.64166667 | E43: 30 | F43: =IF(OR(C43="",D43=""),"",ROUND(MOD(D43-C43,1)*24-IF(TraekPause="Ja",N(E43)/60,0),2)) -> 7.4 | J43: =INT((A43-Periodestart)/7)+1 -> 6
A44: =Periodestart+38 -> 46275 | B44: =CHOOSE(WEEKDAY(A44,2),"mandag","tirsdag","onsdag","torsdag","fredag","lørdag","søndag") -> torsdag | C44: 0.33333333 | D44: 0.63125 | E44: 30 | F44: =IF(OR(C44="",D44=""),"",ROUND(MOD(D44-C44,1)*24-IF(TraekPause="Ja",N(E44)/60,0),2)) -> 7.15 | J44: =INT((A44-Periodestart)/7)+1 -> 6
A45: =Periodestart+39 -> 46276 | B45: =CHOOSE(WEEKDAY(A45,2),"mandag","tirsdag","onsdag","torsdag","fredag","lørdag","søndag") -> fredag | C45: 0.33333333 | D45: 0.62083333 | E45: 30 | F45: =IF(OR(C45="",D45=""),"",ROUND(MOD(D45-C45,1)*24-IF(TraekPause="Ja",N(E45)/60,0),2)) -> 6.9 | J45: =INT((A45-Periodestart)/7)+1 -> 6
A46: =Periodestart+40 -> 46277 | B46: =CHOOSE(WEEKDAY(A46,2),"mandag","tirsdag","onsdag","torsdag","fredag","lørdag","søndag") -> lørdag | F46: =IF(OR(C46="",D46=""),"",ROUND(MOD(D46-C46,1)*24-IF(TraekPause="Ja",N(E46)/60,0),2)) | J46: =INT((A46-Periodestart)/7)+1 -> 6
A47: =Periodestart+41 -> 46278 | B47: =CHOOSE(WEEKDAY(A47,2),"mandag","tirsdag","onsdag","torsdag","fredag","lørdag","søndag") -> søndag | F47: =IF(OR(C47="",D47=""),"",ROUND(MOD(D47-C47,1)*24-IF(TraekPause="Ja",N(E47)/60,0),2)) | J47: =INT((A47-Periodestart)/7)+1 -> 6
A48: =Periodestart+42 -> 46279 | B48: =CHOOSE(WEEKDAY(A48,2),"mandag","tirsdag","onsdag","torsdag","fredag","lørdag","søndag") -> mandag | F48: =IF(OR(C48="",D48=""),"",ROUND(MOD(D48-C48,1)*24-IF(TraekPause="Ja",N(E48)/60,0),2)) | G48: Ferie | H48: 7.4 | J48: =INT((A48-Periodestart)/7)+1 -> 7
A49: =Periodestart+43 -> 46280 | B49: =CHOOSE(WEEKDAY(A49,2),"mandag","tirsdag","onsdag","torsdag","fredag","lørdag","søndag") -> tirsdag | F49: =IF(OR(C49="",D49=""),"",ROUND(MOD(D49-C49,1)*24-IF(TraekPause="Ja",N(E49)/60,0),2)) | G49: Ferie | H49: 7.4 | J49: =INT((A49-Periodestart)/7)+1 -> 7
A50: =Periodestart+44 -> 46281 | B50: =CHOOSE(WEEKDAY(A50,2),"mandag","tirsdag","onsdag","torsdag","fredag","lørdag","søndag") -> onsdag | F50: =IF(OR(C50="",D50=""),"",ROUND(MOD(D50-C50,1)*24-IF(TraekPause="Ja",N(E50)/60,0),2)) | G50: Ferie | H50: 7.4 | J50: =INT((A50-Periodestart)/7)+1 -> 7
A51: =Periodestart+45 -> 46282 | B51: =CHOOSE(WEEKDAY(A51,2),"mandag","tirsdag","onsdag","torsdag","fredag","lørdag","søndag") -> torsdag | F51: =IF(OR(C51="",D51=""),"",ROUND(MOD(D51-C51,1)*24-IF(TraekPause="Ja",N(E51)/60,0),2)) | G51: Ferie | H51: 7.4 | J51: =INT((A51-Periodestart)/7)+1 -> 7
A52: =Periodestart+46 -> 46283 | B52: =CHOOSE(WEEKDAY(A52,2),"mandag","tirsdag","onsdag","torsdag","fredag","lørdag","søndag") -> fredag | F52: =IF(OR(C52="",D52=""),"",ROUND(MOD(D52-C52,1)*24-IF(TraekPause="Ja",N(E52)/60,0),2)) | G52: Ferie | H52: 7.4 | J52: =INT((A52-Periodestart)/7)+1 -> 7
A53: =Periodestart+47 -> 46284 | B53: =CHOOSE(WEEKDAY(A53,2),"mandag","tirsdag","onsdag","torsdag","fredag","lørdag","søndag") -> lørdag | F53: =IF(OR(C53="",D53=""),"",ROUND(MOD(D53-C53,1)*24-IF(TraekPause="Ja",N(E53)/60,0),2)) | J53: =INT((A53-Periodestart)/7)+1 -> 7
A54: =Periodestart+48 -> 46285 | B54: =CHOOSE(WEEKDAY(A54,2),"mandag","tirsdag","onsdag","torsdag","fredag","lørdag","søndag") -> søndag | F54: =IF(OR(C54="",D54=""),"",ROUND(MOD(D54-C54,1)*24-IF(TraekPause="Ja",N(E54)/60,0),2)) | J54: =INT((A54-Periodestart)/7)+1 -> 7
A55: =Periodestart+49 -> 46286 | B55: =CHOOSE(WEEKDAY(A55,2),"mandag","tirsdag","onsdag","torsdag","fredag","lørdag","søndag") -> mandag | C55: 0.33333333 | D55: 0.64583333 | E55: 30 | F55: =IF(OR(C55="",D55=""),"",ROUND(MOD(D55-C55,1)*24-IF(TraekPause="Ja",N(E55)/60,0),2)) -> 7.5 | J55: =INT((A55-Periodestart)/7)+1 -> 8
A56: =Periodestart+50 -> 46287 | B56: =CHOOSE(WEEKDAY(A56,2),"mandag","tirsdag","onsdag","torsdag","fredag","lørdag","søndag") -> tirsdag | C56: 0.33333333 | D56: 0.63541667 | E56: 30 | F56: =IF(OR(C56="",D56=""),"",ROUND(MOD(D56-C56,1)*24-IF(TraekPause="Ja",N(E56)/60,0),2)) -> 7.25 | J56: =INT((A56-Periodestart)/7)+1 -> 8
A57: =Periodestart+51 -> 46288 | B57: =CHOOSE(WEEKDAY(A57,2),"mandag","tirsdag","onsdag","torsdag","fredag","lørdag","søndag") -> onsdag | C57: 0.33333333 | D57: 0.625 | E57: 30 | F57: =IF(OR(C57="",D57=""),"",ROUND(MOD(D57-C57,1)*24-IF(TraekPause="Ja",N(E57)/60,0),2)) -> 7 | J57: =INT((A57-Periodestart)/7)+1 -> 8
A58: =Periodestart+52 -> 46289 | B58: =CHOOSE(WEEKDAY(A58,2),"mandag","tirsdag","onsdag","torsdag","fredag","lørdag","søndag") -> torsdag | C58: 0.33333333 | D58: 0.61458333 | E58: 30 | F58: =IF(OR(C58="",D58=""),"",ROUND(MOD(D58-C58,1)*24-IF(TraekPause="Ja",N(E58)/60,0),2)) -> 6.75 | J58: =INT((A58-Periodestart)/7)+1 -> 8
A59: =Periodestart+53 -> 46290 | B59: =CHOOSE(WEEKDAY(A59,2),"mandag","tirsdag","onsdag","torsdag","fredag","lørdag","søndag") -> fredag | C59: 0.33333333 | D59: 0.60416667 | E59: 30 | F59: =IF(OR(C59="",D59=""),"",ROUND(MOD(D59-C59,1)*24-IF(TraekPause="Ja",N(E59)/60,0),2)) -> 6.5 | J59: =INT((A59-Periodestart)/7)+1 -> 8
A60: =Periodestart+54 -> 46291 | B60: =CHOOSE(WEEKDAY(A60,2),"mandag","tirsdag","onsdag","torsdag","fredag","lørdag","søndag") -> lørdag | F60: =IF(OR(C60="",D60=""),"",ROUND(MOD(D60-C60,1)*24-IF(TraekPause="Ja",N(E60)/60,0),2)) | J60: =INT((A60-Periodestart)/7)+1 -> 8
A61: =Periodestart+55 -> 46292 | B61: =CHOOSE(WEEKDAY(A61,2),"mandag","tirsdag","onsdag","torsdag","fredag","lørdag","søndag") -> søndag | F61: =IF(OR(C61="",D61=""),"",ROUND(MOD(D61-C61,1)*24-IF(TraekPause="Ja",N(E61)/60,0),2)) | J61: =INT((A61-Periodestart)/7)+1 -> 8
A62: =Periodestart+56 -> 46293 | B62: =CHOOSE(WEEKDAY(A62,2),"mandag","tirsdag","onsdag","torsdag","fredag","lørdag","søndag") -> mandag | C62: 0.33333333 | D62: 0.72916667 | E62: 30 | F62: =IF(OR(C62="",D62=""),"",ROUND(MOD(D62-C62,1)*24-IF(TraekPause="Ja",N(E62)/60,0),2)) -> 9.5 | J62: =INT((A62-Periodestart)/7)+1 -> 9
A63: =Periodestart+57 -> 46294 | B63: =CHOOSE(WEEKDAY(A63,2),"mandag","tirsdag","onsdag","torsdag","fredag","lørdag","søndag") -> tirsdag | C63: 0.33333333 | D63: 0.71875 | E63: 30 | F63: =IF(OR(C63="",D63=""),"",ROUND(MOD(D63-C63,1)*24-IF(TraekPause="Ja",N(E63)/60,0),2)) -> 9.25 | J63: =INT((A63-Periodestart)/7)+1 -> 9
A64: =Periodestart+58 -> 46295 | B64: =CHOOSE(WEEKDAY(A64,2),"mandag","tirsdag","onsdag","torsdag","fredag","lørdag","søndag") -> onsdag | C64: 0.33333333 | D64: 0.70833333 | E64: 30 | F64: =IF(OR(C64="",D64=""),"",ROUND(MOD(D64-C64,1)*24-IF(TraekPause="Ja",N(E64)/60,0),2)) -> 9 | J64: =INT((A64-Periodestart)/7)+1 -> 9
A65: =Periodestart+59 -> 46296 | B65: =CHOOSE(WEEKDAY(A65,2),"mandag","tirsdag","onsdag","torsdag","fredag","lørdag","søndag") -> torsdag | C65: 0.33333333 | D65: 0.69791667 | E65: 30 | F65: =IF(OR(C65="",D65=""),"",ROUND(MOD(D65-C65,1)*24-IF(TraekPause="Ja",N(E65)/60,0),2)) -> 8.75 | J65: =INT((A65-Periodestart)/7)+1 -> 9
A66: =Periodestart+60 -> 46297 | B66: =CHOOSE(WEEKDAY(A66,2),"mandag","tirsdag","onsdag","torsdag","fredag","lørdag","søndag") -> fredag | C66: 0.33333333 | D66: 0.6875 | E66: 30 | F66: =IF(OR(C66="",D66=""),"",ROUND(MOD(D66-C66,1)*24-IF(TraekPause="Ja",N(E66)/60,0),2)) -> 8.5 | J66: =INT((A66-Periodestart)/7)+1 -> 9
A67: =Periodestart+61 -> 46298 | B67: =CHOOSE(WEEKDAY(A67,2),"mandag","tirsdag","onsdag","torsdag","fredag","lørdag","søndag") -> lørdag | F67: =IF(OR(C67="",D67=""),"",ROUND(MOD(D67-C67,1)*24-IF(TraekPause="Ja",N(E67)/60,0),2)) | J67: =INT((A67-Periodestart)/7)+1 -> 9
A68: =Periodestart+62 -> 46299 | B68: =CHOOSE(WEEKDAY(A68,2),"mandag","tirsdag","onsdag","torsdag","fredag","lørdag","søndag") -> søndag | F68: =IF(OR(C68="",D68=""),"",ROUND(MOD(D68-C68,1)*24-IF(TraekPause="Ja",N(E68)/60,0),2)) | J68: =INT((A68-Periodestart)/7)+1 -> 9
A69: =Periodestart+63 -> 46300 | B69: =CHOOSE(WEEKDAY(A69,2),"mandag","tirsdag","onsdag","torsdag","fredag","lørdag","søndag") -> mandag | C69: 0.29166667 | D69: 0.7125 | E69: 30 | F69: =IF(OR(C69="",D69=""),"",ROUND(MOD(D69-C69,1)*24-IF(TraekPause="Ja",N(E69)/60,0),2)) -> 10.1 | J69: =INT((A69-Periodestart)/7)+1 -> 10
A70: =Periodestart+64 -> 46301 | B70: =CHOOSE(WEEKDAY(A70,2),"mandag","tirsdag","onsdag","torsdag","fredag","lørdag","søndag") -> tirsdag | C70: 0.33333333 | D70: 0.74375 | E70: 30 | F70: =IF(OR(C70="",D70=""),"",ROUND(MOD(D70-C70,1)*24-IF(TraekPause="Ja",N(E70)/60,0),2)) -> 9.85 | J70: =INT((A70-Periodestart)/7)+1 -> 10
A71: =Periodestart+65 -> 46302 | B71: =CHOOSE(WEEKDAY(A71,2),"mandag","tirsdag","onsdag","torsdag","fredag","lørdag","søndag") -> onsdag | C71: 0.33333333 | D71: 0.73333333 | E71: 30 | F71: =IF(OR(C71="",D71=""),"",ROUND(MOD(D71-C71,1)*24-IF(TraekPause="Ja",N(E71)/60,0),2)) -> 9.6 | J71: =INT((A71-Periodestart)/7)+1 -> 10
A72: =Periodestart+66 -> 46303 | B72: =CHOOSE(WEEKDAY(A72,2),"mandag","tirsdag","onsdag","torsdag","fredag","lørdag","søndag") -> torsdag | C72: 0.33333333 | D72: 0.72291667 | E72: 30 | F72: =IF(OR(C72="",D72=""),"",ROUND(MOD(D72-C72,1)*24-IF(TraekPause="Ja",N(E72)/60,0),2)) -> 9.35 | J72: =INT((A72-Periodestart)/7)+1 -> 10
A73: =Periodestart+67 -> 46304 | B73: =CHOOSE(WEEKDAY(A73,2),"mandag","tirsdag","onsdag","torsdag","fredag","lørdag","søndag") -> fredag | C73: 0.33333333 | D73: 0.7125 | E73: 30 | F73: =IF(OR(C73="",D73=""),"",ROUND(MOD(D73-C73,1)*24-IF(TraekPause="Ja",N(E73)/60,0),2)) -> 9.1 | J73: =INT((A73-Periodestart)/7)+1 -> 10
A74: =Periodestart+68 -> 46305 | B74: =CHOOSE(WEEKDAY(A74,2),"mandag","tirsdag","onsdag","torsdag","fredag","lørdag","søndag") -> lørdag | F74: =IF(OR(C74="",D74=""),"",ROUND(MOD(D74-C74,1)*24-IF(TraekPause="Ja",N(E74)/60,0),2)) | J74: =INT((A74-Periodestart)/7)+1 -> 10
A75: =Periodestart+69 -> 46306 | B75: =CHOOSE(WEEKDAY(A75,2),"mandag","tirsdag","onsdag","torsdag","fredag","lørdag","søndag") -> søndag | F75: =IF(OR(C75="",D75=""),"",ROUND(MOD(D75-C75,1)*24-IF(TraekPause="Ja",N(E75)/60,0),2)) | J75: =INT((A75-Periodestart)/7)+1 -> 10
A76: =Periodestart+70 -> 46307 | B76: =CHOOSE(WEEKDAY(A76,2),"mandag","tirsdag","onsdag","torsdag","fredag","lørdag","søndag") -> mandag | C76: 0.29166667 | D76: 0.7625 | E76: 30 | F76: =IF(OR(C76="",D76=""),"",ROUND(MOD(D76-C76,1)*24-IF(TraekPause="Ja",N(E76)/60,0),2)) -> 11.3 | J76: =INT((A76-Periodestart)/7)+1 -> 11
A77: =Periodestart+71 -> 46308 | B77: =CHOOSE(WEEKDAY(A77,2),"mandag","tirsdag","onsdag","torsdag","fredag","lørdag","søndag") -> tirsdag | C77: 0.29166667 | D77: 0.75208333 | E77: 30 | F77: =IF(OR(C77="",D77=""),"",ROUND(MOD(D77-C77,1)*24-IF(TraekPause="Ja",N(E77)/60,0),2)) -> 11.05 | I77: Sæsontop (hypotetisk) | J77: =INT((A77-Periodestart)/7)+1 -> 11
A78: =Periodestart+72 -> 46309 | B78: =CHOOSE(WEEKDAY(A78,2),"mandag","tirsdag","onsdag","torsdag","fredag","lørdag","søndag") -> onsdag | C78: 0.29166667 | D78: 0.74166667 | E78: 30 | F78: =IF(OR(C78="",D78=""),"",ROUND(MOD(D78-C78,1)*24-IF(TraekPause="Ja",N(E78)/60,0),2)) -> 10.8 | J78: =INT((A78-Periodestart)/7)+1 -> 11
A79: =Periodestart+73 -> 46310 | B79: =CHOOSE(WEEKDAY(A79,2),"mandag","tirsdag","onsdag","torsdag","fredag","lørdag","søndag") -> torsdag | C79: 0.29166667 | D79: 0.73125 | E79: 30 | F79: =IF(OR(C79="",D79=""),"",ROUND(MOD(D79-C79,1)*24-IF(TraekPause="Ja",N(E79)/60,0),2)) -> 10.55 | J79: =INT((A79-Periodestart)/7)+1 -> 11
A80: =Periodestart+74 -> 46311 | B80: =CHOOSE(WEEKDAY(A80,2),"mandag","tirsdag","onsdag","torsdag","fredag","lørdag","søndag") -> fredag | C80: 0.29166667 | D80: 0.72083333 | E80: 30 | F80: =IF(OR(C80="",D80=""),"",ROUND(MOD(D80-C80,1)*24-IF(TraekPause="Ja",N(E80)/60,0),2)) -> 10.3 | J80: =INT((A80-Periodestart)/7)+1 -> 11
A81: =Periodestart+75 -> 46312 | B81: =CHOOSE(WEEKDAY(A81,2),"mandag","tirsdag","onsdag","torsdag","fredag","lørdag","søndag") -> lørdag | F81: =IF(OR(C81="",D81=""),"",ROUND(MOD(D81-C81,1)*24-IF(TraekPause="Ja",N(E81)/60,0),2)) | J81: =INT((A81-Periodestart)/7)+1 -> 11
A82: =Periodestart+76 -> 46313 | B82: =CHOOSE(WEEKDAY(A82,2),"mandag","tirsdag","onsdag","torsdag","fredag","lørdag","søndag") -> søndag | F82: =IF(OR(C82="",D82=""),"",ROUND(MOD(D82-C82,1)*24-IF(TraekPause="Ja",N(E82)/60,0),2)) | J82: =INT((A82-Periodestart)/7)+1 -> 11
A83: =Periodestart+77 -> 46314 | B83: =CHOOSE(WEEKDAY(A83,2),"mandag","tirsdag","onsdag","torsdag","fredag","lørdag","søndag") -> mandag | F83: =IF(OR(C83="",D83=""),"",ROUND(MOD(D83-C83,1)*24-IF(TraekPause="Ja",N(E83)/60,0),2)) | G83: Sygdom | H83: 7.4 | J83: =INT((A83-Periodestart)/7)+1 -> 12
A84: =Periodestart+78 -> 46315 | B84: =CHOOSE(WEEKDAY(A84,2),"mandag","tirsdag","onsdag","torsdag","fredag","lørdag","søndag") -> tirsdag | F84: =IF(OR(C84="",D84=""),"",ROUND(MOD(D84-C84,1)*24-IF(TraekPause="Ja",N(E84)/60,0),2)) | G84: Sygdom | H84: 7.4 | J84: =INT((A84-Periodestart)/7)+1 -> 12
A85: =Periodestart+79 -> 46316 | B85: =CHOOSE(WEEKDAY(A85,2),"mandag","tirsdag","onsdag","torsdag","fredag","lørdag","søndag") -> onsdag | F85: =IF(OR(C85="",D85=""),"",ROUND(MOD(D85-C85,1)*24-IF(TraekPause="Ja",N(E85)/60,0),2)) | G85: Sygdom | H85: 7.4 | J85: =INT((A85-Periodestart)/7)+1 -> 12
A86: =Periodestart+80 -> 46317 | B86: =CHOOSE(WEEKDAY(A86,2),"mandag","tirsdag","onsdag","torsdag","fredag","lørdag","søndag") -> torsdag | F86: =IF(OR(C86="",D86=""),"",ROUND(MOD(D86-C86,1)*24-IF(TraekPause="Ja",N(E86)/60,0),2)) | G86: Sygdom | H86: 7.4 | J86: =INT((A86-Periodestart)/7)+1 -> 12
A87: =Periodestart+81 -> 46318 | B87: =CHOOSE(WEEKDAY(A87,2),"mandag","tirsdag","onsdag","torsdag","fredag","lørdag","søndag") -> fredag | F87: =IF(OR(C87="",D87=""),"",ROUND(MOD(D87-C87,1)*24-IF(TraekPause="Ja",N(E87)/60,0),2)) | G87: Sygdom | H87: 7.4 | J87: =INT((A87-Periodestart)/7)+1 -> 12
A88: =Periodestart+82 -> 46319 | B88: =CHOOSE(WEEKDAY(A88,2),"mandag","tirsdag","onsdag","torsdag","fredag","lørdag","søndag") -> lørdag | F88: =IF(OR(C88="",D88=""),"",ROUND(MOD(D88-C88,1)*24-IF(TraekPause="Ja",N(E88)/60,0),2)) | J88: =INT((A88-Periodestart)/7)+1 -> 12
A89: =Periodestart+83 -> 46320 | B89: =CHOOSE(WEEKDAY(A89,2),"mandag","tirsdag","onsdag","torsdag","fredag","lørdag","søndag") -> søndag | F89: =IF(OR(C89="",D89=""),"",ROUND(MOD(D89-C89,1)*24-IF(TraekPause="Ja",N(E89)/60,0),2)) | J89: =INT((A89-Periodestart)/7)+1 -> 12
A90: =Periodestart+84 -> 46321 | B90: =CHOOSE(WEEKDAY(A90,2),"mandag","tirsdag","onsdag","torsdag","fredag","lørdag","søndag") -> mandag | C90: 0.33333333 | D90: 0.66666667 | E90: 30 | F90: =IF(OR(C90="",D90=""),"",ROUND(MOD(D90-C90,1)*24-IF(TraekPause="Ja",N(E90)/60,0),2)) -> 8 | J90: =INT((A90-Periodestart)/7)+1 -> 13
A91: =Periodestart+85 -> 46322 | B91: =CHOOSE(WEEKDAY(A91,2),"mandag","tirsdag","onsdag","torsdag","fredag","lørdag","søndag") -> tirsdag | C91: 0.33333333 | D91: 0.66666667 | E91: 30 | F91: =IF(OR(C91="",D91=""),"",ROUND(MOD(D91-C91,1)*24-IF(TraekPause="Ja",N(E91)/60,0),2)) -> 8 | J91: =INT((A91-Periodestart)/7)+1 -> 13
A92: =Periodestart+86 -> 46323 | B92: =CHOOSE(WEEKDAY(A92,2),"mandag","tirsdag","onsdag","torsdag","fredag","lørdag","søndag") -> onsdag | C92: 0.33333333 | D92: 0.66666667 | E92: 30 | F92: =IF(OR(C92="",D92=""),"",ROUND(MOD(D92-C92,1)*24-IF(TraekPause="Ja",N(E92)/60,0),2)) -> 8 | J92: =INT((A92-Periodestart)/7)+1 -> 13
A93: =Periodestart+87 -> 46324 | B93: =CHOOSE(WEEKDAY(A93,2),"mandag","tirsdag","onsdag","torsdag","fredag","lørdag","søndag") -> torsdag | C93: 0.33333333 | D93: 0.66666667 | E93: 30 | F93: =IF(OR(C93="",D93=""),"",ROUND(MOD(D93-C93,1)*24-IF(TraekPause="Ja",N(E93)/60,0),2)) -> 8 | J93: =INT((A93-Periodestart)/7)+1 -> 13
A94: =Periodestart+88 -> 46325 | B94: =CHOOSE(WEEKDAY(A94,2),"mandag","tirsdag","onsdag","torsdag","fredag","lørdag","søndag") -> fredag | F94: =IF(OR(C94="",D94=""),"",ROUND(MOD(D94-C94,1)*24-IF(TraekPause="Ja",N(E94)/60,0),2)) | G94: Fri | I94: Afspadsering (hypotetisk) | J94: =INT((A94-Periodestart)/7)+1 -> 13
A95: =Periodestart+89 -> 46326 | B95: =CHOOSE(WEEKDAY(A95,2),"mandag","tirsdag","onsdag","torsdag","fredag","lørdag","søndag") -> lørdag | F95: =IF(OR(C95="",D95=""),"",ROUND(MOD(D95-C95,1)*24-IF(TraekPause="Ja",N(E95)/60,0),2)) | J95: =INT((A95-Periodestart)/7)+1 -> 13
A96: =Periodestart+90 -> 46327 | B96: =CHOOSE(WEEKDAY(A96,2),"mandag","tirsdag","onsdag","torsdag","fredag","lørdag","søndag") -> søndag | F96: =IF(OR(C96="",D96=""),"",ROUND(MOD(D96-C96,1)*24-IF(TraekPause="Ja",N(E96)/60,0),2)) | J96: =INT((A96-Periodestart)/7)+1 -> 13
A97: =Periodestart+91 -> 46328 | B97: =CHOOSE(WEEKDAY(A97,2),"mandag","tirsdag","onsdag","torsdag","fredag","lørdag","søndag") -> mandag | C97: 0.33333333 | D97: 0.6875 | E97: 30 | F97: =IF(OR(C97="",D97=""),"",ROUND(MOD(D97-C97,1)*24-IF(TraekPause="Ja",N(E97)/60,0),2)) -> 8.5 | J97: =INT((A97-Periodestart)/7)+1 -> 14
A98: =Periodestart+92 -> 46329 | B98: =CHOOSE(WEEKDAY(A98,2),"mandag","tirsdag","onsdag","torsdag","fredag","lørdag","søndag") -> tirsdag | C98: 0.33333333 | D98: 0.67708333 | E98: 30 | F98: =IF(OR(C98="",D98=""),"",ROUND(MOD(D98-C98,1)*24-IF(TraekPause="Ja",N(E98)/60,0),2)) -> 8.25 | J98: =INT((A98-Periodestart)/7)+1 -> 14
A99: =Periodestart+93 -> 46330 | B99: =CHOOSE(WEEKDAY(A99,2),"mandag","tirsdag","onsdag","torsdag","fredag","lørdag","søndag") -> onsdag | C99: 0.33333333 | D99: 0.66666667 | E99: 30 | F99: =IF(OR(C99="",D99=""),"",ROUND(MOD(D99-C99,1)*24-IF(TraekPause="Ja",N(E99)/60,0),2)) -> 8 | J99: =INT((A99-Periodestart)/7)+1 -> 14
A100: =Periodestart+94 -> 46331 | B100: =CHOOSE(WEEKDAY(A100,2),"mandag","tirsdag","onsdag","torsdag","fredag","lørdag","søndag") -> torsdag | C100: 0.33333333 | D100: 0.65625 | E100: 30 | F100: =IF(OR(C100="",D100=""),"",ROUND(MOD(D100-C100,1)*24-IF(TraekPause="Ja",N(E100)/60,0),2)) -> 7.75 | J100: =INT((A100-Periodestart)/7)+1 -> 14
A101: =Periodestart+95 -> 46332 | B101: =CHOOSE(WEEKDAY(A101,2),"mandag","tirsdag","onsdag","torsdag","fredag","lørdag","søndag") -> fredag | C101: 0.33333333 | D101: 0.64583333 | E101: 30 | F101: =IF(OR(C101="",D101=""),"",ROUND(MOD(D101-C101,1)*24-IF(TraekPause="Ja",N(E101)/60,0),2)) -> 7.5 | J101: =INT((A101-Periodestart)/7)+1 -> 14
...

Sheet 48-timers kontrol
A1: 48-timers kontrol: gennemsnitlig ugentlig arbejdstid over 4 måneder (§ 4)
A3: Referenceperioden starter (mandag): | B3: 46237 | D3: Hypotetisk eksempel — orova.vn
A4: Referenceperiode: | B4: 4 måneder (ca. 17 uger) | D4: Akkumuleret gennemsnit = summen af talte timer ÷ antal uger, der er gået i perioden.
A5: Seneste registrerede dag: | B5: =MAX(_xlfn.MAXIFS('Daglig registrering'!$A$6:$A$124,'Daglig registrering'!$F$6:$F$124,">0"),_xlfn.MAXIFS('Daglig registrering'!$A$6:$A$124,'Daglig registrering'!$G$6:$G$124,"Ferie"),_xlfn.MAXIFS('Daglig registrering'!$A$6:$A$124,'Daglig registrering'!$G$6:$G$124,"Sygdom"),_xlfn.MAXIFS('Daglig registrering'!$A$6:$A$124,'Daglig registrering'!$G$6:$G$124,"Fri")) -> 46353 | D5: Ferie og sygdom tælles med normtid, så de hverken sænker eller hæver gennemsnittet.
A6: Uge | B6: Faktiske arbejdstimer | C6: Normtid for ferie/sygdom | D6: Talt timeantal | E6: Akkumuleret gennemsnit pr. uge | F6: Under 48 timer i snit? | G6: Ugen starter (mandag)
A7: 1 | B7: =IF(OR($B$5=0,G7>$B$5),"",ROUND(SUMIFS('Daglig registrering'!$F$6:$F$124,'Daglig registrering'!$J$6:$J$124,A7),2)) -> 37 | C7: =IF(B7="","",ROUND(SUMIFS('Daglig registrering'!$H$6:$H$124,'Daglig registrering'!$J$6:$J$124,A7,'Daglig registrering'!$G$6:$G$124,"Ferie")+SUMIFS('Daglig registrering'!$H$6:$H$124,'Daglig registrering'!$J$6:$J$124,A7,'Daglig registrering'!$G$6:$G$124,"Sygdom"),2)) -> 0 | D7: =IF(B7="","",B7+C7) -> 37 | E7: =IF(D7="","",SUM($D$7:D7)/A7) -> 37 | F7: =IF(E7="","",IF(E7<=48,"Ja","Nej")) -> Ja | G7: =Periodestart+0 -> 46237
A8: 2 | B8: =IF(OR($B$5=0,G8>$B$5),"",ROUND(SUMIFS('Daglig registrering'!$F$6:$F$124,'Daglig registrering'!$J$6:$J$124,A8),2)) -> 42 | C8: =IF(B8="","",ROUND(SUMIFS('Daglig registrering'!$H$6:$H$124,'Daglig registrering'!$J$6:$J$124,A8,'Daglig registrering'!$G$6:$G$124,"Ferie")+SUMIFS('Daglig registrering'!$H$6:$H$124,'Daglig registrering'!$J$6:$J$124,A8,'Daglig registrering'!$G$6:$G$124,"Sygdom"),2)) -> 0 | D8: =IF(B8="","",B8+C8) -> 42 | E8: =IF(D8="","",SUM($D$7:D8)/A8) -> 39.5 | F8: =IF(E8="","",IF(E8<=48,"Ja","Nej")) -> Ja | G8: =Periodestart+7 -> 46244
A9: 3 | B9: =IF(OR($B$5=0,G9>$B$5),"",ROUND(SUMIFS('Daglig registrering'!$F$6:$F$124,'Daglig registrering'!$J$6:$J$124,A9),2)) -> 52 | C9: =IF(B9="","",ROUND(SUMIFS('Daglig registrering'!$H$6:$H$124,'Daglig registrering'!$J$6:$J$124,A9,'Daglig registrering'!$G$6:$G$124,"Ferie")+SUMIFS('Daglig registrering'!$H$6:$H$124,'Daglig registrering'!$J$6:$J$124,A9,'Daglig registrering'!$G$6:$G$124,"Sygdom"),2)) -> 0 | D9: =IF(B9="","",B9+C9) -> 52 | E9: =IF(D9="","",SUM($D$7:D9)/A9) -> 43.666667 | F9: =IF(E9="","",IF(E9<=48,"Ja","Nej")) -> Ja | G9: =Periodestart+14 -> 46251
A10: 4 | B10: =IF(OR($B$5=0,G10>$B$5),"",ROUND(SUMIFS('Daglig registrering'!$F$6:$F$124,'Daglig registrering'!$J$6:$J$124,A10),2)) -> 55 | C10: =IF(B10="","",ROUND(SUMIFS('Daglig registrering'!$H$6:$H$124,'Daglig registrering'!$J$6:$J$124,A10,'Daglig registrering'!$G$6:$G$124,"Ferie")+SUMIFS('Daglig registrering'!$H$6:$H$124,'Daglig registrering'!$J$6:$J$124,A10,'Daglig registrering'!$G$6:$G$124,"Sygdom"),2)) -> 0 | D10: =IF(B10="","",B10+C10) -> 55 | E10: =IF(D10="","",SUM($D$7:D10)/A10) -> 46.5 | F10: =IF(E10="","",IF(E10<=48,"Ja","Nej")) -> Ja | G10: =Periodestart+21 -> 46258
A11: 5 | B11: =IF(OR($B$5=0,G11>$B$5),"",ROUND(SUMIFS('Daglig registrering'!$F$6:$F$124,'Daglig registrering'!$J$6:$J$124,A11),2)) -> 50 | C11: =IF(B11="","",ROUND(SUMIFS('Daglig registrering'!$H$6:$H$124,'Daglig registrering'!$J$6:$J$124,A11,'Daglig registrering'!$G$6:$G$124,"Ferie")+SUMIFS('Daglig registrering'!$H$6:$H$124,'Daglig registrering'!$J$6:$J$124,A11,'Daglig registrering'!$G$6:$G$124,"Sygdom"),2)) -> 0 | D11: =IF(B11="","",B11+C11) -> 50 | E11: =IF(D11="","",SUM($D$7:D11)/A11) -> 47.2 | F11: =IF(E11="","",IF(E11<=48,"Ja","Nej")) -> Ja | G11: =Periodestart+28 -> 46265
A12: 6 | B12: =IF(OR($B$5=0,G12>$B$5),"",ROUND(SUMIFS('Daglig registrering'!$F$6:$F$124,'Daglig registrering'!$J$6:$J$124,A12),2)) -> 37 | C12: =IF(B12="","",ROUND(SUMIFS('Daglig registrering'!$H$6:$H$124,'Daglig registrering'!$J$6:$J$124,A12,'Daglig registrering'!$G$6:$G$124,"Ferie")+SUMIFS('Daglig registrering'!$H$6:$H$124,'Daglig registrering'!$J$6:$J$124,A12,'Daglig registrering'!$G$6:$G$124,"Sygdom"),2)) -> 0 | D12: =IF(B12="","",B12+C12) -> 37 | E12: =IF(D12="","",SUM($D$7:D12)/A12) -> 45.5 | F12: =IF(E12="","",IF(E12<=48,"Ja","Nej")) -> Ja | G12: =Periodestart+35 -> 46272
A13: 7 | B13: =IF(OR($B$5=0,G13>$B$5),"",ROUND(SUMIFS('Daglig registrering'!$F$6:$F$124,'Daglig registrering'!$J$6:$J$124,A13),2)) -> 0 | C13: =IF(B13="","",ROUND(SUMIFS('Daglig registrering'!$H$6:$H$124,'Daglig registrering'!$J$6:$J$124,A13,'Daglig registrering'!$G$6:$G$124,"Ferie")+SUMIFS('Daglig registrering'!$H$6:$H$124,'Daglig registrering'!$J$6:$J$124,A13,'Daglig registrering'!$G$6:$G$124,"Sygdom"),2)) -> 37 | D13: =IF(B13="","",B13+C13) -> 37 | E13: =IF(D13="","",SUM($D$7:D13)/A13) -> 44.285714 | F13: =IF(E13="","",IF(E13<=48,"Ja","Nej")) -> Ja | G13: =Periodestart+42 -> 46279
A14: 8 | B14: =IF(OR($B$5=0,G14>$B$5),"",ROUND(SUMIFS('Daglig registrering'!$F$6:$F$124,'Daglig registrering'!$J$6:$J$124,A14),2)) -> 35 | C14: =IF(B14="","",ROUND(SUMIFS('Daglig registrering'!$H$6:$H$124,'Daglig registrering'!$J$6:$J$124,A14,'Daglig registrering'!$G$6:$G$124,"Ferie")+SUMIFS('Daglig registrering'!$H$6:$H$124,'Daglig registrering'!$J$6:$J$124,A14,'Daglig registrering'!$G$6:$G$124,"Sygdom"),2)) -> 0 | D14: =IF(B14="","",B14+C14) -> 35 | E14: =IF(D14="","",SUM($D$7:D14)/A14) -> 43.125 | F14: =IF(E14="","",IF(E14<=48,"Ja","Nej")) -> Ja | G14: =Periodestart+49 -> 46286
A15: 9 | B15: =IF(OR($B$5=0,G15>$B$5),"",ROUND(SUMIFS('Daglig registrering'!$F$6:$F$124,'Daglig registrering'!$J$6:$J$124,A15),2)) -> 45 | C15: =IF(B15="","",ROUND(SUMIFS('Daglig registrering'!$H$6:$H$124,'Daglig registrering'!$J$6:$J$124,A15,'Daglig registrering'!$G$6:$G$124,"Ferie")+SUMIFS('Daglig registrering'!$H$6:$H$124,'Daglig registrering'!$J$6:$J$124,A15,'Daglig registrering'!$G$6:$G$124,"Sygdom"),2)) -> 0 | D15: =IF(B15="","",B15+C15) -> 45 | E15: =IF(D15="","",SUM($D$7:D15)/A15) -> 43.333333 | F15: =IF(E15="","",IF(E15<=48,"Ja","Nej")) -> Ja | G15: =Periodestart+56 -> 46293
A16: 10 | B16: =IF(OR($B$5=0,G16>$B$5),"",ROUND(SUMIFS('Daglig registrering'!$F$6:$F$124,'Daglig registrering'!$J$6:$J$124,A16),2)) -> 48 | C16: =IF(B16="","",ROUND(SUMIFS('Daglig registrering'!$H$6:$H$124,'Daglig registrering'!$J$6:$J$124,A16,'Daglig registrering'!$G$6:$G$124,"Ferie")+SUMIFS('Daglig registrering'!$H$6:$H$124,'Daglig registrering'!$J$6:$J$124,A16,'Daglig registrering'!$G$6:$G$124,"Sygdom"),2)) -> 0 | D16: =IF(B16="","",B16+C16) -> 48 | E16: =IF(D16="","",SUM($D$7:D16)/A16) -> 43.8 | F16: =IF(E16="","",IF(E16<=48,"Ja","Nej")) -> Ja | G16: =Periodestart+63 -> 46300
A17: 11 | B17: =IF(OR($B$5=0,G17>$B$5),"",ROUND(SUMIFS('Daglig registrering'!$F$6:$F$124,'Daglig registrering'!$J$6:$J$124,A17),2)) -> 54 | C17: =IF(B17="","",ROUND(SUMIFS('Daglig registrering'!$H$6:$H$124,'Daglig registrering'!$J$6:$J$124,A17,'Daglig registrering'!$G$6:$G$124,"Ferie")+SUMIFS('Daglig registrering'!$H$6:$H$124,'Daglig registrering'!$J$6:$J$124,A17,'Daglig registrering'!$G$6:$G$124,"Sygdom"),2)) -> 0 | D17: =IF(B17="","",B17+C17) -> 54 | E17: =IF(D17="","",SUM($D$7:D17)/A17) -> 44.727273 | F17: =IF(E17="","",IF(E17<=48,"Ja","Nej")) -> Ja | G17: =Periodestart+70 -> 46307
A18: 12 | B18: =IF(OR($B$5=0,G18>$B$5),"",ROUND(SUMIFS('Daglig registrering'!$F$6:$F$124,'Daglig registrering'!$J$6:$J$124,A18),2)) -> 0 | C18: =IF(B18="","",ROUND(SUMIFS('Daglig registrering'!$H$6:$H$124,'Daglig registrering'!$J$6:$J$124,A18,'Daglig registrering'!$G$6:$G$124,"Ferie")+SUMIFS('Daglig registrering'!$H$6:$H$124,'Daglig registrering'!$J$6:$J$124,A18,'Daglig registrering'!$G$6:$G$124,"Sygdom"),2)) -> 37 | D18: =IF(B18="","",B18+C18) -> 37 | E18: =IF(D18="","",SUM($D$7:D18)/A18) -> 44.083333 | F18: =IF(E18="","",IF(E18<=48,"Ja","Nej")) -> Ja | G18: =Periodestart+77 -> 46314
A19: 13 | B19: =IF(OR($B$5=0,G19>$B$5),"",ROUND(SUMIFS('Daglig registrering'!$F$6:$F$124,'Daglig registrering'!$J$6:$J$124,A19),2)) -> 32 | C19: =IF(B19="","",ROUND(SUMIFS('Daglig registrering'!$H$6:$H$124,'Daglig registrering'!$J$6:$J$124,A19,'Daglig registrering'!$G$6:$G$124,"Ferie")+SUMIFS('Daglig registrering'!$H$6:$H$124,'Daglig registrering'!$J$6:$J$124,A19,'Daglig registrering'!$G$6:$G$124,"Sygdom"),2)) -> 0 | D19: =IF(B19="","",B19+C19) -> 32 | E19: =IF(D19="","",SUM($D$7:D19)/A19) -> 43.153846 | F19: =IF(E19="","",IF(E19<=48,"Ja","Nej")) -> Ja | G19: =Periodestart+84 -> 46321
A20: 14 | B20: =IF(OR($B$5=0,G20>$B$5),"",ROUND(SUMIFS('Daglig registrering'!$F$6:$F$124,'Daglig registrering'!$J$6:$J$124,A20),2)) -> 40 | C20: =IF(B20="","",ROUND(SUMIFS('Daglig registrering'!$H$6:$H$124,'Daglig registrering'!$J$6:$J$124,A20,'Daglig registrering'!$G$6:$G$124,"Ferie")+SUMIFS('Daglig registrering'!$H$6:$H$124,'Daglig registrering'!$J$6:$J$124,A20,'Daglig registrering'!$G$6:$G$124,"Sygdom"),2)) -> 0 | D20: =IF(B20="","",B20+C20) -> 40 | E20: =IF(D20="","",SUM($D$7:D20)/A20) -> 42.928571 | F20: =IF(E20="","",IF(E20<=48,"Ja","Nej")) -> Ja | G20: =Periodestart+91 -> 46328
A21: 15 | B21: =IF(OR($B$5=0,G21>$B$5),"",ROUND(SUMIFS('Daglig registrering'!$F$6:$F$124,'Daglig registrering'!$J$6:$J$124,A21),2)) -> 45 | C21: =IF(B21="","",ROUND(SUMIFS('Daglig registrering'!$H$6:$H$124,'Daglig registrering'!$J$6:$J$124,A21,'Daglig registrering'!$G$6:$G$124,"Ferie")+SUMIFS('Daglig registrering'!$H$6:$H$124,'Daglig registrering'!$J$6:$J$124,A21,'Daglig registrering'!$G$6:$G$124,"Sygdom"),2)) -> 0 | D21: =IF(B21="","",B21+C21) -> 45 | E21: =IF(D21="","",SUM($D$7:D21)/A21) -> 43.066667 | F21: =IF(E21="","",IF(E21<=48,"Ja","Nej")) -> Ja | G21: =Periodestart+98 -> 46335
A22: 16 | B22: =IF(OR($B$5=0,G22>$B$5),"",ROUND(SUMIFS('Daglig registrering'!$F$6:$F$124,'Daglig registrering'!$J$6:$J$124,A22),2)) -> 37 | C22: =IF(B22="","",ROUND(SUMIFS('Daglig registrering'!$H$6:$H$124,'Daglig registrering'!$J$6:$J$124,A22,'Daglig registrering'!$G$6:$G$124,"Ferie")+SUMIFS('Daglig registrering'!$H$6:$H$124,'Daglig registrering'!$J$6:$J$124,A22,'Daglig registrering'!$G$6:$G$124,"Sygdom"),2)) -> 0 | D22: =IF(B22="","",B22+C22) -> 37 | E22: =IF(D22="","",SUM($D$7:D22)/A22) -> 42.6875 | F22: =IF(E22="","",IF(E22<=48,"Ja","Nej")) -> Ja | G22: =Periodestart+105 -> 46342
A23: 17 | B23: =IF(OR($B$5=0,G23>$B$5),"",ROUND(SUMIFS('Daglig registrering'!$F$6:$F$124,'Daglig registrering'!$J$6:$J$124,A23),2)) -> 36 | C23: =IF(B23="","",ROUND(SUMIFS('Daglig registrering'!$H$6:$H$124,'Daglig registrering'!$J$6:$J$124,A23,'Daglig registrering'!$G$6:$G$124,"Ferie")+SUMIFS('Daglig registrering'!$H$6:$H$124,'Daglig registrering'!$J$6:$J$124,A23,'Daglig registrering'!$G$6:$G$124,"Sygdom"),2)) -> 0 | D23: =IF(B23="","",B23+C23) -> 36 | E23: =IF(D23="","",SUM($D$7:D23)/A23) -> 42.294118 | F23: =IF(E23="","",IF(E23<=48,"Ja","Nej")) -> Ja | G23: =Periodestart+112 -> 46349
A24: I alt / snit | B24: =SUM(B7:B23) -> 645 | C24: =SUM(C7:C23) -> 74 | D24: =SUM(D7:D23) -> 719 | E24: =IF(COUNT(D7:D23)=0,"",D24/COUNT(D7:D23)) -> 42.294118 | F24: =IF(E24="","",IF(E24<=48,"Ja","Nej")) -> Ja
A26: Enkeltuger med over 48 talte timer: | B26: =COUNTIF(D7:D23,">48") -> 4
A27: Intern advarselsgrænse (valgfri):
A28: Gennemsnit over grænsen? | B28: =IF(OR(B27="",E24=""),"",IF(E24>B27,"Ja","Nej"))
A30: Lyserød række = akkumuleret gennemsnit over 48 timer. Lyserød celle i Talt timeantal = enkeltuge over 48 timer (ikke i sig selv et brud på § 4). Har jeres overenskomst egne regler (§ 1, stk. 2-3), følg dem.

Sheet Vejledning
A1: Vejledning til skabelonen
A3: Hypotetisk eksempel — orova.vn. Navn, datoer og timer er opdigtede. Ikke juridisk rådgivning.
A5: Sådan bruger du filen
A6: 1. Skriv referenceperiodens første mandag i '48-timers kontrol' (B3). Datoerne i 'Daglig registrering' følger med.
A7: 2. Skriv medarbejderens navn (B2) og vælg, om pausen skal trækkes fra (G2) – følg jeres overenskomst/aftale.
A8: 3. Registrér start og slut hver arbejdsdag (tt:mm) og evt. pause i minutter. Arbejdstid i alt beregnes selv.
A9: 4. Ved fravær: vælg Ferie, Sygdom eller Fri, og skriv normtiden for dagen ved ferie og sygdom.
A10: 5. '48-timers kontrol' summerer pr. uge og viser det akkumulerede gennemsnit. Lyserød = over 48 timer.
A12: Hvad loven siger (arbejdstidsloven, lovbekendtgørelse nr. 982 af 12. august 2024)
A13: • § 4 b: Arbejdsgiveren skal have et objektivt, pålideligt og tilgængeligt system, der måler den daglige arbejdstid for hver lønmodtager.
A14: • § 4 b, stk. 2: Lønmodtageren skal have adgang til egne oplysninger.
A15: • § 4 b, stk. 3: Oplysningerne opbevares i 5 år efter udløbet af perioden, der danner grundlag for gennemsnittet.
... A22: Arkene er låst uden adgangskode (Gennemse > Fjern arkbeskyttelse), så formlerne ikke overskrives ved en fejl.
